BOTTLE,20141204PRINUNIVRMK
EXPOCODE,SECT_ID,STNNBR,CASTNO,SAMPNO,BTLNBR,BTLNBR_FLAG_W,DATE,TIME,LATITUDE,LONGITUDE,DEPTH,CTDPRS,CTDTMP,CTDSAL,CTDSAL_FLAG_W,SALNTY,SALNTY_FLAG_W,CTDOXY,CTDOXY_FLAG_W,OXYGEN,OXYGEN_FLAG_W,SILCAT,SILCAT_FLAG_W,NITRAT,NITRAT_FLAG_W,NITRIT,NITRIT_FLAG_W,PHSPHT,PHSPHT_FLAG_W,CFC-11,CFC-11_FLAG_W,CFC-12,CFC-12_FLAG_W,CFC113,CFC113_FLAG_W,TCARBN,TCARBN_FLAG_W,ALKALI,ALKALI_FLAG_W,PH_TOT,PH_TOT_FLAG_W,PH_TMP,DELC14,DELC14_FLAG_W,C14ERR,DELC13,DELC13_FLAG_W,CS-137,CS137ER,CS-137_FLAG_W,SBE35,SBE35_FLAG_W
,,,,,,,,,,,METERS,DBAR,ITS-90,PSS-78,,PSS-78,,UMOL/KG,,UMOL/KG,,UMOL/KG,,UMOL/KG,,UMOL/KG,,UMOL/KG,,PMOL/KG,,PMOL/KG,,PMOL/KG,,UMOL/KG,,UMOL/KG,,,,DEG C,/MILLE,,/MILLE,/MILLE,,DM/.1MG,DM/.1MG,,ITS-90,
  49NZ20031209,  I3I4,   546,  1,     36,  12024,2,20031223,1356,-19.9982,  55.5377, 4392,      9.4,  27.3298,  34.8928,2,  34.8926,2,    194.8,1,    203.7,2,     1.95,2,     0.03,2,     0.00,2,     0.12,2, -999.000,9, -999.000,9, -999.000,9,   -999.0,9,   -999.0,9,-999.0000,9,  -999.00,   -999.0,9,   -999.0,  -999.00,9,  -999.00,  -999.00,9,  27.3322,2
  49NZ20031209,  I3I4,   546,  1,     35,  12023,2,20031223,1356,-19.9982,  55.5377, 4392,     49.3,  26.7603,  34.8919,2,  34.8961,2,    198.6,1,    208.2,2,     1.98,2,     0.02,2,     0.00,2,     0.11,2, -999.000,9, -999.000,9, -999.000,9,   -999.0,9,   -999.0,9,-999.0000,9,  -999.00,   -999.0,9,   -999.0,  -999.00,9,  -999.00,  -999.00,9,  26.7579,2
  49NZ20031209,  I3I4,   546,  1,     34,  12022,2,20031223,1356,-19.9982,  55.5377, 4392,    102.5,  23.9519,  34.8713,2,  34.8745,2,    200.3,1,    209.6,2,     2.35,2,     0.02,2,    -0.01,2,     0.14,2, -999.000,9, -999.000,9, -999.000,9,   -999.0,9,   -999.0,9,-999.0000,9,  -999.00,   -999.0,9,   -999.0,  -999.00,9,  -999.00,  -999.00,9,  23.9506,2
  49NZ20031209,  I3I4,   546,  1,     33,  12015,2,20031223,1356,-19.9982,  55.5377, 4392,    150.4,  22.4440,  35.1265,2,  35.1286,2,    183.5,1,    191.2,2,     3.21,2,     2.18,2,     0.05,2,     0.29,2, -999.000,9, -999.000,9, -999.000,9,   -999.0,9,   -999.0,9,-999.0000,9,  -999.00,   -999.0,9,   -999.0,  -999.00,9,  -999.00,  -999.00,9,  22.4401,2
  49NZ20031209,  I3I4,   546,  1,     32,  12020,2,20031223,1356,-19.9982,  55.5377, 4392,    202.2,  19.4041,  35.0938,2,  35.1017,4,    130.6,1,    133.1,2,    11.68,2,    11.53,2,     0.01,2,     0.86,2, -999.000,9, -999.000,9, -999.000,9,   -999.0,9,   -999.0,9,-999.0000,9,  -999.00,   -999.0,9,   -999.0,  -999.00,9,  -999.00,  -999.00,9,  19.3976,2
  49NZ20031209,  I3I4,   546,  1,     31,  12019,2,20031223,1356,-19.9982,  55.5377, 4392,    249.6,  18.4203,  35.7067,2,  35.7036,2,    183.8,1,    191.2,2,     3.96,2,     4.03,2,     0.01,2,     0.40,2, -999.000,9, -999.000,9, -999.000,9,   -999.0,9,   -999.0,9,-999.0000,9,  -999.00,   -999.0,9,   -999.0,  -999.00,9,  -999.00,  -999.00,9,  18.4210,2
  49NZ20031209,  I3I4,   546,  1,     30,  12018,2,20031223,1356,-19.9982,  55.5377, 4392,    300.2,  16.7289,  35.6710,2,  35.6695,2,    194.8,1,    202.9,2,     3.46,2,     4.22,2,     0.00,2,     0.43,2, -999.000,9, -999.000,9, -999.000,9,   -999.0,9,   -999.0,9,-999.0000,9,  -999.00,   -999.0,9,   -999.0,  -999.00,9,  -999.00,  -999.00,9,  16.7292,2
  49NZ20031209,  I3I4,   546,  1,     29,  12021,2,20031223,1356,-19.9982,  55.5377, 4392,    400.1,  14.2425,  35.3884,2,  35.3888,2,    195.7,1,    203.2,2,     5.41,2,     8.32,2,     0.00,2,     0.69,2, -999.000,9, -999.000,9, -999.000,9,   -999.0,9,   -999.0,9,-999.0000,9,  -999.00,   -999.0,9,   -999.0,  -999.00,9,  -999.00,  -999.00,9,  14.2432,2
  49NZ20031209,  I3I4,   546,  1,     28,  12016,2,20031223,1356,-19.9982,  55.5377, 4392,    502.0,  12.0638,  35.1107,2,  35.1139,2,    214.5,1,    222.9,2,     4.45,2,    10.98,2,     0.00,2,     0.84,2, -999.000,9, -999.000,9, -999.000,9,   -999.0,9,   -999.0,9,-999.0000,9,  -999.00,   -999.0,9,   -999.0,  -999.00,9,  -999.00,  -999.00,9,  12.0736,2
  49NZ20031209,  I3I4,   546,  1,     27,  12012,2,20031223,1356,-19.9982,  55.5377, 4392,    602.2,  10.7690,  34.9194,2,  34.9179,4,    216.8,1,    225.2,2,     5.08,2,    13.78,2,     0.00,2,     1.01,2, -999.000,9, -999.000,9, -999.000,9,   -999.0,9,   -999.0,9,-999.0000,9,  -999.00,   -999.0,9,   -999.0,  -999.00,9,  -999.00,  -999.00,9,  10.7684,2
  49NZ20031209,  I3I4,   546,  1,     26,  12014,2,20031223,1356,-19.9982,  55.5377, 4392,    701.1,   9.5805,  34.7585,2,  34.7586,2,    208.0,1,    216.4,2,     8.28,2,    17.51,2,     0.00,2,     1.24,2, -999.000,9, -999.000,9, -999.000,9,   -999.0,9,   -999.0,9,-999.0000,9,  -999.00,   -999.0,9,   -999.0,  -999.00,9,  -999.00,  -999.00,9,   9.5822,2
  49NZ20031209,  I3I4,   546,  1,     25,  12013,2,20031223,1356,-19.9982,  55.5377, 4392,    800.4,   8.0028,  34.6032,2,  34.5999,2,    186.8,1,    193.6,2,    17.73,2,    23.60,2,    -0.01,2,     1.65,2, -999.000,9, -999.000,9, -999.000,9,   -999.0,9,   -999.0,9,-999.0000,9,  -999.00,   -999.0,9,   -999.0,  -999.00,9,  -999.00,  -999.00,9,   8.0055,2
  49NZ20031209,  I3I4,   546,  1,     24,  12048,2,20031223,1356,-19.9982,  55.5377, 4392,    900.0,   6.4002,  34.5370,2,  34.5351,2,    158.9,1,    164.2,2,    36.77,2,    29.61,2,    -0.01,2,     2.08,2, -999.000,9, -999.000,9, -999.000,9,   -999.0,9,   -999.0,9,-999.0000,9,  -999.00,   -999.0,9,   -999.0,  -999.00,9,  -999.00,  -999.00,9,   6.4001,2
  49NZ20031209,  I3I4,   546,  1,     23,  12047,2,20031223,1356,-19.9982,  55.5377, 4392,   1001.5,   5.2834,  34.5455,2,  34.5453,2,    142.2,1,    147.0,2,    54.58,2,    32.70,2,     0.00,2,     2.31,2, -999.000,9, -999.000,9, -999.000,9,   -999.0,9,   -999.0,9,-999.0000,9,  -999.00,   -999.0,9,   -999.0,  -999.00,9,  -999.00,  -999.00,9,   5.2838,2
  49NZ20031209,  I3I4,   546,  1,     22,  12046,2,20031223,1356,-19.9982,  55.5377, 4392,   1201.6,   4.2172,  34.6197,2,  34.6200,2,    130.8,1,    135.4,2,    76.30,2,    34.48,2,    -0.01,2,     2.46,2, -999.000,9, -999.000,9, -999.000,9,   -999.0,9,   -999.0,9,-999.0000,9,  -999.00,   -999.0,9,   -999.0,  -999.00,9,  -999.00,  -999.00,9,   4.2174,2
  49NZ20031209,  I3I4,   546,  1,     21,  12045,2,20031223,1356,-19.9982,  55.5377, 4392,   1401.7,   3.4906,  34.6399,2,  34.6413,2,    140.0,1,    145.6,2,    83.40,2,    34.36,2,    -0.01,2,     2.44,2, -999.000,9, -999.000,9, -999.000,9,   -999.0,9,   -999.0,9,-999.0000,9,  -999.00,   -999.0,9,   -999.0,  -999.00,9,  -999.00,  -999.00,9,   3.4872,2
  49NZ20031209,  I3I4,   546,  1,     20,  12044,2,20031223,1356,-19.9982,  55.5377, 4392,   1600.6,   2.9165,  34.6745,2,  34.6756,2,    150.6,1,    157.0,2,    90.35,2,    33.73,2,    -0.01,2,     2.39,2, -999.000,9, -999.000,9, -999.000,9,   -999.0,9,   -999.0,9,-999.0000,9,  -999.00,   -999.0,9,   -999.0,  -999.00,9,  -999.00,  -999.00,9,   2.9161,2
  49NZ20031209,  I3I4,   546,  1,     19,  12043,2,20031223,1356,-19.9982,  55.5377, 4392,   1802.0,   2.5309,  34.7032,2,  34.7032,2,    157.4,1,    163.6,2,    96.32,2,    33.27,2,    -0.01,2,     2.35,2, -999.000,9, -999.000,9, -999.000,9,   -999.0,9,   -999.0,9,-999.0000,9,  -999.00,   -999.0,9,   -999.0,  -999.00,9,  -999.00,  -999.00,9,   2.5307,2
  49NZ20031209,  I3I4,   546,  1,     18,  12042,2,20031223,1356,-19.9982,  55.5377, 4392,   2001.1,   2.3317,  34.7201,2,  34.7198,2,    156.6,1,    163.6,2,   105.05,2,    33.45,2,    -0.01,2,     2.37,2, -999.000,9, -999.000,9, -999.000,9,   -999.0,9,   -999.0,9,-999.0000,9,  -999.00,   -999.0,9,   -999.0,  -999.00,9,  -999.00,  -999.00,9,   2.3316,2
  49NZ20031209,  I3I4,   546,  1,     17,  12041,2,20031223,1356,-19.9982,  55.5377, 4392,   2201.1,   2.1550,  34.7300,2,  34.7294,2,    156.6,1,    163.5,2,   112.00,2,    33.67,2,    -0.01,2,     2.38,2, -999.000,9, -999.000,9, -999.000,9,   -999.0,9,   -999.0,9,-999.0000,9,  -999.00,   -999.0,9,   -999.0,  -999.00,9,  -999.00,  -999.00,9,   2.1551,2
  49NZ20031209,  I3I4,   546,  1,     16,  12040,2,20031223,1356,-19.9982,  55.5377, 4392,   2400.3,   2.0522,  34.7343,2,  34.7343,2,    156.2,1,    163.0,2,   116.70,2,    33.89,2,    -0.01,2,     2.40,2, -999.000,9, -999.000,9, -999.000,9,   -999.0,9,   -999.0,9,-999.0000,9,  -999.00,   -999.0,9,   -999.0,  -999.00,9,  -999.00,  -999.00,9,   2.0524,2
  49NZ20031209,  I3I4,   546,  1,     15,  12039,2,20031223,1356,-19.9982,  55.5377, 4392,   2600.6,   1.9540,  34.7348,2,  34.7343,2,    157.2,1,    163.8,2,   119.82,2,    33.97,2,    -0.01,2,     2.40,2, -999.000,9, -999.000,9, -999.000,9,   -999.0,9,   -999.0,9,-999.0000,9,  -999.00,   -999.0,9,   -999.0,  -999.00,9,  -999.00,  -999.00,9,   1.9539,2
  49NZ20031209,  I3I4,   546,  1,     14,  12038,2,20031223,1356,-19.9982,  55.5377, 4392,   2800.4,   1.8407,  34.7349,2,  34.7350,2,    158.4,1,    165.3,2,   123.46,2,    34.09,2,    -0.01,2,     2.40,2, -999.000,9, -999.000,9, -999.000,9,   -999.0,9,   -999.0,9,-999.0000,9,  -999.00,   -999.0,9,   -999.0,  -999.00,9,  -999.00,  -999.00,9,   1.8406,2
  49NZ20031209,  I3I4,   546,  1,     13,  12037,2,20031223,1356,-19.9982,  55.5377, 4392,   3002.3,   1.7618,  34.7345,2,  34.7348,2,    160.0,1,    166.3,2,   125.79,2,    34.10,2,     0.00,2,     2.41,2, -999.000,9, -999.000,9, -999.000,9,   -999.0,9,   -999.0,9,-999.0000,9,  -999.00,   -999.0,9,   -999.0,  -999.00,9,  -999.00,  -999.00,9,   1.7617,2
  49NZ20031209,  I3I4,   546,  1,     12,  12036,2,20031223,1356,-19.9982,  55.5377, 4392,   3251.8,   1.6614,  34.7323,2,  34.7319,2,    163.3,1,    169.8,2,   127.40,2,    34.03,2,    -0.01,2,     2.40,2, -999.000,9, -999.000,9, -999.000,9,   -999.0,9,   -999.0,9,-999.0000,9,  -999.00,   -999.0,9,   -999.0,  -999.00,9,  -999.00,  -999.00,9,   1.6614,2
  49NZ20031209,  I3I4,   546,  1,     11,  12035,2,20031223,1356,-19.9982,  55.5377, 4392,   3500.9,   1.5641,  34.7288,2,  34.7288,2,    168.4,1,    174.8,2,   127.51,2,    33.72,2,     0.00,2,     2.38,2, -999.000,9, -999.000,9, -999.000,9,   -999.0,9,   -999.0,9,-999.0000,9,  -999.00,   -999.0,9,   -999.0,  -999.00,9,  -999.00,  -999.00,9,   1.5639,2
  49NZ20031209,  I3I4,   546,  1,     10,  12034,2,20031223,1356,-19.9982,  55.5377, 4392,   3751.1,   1.4426,  34.7242,2,  34.7244,2,    175.1,1,    181.3,2,   126.95,2,    33.52,2,    -0.01,2,     2.35,2, -999.000,9, -999.000,9, -999.000,9,   -999.0,9,   -999.0,9,-999.0000,9,  -999.00,   -999.0,9,   -999.0,  -999.00,9,  -999.00,  -999.00,9,   1.4426,2
  49NZ20031209,  I3I4,   546,  1,      9,  12033,2,20031223,1356,-19.9982,  55.5377, 4392,   4000.7,   1.3252,  34.7198,2,  34.7199,2,    182.1,1,    187.9,2,   126.16,2,    33.19,2,    -0.01,2,     2.32,2, -999.000,9, -999.000,9, -999.000,9,   -999.0,9,   -999.0,9,-999.0000,9,  -999.00,   -999.0,9,   -999.0,  -999.00,9,  -999.00,  -999.00,9,   1.3252,2
  49NZ20031209,  I3I4,   546,  1,      8,  12032,4,20031223,1356,-19.9982,  55.5377, 4392,   4249.5,   1.2019,  34.7148,2,  34.5459,4,    190.0,1,    147.6,4,    54.07,4,    32.59,4,    -0.01,4,     2.31,4, -999.000,9, -999.000,9, -999.000,9,   -999.0,9,   -999.0,9,-999.0000,9,  -999.00,   -999.0,9,   -999.0,  -999.00,9,  -999.00,  -999.00,9,   1.2018,2
  49NZ20031209,  I3I4,   546,  1,      7,  12031,2,20031223,1356,-19.9982,  55.5377, 4392,   4446.8,   1.0895,  34.7102,2,  34.7104,2,    196.9,1,    201.6,2,   123.92,2,    32.59,2,    -0.01,2,     2.27,2, -999.000,9, -999.000,9, -999.000,9,   -999.0,9,   -999.0,9,-999.0000,9,  -999.00,   -999.0,9,   -999.0,  -999.00,9,  -999.00,  -999.00,9,   1.0894,2
  49NZ20031209,  I3I4,   546,  1,      6,  12030,9,20031223,1356,-19.9982,  55.5377, 4392,   1001.5,   5.2806,  34.5456,2,-999.0000,9,    142.4,1,   -999.0,9,  -999.00,9,  -999.00,9,  -999.00,9,  -999.00,9, -999.000,9, -999.000,9, -999.000,9,   -999.0,9,   -999.0,9,-999.0000,9,  -999.00,   -999.0,9,   -999.0,  -999.00,9,  -999.00,  -999.00,9,   5.2810,2
  49NZ20031209,  I3I4,   546,  1,      5,  12029,9,20031223,1356,-19.9982,  55.5377, 4392,   1001.3,   5.2817,  34.5457,2,-999.0000,9,    142.4,1,   -999.0,9,  -999.00,9,  -999.00,9,  -999.00,9,  -999.00,9, -999.000,9, -999.000,9, -999.000,9,   -999.0,9,   -999.0,9,-999.0000,9,  -999.00,   -999.0,9,   -999.0,  -999.00,9,  -999.00,  -999.00,9,   5.2817,2
  49NZ20031209,  I3I4,   546,  1,      4,  12028,9,20031223,1356,-19.9982,  55.5377, 4392,   1001.1,   5.2818,  34.5457,2,-999.0000,9,    142.3,1,   -999.0,9,  -999.00,9,  -999.00,9,  -999.00,9,  -999.00,9, -999.000,9, -999.000,9, -999.000,9,   -999.0,9,   -999.0,9,-999.0000,9,  -999.00,   -999.0,9,   -999.0,  -999.00,9,  -999.00,  -999.00,9,   5.2819,2
  49NZ20031209,  I3I4,   546,  1,      3,  12027,9,20031223,1356,-19.9982,  55.5377, 4392,   1001.7,   5.2822,  34.5456,2,-999.0000,9,    142.4,1,   -999.0,9,  -999.00,9,  -999.00,9,  -999.00,9,  -999.00,9, -999.000,9, -999.000,9, -999.000,9,   -999.0,9,   -999.0,9,-999.0000,9,  -999.00,   -999.0,9,   -999.0,  -999.00,9,  -999.00,  -999.00,9,   5.2825,2
  49NZ20031209,  I3I4,   546,  1,      2,  12026,9,20031223,1356,-19.9982,  55.5377, 4392,   1001.4,   5.2826,  34.5455,2,-999.0000,9,    142.4,1,   -999.0,9,  -999.00,9,  -999.00,9,  -999.00,9,  -999.00,9, -999.000,9, -999.000,9, -999.000,9,   -999.0,9,   -999.0,9,-999.0000,9,  -999.00,   -999.0,9,   -999.0,  -999.00,9,  -999.00,  -999.00,9,   5.2825,2
  49NZ20031209,  I3I4,   546,  1,      1,  12025,9,20031223,1356,-19.9982,  55.5377, 4392,      9.5,  27.4015,  34.8951,2,-999.0000,9,    194.7,1,   -999.0,9,  -999.00,9,  -999.00,9,  -999.00,9,  -999.00,9, -999.000,9, -999.000,9, -999.000,9,   -999.0,9,   -999.0,9,-999.0000,9,  -999.00,   -999.0,9,   -999.0,  -999.00,9,  -999.00,  -999.00,9,  27.4048,2