BOTTLE,20141204PRINUNIVRMK
EXPOCODE,SECT_ID,STNNBR,CASTNO,SAMPNO,BTLNBR,BTLNBR_FLAG_W,DATE,TIME,LATITUDE,LONGITUDE,DEPTH,CTDPRS,CTDTMP,CTDSAL,CTDSAL_FLAG_W,SALNTY,SALNTY_FLAG_W,CTDOXY,CTDOXY_FLAG_W,OXYGEN,OXYGEN_FLAG_W,SILCAT,SILCAT_FLAG_W,NITRAT,NITRAT_FLAG_W,NITRIT,NITRIT_FLAG_W,PHSPHT,PHSPHT_FLAG_W,CFC-11,CFC-11_FLAG_W,CFC-12,CFC-12_FLAG_W,CFC113,CFC113_FLAG_W,TCARBN,TCARBN_FLAG_W,ALKALI,ALKALI_FLAG_W,PH_TOT,PH_TOT_FLAG_W,PH_TMP,DELC14,DELC14_FLAG_W,C14ERR,DELC13,DELC13_FLAG_W,CS-137,CS137ER,CS-137_FLAG_W,SBE35,SBE35_FLAG_W
,,,,,,,,,,,METERS,DBAR,ITS-90,PSS-78,,PSS-78,,UMOL/KG,,UMOL/KG,,UMOL/KG,,UMOL/KG,,UMOL/KG,,UMOL/KG,,PMOL/KG,,PMOL/KG,,PMOL/KG,,UMOL/KG,,UMOL/KG,,,,DEG C,/MILLE,,/MILLE,/MILLE,,DM/.1MG,DM/.1MG,,ITS-90,
  49NZ20031209,  I3I4,   555,  1,     36,  12024,2,20031221,1315,-20.0002,  51.0023, 4850,     10.6,  27.8146,  34.9545,2,  34.9586,2,    192.4,1,    201.4,2,     2.03,2,    -0.03,2,     0.00,2,     0.12,2,    1.599,2,    1.010,2,    0.314,4,   1965.5,2,   2291.7,2,   8.0886,2,    25.00,   -999.0,9,   -999.0,  -999.00,9,  -999.00,  -999.00,9,  27.8123,2
  49NZ20031209,  I3I4,   555,  1,     35,  12023,2,20031221,1315,-20.0002,  51.0023, 4850,     50.2,  24.8156,  35.0780,2,  35.0790,2,    210.0,1,    219.7,2,     1.98,2,    -0.04,2,     0.00,2,     0.09,2,    1.857,2,    1.128,2, -999.000,5,   1972.1,6,   2294.6,2,   8.0864,2,    25.00,   -999.0,9,   -999.0,  -999.00,9,  -999.00,  -999.00,9,  24.7941,2
  49NZ20031209,  I3I4,   555,  1,     34,  12022,2,20031221,1315,-20.0002,  51.0023, 4850,     99.0,  22.2417,  35.1891,2,  35.1896,2,    180.9,1,    186.8,2,     3.32,2,     2.49,2,     0.03,2,     0.31,2,    1.924,2,    1.166,2,    0.166,4,   2016.7,2,   2302.3,6,   8.0212,2,    25.00,   -999.0,9,   -999.0,  -999.00,9,  -999.00,  -999.00,9,  22.2410,2
  49NZ20031209,  I3I4,   555,  1,     33,  12015,2,20031221,1315,-20.0002,  51.0023, 4850,    151.3,  21.1615,  35.2850,2,  35.2850,2,    177.8,1,    185.7,2,     3.20,2,     2.82,2,     0.02,2,     0.32,2,    2.003,2,    1.208,2,    0.038,4,   2029.9,2,   2308.6,2,   8.0083,6,    25.00,   -999.0,9,   -999.0,  -999.00,9,  -999.00,  -999.00,9,  21.1621,2
  49NZ20031209,  I3I4,   555,  1,     32,  12020,2,20031221,1315,-20.0002,  51.0023, 4850,    200.8,  19.9575,  35.5069,2,  35.5221,2,    165.1,1,    173.8,2,     5.36,2,     5.32,2,     0.01,2,     0.47,2,    2.061,2,    1.207,2,    0.147,4,   2069.3,2,   2324.9,2,   7.9607,2,    25.00,   -999.0,9,   -999.0,  -999.00,9,  -999.00,  -999.00,9,  19.9556,2
  49NZ20031209,  I3I4,   555,  1,     31,  12019,2,20031221,1315,-20.0002,  51.0023, 4850,    251.3,  17.7435,  35.6002,2,  35.5958,2,    170.6,1,    177.6,2,     6.26,2,     6.46,2,     0.02,2,     0.56,2,    2.253,6,    1.283,6,    0.082,4,   2095.8,2,   2331.3,2,   7.9217,2,    25.00,   -999.0,9,   -999.0,  -999.00,9,  -999.00,  -999.00,9,  17.7459,2
  49NZ20031209,  I3I4,   555,  1,     30,  12018,2,20031221,1315,-20.0002,  51.0023, 4850,    300.9,  16.0483,  35.5475,2,  35.5476,2,    183.1,1,    191.0,2,     5.61,2,     6.80,2,     0.00,2,     0.58,2,    2.475,2,    1.357,2,    0.051,4,   2104.6,2,   2331.0,2,   7.9044,2,    25.00,   -999.0,9,   -999.0,  -999.00,9,  -999.00,  -999.00,9,  16.0478,2
  49NZ20031209,  I3I4,   555,  1,     29,  12017,3,20031221,1315,-20.0002,  51.0023, 4850,    399.8,  13.4211,  35.3017,2,  35.2996,2,    208.1,1,    216.6,2,     4.31,2,     8.66,2,     0.01,2,     0.71,2,    2.939,2,    1.564,2,    0.054,4,   2109.1,2,   2317.6,2,   7.8733,2,    25.00,   -999.0,9,   -999.0,  -999.00,9,  -999.00,  -999.00,9,  13.4208,2
  49NZ20031209,  I3I4,   555,  1,     28,  12016,2,20031221,1315,-20.0002,  51.0023, 4850,    501.0,  12.0176,  35.1060,2,  35.1065,2,    215.6,1,    224.2,2,     4.19,2,    10.86,2,     0.01,2,     0.84,2,    3.192,2,    1.667,2,    0.114,4,   2113.1,2,   2308.2,2,   7.8483,2,    25.00,   -999.0,9,   -999.0,  -999.00,9,  -999.00,  -999.00,9,  12.0196,2
  49NZ20031209,  I3I4,   555,  1,     27,  12012,2,20031221,1315,-20.0002,  51.0023, 4850,    599.1,  10.7087,  34.9091,2,  34.9085,2,    218.5,1,    227.0,2,     4.84,2,    13.67,2,     0.00,2,     1.00,2,    3.140,2,    1.588,2,    0.139,4,   2121.6,2,   2299.5,2,   7.8195,2,    25.00,   -999.0,9,   -999.0,  -999.00,9,  -999.00,  -999.00,9,  10.7090,2
  49NZ20031209,  I3I4,   555,  1,     26,  12014,2,20031221,1315,-20.0002,  51.0023, 4850,    699.9,   9.4446,  34.7368,2,  34.7368,2,    211.4,1,    219.6,2,     7.88,2,    17.57,2,     0.01,2,     1.26,2,    2.799,2,    1.390,2,    0.069,4,   2133.5,6,   2295.6,2,   7.7803,2,    25.00,   -999.0,9,   -999.0,  -999.00,9,  -999.00,  -999.00,9,   9.4447,2
  49NZ20031209,  I3I4,   555,  1,     25,  12013,2,20031221,1315,-20.0002,  51.0023, 4850,    798.5,   7.7020,  34.5715,2,  34.5666,2,    188.0,1,    194.9,2,    18.43,2,    24.18,2,     0.00,2,     1.69,2,    1.607,2,    0.820,2,    0.012,4,   2164.6,2,   2293.4,6,   7.7070,2,    25.00,   -999.0,9,   -999.0,  -999.00,9,  -999.00,  -999.00,9,   7.7032,2
  49NZ20031209,  I3I4,   555,  1,     24,  12048,2,20031221,1315,-20.0002,  51.0023, 4850,    899.5,   6.4308,  34.5518,2,  34.5491,2,    155.6,1,    162.0,2,    38.05,2,    29.58,2,     0.01,2,     2.08,2,    0.682,2,    0.392,2,    0.007,4,   2206.2,2,   2311.3,2,   7.6380,6,    25.00,   -999.0,9,   -999.0,  -999.00,9,  -999.00,  -999.00,9,   6.4297,2
  49NZ20031209,  I3I4,   555,  1,     23,  12047,2,20031221,1315,-20.0002,  51.0023, 4850,   1001.2,   5.4217,  34.5562,2,  34.5562,2,    141.6,1,    146.9,2,    53.89,2,    32.44,2,     0.00,2,     2.30,2,    0.309,6,    0.184,6,    0.000,4,   2231.3,2,   2322.3,2,   7.6010,2,    25.00,   -999.0,9,   -999.0,  -999.00,9,  -999.00,  -999.00,9,   5.4229,2
  49NZ20031209,  I3I4,   555,  1,     22,  12046,2,20031221,1315,-20.0002,  51.0023, 4850,   1199.8,   4.0354,  34.5845,2,  34.5862,2,    138.6,1,    144.1,2,    72.53,2,    34.42,2,     0.01,2,     2.43,2,    0.134,2,    0.054,2,    0.000,4,   2261.1,2,   2340.9,2,   7.5776,2,    25.00,   -999.0,9,   -999.0,  -999.00,9,  -999.00,  -999.00,9,   4.0350,2
  49NZ20031209,  I3I4,   555,  1,     21,  12045,2,20031221,1315,-20.0002,  51.0023, 4850,   1400.4,   3.2112,  34.6357,2,  34.6369,2,    148.6,1,    155.2,2,    81.62,2,    33.99,2,     0.00,2,     2.39,2,    0.025,2,    0.020,2,    0.001,4,   2263.6,2,   2349.2,2,   7.5849,2,    25.00,   -999.0,9,   -999.0,  -999.00,9,  -999.00,  -999.00,9,   3.2117,2
  49NZ20031209,  I3I4,   555,  1,     20,  12044,2,20031221,1315,-20.0002,  51.0023, 4850,   1599.4,   2.8324,  34.6759,2,  34.6772,2,    153.5,1,    160.1,2,    89.61,2,    33.56,2,     0.00,2,     2.36,2,    0.006,2,    0.014,2,    0.001,4,   2268.0,2,   2356.4,2,   7.5936,2,    25.00,   -999.0,9,   -999.0,  -999.00,9,  -999.00,  -999.00,9,   2.8324,2
  49NZ20031209,  I3I4,   555,  1,     19,  12043,2,20031221,1315,-20.0002,  51.0023, 4850,   1800.7,   2.5793,  34.7011,2,  34.7017,2,    156.6,1,    163.9,2,    95.28,2,    33.31,2,     0.00,2,     2.34,2,    0.005,2,    0.006,2,    0.001,4,   2274.1,2,   2362.3,2,   7.6005,2,    25.00,   -999.0,9,   -999.0,  -999.00,9,  -999.00,  -999.00,9,   2.5793,2
  49NZ20031209,  I3I4,   555,  1,     18,  12042,2,20031221,1315,-20.0002,  51.0023, 4850,   2000.5,   2.3763,  34.7237,2,  34.7233,2,    155.3,1,    162.6,2,   104.40,2,    33.62,2,     0.00,2,     2.36,2,    0.003,2,    0.006,2,    0.001,4,   2282.6,2,   2372.8,2,   7.6009,6,    25.00,   -999.0,9,   -999.0,  -999.00,9,  -999.00,  -999.00,9,   2.3750,2
  49NZ20031209,  I3I4,   555,  1,     17,  12041,2,20031221,1315,-20.0002,  51.0023, 4850,   2199.3,   2.2277,  34.7339,2,  34.7335,2,    153.2,1,    160.4,2,   112.48,2,    33.93,2,    -0.01,2,     2.38,2,   -0.002,2,    0.001,2,    0.001,4,   2290.1,2,   2381.2,2,   7.6012,2,    25.00,   -999.0,9,   -999.0,  -999.00,9,  -999.00,  -999.00,9,   2.2275,2
  49NZ20031209,  I3I4,   555,  1,     16,  12040,2,20031221,1315,-20.0002,  51.0023, 4850,   2400.5,   2.1163,  34.7376,2,  34.7371,2,    152.8,1,    159.9,2,   117.25,2,    34.12,2,     0.00,2,     2.40,2,   -0.001,2,   -0.002,2,    0.001,4,   2296.2,6,   2387.0,2,   7.6013,2,    25.00,   -999.0,9,   -999.0,  -999.00,9,  -999.00,  -999.00,9,   2.1163,2
  49NZ20031209,  I3I4,   555,  1,     15,  12039,2,20031221,1315,-20.0002,  51.0023, 4850,   2601.3,   2.0127,  34.7383,2,  34.7386,2,    153.8,1,    161.0,2,   120.26,2,    34.16,2,     0.00,2,     2.41,2,    0.006,2,   -0.002,2,    0.000,4,   2298.0,2,   2390.9,6,   7.6018,2,    25.00,   -999.0,9,   -999.0,  -999.00,9,  -999.00,  -999.00,9,   2.0127,2
  49NZ20031209,  I3I4,   555,  1,     14,  12038,2,20031221,1315,-20.0002,  51.0023, 4850,   2800.9,   1.9378,  34.7392,2,  34.7388,2,    154.0,1,    161.1,2,   123.50,2,    34.29,2,     0.00,2,     2.41,2,   -0.002,2,   -0.001,2,    0.000,4,   2301.2,2,   2391.7,2,   7.6030,2,    25.00,   -999.0,9,   -999.0,  -999.00,9,  -999.00,  -999.00,9,   1.9378,2
  49NZ20031209,  I3I4,   555,  1,     13,  12037,2,20031221,1315,-20.0002,  51.0023, 4850,   3000.1,   1.8516,  34.7378,2,  34.7378,2,    155.9,1,    163.0,2,   125.58,2,    34.29,2,     0.00,2,     2.42,2,   -0.005,2,   -0.003,2,    0.000,4,   2302.9,2,   2395.7,2,   7.6034,2,    25.00,   -999.0,9,   -999.0,  -999.00,9,  -999.00,  -999.00,9,   1.8515,2
  49NZ20031209,  I3I4,   555,  1,     12,  12036,2,20031221,1315,-20.0002,  51.0023, 4850,   3250.6,   1.7304,  34.7344,2,  34.7348,2,    160.0,1,    167.1,2,   127.14,2,    34.12,2,     0.00,2,     2.40,2,   -0.002,2,   -0.003,2,    0.001,4,   2301.6,2,   2396.0,2,   7.6069,2,    25.00,   -999.0,9,   -999.0,  -999.00,9,  -999.00,  -999.00,9,   1.7304,2
  49NZ20031209,  I3I4,   555,  1,     11,  12035,2,20031221,1315,-20.0002,  51.0023, 4850,   3500.9,   1.5877,  34.7297,2,  34.7290,2,    166.6,1,    174.0,2,   127.26,2,    33.88,2,     0.00,2,     2.37,2,   -0.002,2,    0.000,2,    0.001,4,   2297.0,2,   2392.9,2,   7.6113,2,    25.00,   -999.0,9,   -999.0,  -999.00,9,  -999.00,  -999.00,9,   1.5879,2
  49NZ20031209,  I3I4,   555,  1,     10,  12034,2,20031221,1315,-20.0002,  51.0023, 4850,   3749.4,   1.4027,  34.7231,2,  34.7229,2,    176.2,1,    183.7,2,   125.98,2,    33.45,2,     0.00,2,     2.33,2,    0.001,2,   -0.002,2,    0.001,4,   2287.7,2,   2384.2,2,   7.6149,2,    25.00,   -999.0,9,   -999.0,  -999.00,9,  -999.00,  -999.00,9,   1.4027,2
  49NZ20031209,  I3I4,   555,  1,      9,  12033,2,20031221,1315,-20.0002,  51.0023, 4850,   4749.1,   0.9843,  34.7053,2,  34.7063,2,    201.6,1,    207.5,2,   123.30,2,    32.36,2,     0.00,2,     2.24,2,    0.028,2,    0.020,2,    0.001,4,   2265.2,2,   2361.5,2,   7.6182,2,    25.00,   -999.0,9,   -999.0,  -999.00,9,  -999.00,  -999.00,9,   0.9843,2
  49NZ20031209,  I3I4,   555,  1,      8,  12032,2,20031221,1315,-20.0002,  51.0023, 4850,   4250.0,   1.0730,  34.7110,2,  34.7110,2,    194.2,1,    201.7,2,   123.07,2,    32.59,2,     0.00,2,     2.26,2,    0.020,2,    0.012,2,    0.001,4,   2270.1,6,   2371.5,2,   7.6191,2,    25.00,   -999.0,9,   -999.0,  -999.00,9,  -999.00,  -999.00,9,   1.0729,2
  49NZ20031209,  I3I4,   555,  1,      7,  12031,2,20031221,1315,-20.0002,  51.0023, 4850,   4500.9,   0.9985,  34.7075,2,  34.7076,2,    199.1,1,    206.1,2,   123.05,2,    32.47,2,    -0.01,2,     2.25,2,    0.017,2,    0.012,2,    0.001,4,   2266.1,2,   2365.6,2,   7.6194,2,    25.00,   -999.0,9,   -999.0,  -999.00,9,  -999.00,  -999.00,9,   0.9985,2
  49NZ20031209,  I3I4,   555,  1,      6,  12030,2,20031221,1315,-20.0002,  51.0023, 4850,   4749.1,   0.9843,  34.7055,2,  34.7060,2,    201.7,1,    207.5,2,   123.15,2,    32.35,2,    -0.01,2,     2.25,2,    0.033,2,    0.015,2,    0.001,4,   2265.2,2,   2362.3,2,   7.6190,6,    25.00,   -999.0,9,   -999.0,  -999.00,9,  -999.00,  -999.00,9,   0.9844,2
  49NZ20031209,  I3I4,   555,  1,      5,  12029,2,20031221,1315,-20.0002,  51.0023, 4850,   4916.3,   0.9822,  34.7042,2,  34.7042,2,    203.7,1,    208.2,2,   123.54,2,    32.34,2,     0.00,2,     2.25,2,    0.053,2,    0.050,2,    0.001,4,   2264.9,2,   2362.1,2,   7.6197,2,    25.00,   -999.0,9,   -999.0,  -999.00,9,  -999.00,  -999.00,9,   0.9822,2
  49NZ20031209,  I3I4,   555,  1,      4,  12028,9,20031221,1315,-20.0002,  51.0023, 4850,   1001.0,   5.4234,  34.5562,2,-999.0000,9,    141.6,1,   -999.0,9,  -999.00,9,  -999.00,9,  -999.00,9,  -999.00,9, -999.000,9, -999.000,9, -999.000,9,   -999.0,9,   -999.0,9,-999.0000,9,  -999.00,   -999.0,9,   -999.0,  -999.00,9,  -999.00,  -999.00,9,   5.4238,2
  49NZ20031209,  I3I4,   555,  1,      3,  12027,9,20031221,1315,-20.0002,  51.0023, 4850,   1001.2,   5.4215,  34.5563,2,-999.0000,9,    141.5,1,   -999.0,9,  -999.00,9,  -999.00,9,  -999.00,9,  -999.00,9, -999.000,9, -999.000,9, -999.000,9,   -999.0,9,   -999.0,9,-999.0000,9,  -999.00,   -999.0,9,   -999.0,  -999.00,9,  -999.00,  -999.00,9,   5.4223,2
  49NZ20031209,  I3I4,   555,  1,      2,  12026,9,20031221,1315,-20.0002,  51.0023, 4850,     10.0,  27.8220,  34.9530,2,-999.0000,9,    192.3,1,   -999.0,9,  -999.00,9,  -999.00,9,  -999.00,9,  -999.00,9, -999.000,9, -999.000,9, -999.000,9,   -999.0,9,   -999.0,9,-999.0000,9,  -999.00,   -999.0,9,   -999.0,  -999.00,9,  -999.00,  -999.00,9,  27.8222,2
  49NZ20031209,  I3I4,   555,  1,      1,  12025,2,20031221,1315,-20.0002,  51.0023, 4850,   4000.6,   1.2246,  34.7168,2,  34.7168,2,    186.1,1,    193.8,2,   124.17,2,    32.94,2,     0.00,2,     2.30,2, -999.000,5, -999.000,5, -999.000,5,   2278.5,2,   2377.9,2,   7.6192,2,    25.00,   -999.0,9,   -999.0,  -999.00,9,  -999.00,  -999.00,9,   1.2245,2