BOTTLE,20141204PRINUNIVRMK
EXPOCODE,SECT_ID,STNNBR,CASTNO,SAMPNO,BTLNBR,BTLNBR_FLAG_W,DATE,TIME,LATITUDE,LONGITUDE,DEPTH,CTDPRS,CTDTMP,CTDSAL,CTDSAL_FLAG_W,SALNTY,SALNTY_FLAG_W,CTDOXY,CTDOXY_FLAG_W,OXYGEN,OXYGEN_FLAG_W,SILCAT,SILCAT_FLAG_W,NITRAT,NITRAT_FLAG_W,NITRIT,NITRIT_FLAG_W,PHSPHT,PHSPHT_FLAG_W,CFC-11,CFC-11_FLAG_W,CFC-12,CFC-12_FLAG_W,CFC113,CFC113_FLAG_W,TCARBN,TCARBN_FLAG_W,ALKALI,ALKALI_FLAG_W,PH_TOT,PH_TOT_FLAG_W,PH_TMP,DELC14,DELC14_FLAG_W,C14ERR,DELC13,DELC13_FLAG_W,CS-137,CS137ER,CS-137_FLAG_W,SBE35,SBE35_FLAG_W
,,,,,,,,,,,METERS,DBAR,ITS-90,PSS-78,,PSS-78,,UMOL/KG,,UMOL/KG,,UMOL/KG,,UMOL/KG,,UMOL/KG,,UMOL/KG,,PMOL/KG,,PMOL/KG,,PMOL/KG,,UMOL/KG,,UMOL/KG,,,,DEG C,/MILLE,,/MILLE,/MILLE,,DM/.1MG,DM/.1MG,,ITS-90,
  49NZ20031209,  I3I4,   471,  1,     36,  12024,2,20040112,1742,-19.9968,  96.0665, 5126,      9.9,  25.9716,  34.6829,2,  34.6863,2,    197.1,1,    206.4,2,     1.89,2,     0.01,2,     0.01,2,     0.10,2, -999.000,9, -999.000,9, -999.000,9,   -999.0,9,   -999.0,9,-999.0000,9,  -999.00,   -999.0,9,   -999.0,  -999.00,9,  -999.00,  -999.00,9,  25.9700,2
  49NZ20031209,  I3I4,   471,  1,     35,  12023,2,20040112,1742,-19.9968,  96.0665, 5126,     50.5,  24.1077,  35.1297,2,  35.1364,2,    208.4,1,    217.9,2,     2.11,2,    -0.04,2,     0.00,2,     0.10,2, -999.000,9, -999.000,9, -999.000,9,   -999.0,9,   -999.0,9,-999.0000,9,  -999.00,   -999.0,9,   -999.0,  -999.00,9,  -999.00,  -999.00,9,  24.0938,2
  49NZ20031209,  I3I4,   471,  1,     34,  12022,2,20040112,1742,-19.9968,  96.0665, 5126,    100.8,  21.9431,  35.4543,2,  35.4494,2,    214.7,1,    224.8,2,     2.20,2,    -0.04,2,     0.01,2,     0.10,2, -999.000,9, -999.000,9, -999.000,9,   -999.0,9,   -999.0,9,-999.0000,9,  -999.00,   -999.0,9,   -999.0,  -999.00,9,  -999.00,  -999.00,9,  21.9454,2
  49NZ20031209,  I3I4,   471,  1,     33,  12015,2,20040112,1742,-19.9968,  96.0665, 5126,    151.0,  20.5472,  35.5477,2,  35.5414,2,    195.2,1,    202.3,2,     2.98,2,     1.18,2,     0.05,2,     0.22,2, -999.000,9, -999.000,9, -999.000,9,   -999.0,9,   -999.0,9,-999.0000,9,  -999.00,   -999.0,9,   -999.0,  -999.00,9,  -999.00,  -999.00,9,  20.5485,2
  49NZ20031209,  I3I4,   471,  1,     32,  12020,2,20040112,1742,-19.9968,  96.0665, 5126,    201.7,  19.3106,  35.6731,2,  35.6795,2,    187.2,1,    195.8,2,     3.40,2,     2.62,2,     0.02,2,     0.30,2, -999.000,9, -999.000,9, -999.000,9,   -999.0,9,   -999.0,9,-999.0000,9,  -999.00,   -999.0,9,   -999.0,  -999.00,9,  -999.00,  -999.00,9,  19.3101,2
  49NZ20031209,  I3I4,   471,  1,     31,  12019,2,20040112,1742,-19.9968,  96.0665, 5126,    253.0,  17.4236,  35.7810,2,  35.7805,2,    196.8,1,    205.4,2,     2.59,2,     2.77,2,     0.01,2,     0.34,2, -999.000,9, -999.000,9, -999.000,9,   -999.0,9,   -999.0,9,-999.0000,9,  -999.00,   -999.0,9,   -999.0,  -999.00,9,  -999.00,  -999.00,9,  17.4226,2
  49NZ20031209,  I3I4,   471,  1,     30,  12018,2,20040112,1742,-19.9968,  96.0665, 5126,    300.4,  15.2865,  35.5918,2,  35.5801,2,    208.6,1,    218.0,2,     2.00,2,     4.15,2,     0.01,2,     0.44,2, -999.000,9, -999.000,9, -999.000,9,   -999.0,9,   -999.0,9,-999.0000,9,  -999.00,   -999.0,9,   -999.0,  -999.00,9,  -999.00,  -999.00,9,  15.3029,2
  49NZ20031209,  I3I4,   471,  1,     29,  12017,2,20040112,1742,-19.9968,  96.0665, 5126,    398.9,  12.3721,  35.1807,2,  35.1727,2,    227.3,1,    237.1,2,     2.20,2,     8.11,2,     0.01,2,     0.68,2, -999.000,9, -999.000,9, -999.000,9,   -999.0,9,   -999.0,9,-999.0000,9,  -999.00,   -999.0,9,   -999.0,  -999.00,9,  -999.00,  -999.00,9,  12.3764,2
  49NZ20031209,  I3I4,   471,  1,     28,  12016,2,20040112,1742,-19.9968,  96.0665, 5126,    500.4,  10.3555,  34.8484,2,  34.8459,2,    232.1,1,    242.2,2,     3.44,2,    12.82,2,     0.00,2,     0.96,2, -999.000,9, -999.000,9, -999.000,9,   -999.0,9,   -999.0,9,-999.0000,9,  -999.00,   -999.0,9,   -999.0,  -999.00,9,  -999.00,  -999.00,9,  10.3567,2
  49NZ20031209,  I3I4,   471,  1,     27,  12012,2,20040112,1742,-19.9968,  96.0665, 5126,    599.4,   9.1163,  34.6624,2,  34.6574,2,    225.2,1,    234.9,2,     5.19,2,    17.23,2,     0.01,2,     1.23,2, -999.000,9, -999.000,9, -999.000,9,   -999.0,9,   -999.0,9,-999.0000,9,  -999.00,   -999.0,9,   -999.0,  -999.00,9,  -999.00,  -999.00,9,   9.1157,2
  49NZ20031209,  I3I4,   471,  1,     26,  12014,2,20040112,1742,-19.9968,  96.0665, 5126,    699.7,   7.5887,  34.5320,2,  34.5320,2,    192.1,1,    200.4,2,    15.72,2,    23.88,2,     0.01,2,     1.66,2, -999.000,9, -999.000,9, -999.000,9,   -999.0,9,   -999.0,9,-999.0000,9,  -999.00,   -999.0,9,   -999.0,  -999.00,9,  -999.00,  -999.00,9,   7.5886,2
  49NZ20031209,  I3I4,   471,  1,     25,  12013,2,20040112,1742,-19.9968,  96.0665, 5126,    800.0,   6.0580,  34.5051,2,  34.5086,2,    149.2,1,    154.5,2,    40.90,2,    30.94,2,     0.00,2,     2.17,2, -999.000,9, -999.000,9, -999.000,9,   -999.0,9,   -999.0,9,-999.0000,9,  -999.00,   -999.0,9,   -999.0,  -999.00,9,  -999.00,  -999.00,9,   6.0576,2
  49NZ20031209,  I3I4,   471,  1,     24,  12048,2,20040112,1742,-19.9968,  96.0665, 5126,    902.7,   5.4232,  34.5725,2,  34.5715,2,    116.2,1,    120.5,2,    64.30,2,    34.39,2,     0.01,2,     2.45,2, -999.000,9, -999.000,9, -999.000,9,   -999.0,9,   -999.0,9,-999.0000,9,  -999.00,   -999.0,9,   -999.0,  -999.00,9,  -999.00,  -999.00,9,   5.4234,2
  49NZ20031209,  I3I4,   471,  1,     23,  12047,2,20040112,1742,-19.9968,  96.0665, 5126,   1000.8,   4.9830,  34.6024,2,  34.6073,2,    108.7,1,    111.2,2,    76.01,2,    35.47,2,    -0.01,2,     2.55,2, -999.000,9, -999.000,9, -999.000,9,   -999.0,9,   -999.0,9,-999.0000,9,  -999.00,   -999.0,9,   -999.0,  -999.00,9,  -999.00,  -999.00,9,   4.9815,2
  49NZ20031209,  I3I4,   471,  1,     22,  12046,2,20040112,1742,-19.9968,  96.0665, 5126,   1200.2,   4.4575,  34.6579,2,  34.6579,2,    103.0,1,    106.8,2,    90.67,2,    36.17,2,     0.00,2,     2.62,2, -999.000,9, -999.000,9, -999.000,9,   -999.0,9,   -999.0,9,-999.0000,9,  -999.00,   -999.0,9,   -999.0,  -999.00,9,  -999.00,  -999.00,9,   4.4587,2
  49NZ20031209,  I3I4,   471,  1,     21,  12045,2,20040112,1742,-19.9968,  96.0665, 5126,   1402.2,   3.7768,  34.6700,2,  34.6701,2,    115.4,1,    120.0,2,    94.91,2,    35.76,2,     0.00,2,     2.58,2, -999.000,9, -999.000,9, -999.000,9,   -999.0,9,   -999.0,9,-999.0000,9,  -999.00,   -999.0,9,   -999.0,  -999.00,9,  -999.00,  -999.00,9,   3.7783,2
  49NZ20031209,  I3I4,   471,  1,     20,  12044,2,20040112,1742,-19.9968,  96.0665, 5126,   1599.9,   3.2347,  34.6827,2,  34.6830,2,    126.4,1,    131.4,2,    99.29,2,    35.34,2,     0.00,2,     2.54,2, -999.000,9, -999.000,9, -999.000,9,   -999.0,9,   -999.0,9,-999.0000,9,  -999.00,   -999.0,9,   -999.0,  -999.00,9,  -999.00,  -999.00,9,   3.2342,2
  49NZ20031209,  I3I4,   471,  1,     19,  12043,2,20040112,1742,-19.9968,  96.0665, 5126,   1800.4,   2.8059,  34.7043,2,  34.7044,2,    134.8,1,    140.8,2,   105.35,2,    34.89,2,     0.00,2,     2.49,2, -999.000,9, -999.000,9, -999.000,9,   -999.0,9,   -999.0,9,-999.0000,9,  -999.00,   -999.0,9,   -999.0,  -999.00,9,  -999.00,  -999.00,9,   2.8053,2
  49NZ20031209,  I3I4,   471,  1,     18,  12042,2,20040112,1742,-19.9968,  96.0665, 5126,   1999.8,   2.4651,  34.7163,2,  34.7162,2,    142.6,1,    149.2,2,   110.21,2,    34.46,2,     0.00,2,     2.46,2, -999.000,9, -999.000,9, -999.000,9,   -999.0,9,   -999.0,9,-999.0000,9,  -999.00,   -999.0,9,   -999.0,  -999.00,9,  -999.00,  -999.00,9,   2.4649,2
  49NZ20031209,  I3I4,   471,  1,     17,  12041,2,20040112,1742,-19.9968,  96.0665, 5126,   2199.6,   2.1831,  34.7243,2,  34.7243,2,    149.3,1,    156.4,2,   114.68,2,    34.17,2,     0.00,2,     2.42,2, -999.000,9, -999.000,9, -999.000,9,   -999.0,9,   -999.0,9,-999.0000,9,  -999.00,   -999.0,9,   -999.0,  -999.00,9,  -999.00,  -999.00,9,   2.1827,2
  49NZ20031209,  I3I4,   471,  1,     16,  12040,2,20040112,1742,-19.9968,  96.0665, 5126,   2401.2,   2.0180,  34.7268,2,  34.7271,2,    156.6,1,    164.7,2,   114.61,2,    33.63,2,     0.00,2,     2.38,2, -999.000,9, -999.000,9, -999.000,9,   -999.0,9,   -999.0,9,-999.0000,9,  -999.00,   -999.0,9,   -999.0,  -999.00,9,  -999.00,  -999.00,9,   2.0173,2
  49NZ20031209,  I3I4,   471,  1,     15,  12039,2,20040112,1742,-19.9968,  96.0665, 5126,   2600.1,   1.8622,  34.7274,2,  34.7273,2,    160.2,1,    168.7,2,   117.43,2,    33.55,2,     0.00,2,     2.36,2, -999.000,9, -999.000,9, -999.000,9,   -999.0,9,   -999.0,9,-999.0000,9,  -999.00,   -999.0,9,   -999.0,  -999.00,9,  -999.00,  -999.00,9,   1.8621,2
  49NZ20031209,  I3I4,   471,  1,     14,  12038,2,20040112,1742,-19.9968,  96.0665, 5126,   2800.6,   1.7459,  34.7270,2,  34.7270,2,    162.3,1,    170.9,2,   120.25,2,    33.59,2,     0.01,2,     2.35,2, -999.000,9, -999.000,9, -999.000,9,   -999.0,9,   -999.0,9,-999.0000,9,  -999.00,   -999.0,9,   -999.0,  -999.00,9,  -999.00,  -999.00,9,   1.7459,2
  49NZ20031209,  I3I4,   471,  1,     13,  12037,2,20040112,1742,-19.9968,  96.0665, 5126,   2998.8,   1.6462,  34.7257,2,  34.7256,2,    163.8,1,    172.4,2,   123.21,2,    33.65,2,     0.00,2,     2.36,2, -999.000,9, -999.000,9, -999.000,9,   -999.0,9,   -999.0,9,-999.0000,9,  -999.00,   -999.0,9,   -999.0,  -999.00,9,  -999.00,  -999.00,9,   1.6456,2
  49NZ20031209,  I3I4,   471,  1,     12,  12036,2,20040112,1742,-19.9968,  96.0665, 5126,   3250.5,   1.5469,  34.7240,2,  34.7238,2,    166.4,1,    175.0,2,   125.61,2,    33.56,2,     0.00,2,     2.35,2, -999.000,9, -999.000,9, -999.000,9,   -999.0,9,   -999.0,9,-999.0000,9,  -999.00,   -999.0,9,   -999.0,  -999.00,9,  -999.00,  -999.00,9,   1.5470,2
  49NZ20031209,  I3I4,   471,  1,     11,  12035,2,20040112,1742,-19.9968,  96.0665, 5126,   3500.7,   1.4403,  34.7218,2,  34.7217,2,    171.8,1,    180.5,2,   125.29,2,    33.31,2,     0.00,2,     2.33,2, -999.000,9, -999.000,9, -999.000,9,   -999.0,9,   -999.0,9,-999.0000,9,  -999.00,   -999.0,9,   -999.0,  -999.00,9,  -999.00,  -999.00,9,   1.4401,2
  49NZ20031209,  I3I4,   471,  1,     10,  12034,2,20040112,1742,-19.9968,  96.0665, 5126,   3749.3,   1.3340,  34.7193,2,  34.7193,2,    177.7,1,    186.5,2,   124.75,2,    33.03,2,     0.00,2,     2.31,2, -999.000,9, -999.000,9, -999.000,9,   -999.0,9,   -999.0,9,-999.0000,9,  -999.00,   -999.0,9,   -999.0,  -999.00,9,  -999.00,  -999.00,9,   1.3338,2
  49NZ20031209,  I3I4,   471,  1,      9,  12033,2,20040112,1742,-19.9968,  96.0665, 5126,   4000.4,   1.2414,  34.7177,2,  34.7179,2,    184.7,1,    193.5,2,   122.75,2,    32.67,2,     0.00,2,     2.27,2, -999.000,9, -999.000,9, -999.000,9,   -999.0,9,   -999.0,9,-999.0000,9,  -999.00,   -999.0,9,   -999.0,  -999.00,9,  -999.00,  -999.00,9,   1.2414,2
  49NZ20031209,  I3I4,   471,  1,      8,  12032,2,20040112,1742,-19.9968,  96.0665, 5126,   4248.7,   1.1483,  34.7149,2,  34.7149,2,    190.4,1,    199.1,2,   121.97,2,    32.44,2,     0.00,2,     2.25,2, -999.000,9, -999.000,9, -999.000,9,   -999.0,9,   -999.0,9,-999.0000,9,  -999.00,   -999.0,9,   -999.0,  -999.00,9,  -999.00,  -999.00,9,   1.1483,2
  49NZ20031209,  I3I4,   471,  1,      7,  12031,2,20040112,1742,-19.9968,  96.0665, 5126,   4498.6,   1.0881,  34.7123,2,  34.7127,2,    193.9,1,    202.0,2,   122.39,2,    32.32,2,     0.00,2,     2.25,2, -999.000,9, -999.000,9, -999.000,9,   -999.0,9,   -999.0,9,-999.0000,9,  -999.00,   -999.0,9,   -999.0,  -999.00,9,  -999.00,  -999.00,9,   1.0881,2
  49NZ20031209,  I3I4,   471,  1,      6,  12030,2,20040112,1742,-19.9968,  96.0665, 5126,   4750.5,   1.0642,  34.7105,2,  34.7108,2,    196.8,1,    204.2,2,   122.06,2,    32.26,2,     0.00,2,     2.24,2, -999.000,9, -999.000,9, -999.000,9,   -999.0,9,   -999.0,9,-999.0000,9,  -999.00,   -999.0,9,   -999.0,  -999.00,9,  -999.00,  -999.00,9,   1.0643,2
  49NZ20031209,  I3I4,   471,  1,      5,  12029,2,20040112,1742,-19.9968,  96.0665, 5126,   4999.8,   1.0838,  34.7102,2,  34.7100,2,    198.4,1,    204.6,2,   122.19,2,    32.33,2,     0.00,2,     2.24,2, -999.000,9, -999.000,9, -999.000,9,   -999.0,9,   -999.0,9,-999.0000,9,  -999.00,   -999.0,9,   -999.0,  -999.00,9,  -999.00,  -999.00,9,   1.0838,2
  49NZ20031209,  I3I4,   471,  1,      4,  12028,2,20040112,1742,-19.9968,  96.0665, 5126,   5196.9,   1.1034,  34.7099,2,  34.7099,2,    200.2,1,    204.5,2,   122.03,2,    32.24,2,     0.00,2,     2.24,2, -999.000,9, -999.000,9, -999.000,9,   -999.0,9,   -999.0,9,-999.0000,9,  -999.00,   -999.0,9,   -999.0,  -999.00,9,  -999.00,  -999.00,9,   1.1034,2
  49NZ20031209,  I3I4,   471,  1,      3,  12027,9,20040112,1742,-19.9968,  96.0665, 5126,    999.9,   4.9691,  34.5998,2,-999.0000,9,    109.2,1,   -999.0,9,  -999.00,9,  -999.00,9,  -999.00,9,  -999.00,9, -999.000,9, -999.000,9, -999.000,9,   -999.0,9,   -999.0,9,-999.0000,9,  -999.00,   -999.0,9,   -999.0,  -999.00,9,  -999.00,  -999.00,9,   4.9703,2
  49NZ20031209,  I3I4,   471,  1,      2,  12026,9,20040112,1742,-19.9968,  96.0665, 5126,    902.8,   5.4227,  34.5724,2,-999.0000,9,    116.2,1,   -999.0,9,  -999.00,9,  -999.00,9,  -999.00,9,  -999.00,9, -999.000,9, -999.000,9, -999.000,9,   -999.0,9,   -999.0,9,-999.0000,9,  -999.00,   -999.0,9,   -999.0,  -999.00,9,  -999.00,  -999.00,9,   5.4230,2
  49NZ20031209,  I3I4,   471,  1,      1,  12025,9,20040112,1742,-19.9968,  96.0665, 5126,     10.0,  25.9724,  34.6831,2,-999.0000,9,    196.9,1,   -999.0,9,  -999.00,9,  -999.00,9,  -999.00,9,  -999.00,9, -999.000,9, -999.000,9, -999.000,9,   -999.0,9,   -999.0,9,-999.0000,9,  -999.00,   -999.0,9,   -999.0,  -999.00,9,  -999.00,  -999.00,9,  25.9697,2