BOTTLE,20141204PRINUNIVRMK
EXPOCODE,SECT_ID,STNNBR,CASTNO,SAMPNO,BTLNBR,BTLNBR_FLAG_W,DATE,TIME,LATITUDE,LONGITUDE,DEPTH,CTDPRS,CTDTMP,CTDSAL,CTDSAL_FLAG_W,SALNTY,SALNTY_FLAG_W,CTDOXY,CTDOXY_FLAG_W,OXYGEN,OXYGEN_FLAG_W,SILCAT,SILCAT_FLAG_W,NITRAT,NITRAT_FLAG_W,NITRIT,NITRIT_FLAG_W,PHSPHT,PHSPHT_FLAG_W,CFC-11,CFC-11_FLAG_W,CFC-12,CFC-12_FLAG_W,CFC113,CFC113_FLAG_W,TCARBN,TCARBN_FLAG_W,ALKALI,ALKALI_FLAG_W,PH_TOT,PH_TOT_FLAG_W,PH_TMP,DELC14,DELC14_FLAG_W,C14ERR,DELC13,DELC13_FLAG_W,CS-137,CS137ER,CS-137_FLAG_W,SBE35,SBE35_FLAG_W
,,,,,,,,,,,METERS,DBAR,ITS-90,PSS-78,,PSS-78,,UMOL/KG,,UMOL/KG,,UMOL/KG,,UMOL/KG,,UMOL/KG,,UMOL/KG,,PMOL/KG,,PMOL/KG,,PMOL/KG,,UMOL/KG,,UMOL/KG,,,,DEG C,/MILLE,,/MILLE,/MILLE,,DM/.1MG,DM/.1MG,,ITS-90,
  49NZ20031209,  I3I4,   597,  1,     36,  12024,2,20031215,0233,-24.6592,  38.9955, 3476,     10.3,  25.0894,  35.2438,2,  35.2428,2,    157.3,4,    213.6,2,     1.72,2,    -0.04,2,     0.00,2,     0.13,2,    1.869,2,    1.046,2, -999.000,5,   1983.4,2,   2304.5,2,   8.0789,2,    25.00,   -999.0,9,   -999.0,  -999.00,9,  -999.00,  -999.00,9,  25.0887,2
  49NZ20031209,  I3I4,   597,  1,     35,  12023,2,20031215,0233,-24.6592,  38.9955, 3476,     50.3,  23.0413,  35.2610,2,  35.2629,2,    157.4,4,    214.5,2,     1.79,2,    -0.04,2,     0.00,2,     0.16,2,    1.960,2,    1.103,2,    0.405,4,   1994.8,6,   2313.3,2,   8.0615,2,    25.00,   -999.0,9,   -999.0,  -999.00,9,  -999.00,  -999.00,9,  23.0355,2
  49NZ20031209,  I3I4,   597,  1,     34,  12022,2,20031215,0233,-24.6592,  38.9955, 3476,    100.2,  21.7674,  35.3044,2,  35.3054,2,    145.8,4,    198.8,2,     2.56,2,     1.96,2,     0.03,2,     0.30,2,    2.037,2,    1.144,2,    0.200,4,   2016.1,2,   2303.8,6,   8.0286,2,    25.00,   -999.0,9,   -999.0,  -999.00,9,  -999.00,  -999.00,9,  21.7683,2
  49NZ20031209,  I3I4,   597,  1,     33,  12015,2,20031215,0233,-24.6592,  38.9955, 3476,    149.5,  20.0379,  35.4348,2,  35.4322,2,    126.8,4,    167.6,2,     5.76,2,     6.39,2,     0.01,2,     0.55,2,    2.086,2,    1.136,2,    0.148,4,   2066.2,2,   2313.4,2,   7.9531,6,    25.00,   -999.0,9,   -999.0,  -999.00,9,  -999.00,  -999.00,9,  20.0388,2
  49NZ20031209,  I3I4,   597,  1,     32,  12020,2,20031215,0233,-24.6592,  38.9955, 3476,    199.5,  18.0346,  35.6469,2,  35.6565,2,    159.2,4,    211.6,2,     3.63,2,     2.87,2,     0.02,2,     0.34,2,    2.404,2,    1.318,2,    0.250,4,   2068.4,2,   2326.9,2,   7.9709,2,    25.00,   -999.0,9,   -999.0,  -999.00,9,  -999.00,  -999.00,9,  18.0348,2
  49NZ20031209,  I3I4,   597,  1,     31,  12019,2,20031215,0233,-24.6592,  38.9955, 3476,    250.3,  17.1094,  35.6725,2,  35.6731,2,    186.5,4,    226.4,2,     3.15,2,     3.06,2,     0.01,2,     0.35,2,    2.527,6,    1.411,6,    0.246,4,   2065.7,2,   2327.8,2,   7.9746,2,    25.00,   -999.0,9,   -999.0,  -999.00,9,  -999.00,  -999.00,9,  17.1099,2
  49NZ20031209,  I3I4,   597,  1,     30,  12018,2,20031215,0233,-24.6592,  38.9955, 3476,    300.1,  16.8996,  35.6638,2,  35.6640,2,    189.5,4,    223.5,2,     3.26,2,     3.54,2,     0.01,2,     0.37,2,    2.504,2,    1.406,2,    0.225,4,   2070.2,2,   2326.8,2,   7.9668,2,    25.00,   -999.0,9,   -999.0,  -999.00,9,  -999.00,  -999.00,9,  16.8999,2
  49NZ20031209,  I3I4,   597,  1,     29,  12017,2,20031215,0233,-24.6592,  38.9955, 3476,    400.2,  14.3132,  35.3248,2,  35.3227,2,    150.3,4,    178.2,2,     8.50,2,    11.58,2,     0.00,2,     0.90,2,    2.404,2,    1.262,2,    0.070,4,   2124.5,2,   2312.2,2,   7.8406,2,    25.00,   -999.0,9,   -999.0,  -999.00,9,  -999.00,  -999.00,9,  14.3165,2
  49NZ20031209,  I3I4,   597,  1,     28,  12016,2,20031215,0233,-24.6592,  38.9955, 3476,    500.1,  12.5136,  35.1523,2,  35.1514,2,    170.4,4,    201.2,2,     7.24,2,    12.52,2,     0.00,2,     0.95,2,    2.653,2,    1.375,2,    0.079,4,   2125.1,2,   2304.1,2,   7.8283,2,    25.00,   -999.0,9,   -999.0,  -999.00,9,  -999.00,  -999.00,9,  12.5136,2
  49NZ20031209,  I3I4,   597,  1,     27,  12012,2,20031215,0233,-24.6592,  38.9955, 3476,    600.9,  11.3079,  34.9906,2,  34.9880,2,    180.4,4,    207.8,2,     7.23,2,    14.25,2,     0.00,2,     1.06,2,    2.711,2,    1.366,2,    0.096,4,   2127.1,2,   2297.9,2,   7.8106,2,    25.00,   -999.0,9,   -999.0,  -999.00,9,  -999.00,  -999.00,9,  11.3078,2
  49NZ20031209,  I3I4,   597,  1,     26,  12014,2,20031215,0233,-24.6592,  38.9955, 3476,    700.7,  10.0161,  34.8150,2,  34.8159,2,    184.3,4,    214.2,2,     7.81,2,    16.56,2,     0.00,2,     1.20,2,    2.762,2,    1.342,2,    0.091,4,   2130.6,6,   2297.9,2,   7.7901,2,    25.00,   -999.0,9,   -999.0,  -999.00,9,  -999.00,  -999.00,9,  10.0157,2
  49NZ20031209,  I3I4,   597,  1,     25,  12013,2,20031215,0233,-24.6592,  38.9955, 3476,    800.7,   8.5950,  34.6596,2,  34.6583,2,    175.4,4,    203.1,2,    13.57,2,    21.05,2,     0.00,2,     1.50,2,    2.080,2,    1.001,2,    0.061,4,   2149.3,2,   2285.9,6,   7.7413,2,    25.00,   -999.0,9,   -999.0,  -999.00,9,  -999.00,  -999.00,9,   8.5968,2
  49NZ20031209,  I3I4,   597,  1,     24,  12048,2,20031215,0233,-24.6592,  38.9955, 3476,    900.0,   7.0800,  34.5497,2,  34.5497,2,    179.9,1,    187.3,2,    23.96,2,    25.95,2,    -0.01,2,     1.82,2,    1.339,2,    0.656,2,    0.038,4,   2176.1,2,   2291.5,2,   7.6844,6,    25.00,   -999.0,9,   -999.0,  -999.00,9,  -999.00,  -999.00,9,   7.0804,2
  49NZ20031209,  I3I4,   597,  1,     23,  12047,2,20031215,0233,-24.6592,  38.9955, 3476,   1000.4,   5.7560,  34.5038,2,  34.5035,2,    169.2,1,    177.0,2,    35.79,2,    29.58,2,    -0.01,2,     2.09,2,    1.059,6,    0.503,6,    0.040,4,   2200.8,2,   2301.4,2,   7.6405,2,    25.00,   -999.0,9,   -999.0,  -999.00,9,  -999.00,  -999.00,9,   5.7567,2
  49NZ20031209,  I3I4,   597,  1,     22,  12046,2,20031215,0233,-24.6592,  38.9955, 3476,   1201.3,   4.6931,  34.5918,2,  34.5921,2,    142.8,1,    148.4,2,    59.57,2,    33.12,2,    -0.01,2,     2.37,2,    0.377,2,    0.184,2,    0.000,4,   2243.0,2,   2330.9,2,   7.5895,2,    25.00,   -999.0,9,   -999.0,  -999.00,9,  -999.00,  -999.00,9,   4.6930,2
  49NZ20031209,  I3I4,   597,  1,     21,  12045,2,20031215,0233,-24.6592,  38.9955, 3476,   1400.4,   3.7704,  34.6289,2,  34.6294,2,    146.6,1,    151.8,2,    70.95,2,    33.54,2,    -0.01,2,     2.39,2,    0.183,2,    0.097,2,    0.021,4,   2255.3,2,   2333.6,2,   7.5854,2,    25.00,   -999.0,9,   -999.0,  -999.00,9,  -999.00,  -999.00,9,   3.7651,2
  49NZ20031209,  I3I4,   597,  1,     20,  12044,2,20031215,0233,-24.6592,  38.9955, 3476,   1600.6,   3.3565,  34.7118,2,  34.7117,2,    144.5,1,    150.0,2,    82.22,2,    33.38,2,    -0.01,2,     2.39,2,    0.056,2,    0.023,2,    0.000,4,   2266.2,2,   2348.6,2,   7.5849,2,    25.00,   -999.0,9,   -999.0,  -999.00,9,  -999.00,  -999.00,9,   3.3569,2
  49NZ20031209,  I3I4,   597,  1,     19,  12043,2,20031215,0233,-24.6592,  38.9955, 3476,   3252.2,   1.7781,  34.7838,2,  34.7839,2,    207.8,1,    214.9,2,    81.76,2,    28.31,2,    -0.01,2,     1.97,2,   -0.005,2,    0.000,2,    0.000,4,   2234.8,2,   2342.5,2,   7.6689,2,    25.00,   -999.0,9,   -999.0,  -999.00,9,  -999.00,  -999.00,9,   1.7778,2
  49NZ20031209,  I3I4,   597,  1,     18,  12042,2,20031215,0233,-24.6592,  38.9955, 3476,   2000.0,   2.7238,  34.7473,2,  34.7473,2,    167.3,1,    174.1,2,    81.14,2,    31.29,2,    -0.01,2,     2.22,2,    0.008,2,    0.001,2,    0.000,4,   2257.1,2,   2346.8,2,   7.6156,2,    25.00,   -999.0,9,   -999.0,  -999.00,9,  -999.00,  -999.00,9,   2.7243,2
  49NZ20031209,  I3I4,   597,  1,     17,  12041,2,20031215,0233,-24.6592,  38.9955, 3476,   2198.7,   2.5431,  34.7663,2,  34.7669,2,    178.1,1,    185.4,2,    78.38,2,    30.10,2,    -0.01,2,     2.11,2,    0.004,2,    0.001,2,    0.000,4,   2248.6,2,   2345.2,2,   7.6296,2,    25.00,   -999.0,9,   -999.0,  -999.00,9,  -999.00,  -999.00,9,   2.5432,2
  49NZ20031209,  I3I4,   597,  1,     16,  12040,2,20031215,0233,-24.6592,  38.9955, 3476,   2398.4,   2.3700,  34.7872,2,  34.7870,2,    191.2,1,    199.1,2,    73.61,2,    28.61,2,     0.00,2,     2.01,2,   -0.007,2,   -0.003,2,    0.000,4,   2238.4,6,   2347.9,2,   7.6485,2,    25.00,   -999.0,9,   -999.0,  -999.00,9,  -999.00,  -999.00,9,   2.3701,2
  49NZ20031209,  I3I4,   597,  1,     15,  12039,2,20031215,0233,-24.6592,  38.9955, 3476,   2599.5,   2.2500,  34.7976,2,  34.7977,2,    198.9,1,    207.1,2,    71.82,2,    27.90,2,    -0.01,2,     1.95,2,   -0.005,2,   -0.002,2,    0.000,4,   2230.1,2,   2343.2,6,   7.6596,2,    25.00,   -999.0,9,   -999.0,  -999.00,9,  -999.00,  -999.00,9,   2.2499,2
  49NZ20031209,  I3I4,   597,  1,     14,  12038,2,20031215,0233,-24.6592,  38.9955, 3476,   2800.5,   2.1567,  34.7990,2,  34.7993,2,    202.4,1,    210.4,2,    72.61,2,    27.72,2,    -0.01,2,     1.94,2,    0.005,2,    0.001,2,    0.000,4,   2230.5,2,   2342.4,2,   7.6487,2,    25.00,   -999.0,9,   -999.0,  -999.00,9,  -999.00,  -999.00,9,   2.1567,2
  49NZ20031209,  I3I4,   597,  1,     13,  12037,2,20031215,0233,-24.6592,  38.9955, 3476,   3000.1,   2.0044,  34.7959,2,  34.7959,2,    205.7,1,    213.4,2,    75.54,2,    27.72,2,    -0.01,2,     1.93,2,    0.000,2,    0.001,2,    0.004,4,   2232.9,2,   2341.4,2,   7.6619,2,    25.00,   -999.0,9,   -999.0,  -999.00,9,  -999.00,  -999.00,9,   2.0043,2
  49NZ20031209,  I3I4,   597,  1,     12,  12036,2,20031215,0233,-24.6592,  38.9955, 3476,   3251.2,   1.7799,  34.7840,2,  34.7842,2,    207.8,1,    214.9,2,    81.71,2,    28.19,2,    -0.01,2,     1.96,2,    0.000,2,    0.001,2,    0.000,4,   2235.6,2,   2348.1,2,   7.6543,2,    25.00,   -999.0,9,   -999.0,  -999.00,9,  -999.00,  -999.00,9,   1.7788,2
  49NZ20031209,  I3I4,   597,  1,     11,  12035,2,20031215,0233,-24.6592,  38.9955, 3476,   3509.2,   1.4995,  34.7656,2,  34.7653,2,    210.1,1,    215.9,2,    90.31,2,    28.99,2,    -0.01,2,     2.03,2,    0.013,2,    0.004,2,    0.000,4,   2241.3,2,   2349.0,2,   7.6438,2,    25.00,   -999.0,9,   -999.0,  -999.00,9,  -999.00,  -999.00,9,   1.4993,2
  49NZ20031209,  I3I4,   597,  1,     10,  12034,9,20031215,0233,-24.6592,  38.9955, 3476,   2900.8,   2.0962,  34.7994,2,-999.0000,9,    204.5,1,   -999.0,9,  -999.00,9,  -999.00,9,  -999.00,9,  -999.00,9, -999.000,9, -999.000,9, -999.000,9,   -999.0,9,   -999.0,9,-999.0000,9,  -999.00,   -999.0,9,   -999.0,  -999.00,9,  -999.00,  -999.00,9,   2.0962,2
  49NZ20031209,  I3I4,   597,  1,      9,  12033,9,20031215,0233,-24.6592,  38.9955, 3476,   3101.1,   1.9261,  34.7917,2,-999.0000,9,    206.3,1,   -999.0,9,  -999.00,9,  -999.00,9,  -999.00,9,  -999.00,9, -999.000,9, -999.000,9, -999.000,9,   -999.0,9,   -999.0,9,-999.0000,9,  -999.00,   -999.0,9,   -999.0,  -999.00,9,  -999.00,  -999.00,9,   1.9260,2
  49NZ20031209,  I3I4,   597,  1,      8,  12032,9,20031215,0233,-24.6592,  38.9955, 3476,   3350.1,   1.7107,  34.7793,2,-999.0000,9,    208.6,1,   -999.0,9,  -999.00,9,  -999.00,9,  -999.00,9,  -999.00,9, -999.000,9, -999.000,9, -999.000,9,   -999.0,9,   -999.0,9,-999.0000,9,  -999.00,   -999.0,9,   -999.0,  -999.00,9,  -999.00,  -999.00,9,   1.7104,2
  49NZ20031209,  I3I4,   597,  1,      7,  12031,9,20031215,0233,-24.6592,  38.9955, 3476,     10.6,  25.1068,  35.2405,2,-999.0000,9,    157.0,4,   -999.0,9,  -999.00,9,  -999.00,9,  -999.00,9,  -999.00,9, -999.000,9, -999.000,9, -999.000,9,   -999.0,9,   -999.0,9,-999.0000,9,  -999.00,   -999.0,9,   -999.0,  -999.00,9,  -999.00,  -999.00,9,  25.1252,2
  49NZ20031209,  I3I4,   597,  1,      6,  12030,9,20031215,0233,-24.6592,  38.9955, 3476,   1001.2,   5.7671,  34.5078,2,-999.0000,9,    168.2,1,   -999.0,9,  -999.00,9,  -999.00,9,  -999.00,9,  -999.00,9, -999.000,9, -999.000,9, -999.000,9,   -999.0,9,   -999.0,9,-999.0000,9,  -999.00,   -999.0,9,   -999.0,  -999.00,9,  -999.00,  -999.00,9,   5.7675,2
  49NZ20031209,  I3I4,   597,  1,      5,  12029,9,20031215,0233,-24.6592,  38.9955, 3476,   1001.4,   5.7663,  34.5076,2,-999.0000,9,    168.5,1,   -999.0,9,  -999.00,9,  -999.00,9,  -999.00,9,  -999.00,9, -999.000,9, -999.000,9, -999.000,9,   -999.0,9,   -999.0,9,-999.0000,9,  -999.00,   -999.0,9,   -999.0,  -999.00,9,  -999.00,  -999.00,9,   5.7666,2
  49NZ20031209,  I3I4,   597,  1,      4,  12028,9,20031215,0233,-24.6592,  38.9955, 3476,   1000.5,   5.7665,  34.5076,2,-999.0000,9,    168.5,1,   -999.0,9,  -999.00,9,  -999.00,9,  -999.00,9,  -999.00,9, -999.000,9, -999.000,9, -999.000,9,   -999.0,9,   -999.0,9,-999.0000,9,  -999.00,   -999.0,9,   -999.0,  -999.00,9,  -999.00,  -999.00,9,   5.7670,2
  49NZ20031209,  I3I4,   597,  1,      3,  12027,9,20031215,0233,-24.6592,  38.9955, 3476,   1001.1,   5.7660,  34.5074,2,-999.0000,9,    169.0,1,   -999.0,9,  -999.00,9,  -999.00,9,  -999.00,9,  -999.00,9, -999.000,9, -999.000,9, -999.000,9,   -999.0,9,   -999.0,9,-999.0000,9,  -999.00,   -999.0,9,   -999.0,  -999.00,9,  -999.00,  -999.00,9,   5.7660,2
  49NZ20031209,  I3I4,   597,  1,      2,  12026,9,20031215,0233,-24.6592,  38.9955, 3476,   1000.7,   5.7594,  34.5052,2,-999.0000,9,    169.2,1,   -999.0,9,  -999.00,9,  -999.00,9,  -999.00,9,  -999.00,9, -999.000,9, -999.000,9, -999.000,9,   -999.0,9,   -999.0,9,-999.0000,9,  -999.00,   -999.0,9,   -999.0,  -999.00,9,  -999.00,  -999.00,9,   5.7609,2
  49NZ20031209,  I3I4,   597,  1,      1,  12025,2,20031215,0233,-24.6592,  38.9955, 3476,   1800.7,   2.9695,  34.7271,2,  34.7268,2,    156.7,1,    162.9,2,    82.41,2,    32.30,2,    -0.01,2,     2.30,2,    0.025,2,    0.014,2,    0.000,4,   2262.9,2,   2346.9,2,   7.5916,2,    25.00,   -999.0,9,   -999.0,  -999.00,9,  -999.00,  -999.00,9,   2.9695,2