BOTTLE,20141204PRINUNIVRMK
EXPOCODE,SECT_ID,STNNBR,CASTNO,SAMPNO,BTLNBR,BTLNBR_FLAG_W,DATE,TIME,LATITUDE,LONGITUDE,DEPTH,CTDPRS,CTDTMP,CTDSAL,CTDSAL_FLAG_W,SALNTY,SALNTY_FLAG_W,CTDOXY,CTDOXY_FLAG_W,OXYGEN,OXYGEN_FLAG_W,SILCAT,SILCAT_FLAG_W,NITRAT,NITRAT_FLAG_W,NITRIT,NITRIT_FLAG_W,PHSPHT,PHSPHT_FLAG_W,CFC-11,CFC-11_FLAG_W,CFC-12,CFC-12_FLAG_W,CFC113,CFC113_FLAG_W,TCARBN,TCARBN_FLAG_W,ALKALI,ALKALI_FLAG_W,PH_TOT,PH_TOT_FLAG_W,PH_TMP,DELC14,DELC14_FLAG_W,C14ERR,DELC13,DELC13_FLAG_W,CS-137,CS137ER,CS-137_FLAG_W,SBE35,SBE35_FLAG_W
,,,,,,,,,,,METERS,DBAR,ITS-90,PSS-78,,PSS-78,,UMOL/KG,,UMOL/KG,,UMOL/KG,,UMOL/KG,,UMOL/KG,,UMOL/KG,,PMOL/KG,,PMOL/KG,,PMOL/KG,,UMOL/KG,,UMOL/KG,,,,DEG C,/MILLE,,/MILLE,/MILLE,,DM/.1MG,DM/.1MG,,ITS-90,
  49NZ20031209,  I3I4,   531,  1,     36,  12024,2,20031228,0539,-20.3680,  61.6312, 3673,     10.5,  26.6819,  34.9956,2,  34.9956,2,    195.7,1,    204.6,2,     1.84,2,     0.06,2,     0.01,2,     0.12,2,    1.492,2,    1.068,2, -999.000,5,   1968.5,2,   2289.1,2,   8.0856,2,    25.00,     49.9,2,      3.7,     1.10,2,  -999.00,  -999.00,9,  26.6848,2
  49NZ20031209,  I3I4,   531,  1,     35,  12023,2,20031228,0539,-20.3680,  61.6312, 3673,     50.2,  26.4909,  34.9879,2,  34.9885,2,    196.8,1,    205.8,2,     1.91,2,     0.05,2,     0.01,2,     0.11,2,    1.533,2,    1.102,2, -999.000,5,   1969.3,6,   2288.5,2,   8.0837,2,    25.00,     51.9,2,      3.7,     1.09,2,  -999.00,  -999.00,9,  26.4887,2
  49NZ20031209,  I3I4,   531,  1,     34,  12022,2,20031228,0539,-20.3680,  61.6312, 3673,    101.1,  22.9102,  35.0939,2,  35.0934,2,    205.2,1,    214.6,2,     2.34,2,     0.04,2,     0.00,2,     0.13,2,    1.810,2,    1.210,2, -999.000,5,   1986.8,2,   2292.7,6,   8.0666,2,    25.00,     58.1,2,      3.7,     1.05,2,  -999.00,  -999.00,9,  22.9083,2
  49NZ20031209,  I3I4,   531,  1,     33,  12015,2,20031228,0539,-20.3680,  61.6312, 3673,    149.6,  21.8468,  35.3028,2,  35.3097,2,    192.2,1,    200.2,2,     2.86,2,     1.19,2,     0.33,2,     0.22,2,    1.933,2,    1.212,2, -999.000,5,   2014.7,2,   2305.3,2,   8.0370,6,    25.00,     51.2,2,      3.7,     0.90,2,  -999.00,  -999.00,9,  21.8390,2
  49NZ20031209,  I3I4,   531,  1,     32,  12020,2,20031228,0539,-20.3680,  61.6312, 3673,    199.6,  19.9151,  35.5571,2,  35.5563,2,    172.4,1,    179.0,2,     4.82,2,     4.47,2,     0.02,2,     0.41,2,    2.049,2,    1.220,2,    0.183,4,   2064.8,2,   2324.5,2,   7.9707,2,    25.00,     64.1,6,      4.5,     0.68,6,  -999.00,  -999.00,9,  19.8786,2
  49NZ20031209,  I3I4,   531,  1,     31,  12019,2,20031228,0539,-20.3680,  61.6312, 3673,    249.5,  18.2882,  35.7247,2,  35.7260,2,    182.3,1,    190.0,2,     4.19,2,     4.10,2,     0.02,2,     0.41,2,    2.296,2,    1.333,2,    0.116,4,   2083.3,2,   2335.1,2,   7.9516,2,    25.00,     70.2,2,      3.7,     0.87,2,  -999.00,  -999.00,9,  18.2832,2
  49NZ20031209,  I3I4,   531,  1,     30,  12018,2,20031228,0539,-20.3680,  61.6312, 3673,    300.1,  16.4698,  35.6394,2,  35.6393,2,    188.5,1,    195.9,2,     4.78,2,     5.30,2,     0.02,2,     0.50,2,    2.402,2,    1.405,2,    0.088,4,   2099.4,2,   2332.7,2,   7.9203,2,    25.00,     68.2,2,      3.6,     0.83,2,  -999.00,  -999.00,9,  16.4741,2
  49NZ20031209,  I3I4,   531,  1,     29,  12021,2,20031228,0539,-20.3680,  61.6312, 3673,    399.5,  13.5498,  35.3160,2,  35.3052,2,    202.7,1,    210.4,2,     4.97,2,     8.89,2,     0.01,2,     0.72,2,    2.790,2,    1.525,2,    0.102,4,   2112.4,2,   2315.2,2,   7.8679,2,    25.00,     46.6,3,      3.8,     0.23,3,  -999.00,  -999.00,9,  13.5354,2
  49NZ20031209,  I3I4,   531,  1,     28,  12016,2,20031228,0539,-20.3680,  61.6312, 3673,    501.9,  11.5155,  35.0354,2,  35.0334,2,    217.6,1,    225.7,2,     4.36,2,    11.67,2,     0.00,2,     0.88,2,    3.101,2,    1.614,2,    0.127,4,   2116.0,2,   2302.4,2,   7.8363,2,    25.00,     68.2,2,      3.7,     1.18,2,  -999.00,  -999.00,9,  11.5121,2
  49NZ20031209,  I3I4,   531,  1,     27,  12012,2,20031228,0539,-20.3680,  61.6312, 3673,    598.3,  10.1321,  34.8322,2,  34.8370,2,    214.0,1,    222.2,2,     6.36,2,    15.21,2,     0.01,2,     1.10,2,    3.001,2,    1.515,2,    0.102,4,   2126.7,2,   2293.4,2,   7.7989,2,    25.00,     63.5,2,      3.7,     1.18,2,  -999.00,  -999.00,9,  10.1293,2
  49NZ20031209,  I3I4,   531,  1,     26,  12014,2,20031228,0539,-20.3680,  61.6312, 3673,    699.5,   9.0074,  34.6959,2,  34.6963,2,    202.9,1,    210.8,2,    10.81,2,    19.19,2,     0.01,2,     1.35,2,    2.469,2,    1.251,2,    0.071,4,   2141.8,6,   2292.9,2,   7.7583,2,    25.00,     31.5,2,      3.6,     1.18,2,  -999.00,  -999.00,9,   9.0041,2
  49NZ20031209,  I3I4,   531,  1,     25,  12013,2,20031228,0539,-20.3680,  61.6312, 3673,    799.3,   7.4017,  34.5693,2,  34.5676,2,    180.0,1,    186.7,2,    22.86,2,    25.29,2,     0.01,2,     1.76,2,    1.357,2,    0.713,2,    0.043,4,   2170.0,2,   2293.8,6,   7.6909,2,    25.00,    -12.5,2,      3.3,     1.03,2,  -999.00,  -999.00,9,   7.4039,2
  49NZ20031209,  I3I4,   531,  1,     24,  12048,2,20031228,0539,-20.3680,  61.6312, 3673,    900.3,   5.7058,  34.5164,2,  34.5163,2,    154.0,1,    159.2,2,    44.07,2,    31.07,2,     0.01,2,     2.16,2,    0.471,2,    0.297,2,    0.034,4,   2216.9,2,   2306.6,2,   7.6182,6,    25.00,    -89.9,2,      3.3,     0.75,2,  -999.00,  -999.00,9,   5.7058,2
  49NZ20031209,  I3I4,   531,  1,     23,  12047,2,20031228,0539,-20.3680,  61.6312, 3673,   1001.8,   4.9606,  34.5249,2,  34.5234,2,    143.1,1,    148.6,2,    56.26,2,    33.14,2,     0.01,2,     2.33,2,    0.234,2,    0.135,2,    0.000,4,   2236.9,2,   2320.0,2,   7.5927,2,    25.00,   -124.0,2,      3.4,     0.63,2,  -999.00,  -999.00,9,   4.9607,2
  49NZ20031209,  I3I4,   531,  1,     22,  12046,2,20031228,0539,-20.3680,  61.6312, 3673,   1201.0,   4.1790,  34.6305,2,  34.6306,2,    124.9,1,   -999.0,5,    80.74,2,    35.04,2,     0.00,2,     2.49,2,    0.028,2,    0.017,2,    0.000,4,   2271.7,2,   2348.6,2,   7.5633,2,    25.00,   -156.7,2,      3.3,     0.42,2,  -999.00,  -999.00,9,   4.1794,2
  49NZ20031209,  I3I4,   531,  1,     21,  12045,2,20031228,0539,-20.3680,  61.6312, 3673,   1399.9,   3.4976,  34.6762,2,  34.6763,2,    132.5,1,    137.0,2,    90.91,2,    34.75,2,     0.01,2,     2.47,2,    0.015,2,    0.010,2,    0.000,4,   2279.6,2,   2357.9,2,   7.5707,2,    25.00,   -171.2,2,      3.1,     0.31,3,  -999.00,  -999.00,9,   3.4978,2
  49NZ20031209,  I3I4,   531,  1,     20,  12044,2,20031228,0539,-20.3680,  61.6312, 3673,   3252.0,   1.6027,  34.7232,2,  34.7233,2,    174.2,1,    179.5,2,   120.85,2,    33.39,2,     0.00,2,     2.32,2,   -0.001,2,   -0.003,2,    0.000,4,   2285.1,2,   2381.5,2,   7.6130,2,    25.00,   -173.4,2,      3.2,     0.34,3,  -999.00,  -999.00,9,   1.6030,2
  49NZ20031209,  I3I4,   531,  1,     19,  12043,2,20031228,0539,-20.3680,  61.6312, 3673,   1798.9,   2.5636,  34.7052,2,  34.7055,2,    153.2,1,    159.0,2,   100.25,2,    33.70,2,     0.00,2,     2.37,2,   -0.006,2,   -0.001,2,    0.000,4,   2279.1,2,   2367.7,2,   7.5939,2,    25.00,   -168.4,2,      3.1,     0.41,2,  -999.00,  -999.00,9,   2.5634,2
  49NZ20031209,  I3I4,   531,  1,     18,  12042,2,20031228,0539,-20.3680,  61.6312, 3673,   2001.0,   2.3036,  34.7178,2,  34.7174,2,    157.8,1,    164.0,2,   105.39,2,    33.52,2,     0.01,2,     2.34,2,    0.004,2,    0.003,2,    0.000,4,   2281.4,2,   2371.3,2,   7.6001,6,    25.00,   -170.7,2,      3.1,     0.27,3,  -999.00,  -999.00,9,   2.3037,2
  49NZ20031209,  I3I4,   531,  1,     17,  12041,2,20031228,0539,-20.3680,  61.6312, 3673,   2199.7,   2.1076,  34.7238,2,  34.7240,2,    160.8,1,    166.9,2,   110.36,2,    33.50,2,     0.01,2,     2.34,2,    0.004,2,    0.004,2,    0.000,4,   2284.5,2,   2374.8,2,   7.6041,2,    25.00,   -172.6,2,      3.0,     0.37,2,  -999.00,  -999.00,9,   2.1076,2
  49NZ20031209,  I3I4,   531,  1,     16,  12040,2,20031228,0539,-20.3680,  61.6312, 3673,   2401.4,   1.9551,  34.7254,2,  34.7250,2,    164.0,1,    170.4,2,   113.21,2,    33.42,2,     0.01,2,     2.34,2,    0.001,2,   -0.003,2,    0.000,4,   2285.3,6,   2376.8,2,   7.6062,2,    25.00,   -174.1,2,      3.2,     0.36,2,  -999.00,  -999.00,9,   1.9549,2
  49NZ20031209,  I3I4,   531,  1,     15,  12039,2,20031228,0539,-20.3680,  61.6312, 3673,   2601.7,   1.8290,  34.7258,2,  34.7254,2,    166.8,1,    173.1,2,   116.48,2,    33.38,2,     0.01,2,     2.33,2,   -0.002,2,    0.001,2,    0.000,4,   2285.0,2,   2382.0,6,   7.6095,2,    25.00,   -174.3,2,      3.1,     0.39,2,  -999.00,  -999.00,9,   1.8289,2
  49NZ20031209,  I3I4,   531,  1,     14,  12038,2,20031228,0539,-20.3680,  61.6312, 3673,   2801.4,   1.7673,  34.7256,2,  34.7256,2,    168.4,1,    174.7,2,   117.66,2,    33.47,2,     0.01,2,     2.32,2,   -0.002,2,   -0.001,2,    0.000,4,   2287.1,2,   2380.0,2,   7.6119,2,    25.00,   -175.4,2,      3.3,     0.38,2,  -999.00,  -999.00,9,   1.7672,2
  49NZ20031209,  I3I4,   531,  1,     13,  12037,2,20031228,0539,-20.3680,  61.6312, 3673,   3000.5,   1.7163,  34.7251,2,  34.7248,2,    170.3,1,    176.0,2,   119.26,2,    33.36,2,     0.01,2,     2.32,2,   -0.003,2,   -0.001,2,    0.000,4,   2287.8,2,   2382.9,2,   7.6112,2,    25.00,   -171.8,6,      2.3,     0.38,6,  -999.00,  -999.00,9,   1.7162,2
  49NZ20031209,  I3I4,   531,  1,     12,  12036,2,20031228,0539,-20.3680,  61.6312, 3673,   3251.9,   1.6069,  34.7231,2,  34.7240,2,    174.2,1,    179.7,2,   120.70,2,    33.18,2,     0.01,2,     2.32,2,    0.001,2,    0.001,2,    0.000,4,   2287.0,2,   2378.9,2,   7.6124,2,    25.00,   -167.0,3,      4.5,     0.42,2,  -999.00,  -999.00,9,   1.6068,2
  49NZ20031209,  I3I4,   531,  1,     11,  12035,2,20031228,0539,-20.3680,  61.6312, 3673,   3500.9,   1.5785,  34.7221,2,  34.7219,2,    176.3,1,    180.9,2,   121.72,2,    33.26,2,     0.01,2,     2.31,2,    0.002,2,    0.000,2,    0.000,4,   2288.1,2,   2380.6,2,   7.6141,2,    25.00,   -162.7,3,      4.4,     0.37,2,  -999.00,  -999.00,9,   1.5784,2
  49NZ20031209,  I3I4,   531,  1,     10,  12034,2,20031228,0539,-20.3680,  61.6312, 3673,   3649.9,   1.5332,  34.7212,2,  34.7214,2,    178.7,1,    182.5,2,   122.60,2,    33.26,2,     0.00,2,     2.31,2,   -0.002,2,   -0.001,2,    0.000,4,   2285.2,2,   2381.7,2,   7.6150,2,    25.00,   -170.7,2,      3.2,     0.38,2,  -999.00,  -999.00,9,   1.5331,2
  49NZ20031209,  I3I4,   531,  1,      9,  12033,9,20031228,0539,-20.3680,  61.6312, 3673,   3350.3,   1.5829,  34.7225,2,-999.0000,9,    175.3,1,   -999.0,9,  -999.00,9,  -999.00,9,  -999.00,9,  -999.00,9, -999.000,9, -999.000,9, -999.000,9,   -999.0,9,   -999.0,9,-999.0000,9,  -999.00,   -999.0,9,   -999.0,  -999.00,9,  -999.00,  -999.00,9,   1.5827,2
  49NZ20031209,  I3I4,   531,  1,      8,  12032,9,20031228,0539,-20.3680,  61.6312, 3673,   3101.3,   1.6545,  34.7243,2,-999.0000,9,    172.1,1,   -999.0,9,  -999.00,9,  -999.00,9,  -999.00,9,  -999.00,9, -999.000,9, -999.000,9, -999.000,9,   -999.0,9,   -999.0,9,-999.0000,9,  -999.00,   -999.0,9,   -999.0,  -999.00,9,  -999.00,  -999.00,9,   1.6545,2
  49NZ20031209,  I3I4,   531,  1,      7,  12031,9,20031228,0539,-20.3680,  61.6312, 3673,   2901.2,   1.7467,  34.7254,2,-999.0000,9,    169.3,1,   -999.0,9,  -999.00,9,  -999.00,9,  -999.00,9,  -999.00,9, -999.000,9, -999.000,9, -999.000,9,   -999.0,9,   -999.0,9,-999.0000,9,  -999.00,   -999.0,9,   -999.0,  -999.00,9,  -999.00,  -999.00,9,   1.7467,2
  49NZ20031209,  I3I4,   531,  1,      6,  12030,2,20031228,0539,-20.3680,  61.6312, 3673,     10.3,  26.6771,  34.9958,2,-999.0000,9,    195.7,1,   -999.0,9,  -999.00,9,  -999.00,9,  -999.00,9,  -999.00,9,    1.488,6,    1.084,6,    0.517,4,   -999.0,9,   -999.0,9,-999.0000,9,  -999.00,   -999.0,9,   -999.0,  -999.00,9,  -999.00,  -999.00,9,  26.6801,2
  49NZ20031209,  I3I4,   531,  1,      5,  12029,9,20031228,0539,-20.3680,  61.6312, 3673,      5.3,  26.6784,  34.9964,2,-999.0000,9,    195.7,1,   -999.0,9,  -999.00,9,  -999.00,9,  -999.00,9,  -999.00,9, -999.000,9, -999.000,9, -999.000,9,   -999.0,9,   -999.0,9,-999.0000,9,  -999.00,   -999.0,9,   -999.0,  -999.00,9,  -999.00,  -999.00,9,  26.6814,2
  49NZ20031209,  I3I4,   531,  1,      4,  12028,2,20031228,0539,-20.3680,  61.6312, 3673,      5.1,  26.6713,  34.9965,2,-999.0000,9,    195.7,1,   -999.0,9,  -999.00,9,  -999.00,9,  -999.00,9,  -999.00,9, -999.000,9, -999.000,9, -999.000,9,   -999.0,9,   -999.0,9,-999.0000,9,  -999.00,   -999.0,9,   -999.0,  -999.00,9,  -999.00,  -999.00,9,  26.6734,2
  49NZ20031209,  I3I4,   531,  1,      3,  12027,2,20031228,0539,-20.3680,  61.6312, 3673,      5.3,  26.6851,  34.9973,2,-999.0000,9,    195.5,1,   -999.0,9,  -999.00,9,  -999.00,9,  -999.00,9,  -999.00,9, -999.000,9, -999.000,9, -999.000,9,   -999.0,9,   -999.0,9,-999.0000,9,  -999.00,   -999.0,9,   -999.0,  -999.00,9,  -999.00,  -999.00,9,  26.6911,2
  49NZ20031209,  I3I4,   531,  1,      2,  12026,2,20031228,0539,-20.3680,  61.6312, 3673,    114.2,  22.5852,  35.1395,2,-999.0000,9,    198.4,1,   -999.0,9,  -999.00,9,  -999.00,9,  -999.00,9,  -999.00,9, -999.000,9, -999.000,9, -999.000,9,   -999.0,9,   -999.0,9,-999.0000,9,  -999.00,   -999.0,9,   -999.0,  -999.00,9,  -999.00,  -999.00,9,  22.5828,2
  49NZ20031209,  I3I4,   531,  1,      1,  12025,2,20031228,0539,-20.3680,  61.6312, 3673,   1601.1,   2.8951,  34.6914,2,  34.6916,2,    146.4,1,    151.7,2,    95.82,2,    34.10,2,     0.01,2,     2.40,2,    0.004,2,    0.002,2,    0.000,4,   2275.7,2,   2358.6,2,   7.5851,2,    25.00,   -163.1,2,      3.2,     0.41,2,  -999.00,  -999.00,9,   2.8951,2