BOTTLE,20141204PRINUNIVRMK
EXPOCODE,SECT_ID,STNNBR,CASTNO,SAMPNO,BTLNBR,BTLNBR_FLAG_W,DATE,TIME,LATITUDE,LONGITUDE,DEPTH,CTDPRS,CTDTMP,CTDSAL,CTDSAL_FLAG_W,SALNTY,SALNTY_FLAG_W,CTDOXY,CTDOXY_FLAG_W,OXYGEN,OXYGEN_FLAG_W,SILCAT,SILCAT_FLAG_W,NITRAT,NITRAT_FLAG_W,NITRIT,NITRIT_FLAG_W,PHSPHT,PHSPHT_FLAG_W,CFC-11,CFC-11_FLAG_W,CFC-12,CFC-12_FLAG_W,CFC113,CFC113_FLAG_W,TCARBN,TCARBN_FLAG_W,ALKALI,ALKALI_FLAG_W,PH_TOT,PH_TOT_FLAG_W,PH_TMP,DELC14,DELC14_FLAG_W,C14ERR,DELC13,DELC13_FLAG_W,CS-137,CS137ER,CS-137_FLAG_W,SBE35,SBE35_FLAG_W
,,,,,,,,,,,METERS,DBAR,ITS-90,PSS-78,,PSS-78,,UMOL/KG,,UMOL/KG,,UMOL/KG,,UMOL/KG,,UMOL/KG,,UMOL/KG,,PMOL/KG,,PMOL/KG,,PMOL/KG,,UMOL/KG,,UMOL/KG,,,,DEG C,/MILLE,,/MILLE,/MILLE,,DM/.1MG,DM/.1MG,,ITS-90,
  49NZ20031209,  I3I4,   511,  1,     36,  12024,2,20040102,0056,-19.9975,  72.1952, 4000,     10.3,  26.0172,  35.0497,2,  35.0503,2,    197.8,1,    207.3,2,     2.05,2,     0.03,2,    -0.01,2,     0.10,2,    1.718,2,    1.086,2,    0.491,4,   1972.8,4,   2298.5,2,   8.0838,2,    25.00,   -999.0,9,   -999.0,  -999.00,9,  -999.00,  -999.00,9,  26.0169,2
  49NZ20031209,  I3I4,   511,  1,     35,  12023,2,20040102,0056,-19.9975,  72.1952, 4000,     49.7,  25.1301,  34.9697,2,  34.9707,2,    203.6,1,    213.2,2,     2.03,2,     0.02,2,    -0.01,2,     0.09,2,    1.791,2,    1.117,2, -999.000,5,   1967.7,6,   2292.5,2,   8.0844,2,    25.00,   -999.0,9,   -999.0,  -999.00,9,  -999.00,  -999.00,9,  25.1280,2
  49NZ20031209,  I3I4,   511,  1,     34,  12022,2,20040102,0056,-19.9975,  72.1952, 4000,    100.4,  22.8201,  35.0483,2,  35.0472,2,    204.6,1,    213.8,2,     2.24,2,     0.02,2,    -0.01,2,     0.12,2,    1.926,2,    1.192,2, -999.000,5,   1981.2,2,   2295.1,6,   8.0682,2,    25.00,   -999.0,9,   -999.0,  -999.00,9,  -999.00,  -999.00,9,  22.8198,2
  49NZ20031209,  I3I4,   511,  1,     33,  12015,2,20040102,0056,-19.9975,  72.1952, 4000,    150.8,  21.6656,  35.3601,2,  35.3604,2,    199.4,1,    208.6,2,     2.25,2,     0.30,2,     0.26,2,     0.16,2,    2.016,2,    1.226,2,    0.565,4,   2007.9,2,   2314.6,2,   8.0476,4,    25.00,   -999.0,9,   -999.0,  -999.00,9,  -999.00,  -999.00,9,  21.6648,2
  49NZ20031209,  I3I4,   511,  1,     32,  12020,2,20040102,0056,-19.9975,  72.1952, 4000,    200.0,  20.4832,  35.5803,2,  35.5865,2,    182.9,1,    191.4,2,     3.34,2,     2.41,2,     0.07,2,     0.30,2,    2.097,2,    1.253,2,    0.289,4,   2050.7,2,   2329.3,2,   7.9975,4,    25.00,   -999.0,9,   -999.0,  -999.00,9,  -999.00,  -999.00,9,  20.4838,2
  49NZ20031209,  I3I4,   511,  1,     31,  12019,2,20040102,0056,-19.9975,  72.1952, 4000,    251.5,  18.7152,  35.7287,2,  35.7309,2,    178.7,1,    186.4,2,     4.26,2,     4.07,2,     0.00,2,     0.40,2,    2.201,6,    1.292,6,    0.104,4,   2078.9,4,   2341.4,2,   7.9615,4,    25.00,   -999.0,9,   -999.0,  -999.00,9,  -999.00,  -999.00,9,  18.6996,2
  49NZ20031209,  I3I4,   511,  1,     30,  12018,2,20040102,0056,-19.9975,  72.1952, 4000,    302.8,  16.9424,  35.7553,2,  35.7578,2,    199.2,1,    206.6,2,     2.55,2,     3.05,2,    -0.01,2,     0.37,2,    2.495,2,    1.423,2,    0.031,4,   2093.1,2,   2341.4,2,   7.9486,4,    25.00,   -999.0,9,   -999.0,  -999.00,9,  -999.00,  -999.00,9,  16.9528,2
  49NZ20031209,  I3I4,   511,  1,     29,  12021,2,20040102,0056,-19.9975,  72.1952, 4000,    401.0,  13.4167,  35.3242,2,  35.3245,2,    216.4,1,    225.0,2,     2.67,2,     7.40,2,    -0.01,2,     0.63,2,    2.982,2,    1.634,2,    0.087,4,   2106.3,2,   2317.7,2,   7.8837,4,    25.00,   -999.0,9,   -999.0,  -999.00,9,  -999.00,  -999.00,9,  13.4136,2
  49NZ20031209,  I3I4,   511,  1,     28,  12016,2,20040102,0056,-19.9975,  72.1952, 4000,    501.8,  11.7502,  35.0741,2,  35.0756,2,    224.2,1,    233.0,2,     3.19,2,    10.35,2,    -0.01,2,     0.81,2,    3.200,2,    1.700,2,    0.149,4,   2112.8,2,   2306.3,2,   7.8476,4,    25.00,   -999.0,9,   -999.0,  -999.00,9,  -999.00,  -999.00,9,  11.7504,2
  49NZ20031209,  I3I4,   511,  1,     27,  12012,2,20040102,0056,-19.9975,  72.1952, 4000,    602.2,  10.4725,  34.8749,2,  34.8768,2,    225.8,1,    234.8,2,     3.85,2,    13.27,2,    -0.01,2,     0.99,2,    3.301,2,    1.714,2,    0.117,4,   2117.4,2,   2297.2,2,   7.8184,2,    25.00,   -999.0,9,   -999.0,  -999.00,9,  -999.00,  -999.00,9,  10.4770,2
  49NZ20031209,  I3I4,   511,  1,     26,  12014,2,20040102,0056,-19.9975,  72.1952, 4000,    703.6,   9.1996,  34.6851,2,  34.6884,2,    222.5,1,    231.8,2,     5.51,2,    17.05,2,    -0.01,2,     1.23,2,    3.179,2,    1.614,2,    0.123,4,   2126.9,2,   2293.8,2,   7.7835,2,    25.00,   -999.0,9,   -999.0,  -999.00,9,  -999.00,  -999.00,9,   9.2037,2
  49NZ20031209,  I3I4,   511,  1,     25,  12013,2,20040102,0056,-19.9975,  72.1952, 4000,    802.5,   7.4812,  34.5326,2,  34.5339,2,    190.0,1,    198.2,2,    16.40,2,    24.27,2,    -0.01,2,     1.69,2,    1.628,2,    0.839,2,    0.048,4,   2161.6,2,   2290.9,6,   7.7038,2,    25.00,   -999.0,9,   -999.0,  -999.00,9,  -999.00,  -999.00,9,   7.4813,2
  49NZ20031209,  I3I4,   511,  1,     24,  12048,2,20040102,0056,-19.9975,  72.1952, 4000,    900.3,   5.9586,  34.4949,2,  34.4952,2,    157.7,1,    163.1,2,    38.37,2,    30.58,2,    -0.01,2,     2.14,2,    0.486,2,    0.267,2,    0.000,4,   2207.3,2,   2307.0,2,   7.6259,2,    25.00,   -999.0,9,   -999.0,  -999.00,9,  -999.00,  -999.00,9,   5.9584,2
  49NZ20031209,  I3I4,   511,  1,     23,  12047,2,20040102,0056,-19.9975,  72.1952, 4000,   1002.8,   5.2264,  34.5601,2,  34.5592,2,    125.3,1,    130.1,2,    61.82,2,    34.17,2,    -0.01,2,     2.43,2,    0.096,6,    0.060,6,    0.000,4,   2250.3,2,   2326.9,2,   7.5764,2,    25.00,   -999.0,9,   -999.0,  -999.00,9,  -999.00,  -999.00,9,   5.2264,2
  49NZ20031209,  I3I4,   511,  1,     22,  12046,2,20040102,0056,-19.9975,  72.1952, 4000,   1201.6,   4.6166,  34.6533,2,  34.6512,2,    108.0,1,    111.8,2,    83.80,2,    35.74,2,    -0.01,2,     2.58,2,    0.017,2,    0.011,2,    0.000,4,   2282.4,2,   2351.7,2,   7.5543,2,    25.00,   -999.0,9,   -999.0,  -999.00,9,  -999.00,  -999.00,9,   4.6171,2
  49NZ20031209,  I3I4,   511,  1,     21,  12045,2,20040102,0056,-19.9975,  72.1952, 4000,   1401.4,   3.9961,  34.6887,2,  34.6887,2,    113.1,1,    116.5,2,    93.51,2,    35.81,2,    -0.01,2,     2.58,2,    0.002,2,    0.001,2,    0.000,4,   2291.4,2,   2366.7,2,   7.5543,2,    25.00,   -999.0,9,   -999.0,  -999.00,9,  -999.00,  -999.00,9,   3.9963,2
  49NZ20031209,  I3I4,   511,  1,     20,  12044,2,20040102,0056,-19.9975,  72.1952, 4000,   1600.8,   3.4672,  34.7091,2,  34.7089,2,    123.8,1,    128.2,2,    98.78,2,    35.34,2,    -0.01,2,     2.54,2,    0.131,4,    0.087,4,    0.000,4,   2287.9,4,   2368.6,2,   7.5638,2,    25.00,   -999.0,9,   -999.0,  -999.00,9,  -999.00,  -999.00,9,   3.4679,2
  49NZ20031209,  I3I4,   511,  1,     19,  12043,2,20040102,0056,-19.9975,  72.1952, 4000,   1800.3,   2.8818,  34.6949,2,  34.6947,2,    144.7,1,    150.2,2,    96.01,2,    34.21,2,    -0.01,2,     2.42,2,   -0.001,2,    0.002,2,    0.000,4,   2279.5,2,   2366.2,2,   7.5816,4,    25.00,   -999.0,9,   -999.0,  -999.00,9,  -999.00,  -999.00,9,   2.8820,2
  49NZ20031209,  I3I4,   511,  1,     18,  12042,2,20040102,0056,-19.9975,  72.1952, 4000,   2000.1,   2.4064,  34.7103,2,  34.7098,2,    157.3,1,    163.9,2,    99.63,2,    33.43,2,    -0.01,2,     2.36,2,    0.003,2,   -0.001,2,    0.000,4,   2276.4,2,   2369.0,2,   7.5958,6,    25.00,   -999.0,9,   -999.0,  -999.00,9,  -999.00,  -999.00,9,   2.4064,2
  49NZ20031209,  I3I4,   511,  1,     17,  12041,2,20040102,0056,-19.9975,  72.1952, 4000,   2200.3,   2.0956,  34.7208,2,  34.7205,2,    165.2,1,    172.3,2,   104.07,2,    33.03,2,    -0.01,2,     2.32,2,    0.004,2,    0.003,2,    0.000,4,   2277.0,2,   2372.4,2,   7.6047,2,    25.00,   -999.0,9,   -999.0,  -999.00,9,  -999.00,  -999.00,9,   2.0963,2
  49NZ20031209,  I3I4,   511,  1,     16,  12040,2,20040102,0056,-19.9975,  72.1952, 4000,   2400.2,   1.8981,  34.7252,2,  34.7266,2,    170.9,1,    178.5,2,   106.54,2,    32.70,2,    -0.01,2,     2.29,2,    0.002,2,    0.000,2,    0.000,4,   2274.9,6,   2372.8,2,   7.6103,2,    25.00,   -999.0,9,   -999.0,  -999.00,9,  -999.00,  -999.00,9,   1.8983,2
  49NZ20031209,  I3I4,   511,  1,     15,  12039,2,20040102,0056,-19.9975,  72.1952, 4000,   2599.8,   1.7358,  34.7276,2,  34.7279,2,    175.4,1,    183.0,2,   109.27,2,    32.49,2,    -0.01,2,     2.27,2,   -0.002,2,   -0.001,2,    0.000,4,   2271.0,4,   2375.5,6,   7.6169,2,    25.00,   -999.0,9,   -999.0,  -999.00,9,  -999.00,  -999.00,9,   1.7357,2
  49NZ20031209,  I3I4,   511,  1,     14,  12038,2,20040102,0056,-19.9975,  72.1952, 4000,   2803.2,   1.5993,  34.7278,2,  34.7276,2,    178.6,1,    186.1,2,   112.67,2,    32.47,2,    -0.02,2,     2.26,2,    0.000,2,    0.000,2,    0.000,4,   2276.6,2,   2378.3,2,   7.6222,6,    25.00,   -999.0,9,   -999.0,  -999.00,9,  -999.00,  -999.00,9,   1.5994,2
  49NZ20031209,  I3I4,   511,  1,     13,  12037,2,20040102,0056,-19.9975,  72.1952, 4000,   3001.1,   1.5129,  34.7269,2,  34.7266,2,    179.0,1,    186.3,2,   116.56,2,    32.70,2,    -0.01,2,     2.27,2,    0.000,2,    0.001,2,    0.000,4,   2280.7,2,   2384.7,2,   7.6246,4,    25.00,   -999.0,9,   -999.0,  -999.00,9,  -999.00,  -999.00,9,   1.5129,2
  49NZ20031209,  I3I4,   511,  1,     12,  12036,2,20040102,0056,-19.9975,  72.1952, 4000,   3251.3,   1.4328,  34.7247,2,  34.7247,2,    179.2,1,    186.0,2,   120.99,2,    32.85,2,    -0.01,2,     2.28,2,    0.001,2,   -0.001,2,    0.000,4,   2286.9,2,   2390.2,2,   7.6269,2,    25.00,   -999.0,9,   -999.0,  -999.00,9,  -999.00,  -999.00,9,   1.4329,2
  49NZ20031209,  I3I4,   511,  1,     11,  12035,2,20040102,0056,-19.9975,  72.1952, 4000,   3499.0,   1.4213,  34.7234,2,  34.7240,2,    179.1,1,    185.2,2,   123.19,2,    33.00,2,    -0.01,2,     2.29,2,   -0.003,2,   -0.002,2,    0.000,4,   2288.9,2,   2392.5,2,   7.6242,4,    25.00,   -999.0,9,   -999.0,  -999.00,9,  -999.00,  -999.00,9,   1.4214,2
  49NZ20031209,  I3I4,   511,  1,     10,  12034,2,20040102,0056,-19.9975,  72.1952, 4000,   3750.0,   1.3926,  34.7213,2,  34.7215,2,    178.5,1,    183.4,2,   127.22,2,    33.30,2,    -0.01,2,     2.32,2,   -0.002,2,   -0.001,2,    0.000,4,   2294.3,2,   2398.6,2,   7.6293,2,    25.00,   -999.0,9,   -999.0,  -999.00,9,  -999.00,  -999.00,9,   1.3926,2
  49NZ20031209,  I3I4,   511,  1,      9,  12033,2,20040102,0056,-19.9975,  72.1952, 4000,   3937.8,   1.4050,  34.7210,2,  34.7210,2,    179.4,1,    183.2,2,   127.80,2,    33.36,2,    -0.01,2,     2.32,2,   -0.003,2,   -0.001,2,    0.000,4,   2290.8,4,   2400.6,2,   7.6263,4,    25.00,   -999.0,9,   -999.0,  -999.00,9,  -999.00,  -999.00,9,   1.4051,2
  49NZ20031209,  I3I4,   511,  1,      8,  12032,9,20040102,0056,-19.9975,  72.1952, 4000,   3851.8,   1.3957,  34.7209,2,-999.0000,9,    178.8,1,   -999.0,9,  -999.00,9,  -999.00,9,  -999.00,9,  -999.00,9, -999.000,9, -999.000,9, -999.000,9,   -999.0,9,   -999.0,9,-999.0000,9,  -999.00,   -999.0,9,   -999.0,  -999.00,9,  -999.00,  -999.00,9,   1.3958,2
  49NZ20031209,  I3I4,   511,  1,      7,  12031,9,20040102,0056,-19.9975,  72.1952, 4000,   1003.0,   5.2231,  34.5612,2,-999.0000,9,    125.3,1,   -999.0,9,  -999.00,9,  -999.00,9,  -999.00,9,  -999.00,9, -999.000,9, -999.000,9, -999.000,9,   -999.0,9,   -999.0,9,-999.0000,9,  -999.00,   -999.0,9,   -999.0,  -999.00,9,  -999.00,  -999.00,9,   5.2241,2
  49NZ20031209,  I3I4,   511,  1,      6,  12030,9,20040102,0056,-19.9975,  72.1952, 4000,   1003.4,   5.2246,  34.5609,2,-999.0000,9,    125.4,1,   -999.0,9,  -999.00,9,  -999.00,9,  -999.00,9,  -999.00,9, -999.000,9, -999.000,9, -999.000,9,   -999.0,9,   -999.0,9,-999.0000,9,  -999.00,   -999.0,9,   -999.0,  -999.00,9,  -999.00,  -999.00,9,   5.2243,2
  49NZ20031209,  I3I4,   511,  1,      5,  12029,9,20040102,0056,-19.9975,  72.1952, 4000,      5.1,  26.0200,  35.0505,2,-999.0000,9,    197.9,1,   -999.0,9,  -999.00,9,  -999.00,9,  -999.00,9,  -999.00,9, -999.000,9, -999.000,9, -999.000,9,   -999.0,9,   -999.0,9,-999.0000,9,  -999.00,   -999.0,9,   -999.0,  -999.00,9,  -999.00,  -999.00,9,  26.0198,2
  49NZ20031209,  I3I4,   511,  1,      4,  12028,2,20040102,0056,-19.9975,  72.1952, 4000,      5.4,  26.0191,  35.0508,2,-999.0000,9,    197.7,1,   -999.0,9,  -999.00,9,  -999.00,9,  -999.00,9,  -999.00,9, -999.000,9, -999.000,9, -999.000,9,   -999.0,9,   -999.0,9,-999.0000,9,  -999.00,   -999.0,9,   -999.0,  -999.00,9,  -999.00,  -999.00,9,  26.0178,2
  49NZ20031209,  I3I4,   511,  1,      3,  12027,2,20040102,0056,-19.9975,  72.1952, 4000,      5.1,  26.0161,  35.0513,2,-999.0000,9,    197.9,1,   -999.0,9,  -999.00,9,  -999.00,9,  -999.00,9,  -999.00,9, -999.000,9, -999.000,9, -999.000,9,   -999.0,9,   -999.0,9,-999.0000,9,  -999.00,   -999.0,9,   -999.0,  -999.00,9,  -999.00,  -999.00,9,  26.0156,2
  49NZ20031209,  I3I4,   511,  1,      2,  12026,2,20040102,0056,-19.9975,  72.1952, 4000,    123.9,  22.2442,  35.2143,2,-999.0000,9,    200.8,1,   -999.0,9,  -999.00,9,  -999.00,9,  -999.00,9,  -999.00,9, -999.000,9, -999.000,9, -999.000,9,   -999.0,9,   -999.0,9,-999.0000,9,  -999.00,   -999.0,9,   -999.0,  -999.00,9,  -999.00,  -999.00,9,  22.2474,2
  49NZ20031209,  I3I4,   511,  1,      1,  12025,2,20040102,0056,-19.9975,  72.1952, 4000,   3750.0,   1.3925,  34.7212,2,  34.7213,2,    178.5,1,    183.4,2,   127.49,2,    33.36,2,    -0.01,2,     2.32,2,   -0.002,2,   -0.002,2,    0.000,4,   2295.3,2,   2399.6,2,   7.6276,2,    25.00,   -999.0,9,   -999.0,  -999.00,9,  -999.00,  -999.00,9,   1.3926,2