BOTTLE,20141204PRINUNIVRMK
EXPOCODE,SECT_ID,STNNBR,CASTNO,SAMPNO,BTLNBR,BTLNBR_FLAG_W,DATE,TIME,LATITUDE,LONGITUDE,DEPTH,CTDPRS,CTDTMP,CTDSAL,CTDSAL_FLAG_W,SALNTY,SALNTY_FLAG_W,CTDOXY,CTDOXY_FLAG_W,OXYGEN,OXYGEN_FLAG_W,SILCAT,SILCAT_FLAG_W,NITRAT,NITRAT_FLAG_W,NITRIT,NITRIT_FLAG_W,PHSPHT,PHSPHT_FLAG_W,CFC-11,CFC-11_FLAG_W,CFC-12,CFC-12_FLAG_W,CFC113,CFC113_FLAG_W,TCARBN,TCARBN_FLAG_W,ALKALI,ALKALI_FLAG_W,PH_TOT,PH_TOT_FLAG_W,PH_TMP,DELC14,DELC14_FLAG_W,C14ERR,DELC13,DELC13_FLAG_W,CS-137,CS137ER,CS-137_FLAG_W,SBE35,SBE35_FLAG_W
,,,,,,,,,,,METERS,DBAR,ITS-90,PSS-78,,PSS-78,,UMOL/KG,,UMOL/KG,,UMOL/KG,,UMOL/KG,,UMOL/KG,,UMOL/KG,,PMOL/KG,,PMOL/KG,,PMOL/KG,,UMOL/KG,,UMOL/KG,,,,DEG C,/MILLE,,/MILLE,/MILLE,,DM/.1MG,DM/.1MG,,ITS-90,
  49NZ20031209,  I3I4,   526,  1,     36,  12024,2,20031229,0558,-20.1770,  64.4120, 3031,     11.0,  26.4699,  35.1537,2,  35.1538,2,    196.6,1,    205.3,2,     1.82,2,    -0.01,2,     0.00,2,     0.11,2, -999.000,9, -999.000,9, -999.000,9,   -999.0,9,   -999.0,9,-999.0000,9,  -999.00,   -999.0,9,   -999.0,  -999.00,9,  -999.00,  -999.00,9,  26.4682,2
  49NZ20031209,  I3I4,   526,  1,     35,  12023,2,20031229,0558,-20.1770,  64.4120, 3031,     50.3,  24.2041,  35.1715,2,  35.1687,2,    213.6,1,    223.1,4,     1.90,2,    -0.02,2,     0.00,2,     0.09,2, -999.000,9, -999.000,9, -999.000,9,   -999.0,9,   -999.0,9,-999.0000,9,  -999.00,   -999.0,9,   -999.0,  -999.00,9,  -999.00,  -999.00,9,  24.1906,2
  49NZ20031209,  I3I4,   526,  1,     34,  12022,2,20031229,0558,-20.1770,  64.4120, 3031,    101.9,  21.6215,  35.3718,2,  35.3654,2,    210.9,1,    220.4,2,     1.92,2,    -0.03,2,     0.00,2,     0.12,2, -999.000,9, -999.000,9, -999.000,9,   -999.0,9,   -999.0,9,-999.0000,9,  -999.00,   -999.0,9,   -999.0,  -999.00,9,  -999.00,  -999.00,9,  21.6296,2
  49NZ20031209,  I3I4,   526,  1,     33,  12015,2,20031229,0558,-20.1770,  64.4120, 3031,    150.8,  20.0069,  35.7002,2,  35.6996,2,    188.4,1,    196.3,2,     2.62,2,     1.81,2,     0.12,2,     0.26,2, -999.000,9, -999.000,9, -999.000,9,   -999.0,9,   -999.0,9,-999.0000,9,  -999.00,   -999.0,9,   -999.0,  -999.00,9,  -999.00,  -999.00,9,  20.0074,2
  49NZ20031209,  I3I4,   526,  1,     32,  12020,2,20031229,0558,-20.1770,  64.4120, 3031,    201.5,  18.9712,  35.7809,2,  35.7782,2,    187.0,1,    194.4,2,     2.79,2,     2.74,2,     0.02,2,     0.32,2, -999.000,9, -999.000,9, -999.000,9,   -999.0,9,   -999.0,9,-999.0000,9,  -999.00,   -999.0,9,   -999.0,  -999.00,9,  -999.00,  -999.00,9,  18.9925,2
  49NZ20031209,  I3I4,   526,  1,     31,  12019,2,20031229,0558,-20.1770,  64.4120, 3031,    253.9,  17.0366,  35.7447,2,  35.7458,2,    196.4,1,    203.7,2,     2.79,2,     3.35,2,     0.01,2,     0.38,2, -999.000,9, -999.000,9, -999.000,9,   -999.0,9,   -999.0,9,-999.0000,9,  -999.00,   -999.0,9,   -999.0,  -999.00,9,  -999.00,  -999.00,9,  17.0348,2
  49NZ20031209,  I3I4,   526,  1,     30,  12018,2,20031229,0558,-20.1770,  64.4120, 3031,    299.9,  15.4708,  35.5788,2,  35.5821,2,    198.0,1,    205.5,2,     3.52,2,     5.25,2,     0.01,2,     0.50,2, -999.000,9, -999.000,9, -999.000,9,   -999.0,9,   -999.0,9,-999.0000,9,  -999.00,   -999.0,9,   -999.0,  -999.00,9,  -999.00,  -999.00,9,  15.4704,2
  49NZ20031209,  I3I4,   526,  1,     29,  12021,2,20031229,0558,-20.1770,  64.4120, 3031,    401.1,  13.0009,  35.2608,2,  35.2578,2,    210.5,1,    218.5,2,     3.88,2,     8.84,2,     0.01,2,     0.71,2, -999.000,9, -999.000,9, -999.000,9,   -999.0,9,   -999.0,9,-999.0000,9,  -999.00,   -999.0,9,   -999.0,  -999.00,9,  -999.00,  -999.00,9,  13.0013,2
  49NZ20031209,  I3I4,   526,  1,     28,  12016,2,20031229,0558,-20.1770,  64.4120, 3031,    501.5,  11.4085,  35.0210,2,  35.0220,2,    222.4,1,    230.6,2,     3.49,2,    11.34,2,     0.00,2,     0.86,2, -999.000,9, -999.000,9, -999.000,9,   -999.0,9,   -999.0,9,-999.0000,9,  -999.00,   -999.0,9,   -999.0,  -999.00,9,  -999.00,  -999.00,9,  11.4092,2
  49NZ20031209,  I3I4,   526,  1,     27,  12012,2,20031229,0558,-20.1770,  64.4120, 3031,    601.8,  10.1471,  34.8300,2,  34.8298,2,    220.9,1,    228.8,2,     4.72,2,    14.56,2,     0.01,2,     1.06,2, -999.000,9, -999.000,9, -999.000,9,   -999.0,9,   -999.0,9,-999.0000,9,  -999.00,   -999.0,9,   -999.0,  -999.00,9,  -999.00,  -999.00,9,  10.1492,2
  49NZ20031209,  I3I4,   526,  1,     26,  12014,2,20031229,0558,-20.1770,  64.4120, 3031,    700.6,   8.9280,  34.6673,2,  34.6671,2,    207.6,1,    215.1,2,     8.92,2,    19.09,2,     0.01,2,     1.34,2, -999.000,9, -999.000,9, -999.000,9,   -999.0,9,   -999.0,9,-999.0000,9,  -999.00,   -999.0,9,   -999.0,  -999.00,9,  -999.00,  -999.00,9,   8.9281,2
  49NZ20031209,  I3I4,   526,  1,     25,  12013,2,20031229,0558,-20.1770,  64.4120, 3031,    800.8,   7.3011,  34.5373,2,  34.5351,2,    182.5,1,    188.2,2,    20.72,2,    25.48,2,     0.00,2,     1.76,2, -999.000,9, -999.000,9, -999.000,9,   -999.0,9,   -999.0,9,-999.0000,9,  -999.00,   -999.0,9,   -999.0,  -999.00,9,  -999.00,  -999.00,9,   7.3035,2
  49NZ20031209,  I3I4,   526,  1,     24,  12048,2,20031229,0558,-20.1770,  64.4120, 3031,    900.5,   6.0680,  34.5109,2,  34.5104,2,    157.7,1,    163.1,2,    37.95,2,    30.09,2,     0.00,2,     2.09,2, -999.000,9, -999.000,9, -999.000,9,   -999.0,9,   -999.0,9,-999.0000,9,  -999.00,   -999.0,9,   -999.0,  -999.00,9,  -999.00,  -999.00,9,   6.0688,2
  49NZ20031209,  I3I4,   526,  1,     23,  12047,2,20031229,0558,-20.1770,  64.4120, 3031,   1003.3,   5.2686,  34.5459,2,  34.5464,2,    137.9,1,    142.1,2,    56.04,2,    32.98,2,     0.00,2,     2.32,2, -999.000,9, -999.000,9, -999.000,9,   -999.0,9,   -999.0,9,-999.0000,9,  -999.00,   -999.0,9,   -999.0,  -999.00,9,  -999.00,  -999.00,9,   5.2684,2
  49NZ20031209,  I3I4,   526,  1,     22,  12046,2,20031229,0558,-20.1770,  64.4120, 3031,   1202.0,   4.2701,  34.6447,2,  34.6447,2,    120.6,1,    124.0,2,    82.14,2,    35.05,2,     0.01,2,     2.50,2, -999.000,9, -999.000,9, -999.000,9,   -999.0,9,   -999.0,9,-999.0000,9,  -999.00,   -999.0,9,   -999.0,  -999.00,9,  -999.00,  -999.00,9,   4.2708,2
  49NZ20031209,  I3I4,   526,  1,     21,  12045,2,20031229,0558,-20.1770,  64.4120, 3031,   1400.1,   3.4219,  34.6833,2,  34.6832,2,    133.0,1,    136.9,2,    92.13,2,    34.66,2,     0.00,2,     2.46,2, -999.000,9, -999.000,9, -999.000,9,   -999.0,9,   -999.0,9,-999.0000,9,  -999.00,   -999.0,9,   -999.0,  -999.00,9,  -999.00,  -999.00,9,   3.4217,2
  49NZ20031209,  I3I4,   526,  1,     20,  12044,2,20031229,0558,-20.1770,  64.4120, 3031,   1600.8,   2.8714,  34.6881,2,  34.6881,2,    147.8,1,    152.3,2,    94.07,2,    33.96,2,     0.01,2,     2.39,2, -999.000,9, -999.000,9, -999.000,9,   -999.0,9,   -999.0,9,-999.0000,9,  -999.00,   -999.0,9,   -999.0,  -999.00,9,  -999.00,  -999.00,9,   2.8721,2
  49NZ20031209,  I3I4,   526,  1,     19,  12043,2,20031229,0558,-20.1770,  64.4120, 3031,   1800.9,   2.4438,  34.7064,2,  34.7061,2,    157.4,1,    162.6,2,    99.65,2,    33.38,2,     0.00,2,     2.34,2, -999.000,9, -999.000,9, -999.000,9,   -999.0,9,   -999.0,9,-999.0000,9,  -999.00,   -999.0,9,   -999.0,  -999.00,9,  -999.00,  -999.00,9,   2.4435,2
  49NZ20031209,  I3I4,   526,  1,     18,  12042,2,20031229,0558,-20.1770,  64.4120, 3031,   1999.8,   2.2581,  34.7174,2,  34.7167,2,    159.7,1,    165.2,2,   105.31,2,    33.42,2,     0.00,2,     2.33,2, -999.000,9, -999.000,9, -999.000,9,   -999.0,9,   -999.0,9,-999.0000,9,  -999.00,   -999.0,9,   -999.0,  -999.00,9,  -999.00,  -999.00,9,   2.2581,2
  49NZ20031209,  I3I4,   526,  1,     17,  12041,2,20031229,0558,-20.1770,  64.4120, 3031,   2200.1,   2.0646,  34.7234,2,  34.7229,2,    162.7,1,    167.9,2,   110.67,2,    33.37,2,     0.01,2,     2.33,2, -999.000,9, -999.000,9, -999.000,9,   -999.0,9,   -999.0,9,-999.0000,9,  -999.00,   -999.0,9,   -999.0,  -999.00,9,  -999.00,  -999.00,9,   2.0646,2
  49NZ20031209,  I3I4,   526,  1,     16,  12040,2,20031229,0558,-20.1770,  64.4120, 3031,   2401.0,   1.9332,  34.7246,2,  34.7242,2,    165.6,1,    170.8,2,   113.41,2,    33.30,2,     0.00,2,     2.32,2, -999.000,9, -999.000,9, -999.000,9,   -999.0,9,   -999.0,9,-999.0000,9,  -999.00,   -999.0,9,   -999.0,  -999.00,9,  -999.00,  -999.00,9,   1.9331,2
  49NZ20031209,  I3I4,   526,  1,     15,  12039,2,20031229,0558,-20.1770,  64.4120, 3031,   2600.6,   1.8661,  34.7244,2,  34.7244,2,    167.9,1,    172.8,2,   114.75,2,    33.28,2,     0.00,2,     2.32,2, -999.000,9, -999.000,9, -999.000,9,   -999.0,9,   -999.0,9,-999.0000,9,  -999.00,   -999.0,9,   -999.0,  -999.00,9,  -999.00,  -999.00,9,   1.8662,2
  49NZ20031209,  I3I4,   526,  1,     14,  12038,2,20031229,0558,-20.1770,  64.4120, 3031,   2801.4,   1.7921,  34.7243,2,  34.7244,2,    170.3,1,    174.9,2,   116.45,2,    33.28,2,     0.00,2,     2.31,2, -999.000,9, -999.000,9, -999.000,9,   -999.0,9,   -999.0,9,-999.0000,9,  -999.00,   -999.0,9,   -999.0,  -999.00,9,  -999.00,  -999.00,9,   1.7921,2
  49NZ20031209,  I3I4,   526,  1,     13,  12037,2,20031229,0558,-20.1770,  64.4120, 3031,   3050.7,   1.7578,  34.7243,2,  34.7246,2,    172.6,1,    176.0,2,   117.41,2,    33.23,2,     0.00,2,     2.31,2, -999.000,9, -999.000,9, -999.000,9,   -999.0,9,   -999.0,9,-999.0000,9,  -999.00,   -999.0,9,   -999.0,  -999.00,9,  -999.00,  -999.00,9,   1.7576,2
  49NZ20031209,  I3I4,   526,  1,     12,  12036,9,20031229,0558,-20.1770,  64.4120, 3031,   2100.9,   2.1625,  34.7211,2,-999.0000,9,    161.0,1,   -999.0,9,  -999.00,9,  -999.00,9,  -999.00,9,  -999.00,9, -999.000,9, -999.000,9, -999.000,9,   -999.0,9,   -999.0,9,-999.0000,9,  -999.00,   -999.0,9,   -999.0,  -999.00,9,  -999.00,  -999.00,9,   2.1624,2
  49NZ20031209,  I3I4,   526,  1,     11,  12035,9,20031229,0558,-20.1770,  64.4120, 3031,   2300.6,   1.9758,  34.7242,2,-999.0000,9,    164.4,1,   -999.0,9,  -999.00,9,  -999.00,9,  -999.00,9,  -999.00,9, -999.000,9, -999.000,9, -999.000,9,   -999.0,9,   -999.0,9,-999.0000,9,  -999.00,   -999.0,9,   -999.0,  -999.00,9,  -999.00,  -999.00,9,   1.9757,2
  49NZ20031209,  I3I4,   526,  1,     10,  12034,9,20031229,0558,-20.1770,  64.4120, 3031,   2501.3,   1.8831,  34.7243,2,-999.0000,9,    167.2,1,   -999.0,9,  -999.00,9,  -999.00,9,  -999.00,9,  -999.00,9, -999.000,9, -999.000,9, -999.000,9,   -999.0,9,   -999.0,9,-999.0000,9,  -999.00,   -999.0,9,   -999.0,  -999.00,9,  -999.00,  -999.00,9,   1.8830,2
  49NZ20031209,  I3I4,   526,  1,      9,  12033,9,20031229,0558,-20.1770,  64.4120, 3031,   2700.9,   1.8081,  34.7243,2,-999.0000,9,    169.5,1,   -999.0,9,  -999.00,9,  -999.00,9,  -999.00,9,  -999.00,9, -999.000,9, -999.000,9, -999.000,9,   -999.0,9,   -999.0,9,-999.0000,9,  -999.00,   -999.0,9,   -999.0,  -999.00,9,  -999.00,  -999.00,9,   1.8080,2
  49NZ20031209,  I3I4,   526,  1,      8,  12032,9,20031229,0558,-20.1770,  64.4120, 3031,   2900.4,   1.7850,  34.7244,2,-999.0000,9,    171.0,1,   -999.0,9,  -999.00,9,  -999.00,9,  -999.00,9,  -999.00,9, -999.000,9, -999.000,9, -999.000,9,   -999.0,9,   -999.0,9,-999.0000,9,  -999.00,   -999.0,9,   -999.0,  -999.00,9,  -999.00,  -999.00,9,   1.7850,2
  49NZ20031209,  I3I4,   526,  1,      7,  12031,9,20031229,0558,-20.1770,  64.4120, 3031,   1003.1,   5.2688,  34.5463,2,-999.0000,9,    137.9,1,   -999.0,9,  -999.00,9,  -999.00,9,  -999.00,9,  -999.00,9, -999.000,9, -999.000,9, -999.000,9,   -999.0,9,   -999.0,9,-999.0000,9,  -999.00,   -999.0,9,   -999.0,  -999.00,9,  -999.00,  -999.00,9,   5.2693,2
  49NZ20031209,  I3I4,   526,  1,      6,  12030,9,20031229,0558,-20.1770,  64.4120, 3031,   1003.0,   5.2697,  34.5463,2,-999.0000,9,    137.9,1,   -999.0,9,  -999.00,9,  -999.00,9,  -999.00,9,  -999.00,9, -999.000,9, -999.000,9, -999.000,9,   -999.0,9,   -999.0,9,-999.0000,9,  -999.00,   -999.0,9,   -999.0,  -999.00,9,  -999.00,  -999.00,9,   5.2698,2
  49NZ20031209,  I3I4,   526,  1,      5,  12029,9,20031229,0558,-20.1770,  64.4120, 3031,   1003.3,   5.2699,  34.5463,2,-999.0000,9,    137.9,1,   -999.0,9,  -999.00,9,  -999.00,9,  -999.00,9,  -999.00,9, -999.000,9, -999.000,9, -999.000,9,   -999.0,9,   -999.0,9,-999.0000,9,  -999.00,   -999.0,9,   -999.0,  -999.00,9,  -999.00,  -999.00,9,   5.2700,2
  49NZ20031209,  I3I4,   526,  1,      4,  12028,9,20031229,0558,-20.1770,  64.4120, 3031,   1003.4,   5.2696,  34.5461,2,-999.0000,9,    137.8,1,   -999.0,9,  -999.00,9,  -999.00,9,  -999.00,9,  -999.00,9, -999.000,9, -999.000,9, -999.000,9,   -999.0,9,   -999.0,9,-999.0000,9,  -999.00,   -999.0,9,   -999.0,  -999.00,9,  -999.00,  -999.00,9,   5.2695,2
  49NZ20031209,  I3I4,   526,  1,      3,  12027,2,20031229,0558,-20.1770,  64.4120, 3031,      5.9,  26.5909,  35.1512,2,-999.0000,9,    196.1,1,   -999.0,9,  -999.00,9,  -999.00,9,  -999.00,9,  -999.00,9, -999.000,9, -999.000,9, -999.000,9,   -999.0,9,   -999.0,9,-999.0000,9,  -999.00,   -999.0,9,   -999.0,  -999.00,9,  -999.00,  -999.00,9,  26.5938,2
  49NZ20031209,  I3I4,   526,  1,      2,  12026,2,20031229,0558,-20.1770,  64.4120, 3031,      5.6,  26.6005,  35.1506,2,-999.0000,9,    196.3,1,   -999.0,9,  -999.00,9,  -999.00,9,  -999.00,9,  -999.00,9, -999.000,9, -999.000,9, -999.000,9,   -999.0,9,   -999.0,9,-999.0000,9,  -999.00,   -999.0,9,   -999.0,  -999.00,9,  -999.00,  -999.00,9,  26.5983,2
  49NZ20031209,  I3I4,   526,  1,      1,  12025,2,20031229,0558,-20.1770,  64.4120, 3031,    113.2,  21.0159,  35.4530,2,-999.0000,9,    199.2,1,   -999.0,9,  -999.00,9,  -999.00,9,  -999.00,9,  -999.00,9, -999.000,9, -999.000,9, -999.000,9,   -999.0,9,   -999.0,9,-999.0000,9,  -999.00,   -999.0,9,   -999.0,  -999.00,9,  -999.00,  -999.00,9,  21.0131,2