BOTTLE,20141204PRINUNIVRMK
EXPOCODE,SECT_ID,STNNBR,CASTNO,SAMPNO,BTLNBR,BTLNBR_FLAG_W,DATE,TIME,LATITUDE,LONGITUDE,DEPTH,CTDPRS,CTDTMP,CTDSAL,CTDSAL_FLAG_W,SALNTY,SALNTY_FLAG_W,CTDOXY,CTDOXY_FLAG_W,OXYGEN,OXYGEN_FLAG_W,SILCAT,SILCAT_FLAG_W,NITRAT,NITRAT_FLAG_W,NITRIT,NITRIT_FLAG_W,PHSPHT,PHSPHT_FLAG_W,CFC-11,CFC-11_FLAG_W,CFC-12,CFC-12_FLAG_W,CFC113,CFC113_FLAG_W,TCARBN,TCARBN_FLAG_W,ALKALI,ALKALI_FLAG_W,PH_TOT,PH_TOT_FLAG_W,PH_TMP,DELC14,DELC14_FLAG_W,C14ERR,DELC13,DELC13_FLAG_W,CS-137,CS137ER,CS-137_FLAG_W,SBE35,SBE35_FLAG_W
,,,,,,,,,,,METERS,DBAR,ITS-90,PSS-78,,PSS-78,,UMOL/KG,,UMOL/KG,,UMOL/KG,,UMOL/KG,,UMOL/KG,,UMOL/KG,,PMOL/KG,,PMOL/KG,,PMOL/KG,,UMOL/KG,,UMOL/KG,,,,DEG C,/MILLE,,/MILLE,/MILLE,,DM/.1MG,DM/.1MG,,ITS-90,
  49NZ20031209,  I3I4,   536,  1,     36,  12024,2,20031225,1151,-20.3587,  58.6153, 4540,      9.6,  26.9970,  35.1670,2,  35.1700,2,    196.0,1,    204.6,2,     2.07,2,    -0.03,2,     0.01,2,     0.11,2, -999.000,9, -999.000,9, -999.000,9,   -999.0,9,   -999.0,9,-999.0000,9,  -999.00,   -999.0,9,   -999.0,  -999.00,9,  -999.00,  -999.00,9,  26.9938,2
  49NZ20031209,  I3I4,   536,  1,     35,  12023,2,20031225,1151,-20.3587,  58.6153, 4540,     49.7,  23.2819,  35.1722,2,  35.1729,2,    216.2,1,    225.7,2,     2.10,2,    -0.05,2,     0.01,2,     0.14,2, -999.000,9, -999.000,9, -999.000,9,   -999.0,9,   -999.0,9,-999.0000,9,  -999.00,   -999.0,9,   -999.0,  -999.00,9,  -999.00,  -999.00,9,  23.2884,2
  49NZ20031209,  I3I4,   536,  1,     34,  12022,2,20031225,1151,-20.3587,  58.6153, 4540,    101.5,  21.6841,  35.3661,2,  35.3671,2,    211.9,1,    221.1,2,     2.06,2,    -0.05,2,     0.01,2,     0.13,2, -999.000,9, -999.000,9, -999.000,9,   -999.0,9,   -999.0,9,-999.0000,9,  -999.00,   -999.0,9,   -999.0,  -999.00,9,  -999.00,  -999.00,5,  21.6842,2
  49NZ20031209,  I3I4,   536,  1,     33,  12015,2,20031225,1151,-20.3587,  58.6153, 4540,    152.8,  21.1402,  35.4293,2,  35.4291,2,    203.9,1,    212.7,2,     2.16,2,     0.02,2,     0.05,2,     0.16,2, -999.000,9, -999.000,9, -999.000,9,   -999.0,9,   -999.0,9,-999.0000,9,  -999.00,   -999.0,9,   -999.0,  -999.00,9,  -999.00,  -999.00,9,  21.1392,2
  49NZ20031209,  I3I4,   536,  1,     32,  12020,2,20031225,1151,-20.3587,  58.6153, 4540,    201.0,  19.9971,  35.6838,2,  35.6835,2,    187.0,1,    194.7,2,     2.96,2,     2.18,2,     0.03,2,     0.29,2, -999.000,9, -999.000,9, -999.000,9,   -999.0,9,   -999.0,9,-999.0000,9,  -999.00,   -999.0,9,   -999.0,  -999.00,9,  -999.00,  -999.00,1,  19.9957,2
  49NZ20031209,  I3I4,   536,  1,     31,  12019,2,20031225,1151,-20.3587,  58.6153, 4540,    252.1,  18.1564,  35.7348,2,  35.7346,2,    196.3,1,    204.2,2,     2.92,2,     2.56,2,     0.00,4,     0.32,2, -999.000,9, -999.000,9, -999.000,9,   -999.0,9,   -999.0,9,-999.0000,9,  -999.00,   -999.0,9,   -999.0,  -999.00,9,  -999.00,  -999.00,9,  18.1470,2
  49NZ20031209,  I3I4,   536,  1,     30,  12018,2,20031225,1151,-20.3587,  58.6153, 4540,    301.2,  16.2118,  35.6178,2,  35.6169,2,    187.7,1,    195.0,2,     4.86,2,     5.70,2,     0.00,4,     0.54,2, -999.000,9, -999.000,9, -999.000,9,   -999.0,9,   -999.0,9,-999.0000,9,  -999.00,   -999.0,9,   -999.0,  -999.00,9,  -999.00,  -999.00,9,  16.2116,2
  49NZ20031209,  I3I4,   536,  1,     29,  12021,2,20031225,1151,-20.3587,  58.6153, 4540,    401.2,  13.6097,  35.3155,2,  35.3185,2,    195.3,1,    202.3,2,     6.17,2,     9.47,2,     0.01,2,     0.77,2, -999.000,9, -999.000,9, -999.000,9,   -999.0,9,   -999.0,9,-999.0000,9,  -999.00,   -999.0,9,   -999.0,  -999.00,9,  -999.00,  -999.00,5,  13.6179,2
  49NZ20031209,  I3I4,   536,  1,     28,  12016,2,20031225,1151,-20.3587,  58.6153, 4540,    500.4,  11.7253,  35.0658,2,  35.0654,2,    211.6,1,    219.4,2,     5.23,2,    11.97,2,     0.01,2,     0.91,2, -999.000,9, -999.000,9, -999.000,9,   -999.0,9,   -999.0,9,-999.0000,9,  -999.00,   -999.0,9,   -999.0,  -999.00,9,  -999.00,  -999.00,9,  11.7258,2
  49NZ20031209,  I3I4,   536,  1,     27,  12012,2,20031225,1151,-20.3587,  58.6153, 4540,    601.4,  10.1940,  34.8363,2,  34.8367,2,    220.3,1,    229.0,2,     4.94,2,    14.81,2,     0.01,2,     1.07,2, -999.000,9, -999.000,9, -999.000,9,   -999.0,9,   -999.0,9,-999.0000,9,  -999.00,   -999.0,9,   -999.0,  -999.00,9,  -999.00,  -999.00,1,  10.1941,2
  49NZ20031209,  I3I4,   536,  1,     26,  12014,2,20031225,1151,-20.3587,  58.6153, 4540,    701.4,   9.1085,  34.6849,2,  34.6843,2,    215.4,1,    224.1,2,     7.03,2,    18.18,2,     0.00,2,     1.29,2, -999.000,9, -999.000,9, -999.000,9,   -999.0,9,   -999.0,9,-999.0000,9,  -999.00,   -999.0,9,   -999.0,  -999.00,9,  -999.00,  -999.00,9,   9.1089,2
  49NZ20031209,  I3I4,   536,  1,     25,  12013,2,20031225,1151,-20.3587,  58.6153, 4540,    801.8,   7.4155,  34.5368,2,  34.5348,2,    189.3,1,    196.1,2,    18.23,2,    24.94,2,     0.01,2,     1.72,2, -999.000,9, -999.000,9, -999.000,9,   -999.0,9,   -999.0,9,-999.0000,9,  -999.00,   -999.0,9,   -999.0,  -999.00,9,  -999.00,  -999.00,5,   7.4172,2
  49NZ20031209,  I3I4,   536,  1,     24,  12048,2,20031225,1151,-20.3587,  58.6153, 4540,    901.1,   6.0557,  34.5125,2,  34.5161,2,    160.4,1,    165.1,2,    38.18,2,    30.29,2,     0.00,2,     2.11,2, -999.000,9, -999.000,9, -999.000,9,   -999.0,9,   -999.0,9,-999.0000,9,  -999.00,   -999.0,9,   -999.0,  -999.00,9,  -999.00,  -999.00,9,   6.0556,2
  49NZ20031209,  I3I4,   536,  1,     23,  12047,2,20031225,1151,-20.3587,  58.6153, 4540,   1001.4,   5.1945,  34.5524,2,  34.5540,2,    136.2,1,    140.8,2,    58.21,2,    33.54,2,     0.01,2,     2.37,2, -999.000,9, -999.000,9, -999.000,9,   -999.0,9,   -999.0,9,-999.0000,9,  -999.00,   -999.0,9,   -999.0,  -999.00,9,  -999.00,  -999.00,1,   5.1944,2
  49NZ20031209,  I3I4,   536,  1,     22,  12046,2,20031225,1151,-20.3587,  58.6153, 4540,   1201.2,   4.3546,  34.6318,2,  34.6318,2,    122.6,1,    126.8,2,    79.43,2,    35.24,2,     0.01,2,     2.51,2, -999.000,9, -999.000,9, -999.000,9,   -999.0,9,   -999.0,9,-999.0000,9,  -999.00,   -999.0,9,   -999.0,  -999.00,9,  -999.00,  -999.00,5,   4.3548,2
  49NZ20031209,  I3I4,   536,  1,     21,  12045,2,20031225,1151,-20.3587,  58.6153, 4540,   1400.6,   3.5781,  34.6599,2,  34.6601,2,    133.4,1,    138.3,2,    87.28,2,    34.93,2,     0.01,2,     2.47,2, -999.000,9, -999.000,9, -999.000,9,   -999.0,9,   -999.0,9,-999.0000,9,  -999.00,   -999.0,9,   -999.0,  -999.00,9,  -999.00,  -999.00,1,   3.5782,2
  49NZ20031209,  I3I4,   536,  1,     20,  12044,2,20031225,1151,-20.3587,  58.6153, 4540,   1600.2,   2.8197,  34.6796,2,  34.6796,2,    151.3,1,    157.7,2,    91.77,2,    34.00,2,     0.00,2,     2.39,2, -999.000,9, -999.000,9, -999.000,9,   -999.0,9,   -999.0,9,-999.0000,9,  -999.00,   -999.0,9,   -999.0,  -999.00,9,  -999.00,  -999.00,9,   2.8197,2
  49NZ20031209,  I3I4,   536,  1,     19,  12043,2,20031225,1151,-20.3587,  58.6153, 4540,   1801.3,   2.4976,  34.7085,2,  34.7085,2,    154.9,1,    161.8,2,   100.22,2,    33.78,2,     0.00,2,     2.37,2, -999.000,9, -999.000,9, -999.000,9,   -999.0,9,   -999.0,9,-999.0000,9,  -999.00,   -999.0,9,   -999.0,  -999.00,9,  -999.00,  -999.00,9,   2.4973,2
  49NZ20031209,  I3I4,   536,  1,     18,  12042,2,20031225,1151,-20.3587,  58.6153, 4540,   2000.9,   2.3024,  34.7227,2,  34.7228,2,    157.6,1,    164.8,2,   104.89,2,    33.70,2,     0.00,2,     2.36,2, -999.000,9, -999.000,9, -999.000,9,   -999.0,9,   -999.0,9,-999.0000,9,  -999.00,   -999.0,9,   -999.0,  -999.00,9,     0.01,     0.01,2,   2.3023,2
  49NZ20031209,  I3I4,   536,  1,     17,  12041,2,20031225,1151,-20.3587,  58.6153, 4540,   2201.9,   2.0740,  34.7294,2,  34.7284,2,    158.1,1,    165.2,2,   113.02,2,    33.93,2,     0.00,2,     2.37,2, -999.000,9, -999.000,9, -999.000,9,   -999.0,9,   -999.0,9,-999.0000,9,  -999.00,   -999.0,9,   -999.0,  -999.00,9,  -999.00,  -999.00,9,   2.0745,2
  49NZ20031209,  I3I4,   536,  1,     16,  12040,2,20031225,1151,-20.3587,  58.6153, 4540,   2402.0,   1.9686,  34.7313,2,  34.7313,2,    159.1,1,    166.2,2,   116.53,2,    33.98,2,     0.00,2,     2.38,2, -999.000,9, -999.000,9, -999.000,9,   -999.0,9,   -999.0,9,-999.0000,9,  -999.00,   -999.0,9,   -999.0,  -999.00,9,  -999.00,  -999.00,1,   1.9684,2
  49NZ20031209,  I3I4,   536,  1,     15,  12039,2,20031225,1151,-20.3587,  58.6153, 4540,   2602.0,   1.8583,  34.7272,2,  34.7273,2,    163.2,1,    170.8,2,   117.35,2,    33.88,2,     0.00,2,     2.37,2, -999.000,9, -999.000,9, -999.000,9,   -999.0,9,   -999.0,9,-999.0000,9,  -999.00,   -999.0,9,   -999.0,  -999.00,9,  -999.00,  -999.00,9,   1.8581,2
  49NZ20031209,  I3I4,   536,  1,     14,  12038,2,20031225,1151,-20.3587,  58.6153, 4540,   2802.4,   1.7805,  34.7274,2,  34.7271,2,    164.8,1,    172.2,2,   119.35,2,    33.86,2,     0.00,2,     2.36,2, -999.000,9, -999.000,9, -999.000,9,   -999.0,9,   -999.0,9,-999.0000,9,  -999.00,   -999.0,9,   -999.0,  -999.00,9,  -999.00,  -999.00,9,   1.7803,2
  49NZ20031209,  I3I4,   536,  1,     13,  12037,2,20031225,1151,-20.3587,  58.6153, 4540,   3001.4,   1.7340,  34.7283,2,  34.7274,2,    165.6,1,    172.9,2,   121.11,2,    33.87,2,     0.00,2,     2.37,2, -999.000,9, -999.000,9, -999.000,9,   -999.0,9,   -999.0,9,-999.0000,9,  -999.00,   -999.0,9,   -999.0,  -999.00,9,  -999.00,  -999.00,1,   1.7340,2
  49NZ20031209,  I3I4,   536,  1,     12,  12036,2,20031225,1151,-20.3587,  58.6153, 4540,   3250.4,   1.6403,  34.7270,2,  34.7263,2,    168.6,1,    175.6,2,   122.91,2,    33.81,2,     0.00,2,     2.35,2, -999.000,9, -999.000,9, -999.000,9,   -999.0,9,   -999.0,9,-999.0000,9,  -999.00,   -999.0,9,   -999.0,  -999.00,9,  -999.00,  -999.00,9,   1.6408,2
  49NZ20031209,  I3I4,   536,  1,     11,  12035,2,20031225,1151,-20.3587,  58.6153, 4540,   3499.9,   1.5575,  34.7240,2,  34.7233,2,    173.1,1,    180.1,2,   122.93,2,    33.59,2,     0.01,2,     2.34,2, -999.000,9, -999.000,9, -999.000,9,   -999.0,9,   -999.0,9,-999.0000,9,  -999.00,   -999.0,9,   -999.0,  -999.00,9,  -999.00,  -999.00,1,   1.5577,2
  49NZ20031209,  I3I4,   536,  1,     10,  12034,2,20031225,1151,-20.3587,  58.6153, 4540,   3750.6,   1.4574,  34.7209,2,  34.7210,2,    177.8,1,    184.5,2,   123.39,2,    33.47,2,     0.00,2,     2.32,2, -999.000,9, -999.000,9, -999.000,9,   -999.0,9,   -999.0,9,-999.0000,9,  -999.00,   -999.0,9,   -999.0,  -999.00,9,  -999.00,  -999.00,9,   1.4573,2
  49NZ20031209,  I3I4,   536,  1,      9,  12033,2,20031225,1151,-20.3587,  58.6153, 4540,   4000.2,   1.3040,  34.7170,2,  34.7171,2,    184.2,1,    190.6,2,   124.22,2,    33.33,2,     0.00,2,     2.31,2, -999.000,9, -999.000,9, -999.000,9,   -999.0,9,   -999.0,9,-999.0000,9,  -999.00,   -999.0,9,   -999.0,  -999.00,9,     0.00,     0.01,2,   1.3039,2
  49NZ20031209,  I3I4,   536,  1,      8,  12032,2,20031225,1151,-20.3587,  58.6153, 4540,   4249.8,   1.2406,  34.7148,2,  34.7149,2,    187.9,1,    193.6,2,   124.47,2,    33.23,2,     0.00,2,     2.30,2, -999.000,9, -999.000,9, -999.000,9,   -999.0,9,   -999.0,9,-999.0000,9,  -999.00,   -999.0,9,   -999.0,  -999.00,9,  -999.00,  -999.00,9,   1.2406,2
  49NZ20031209,  I3I4,   536,  1,      7,  12031,2,20031225,1151,-20.3587,  58.6153, 4540,   4602.3,   1.2355,  34.7134,2,  34.7134,2,    191.4,1,    195.4,2,   124.67,2,    33.11,2,     0.01,2,     2.29,2, -999.000,9, -999.000,9, -999.000,9,   -999.0,9,   -999.0,9,-999.0000,9,  -999.00,   -999.0,9,   -999.0,  -999.00,9,     0.03,     0.01,2,   1.2353,2
  49NZ20031209,  I3I4,   536,  1,      6,  12030,2,20031225,1151,-20.3587,  58.6153, 4540,   4000.9,   1.3040,  34.7169,2,-999.0000,9,    184.2,1,   -999.0,9,  -999.00,9,  -999.00,9,  -999.00,9,  -999.00,9, -999.000,9, -999.000,9, -999.000,9,   -999.0,9,   -999.0,9,-999.0000,9,  -999.00,   -999.0,9,   -999.0,  -999.00,9,  -999.00,  -999.00,9,   1.3038,2
  49NZ20031209,  I3I4,   536,  1,      5,  12029,2,20031225,1151,-20.3587,  58.6153, 4540,   2000.8,   2.3025,  34.7229,2,-999.0000,9,    157.7,1,   -999.0,9,  -999.00,9,  -999.00,9,  -999.00,9,  -999.00,9, -999.000,9, -999.000,9, -999.000,9,   -999.0,9,   -999.0,9,-999.0000,9,  -999.00,   -999.0,9,   -999.0,  -999.00,9,  -999.00,  -999.00,9,   2.3025,2
  49NZ20031209,  I3I4,   536,  1,      4,  12028,2,20031225,1151,-20.3587,  58.6153, 4540,    200.8,  19.9976,  35.6836,2,-999.0000,9,    187.1,1,   -999.0,9,  -999.00,9,  -999.00,9,  -999.00,9,  -999.00,9, -999.000,9, -999.000,9, -999.000,9,   -999.0,9,   -999.0,9,-999.0000,9,  -999.00,   -999.0,9,   -999.0,  -999.00,9,  -999.00,  -999.00,9,  19.9964,2
  49NZ20031209,  I3I4,   536,  1,      3,  12027,2,20031225,1151,-20.3587,  58.6153, 4540,   1001.2,   5.1931,  34.5519,2,-999.0000,9,    136.4,1,   -999.0,9,  -999.00,9,  -999.00,9,  -999.00,9,  -999.00,9, -999.000,9, -999.000,9, -999.000,9,   -999.0,9,   -999.0,9,-999.0000,9,  -999.00,   -999.0,9,   -999.0,  -999.00,9,  -999.00,  -999.00,9,   5.1936,2
  49NZ20031209,  I3I4,   536,  1,      2,  12026,2,20031225,1151,-20.3587,  58.6153, 4540,    601.9,  10.1923,  34.8363,2,-999.0000,9,    220.4,1,   -999.0,9,  -999.00,9,  -999.00,9,  -999.00,9,  -999.00,9, -999.000,9, -999.000,9, -999.000,9,   -999.0,9,   -999.0,9,-999.0000,9,  -999.00,   -999.0,9,   -999.0,  -999.00,9,  -999.00,  -999.00,9,  10.1948,2
  49NZ20031209,  I3I4,   536,  1,      1,  12025,2,20031225,1151,-20.3587,  58.6153, 4540,   4602.3,   1.2356,  34.7134,2,-999.0000,9,    191.6,1,   -999.0,9,  -999.00,9,  -999.00,9,  -999.00,9,  -999.00,9, -999.000,9, -999.000,9, -999.000,9,   -999.0,9,   -999.0,9,-999.0000,9,  -999.00,   -999.0,9,   -999.0,  -999.00,9,  -999.00,  -999.00,9,   1.2357,2