BOTTLE,20141204PRINUNIVRMK
EXPOCODE,SECT_ID,STNNBR,CASTNO,SAMPNO,BTLNBR,BTLNBR_FLAG_W,DATE,TIME,LATITUDE,LONGITUDE,DEPTH,CTDPRS,CTDTMP,CTDSAL,CTDSAL_FLAG_W,SALNTY,SALNTY_FLAG_W,CTDOXY,CTDOXY_FLAG_W,OXYGEN,OXYGEN_FLAG_W,SILCAT,SILCAT_FLAG_W,NITRAT,NITRAT_FLAG_W,NITRIT,NITRIT_FLAG_W,PHSPHT,PHSPHT_FLAG_W,CFC-11,CFC-11_FLAG_W,CFC-12,CFC-12_FLAG_W,CFC113,CFC113_FLAG_W,TCARBN,TCARBN_FLAG_W,ALKALI,ALKALI_FLAG_W,PH_TOT,PH_TOT_FLAG_W,PH_TMP,DELC14,DELC14_FLAG_W,C14ERR,DELC13,DELC13_FLAG_W,CS-137,CS137ER,CS-137_FLAG_W,SBE35,SBE35_FLAG_W
,,,,,,,,,,,METERS,DBAR,ITS-90,PSS-78,,PSS-78,,UMOL/KG,,UMOL/KG,,UMOL/KG,,UMOL/KG,,UMOL/KG,,UMOL/KG,,PMOL/KG,,PMOL/KG,,PMOL/KG,,UMOL/KG,,UMOL/KG,,,,DEG C,/MILLE,,/MILLE,/MILLE,,DM/.1MG,DM/.1MG,,ITS-90,
  49NZ20031209,  I3I4,   524,  1,     36,  12024,2,20031229,1452,-19.9975,  65.4317, 2578,      9.3,  26.4906,  35.1544,2,  35.1548,2,    196.2,1,    205.0,2,     2.03,2,     0.03,2,    -0.01,2,     0.11,2, -999.000,9, -999.000,9, -999.000,9,   -999.0,9,   -999.0,9,-999.0000,9,  -999.00,   -999.0,9,   -999.0,  -999.00,9,  -999.00,  -999.00,9,  26.4911,2
  49NZ20031209,  I3I4,   524,  1,     35,  12023,2,20031229,1452,-19.9975,  65.4317, 2578,     50.1,  22.9574,  35.2387,2,  35.2371,2,    217.2,1,    227.1,2,     2.14,2,     0.01,2,    -0.01,2,     0.10,2, -999.000,9, -999.000,9, -999.000,9,   -999.0,9,   -999.0,9,-999.0000,9,  -999.00,   -999.0,9,   -999.0,  -999.00,9,  -999.00,  -999.00,9,  22.9590,2
  49NZ20031209,  I3I4,   524,  1,     34,  12022,2,20031229,1452,-19.9975,  65.4317, 2578,    101.4,  21.2284,  35.4737,2,  35.4705,2,    213.6,1,    222.8,2,     2.05,2,     0.00,2,    -0.01,2,     0.11,2, -999.000,9, -999.000,9, -999.000,9,   -999.0,9,   -999.0,9,-999.0000,9,  -999.00,   -999.0,9,   -999.0,  -999.00,9,  -999.00,  -999.00,9,  21.2284,2
  49NZ20031209,  I3I4,   524,  1,     33,  12015,2,20031229,1452,-19.9975,  65.4317, 2578,    152.1,  20.2823,  35.6530,2,  35.6522,2,    195.4,1,    203.3,2,     2.44,2,     0.97,2,     0.21,2,     0.21,2, -999.000,9, -999.000,9, -999.000,9,   -999.0,9,   -999.0,9,-999.0000,9,  -999.00,   -999.0,9,   -999.0,  -999.00,9,  -999.00,  -999.00,9,  20.2796,2
  49NZ20031209,  I3I4,   524,  1,     32,  12020,2,20031229,1452,-19.9975,  65.4317, 2578,    198.0,  18.8989,  35.7591,2,  35.7598,2,    190.6,1,    198.4,2,     2.74,2,     2.59,2,     0.01,2,     0.30,2, -999.000,9, -999.000,9, -999.000,9,   -999.0,9,   -999.0,9,-999.0000,9,  -999.00,   -999.0,9,   -999.0,  -999.00,9,  -999.00,  -999.00,9,  18.8962,2
  49NZ20031209,  I3I4,   524,  1,     31,  12019,2,20031229,1452,-19.9975,  65.4317, 2578,    252.1,  17.2853,  35.7482,2,  35.7480,2,    199.6,1,    207.6,2,     2.71,2,     2.89,2,     0.01,2,     0.34,2, -999.000,9, -999.000,9, -999.000,9,   -999.0,9,   -999.0,9,-999.0000,9,  -999.00,   -999.0,9,   -999.0,  -999.00,9,  -999.00,  -999.00,9,  17.2865,2
  49NZ20031209,  I3I4,   524,  1,     30,  12018,2,20031229,1452,-19.9975,  65.4317, 2578,    300.7,  15.2650,  35.5508,2,  35.5490,2,    199.2,1,    206.6,2,     3.78,2,     5.67,2,     0.00,2,     0.51,2, -999.000,9, -999.000,9, -999.000,9,   -999.0,9,   -999.0,9,-999.0000,9,  -999.00,   -999.0,9,   -999.0,  -999.00,9,  -999.00,  -999.00,9,  15.2646,2
  49NZ20031209,  I3I4,   524,  1,     29,  12021,2,20031229,1452,-19.9975,  65.4317, 2578,    400.7,  12.8637,  35.2435,2,  35.2426,2,    212.2,1,    219.8,2,     3.72,2,     8.99,2,     0.00,2,     0.72,2, -999.000,9, -999.000,9, -999.000,9,   -999.0,9,   -999.0,9,-999.0000,9,  -999.00,   -999.0,9,   -999.0,  -999.00,9,  -999.00,  -999.00,9,  12.8627,2
  49NZ20031209,  I3I4,   524,  1,     28,  12016,2,20031229,1452,-19.9975,  65.4317, 2578,    499.4,  11.2056,  34.9890,2,  34.9874,2,    217.7,1,    225.3,2,     4.39,2,    12.44,2,    -0.01,2,     0.92,2, -999.000,9, -999.000,9, -999.000,9,   -999.0,9,   -999.0,9,-999.0000,9,  -999.00,   -999.0,9,   -999.0,  -999.00,9,  -999.00,  -999.00,9,  11.2061,2
  49NZ20031209,  I3I4,   524,  1,     27,  12012,2,20031229,1452,-19.9975,  65.4317, 2578,    601.3,   9.8681,  34.7915,2,  34.7883,2,    217.0,1,    224.6,2,     5.90,2,    15.88,2,    -0.01,2,     1.13,2, -999.000,9, -999.000,9, -999.000,9,   -999.0,9,   -999.0,9,-999.0000,9,  -999.00,   -999.0,9,   -999.0,  -999.00,9,  -999.00,  -999.00,9,   9.8670,2
  49NZ20031209,  I3I4,   524,  1,     26,  12014,2,20031229,1452,-19.9975,  65.4317, 2578,    699.3,   8.6367,  34.6407,2,  34.6433,2,    201.9,1,    209.5,2,    10.84,2,    20.37,2,    -0.01,2,     1.41,2, -999.000,9, -999.000,9, -999.000,9,   -999.0,9,   -999.0,9,-999.0000,9,  -999.00,   -999.0,9,   -999.0,  -999.00,9,  -999.00,  -999.00,9,   8.6360,2
  49NZ20031209,  I3I4,   524,  1,     25,  12013,2,20031229,1452,-19.9975,  65.4317, 2578,    801.9,   7.0793,  34.5506,2,  34.5516,2,    169.9,1,    175.6,2,    27.11,2,    26.98,2,    -0.01,2,     1.87,2, -999.000,9, -999.000,9, -999.000,9,   -999.0,9,   -999.0,9,-999.0000,9,  -999.00,   -999.0,9,   -999.0,  -999.00,9,  -999.00,  -999.00,9,   7.0794,2
  49NZ20031209,  I3I4,   524,  1,     18,  12042,2,20031229,1452,-19.9975,  65.4317, 2578,    903.0,   5.9540,  34.5724,2,  34.5714,2,    134.2,1,    138.1,2,    50.63,2,    32.22,2,    -0.01,2,     2.26,2, -999.000,9, -999.000,9, -999.000,9,   -999.0,9,   -999.0,9,-999.0000,9,  -999.00,   -999.0,9,   -999.0,  -999.00,9,  -999.00,  -999.00,9,   5.9574,2
  49NZ20031209,  I3I4,   524,  1,     17,  12041,2,20031229,1452,-19.9975,  65.4317, 2578,   1002.0,   5.4074,  34.6323,2,  34.6336,2,    111.6,1,    114.2,2,    69.43,2,    34.65,2,    -0.01,2,     2.47,2, -999.000,9, -999.000,9, -999.000,9,   -999.0,9,   -999.0,9,-999.0000,9,  -999.00,   -999.0,9,   -999.0,  -999.00,9,  -999.00,  -999.00,9,   5.4076,2
  49NZ20031209,  I3I4,   524,  1,     16,  12040,2,20031229,1452,-19.9975,  65.4317, 2578,   1199.7,   4.5158,  34.6570,2,  34.6582,2,    118.5,1,    121.3,2,    80.71,2,    34.96,2,    -0.01,2,     2.50,2, -999.000,9, -999.000,9, -999.000,9,   -999.0,9,   -999.0,9,-999.0000,9,  -999.00,   -999.0,9,   -999.0,  -999.00,9,  -999.00,  -999.00,9,   4.5154,2
  49NZ20031209,  I3I4,   524,  1,     15,  12039,2,20031229,1452,-19.9975,  65.4317, 2578,   1399.1,   3.7093,  34.6839,2,  34.6845,2,    125.8,1,    128.8,2,    91.00,2,    35.18,2,    -0.01,2,     2.49,2, -999.000,9, -999.000,9, -999.000,9,   -999.0,9,   -999.0,9,-999.0000,9,  -999.00,   -999.0,9,   -999.0,  -999.00,9,  -999.00,  -999.00,9,   3.7087,2
  49NZ20031209,  I3I4,   524,  1,     14,  12038,2,20031229,1452,-19.9975,  65.4317, 2578,   1601.0,   3.1277,  34.6971,2,  34.6973,2,    139.3,1,    142.9,2,    95.60,2,    34.53,2,    -0.01,2,     2.44,2, -999.000,9, -999.000,9, -999.000,9,   -999.0,9,   -999.0,9,-999.0000,9,  -999.00,   -999.0,9,   -999.0,  -999.00,9,  -999.00,  -999.00,9,   3.1280,2
  49NZ20031209,  I3I4,   524,  1,     13,  12037,2,20031229,1452,-19.9975,  65.4317, 2578,   1803.6,   2.5594,  34.7114,2,  34.7109,2,    152.0,1,    156.2,2,   101.68,2,    33.89,2,    -0.01,2,     2.38,2, -999.000,9, -999.000,9, -999.000,9,   -999.0,9,   -999.0,9,-999.0000,9,  -999.00,   -999.0,9,   -999.0,  -999.00,9,  -999.00,  -999.00,9,   2.5602,2
  49NZ20031209,  I3I4,   524,  1,     12,  12036,2,20031229,1452,-19.9975,  65.4317, 2578,   2001.4,   2.1868,  34.7173,2,  34.7172,2,    161.7,1,    166.4,2,   106.45,2,    33.47,2,    -0.01,2,     2.33,2, -999.000,9, -999.000,9, -999.000,9,   -999.0,9,   -999.0,9,-999.0000,9,  -999.00,   -999.0,9,   -999.0,  -999.00,9,  -999.00,  -999.00,9,   2.1867,2
  49NZ20031209,  I3I4,   524,  1,     11,  12035,2,20031229,1452,-19.9975,  65.4317, 2578,   2198.9,   2.0333,  34.7197,2,  34.7198,2,    165.9,1,    170.3,2,   109.15,2,    33.27,2,    -0.01,2,     2.32,2, -999.000,9, -999.000,9, -999.000,9,   -999.0,9,   -999.0,9,-999.0000,9,  -999.00,   -999.0,9,   -999.0,  -999.00,9,  -999.00,  -999.00,9,   2.0331,2
  49NZ20031209,  I3I4,   524,  1,     10,  12034,2,20031229,1452,-19.9975,  65.4317, 2578,   2400.1,   1.9683,  34.7209,2,  34.7212,2,    168.1,1,    172.1,2,   110.75,2,    33.21,2,    -0.01,2,     2.31,2, -999.000,9, -999.000,9, -999.000,9,   -999.0,9,   -999.0,9,-999.0000,9,  -999.00,   -999.0,9,   -999.0,  -999.00,9,  -999.00,  -999.00,9,   1.9680,2
  49NZ20031209,  I3I4,   524,  1,      9,  12033,2,20031229,1452,-19.9975,  65.4317, 2578,   2540.3,   1.8885,  34.7226,2,  34.7227,2,    170.0,1,    173.6,2,   112.80,2,    33.20,2,    -0.01,2,     2.31,2, -999.000,9, -999.000,9, -999.000,9,   -999.0,9,   -999.0,9,-999.0000,9,  -999.00,   -999.0,9,   -999.0,  -999.00,9,  -999.00,  -999.00,9,   1.8882,2
  49NZ20031209,  I3I4,   524,  1,      8,  12032,9,20031229,1452,-19.9975,  65.4317, 2578,   2100.7,   2.1236,  34.7184,2,-999.0000,9,    163.6,1,   -999.0,9,  -999.00,9,  -999.00,9,  -999.00,9,  -999.00,9, -999.000,9, -999.000,9, -999.000,9,   -999.0,9,   -999.0,9,-999.0000,9,  -999.00,   -999.0,9,   -999.0,  -999.00,9,  -999.00,  -999.00,9,   2.1235,2
  49NZ20031209,  I3I4,   524,  1,      7,  12031,9,20031229,1452,-19.9975,  65.4317, 2578,   2300.0,   1.9962,  34.7205,2,-999.0000,9,    167.1,1,   -999.0,9,  -999.00,9,  -999.00,9,  -999.00,9,  -999.00,9, -999.000,9, -999.000,9, -999.000,9,   -999.0,9,   -999.0,9,-999.0000,9,  -999.00,   -999.0,9,   -999.0,  -999.00,9,  -999.00,  -999.00,9,   1.9962,2
  49NZ20031209,  I3I4,   524,  1,      1,  12025,9,20031229,1452,-19.9975,  65.4317, 2578,      9.5,  26.5008,  35.1539,2,-999.0000,9,    196.3,1,   -999.0,9,  -999.00,9,  -999.00,9,  -999.00,9,  -999.00,9, -999.000,9, -999.000,9, -999.000,9,   -999.0,9,   -999.0,9,-999.0000,9,  -999.00,   -999.0,9,   -999.0,  -999.00,9,  -999.00,  -999.00,9,  26.4982,2