BOTTLE,20141204PRINUNIVRMK
EXPOCODE,SECT_ID,STNNBR,CASTNO,SAMPNO,BTLNBR,BTLNBR_FLAG_W,DATE,TIME,LATITUDE,LONGITUDE,DEPTH,CTDPRS,CTDTMP,CTDSAL,CTDSAL_FLAG_W,SALNTY,SALNTY_FLAG_W,CTDOXY,CTDOXY_FLAG_W,OXYGEN,OXYGEN_FLAG_W,SILCAT,SILCAT_FLAG_W,NITRAT,NITRAT_FLAG_W,NITRIT,NITRIT_FLAG_W,PHSPHT,PHSPHT_FLAG_W,CFC-11,CFC-11_FLAG_W,CFC-12,CFC-12_FLAG_W,CFC113,CFC113_FLAG_W,TCARBN,TCARBN_FLAG_W,ALKALI,ALKALI_FLAG_W,PH_TOT,PH_TOT_FLAG_W,PH_TMP,DELC14,DELC14_FLAG_W,C14ERR,DELC13,DELC13_FLAG_W,CS-137,CS137ER,CS-137_FLAG_W,SBE35,SBE35_FLAG_W
,,,,,,,,,,,METERS,DBAR,ITS-90,PSS-78,,PSS-78,,UMOL/KG,,UMOL/KG,,UMOL/KG,,UMOL/KG,,UMOL/KG,,UMOL/KG,,PMOL/KG,,PMOL/KG,,PMOL/KG,,UMOL/KG,,UMOL/KG,,,,DEG C,/MILLE,,/MILLE,/MILLE,,DM/.1MG,DM/.1MG,,ITS-90,
  49NZ20031209,  I3I4,   596,  1,     36,  12024,2,20031215,0713,-24.6653,  39.5013, 3570,     10.3,  25.5269,  35.2817,2,  35.2821,2,    201.3,1,    211.0,2,     1.55,2,     0.05,2,     0.00,2,     0.12,2, -999.000,9, -999.000,9, -999.000,9,   -999.0,9,   -999.0,9,-999.0000,9,  -999.00,   -999.0,9,   -999.0,  -999.00,9,  -999.00,  -999.00,9,  25.5472,2
  49NZ20031209,  I3I4,   596,  1,     35,  12023,2,20031215,0713,-24.6653,  39.5013, 3570,     49.8,  22.9360,  35.2859,2,  35.2916,2,    211.1,1,    222.8,2,     1.48,2,     0.01,2,     0.01,2,     0.13,2, -999.000,9, -999.000,9, -999.000,9,   -999.0,9,   -999.0,9,-999.0000,9,  -999.00,   -999.0,9,   -999.0,  -999.00,9,  -999.00,  -999.00,9,  22.9374,2
  49NZ20031209,  I3I4,   596,  1,     34,  12022,2,20031215,0713,-24.6653,  39.5013, 3570,    100.0,  20.1287,  35.4667,2,  35.4753,2,    167.9,1,    175.8,2,     4.87,2,     5.28,2,     0.05,2,     0.47,2, -999.000,9, -999.000,9, -999.000,9,   -999.0,9,   -999.0,9,-999.0000,9,  -999.00,   -999.0,9,   -999.0,  -999.00,9,  -999.00,  -999.00,9,  20.1252,2
  49NZ20031209,  I3I4,   596,  1,     33,  12015,2,20031215,0713,-24.6653,  39.5013, 3570,    149.5,  18.2459,  35.6329,2,  35.6249,2,    195.5,1,    196.7,2,     4.40,2,     3.95,2,     0.07,2,     0.41,2, -999.000,9, -999.000,9, -999.000,9,   -999.0,9,   -999.0,9,-999.0000,9,  -999.00,   -999.0,9,   -999.0,  -999.00,9,  -999.00,  -999.00,9,  18.2478,2
  49NZ20031209,  I3I4,   596,  1,     32,  12020,2,20031215,0713,-24.6653,  39.5013, 3570,    200.0,  16.7692,  35.5133,2,  35.5089,2,    165.0,1,    171.6,2,     7.41,2,     8.68,2,     0.01,2,     0.70,2, -999.000,9, -999.000,9, -999.000,9,   -999.0,9,   -999.0,9,-999.0000,9,  -999.00,   -999.0,9,   -999.0,  -999.00,9,  -999.00,  -999.00,9,  16.7730,2
  49NZ20031209,  I3I4,   596,  1,     31,  12019,2,20031215,0713,-24.6653,  39.5013, 3570,    249.7,  16.5879,  35.6388,2,  35.6386,2,    212.8,1,    223.2,2,     3.33,2,     4.07,2,     0.02,2,     0.40,2, -999.000,9, -999.000,9, -999.000,9,   -999.0,9,   -999.0,9,-999.0000,9,  -999.00,   -999.0,9,   -999.0,  -999.00,9,  -999.00,  -999.00,9,  16.5887,2
  49NZ20031209,  I3I4,   596,  1,     30,  12018,2,20031215,0713,-24.6653,  39.5013, 3570,    300.3,  16.0442,  35.5798,2,  35.5777,2,    199.0,1,    208.0,2,     3.74,2,     5.64,2,     0.01,2,     0.51,2, -999.000,9, -999.000,9, -999.000,9,   -999.0,9,   -999.0,9,-999.0000,9,  -999.00,   -999.0,9,   -999.0,  -999.00,9,  -999.00,  -999.00,9,  16.0439,2
  49NZ20031209,  I3I4,   596,  1,     29,  12017,2,20031215,0713,-24.6653,  39.5013, 3570,    399.8,  13.9185,  35.3192,2,  35.3239,2,    183.2,1,    193.1,2,     6.75,2,    10.43,2,     0.00,2,     0.82,2, -999.000,9, -999.000,9, -999.000,9,   -999.0,9,   -999.0,9,-999.0000,9,  -999.00,   -999.0,9,   -999.0,  -999.00,9,  -999.00,  -999.00,9,  13.9191,2
  49NZ20031209,  I3I4,   596,  1,     28,  12016,2,20031215,0713,-24.6653,  39.5013, 3570,    499.8,  12.4418,  35.1522,2,  35.1468,2,    200.3,1,    208.2,2,     6.14,2,    12.00,2,     0.00,2,     0.91,2, -999.000,9, -999.000,9, -999.000,9,   -999.0,9,   -999.0,9,-999.0000,9,  -999.00,   -999.0,9,   -999.0,  -999.00,9,  -999.00,  -999.00,9,  12.4413,2
  49NZ20031209,  I3I4,   596,  1,     27,  12012,2,20031215,0713,-24.6653,  39.5013, 3570,    599.4,  11.2210,  34.9770,2,  34.9732,2,    211.3,1,    221.1,2,     5.31,2,    13.34,2,     0.00,2,     1.00,2, -999.000,9, -999.000,9, -999.000,9,   -999.0,9,   -999.0,9,-999.0000,9,  -999.00,   -999.0,9,   -999.0,  -999.00,9,  -999.00,  -999.00,9,  11.2196,2
  49NZ20031209,  I3I4,   596,  1,     26,  12014,2,20031215,0713,-24.6653,  39.5013, 3570,    699.5,   9.7829,  34.7841,2,  34.7781,2,    209.3,1,    218.2,2,     7.65,2,    16.95,2,     0.01,2,     1.23,2, -999.000,9, -999.000,9, -999.000,9,   -999.0,9,   -999.0,9,-999.0000,9,  -999.00,   -999.0,9,   -999.0,  -999.00,9,  -999.00,  -999.00,9,   9.7758,2
  49NZ20031209,  I3I4,   596,  1,     25,  12013,2,20031215,0713,-24.6653,  39.5013, 3570,    800.5,   8.3066,  34.6471,2,  34.6434,2,    184.7,1,    193.0,2,    17.08,2,    22.85,2,     0.01,2,     1.62,2, -999.000,9, -999.000,9, -999.000,9,   -999.0,9,   -999.0,9,-999.0000,9,  -999.00,   -999.0,9,   -999.0,  -999.00,9,  -999.00,  -999.00,9,   8.3069,2
  49NZ20031209,  I3I4,   596,  1,     24,  12048,2,20031215,0713,-24.6653,  39.5013, 3570,    899.4,   6.8306,  34.5383,2,  34.5367,2,    178.4,1,    185.6,2,    26.03,2,    26.95,2,     0.00,2,     1.88,2, -999.000,9, -999.000,9, -999.000,9,   -999.0,9,   -999.0,9,-999.0000,9,  -999.00,   -999.0,9,   -999.0,  -999.00,9,  -999.00,  -999.00,9,   6.8299,2
  49NZ20031209,  I3I4,   596,  1,     23,  12047,2,20031215,0713,-24.6653,  39.5013, 3570,    999.1,   5.8303,  34.5325,2,  34.5326,2,    161.2,1,    168.3,2,    39.39,2,    30.20,2,    -0.01,2,     2.13,2, -999.000,9, -999.000,9, -999.000,9,   -999.0,9,   -999.0,9,-999.0000,9,  -999.00,   -999.0,9,   -999.0,  -999.00,9,  -999.00,  -999.00,9,   5.8311,2
  49NZ20031209,  I3I4,   596,  1,     22,  12046,2,20031215,0713,-24.6653,  39.5013, 3570,   1200.3,   4.4498,  34.5613,2,  34.5611,2,    150.0,1,    156.0,2,    59.14,2,    33.21,2,     0.00,2,     2.35,2, -999.000,9, -999.000,9, -999.000,9,   -999.0,9,   -999.0,9,-999.0000,9,  -999.00,   -999.0,9,   -999.0,  -999.00,9,  -999.00,  -999.00,9,   4.4499,2
  49NZ20031209,  I3I4,   596,  1,     21,  12045,2,20031215,0713,-24.6653,  39.5013, 3570,   1400.4,   3.7006,  34.6256,2,  34.6258,2,    148.0,1,    154.0,2,    71.27,2,    33.77,2,    -0.01,2,     2.38,2, -999.000,9, -999.000,9, -999.000,9,   -999.0,9,   -999.0,9,-999.0000,9,  -999.00,   -999.0,9,   -999.0,  -999.00,9,  -999.00,  -999.00,9,   3.7008,2
  49NZ20031209,  I3I4,   596,  1,     20,  12044,2,20031215,0713,-24.6653,  39.5013, 3570,   1600.0,   3.2976,  34.6877,2,  34.6878,2,    149.6,1,    155.3,2,    79.71,2,    33.41,2,     0.00,2,     2.36,2, -999.000,9, -999.000,9, -999.000,9,   -999.0,9,   -999.0,9,-999.0000,9,  -999.00,   -999.0,9,   -999.0,  -999.00,9,  -999.00,  -999.00,9,   3.2970,2
  49NZ20031209,  I3I4,   596,  1,     19,  12043,2,20031215,0713,-24.6653,  39.5013, 3570,   1800.1,   2.9298,  34.7251,2,  34.7248,2,    159.0,1,    165.8,2,    81.85,2,    32.39,2,    -0.01,2,     2.28,2, -999.000,9, -999.000,9, -999.000,9,   -999.0,9,   -999.0,9,-999.0000,9,  -999.00,   -999.0,9,   -999.0,  -999.00,9,  -999.00,  -999.00,9,   2.9300,2
  49NZ20031209,  I3I4,   596,  1,     18,  12042,2,20031215,0713,-24.6653,  39.5013, 3570,   2000.3,   2.6958,  34.7505,2,  34.7507,2,    168.5,1,    175.7,2,    81.50,2,    31.39,2,    -0.01,2,     2.20,2, -999.000,9, -999.000,9, -999.000,9,   -999.0,9,   -999.0,9,-999.0000,9,  -999.00,   -999.0,9,   -999.0,  -999.00,9,  -999.00,  -999.00,9,   2.6961,2
  49NZ20031209,  I3I4,   596,  1,     17,  12041,2,20031215,0713,-24.6653,  39.5013, 3570,   2200.0,   2.5116,  34.7697,2,  34.7700,2,    179.4,1,    187.2,2,    78.62,2,    30.19,2,    -0.01,2,     2.10,2, -999.000,9, -999.000,9, -999.000,9,   -999.0,9,   -999.0,9,-999.0000,9,  -999.00,   -999.0,9,   -999.0,  -999.00,9,  -999.00,  -999.00,9,   2.5115,2
  49NZ20031209,  I3I4,   596,  1,     16,  12040,2,20031215,0713,-24.6653,  39.5013, 3570,   2399.3,   2.3835,  34.7858,2,  34.7858,2,    189.9,1,    198.0,2,    74.62,2,    29.04,2,    -0.01,2,     2.02,2, -999.000,9, -999.000,9, -999.000,9,   -999.0,9,   -999.0,9,-999.0000,9,  -999.00,   -999.0,9,   -999.0,  -999.00,9,  -999.00,  -999.00,9,   2.3838,2
  49NZ20031209,  I3I4,   596,  1,     15,  12039,2,20031215,0713,-24.6653,  39.5013, 3570,   2600.9,   2.2726,  34.7964,2,  34.7962,2,    197.8,1,    206.4,2,    72.36,2,    28.18,2,    -0.01,2,     1.96,2, -999.000,9, -999.000,9, -999.000,9,   -999.0,9,   -999.0,9,-999.0000,9,  -999.00,   -999.0,9,   -999.0,  -999.00,9,  -999.00,  -999.00,9,   2.2726,2
  49NZ20031209,  I3I4,   596,  1,     14,  12038,2,20031215,0713,-24.6653,  39.5013, 3570,   2799.4,   2.1981,  34.7985,2,  34.7987,2,    201.0,1,    209.3,2,    72.87,2,    28.05,2,    -0.01,2,     1.94,2, -999.000,9, -999.000,9, -999.000,9,   -999.0,9,   -999.0,9,-999.0000,9,  -999.00,   -999.0,9,   -999.0,  -999.00,9,  -999.00,  -999.00,9,   2.1981,2
  49NZ20031209,  I3I4,   596,  1,     13,  12037,2,20031215,0713,-24.6653,  39.5013, 3570,   2999.7,   2.0677,  34.7970,2,  34.7974,2,    204.2,1,    212.2,2,    75.07,2,    28.02,2,    -0.01,2,     1.93,2, -999.000,9, -999.000,9, -999.000,9,   -999.0,9,   -999.0,9,-999.0000,9,  -999.00,   -999.0,9,   -999.0,  -999.00,9,  -999.00,  -999.00,9,   2.0677,2
  49NZ20031209,  I3I4,   596,  1,     12,  12036,2,20031215,0713,-24.6653,  39.5013, 3570,   3250.1,   1.8523,  34.7878,2,  34.7875,2,    207.0,1,    214.7,2,    80.45,2,    28.34,2,    -0.01,2,     1.95,2, -999.000,9, -999.000,9, -999.000,9,   -999.0,9,   -999.0,9,-999.0000,9,  -999.00,   -999.0,9,   -999.0,  -999.00,9,  -999.00,  -999.00,9,   1.8524,2
  49NZ20031209,  I3I4,   596,  1,     11,  12035,2,20031215,0713,-24.6653,  39.5013, 3570,   3500.3,   1.5393,  34.7685,2,  34.7682,2,    209.1,1,    215.9,2,    89.85,2,    29.16,2,     0.00,2,     2.01,2, -999.000,9, -999.000,9, -999.000,9,   -999.0,9,   -999.0,9,-999.0000,9,  -999.00,   -999.0,9,   -999.0,  -999.00,9,  -999.00,  -999.00,9,   1.5392,2
  49NZ20031209,  I3I4,   596,  1,     10,  12034,2,20031215,0713,-24.6653,  39.5013, 3570,   3605.4,   1.4058,  34.7591,2,  34.7592,2,    210.2,1,    216.3,2,    94.06,2,    29.53,2,    -0.01,2,     2.04,2, -999.000,9, -999.000,9, -999.000,9,   -999.0,9,   -999.0,9,-999.0000,9,  -999.00,   -999.0,9,   -999.0,  -999.00,9,  -999.00,  -999.00,9,   1.4058,2
  49NZ20031209,  I3I4,   596,  1,      9,  12033,9,20031215,0713,-24.6653,  39.5013, 3570,   2899.2,   2.1449,  34.7987,2,-999.0000,9,    202.6,1,   -999.0,9,  -999.00,9,  -999.00,9,  -999.00,9,  -999.00,9, -999.000,9, -999.000,9, -999.000,9,   -999.0,9,   -999.0,9,-999.0000,9,  -999.00,   -999.0,9,   -999.0,  -999.00,9,  -999.00,  -999.00,9,   2.1454,2
  49NZ20031209,  I3I4,   596,  1,      8,  12032,9,20031215,0713,-24.6653,  39.5013, 3570,   3100.8,   1.9967,  34.7953,2,-999.0000,9,    205.6,1,   -999.0,9,  -999.00,9,  -999.00,9,  -999.00,9,  -999.00,9, -999.000,9, -999.000,9, -999.000,9,   -999.0,9,   -999.0,9,-999.0000,9,  -999.00,   -999.0,9,   -999.0,  -999.00,9,  -999.00,  -999.00,9,   1.9968,2
  49NZ20031209,  I3I4,   596,  1,      7,  12031,9,20031215,0713,-24.6653,  39.5013, 3570,   3349.8,   1.7354,  34.7809,2,-999.0000,9,    208.0,1,   -999.0,9,  -999.00,9,  -999.00,9,  -999.00,9,  -999.00,9, -999.000,9, -999.000,9, -999.000,9,   -999.0,9,   -999.0,9,-999.0000,9,  -999.00,   -999.0,9,   -999.0,  -999.00,9,  -999.00,  -999.00,9,   1.7355,2
  49NZ20031209,  I3I4,   596,  1,      6,  12030,9,20031215,0713,-24.6653,  39.5013, 3570,   1000.2,   5.8298,  34.5329,2,-999.0000,9,    161.3,1,   -999.0,9,  -999.00,9,  -999.00,9,  -999.00,9,  -999.00,9, -999.000,9, -999.000,9, -999.000,9,   -999.0,9,   -999.0,9,-999.0000,9,  -999.00,   -999.0,9,   -999.0,  -999.00,9,  -999.00,  -999.00,9,   5.8306,2
  49NZ20031209,  I3I4,   596,  1,      5,  12029,9,20031215,0713,-24.6653,  39.5013, 3570,    998.9,   5.8270,  34.5319,2,-999.0000,9,    161.3,1,   -999.0,9,  -999.00,9,  -999.00,9,  -999.00,9,  -999.00,9, -999.000,9, -999.000,9, -999.000,9,   -999.0,9,   -999.0,9,-999.0000,9,  -999.00,   -999.0,9,   -999.0,  -999.00,9,  -999.00,  -999.00,9,   5.8274,2
  49NZ20031209,  I3I4,   596,  1,      4,  12028,9,20031215,0713,-24.6653,  39.5013, 3570,      4.4,  26.7469,  35.3004,2,-999.0000,9,    196.6,1,   -999.0,9,  -999.00,9,  -999.00,9,  -999.00,9,  -999.00,9, -999.000,9, -999.000,9, -999.000,9,   -999.0,9,   -999.0,9,-999.0000,9,  -999.00,   -999.0,9,   -999.0,  -999.00,9,  -999.00,  -999.00,9,  26.7445,2
  49NZ20031209,  I3I4,   596,  1,      3,  12027,2,20031215,0713,-24.6653,  39.5013, 3570,      4.4,  26.7480,  35.3001,2,-999.0000,9,    196.8,1,   -999.0,9,  -999.00,9,  -999.00,9,  -999.00,9,  -999.00,9, -999.000,9, -999.000,9, -999.000,9,   -999.0,9,   -999.0,9,-999.0000,9,  -999.00,   -999.0,9,   -999.0,  -999.00,9,  -999.00,  -999.00,9,  26.7470,2
  49NZ20031209,  I3I4,   596,  1,      2,  12026,2,20031215,0713,-24.6653,  39.5013, 3570,      4.8,  26.7489,  35.2990,2,-999.0000,9,    197.3,1,   -999.0,9,  -999.00,9,  -999.00,9,  -999.00,9,  -999.00,9, -999.000,9, -999.000,9, -999.000,9,   -999.0,9,   -999.0,9,-999.0000,9,  -999.00,   -999.0,9,   -999.0,  -999.00,9,  -999.00,  -999.00,9,  26.7317,2
  49NZ20031209,  I3I4,   596,  1,      1,  12025,2,20031215,0713,-24.6653,  39.5013, 3570,     75.2,  21.4096,  35.4336,2,-999.0000,9,    201.7,1,   -999.0,9,  -999.00,9,  -999.00,9,  -999.00,9,  -999.00,9, -999.000,9, -999.000,9, -999.000,9,   -999.0,9,   -999.0,9,-999.0000,9,  -999.00,   -999.0,9,   -999.0,  -999.00,9,  -999.00,  -999.00,9,  21.4177,2