BOTTLE,20141204PRINUNIVRMK
EXPOCODE,SECT_ID,STNNBR,CASTNO,SAMPNO,BTLNBR,BTLNBR_FLAG_W,DATE,TIME,LATITUDE,LONGITUDE,DEPTH,CTDPRS,CTDTMP,CTDSAL,CTDSAL_FLAG_W,SALNTY,SALNTY_FLAG_W,CTDOXY,CTDOXY_FLAG_W,OXYGEN,OXYGEN_FLAG_W,SILCAT,SILCAT_FLAG_W,NITRAT,NITRAT_FLAG_W,NITRIT,NITRIT_FLAG_W,PHSPHT,PHSPHT_FLAG_W,CFC-11,CFC-11_FLAG_W,CFC-12,CFC-12_FLAG_W,CFC113,CFC113_FLAG_W,TCARBN,TCARBN_FLAG_W,ALKALI,ALKALI_FLAG_W,PH_TOT,PH_TOT_FLAG_W,PH_TMP,DELC14,DELC14_FLAG_W,C14ERR,DELC13,DELC13_FLAG_W,CS-137,CS137ER,CS-137_FLAG_W,SBE35,SBE35_FLAG_W
,,,,,,,,,,,METERS,DBAR,ITS-90,PSS-78,,PSS-78,,UMOL/KG,,UMOL/KG,,UMOL/KG,,UMOL/KG,,UMOL/KG,,UMOL/KG,,PMOL/KG,,PMOL/KG,,PMOL/KG,,UMOL/KG,,UMOL/KG,,,,DEG C,/MILLE,,/MILLE,/MILLE,,DM/.1MG,DM/.1MG,,ITS-90,
  49NZ20031209,  I3I4,   527,  1,     36,  12024,2,20031229,0120,-20.2660,  63.8983, 2978,     10.0,  26.5276,  35.0886,2,  35.0903,2,    196.5,1,    205.3,2,     1.70,2,     0.01,2,    -0.01,2,     0.13,2,    1.676,2,    1.054,2,    0.474,4,   1970.7,2,   2295.5,2,   8.0847,2,    25.00,   -999.0,9,   -999.0,  -999.00,9,  -999.00,  -999.00,9,  26.5246,2
  49NZ20031209,  I3I4,   527,  1,     35,  12023,2,20031229,0120,-20.2660,  63.8983, 2978,     50.5,  24.6179,  34.9657,2,  34.9785,2,    207.8,1,    216.8,2,     1.42,2,    -0.01,2,    -0.01,2,     0.14,2,    1.810,2,    1.116,2, -999.000,5,   1967.6,6,   2287.5,2,   8.0742,2,    25.00,   -999.0,9,   -999.0,  -999.00,9,  -999.00,  -999.00,9,  24.6205,2
  49NZ20031209,  I3I4,   527,  1,     34,  12022,2,20031229,0120,-20.2660,  63.8983, 2978,    101.2,  22.1298,  35.2549,2,  35.2534,2,    202.0,1,    210.7,2,     2.40,2,     0.22,2,     0.04,2,     0.16,2,    1.975,2,    1.188,2, -999.000,5,   1999.3,2,   2304.6,6,   8.0489,2,    25.00,   -999.0,9,   -999.0,  -999.00,9,  -999.00,  -999.00,9,  22.1271,2
  49NZ20031209,  I3I4,   527,  1,     33,  12015,2,20031229,0120,-20.2660,  63.8983, 2978,    151.3,  21.1065,  35.4475,2,  35.4548,2,    196.8,1,    204.5,2,     2.27,2,     0.70,2,     0.25,2,     0.21,2,    2.006,2,    1.265,2,    0.449,4,   2022.7,2,   2317.2,2,   8.0297,2,    25.00,   -999.0,9,   -999.0,  -999.00,9,  -999.00,  -999.00,9,  21.0955,2
  49NZ20031209,  I3I4,   527,  1,     32,  12020,2,20031229,0120,-20.2660,  63.8983, 2978,    200.6,  19.6214,  35.6961,2,  35.7132,2,    191.9,1,    199.5,2,     2.44,2,     2.04,2,     0.02,2,     0.27,2,    2.197,2,    1.288,2,    0.270,4,   2057.4,2,   2333.1,2,   7.9921,2,    25.00,   -999.0,9,   -999.0,  -999.00,9,  -999.00,  -999.00,9,  19.5888,2
  49NZ20031209,  I3I4,   527,  1,     31,  12019,2,20031229,0120,-20.2660,  63.8983, 2978,    250.3,  18.1115,  35.7855,2,  35.7860,2,    199.6,1,    207.5,2,     2.32,2,     2.06,2,     0.04,2,     0.29,2,    2.349,6,    1.361,6,    0.288,4,   2073.7,2,   2338.9,2,   7.9721,2,    25.00,   -999.0,9,   -999.0,  -999.00,9,  -999.00,  -999.00,9,  18.1057,2
  49NZ20031209,  I3I4,   527,  1,     30,  12018,2,20031229,0120,-20.2660,  63.8983, 2978,    301.8,  16.2360,  35.6600,2,  35.6544,2,    205.7,1,    212.9,2,     2.41,2,     3.52,2,     0.00,2,     0.40,2,    2.581,2,    1.448,2,    0.181,4,   2091.2,2,   2332.7,2,   7.9342,2,    25.00,   -999.0,9,   -999.0,  -999.00,9,  -999.00,  -999.00,9,  16.2309,2
  49NZ20031209,  I3I4,   527,  1,     29,  12021,2,20031229,0120,-20.2660,  63.8983, 2978,    401.3,  13.2830,  35.3026,2,  35.2992,2,    211.2,1,    219.3,2,     3.17,2,     8.16,2,    -0.01,2,     0.68,2, -999.000,5, -999.000,5, -999.000,5,   2108.7,2,   2315.5,2,   7.8732,2,    25.00,   -999.0,9,   -999.0,  -999.00,9,  -999.00,  -999.00,9,  13.2790,2
  49NZ20031209,  I3I4,   527,  1,     28,  12016,2,20031229,0120,-20.2660,  63.8983, 2978,    500.0,  11.4261,  35.0244,2,  35.0159,2,    215.2,1,    223.2,2,     4.48,2,    11.98,2,    -0.01,2,     0.91,2,    3.319,2,    1.722,2,    0.085,4,   2115.1,2,   2302.3,2,   7.8311,2,    25.00,   -999.0,9,   -999.0,  -999.00,9,  -999.00,  -999.00,9,  11.4230,2
  49NZ20031209,  I3I4,   527,  1,     27,  12012,2,20031229,0120,-20.2660,  63.8983, 2978,    600.7,   9.9496,  34.7988,2,  34.7976,2,    222.3,1,    230.3,2,     4.61,2,    14.99,2,     0.00,2,     1.09,2,    3.199,2,    1.617,2,    0.138,4,   2122.2,2,   2292.9,2,   7.8029,2,    25.00,   -999.0,9,   -999.0,  -999.00,9,  -999.00,  -999.00,9,   9.9508,2
  49NZ20031209,  I3I4,   527,  1,     26,  12014,2,20031229,0120,-20.2660,  63.8983, 2978,    700.0,   8.9363,  34.6649,2,  34.6596,2,    210.0,1,    217.6,2,     8.36,2,    18.99,2,     0.00,2,     1.34,2,    2.678,2,    1.334,2,    0.116,4,   2134.4,6,   2287.1,2,   7.7610,2,    25.00,   -999.0,9,   -999.0,  -999.00,9,  -999.00,  -999.00,9,   8.9344,2
  49NZ20031209,  I3I4,   527,  1,     25,  12013,2,20031229,0120,-20.2660,  63.8983, 2978,    798.8,   7.1502,  34.5336,2,  34.5327,2,    176.1,1,    181.9,2,    23.43,2,    26.33,2,    -0.01,2,     1.83,2,    1.137,2,    0.600,2,    0.036,4,   2175.9,2,   2294.4,6,   7.6782,2,    25.00,   -999.0,9,   -999.0,  -999.00,9,  -999.00,  -999.00,9,   7.1509,2
  49NZ20031209,  I3I4,   527,  1,     24,  12048,2,20031229,0120,-20.2660,  63.8983, 2978,    900.1,   5.6857,  34.5106,2,  34.5116,2,    152.7,1,    157.6,2,    43.80,2,    31.19,2,    -0.01,2,     2.18,2,    0.392,2,    0.238,2,    0.000,4,   2213.8,2,   2307.2,2,   7.6170,6,    25.00,   -999.0,9,   -999.0,  -999.00,9,  -999.00,  -999.00,9,   5.6858,2
  49NZ20031209,  I3I4,   527,  1,     23,  12047,2,20031229,0120,-20.2660,  63.8983, 2978,   1001.2,   5.1374,  34.5859,2,  34.5865,2,    126.8,1,    130.3,2,    64.19,2,    33.74,2,    -0.01,2,     2.40,2,    0.142,6,    0.084,6,    0.000,4,   2250.2,2,   2329.6,2,   7.5748,2,    25.00,   -999.0,9,   -999.0,  -999.00,9,  -999.00,  -999.00,9,   5.1376,2
  49NZ20031209,  I3I4,   527,  1,     22,  12046,2,20031229,0120,-20.2660,  63.8983, 2978,   1201.1,   4.4018,  34.6347,2,  34.6349,2,    120.9,1,    124.1,2,    79.45,2,    34.96,2,    -0.01,2,     2.50,2,    0.040,2,    0.021,2,    0.000,4,   2271.7,2,   2343.4,2,   7.5625,2,    25.00,   -999.0,9,   -999.0,  -999.00,9,  -999.00,  -999.00,9,   4.4020,2
  49NZ20031209,  I3I4,   527,  1,     21,  12045,2,20031229,0120,-20.2660,  63.8983, 2978,   1401.0,   3.8089,  34.6616,2,  34.6615,2,    126.5,1,    130.0,2,    87.45,2,    34.94,2,    -0.01,2,     2.50,2,    0.008,2,    0.004,2,    0.000,4,   2279.0,2,   2338.3,4,   7.5646,2,    25.00,   -999.0,9,   -999.0,  -999.00,9,  -999.00,  -999.00,9,   3.8092,2
  49NZ20031209,  I3I4,   527,  1,     20,  12044,2,20031229,0120,-20.2660,  63.8983, 2978,   1600.3,   3.1572,  34.6808,2,  34.6808,2,    140.6,1,    145.1,2,    92.25,2,    34.26,2,    -0.01,2,     2.43,2,    0.007,2,    0.006,2,    0.000,4,   2275.0,2,   2360.3,2,   7.5771,2,    25.00,   -999.0,9,   -999.0,  -999.00,9,  -999.00,  -999.00,9,   3.1572,2
  49NZ20031209,  I3I4,   527,  1,     19,  12043,2,20031229,0120,-20.2660,  63.8983, 2978,   1800.8,   2.7210,  34.7006,2,  34.7008,2,    149.9,1,    154.6,2,    97.86,2,    33.75,2,    -0.01,2,     2.39,2,    0.003,2,    0.001,2,    0.000,4,   2278.2,2,   2360.3,2,   7.5887,2,    25.00,   -999.0,9,   -999.0,  -999.00,9,  -999.00,  -999.00,9,   2.7212,2
  49NZ20031209,  I3I4,   527,  1,     18,  12042,2,20031229,0120,-20.2660,  63.8983, 2978,   2801.2,   1.7756,  34.7247,2,  34.7249,2,    170.5,1,    174.8,2,   117.02,2,    33.16,2,    -0.01,2,     2.32,2,   -0.005,2,   -0.003,2,    0.000,4,   2285.8,2,   2382.1,2,   7.6125,2,    25.00,   -999.0,9,   -999.0,  -999.00,9,  -999.00,  -999.00,9,   1.7754,2
  49NZ20031209,  I3I4,   527,  1,     17,  12041,2,20031229,0120,-20.2660,  63.8983, 2978,   2200.8,   2.1258,  34.7229,2,  34.7226,2,    161.7,1,    166.7,2,   109.32,2,    33.29,2,    -0.01,2,     2.34,2,   -0.002,2,   -0.001,2,    0.000,4,   2282.2,2,   2376.2,2,   7.6061,2,    25.00,   -999.0,9,   -999.0,  -999.00,9,  -999.00,  -999.00,9,   2.1258,2
  49NZ20031209,  I3I4,   527,  1,     16,  12040,2,20031229,0120,-20.2660,  63.8983, 2978,   2400.0,   1.9808,  34.7252,2,  34.7247,2,    164.6,1,    169.5,2,   112.76,2,    33.31,2,    -0.01,2,     2.33,2,   -0.002,2,   -0.001,2,    0.000,4,   2284.8,6,   2381.1,2,   7.6081,2,    25.00,   -999.0,9,   -999.0,  -999.00,9,  -999.00,  -999.00,9,   1.9809,2
  49NZ20031209,  I3I4,   527,  1,     15,  12039,2,20031229,0120,-20.2660,  63.8983, 2978,   2600.3,   1.8653,  34.7255,2,  34.7252,2,    167.6,1,    172.2,2,   115.09,2,    33.24,2,    -0.01,2,     2.32,2,    0.004,2,    0.000,2,    0.000,4,   2283.5,2,   2381.8,6,   7.6125,2,    25.00,   -999.0,9,   -999.0,  -999.00,9,  -999.00,  -999.00,9,   1.8651,2
  49NZ20031209,  I3I4,   527,  1,     14,  12038,2,20031229,0120,-20.2660,  63.8983, 2978,   2800.6,   1.7759,  34.7248,2,  34.7245,2,    170.4,1,    174.7,2,   117.06,2,    33.19,2,    -0.01,2,     2.31,2,    0.001,2,   -0.001,2,    0.000,4,   2286.8,2,   2382.0,2,   7.6127,6,    25.00,   -999.0,9,   -999.0,  -999.00,9,  -999.00,  -999.00,9,   1.7758,2
  49NZ20031209,  I3I4,   527,  1,     13,  12037,2,20031229,0120,-20.2660,  63.8983, 2978,   3020.9,   1.7326,  34.7245,2,  34.7245,2,    172.4,1,    176.1,2,   118.29,2,    33.17,2,    -0.01,2,     2.32,2,    0.006,2,    0.006,2,    0.000,4,   2286.3,2,   2382.9,2,   7.6139,2,    25.00,   -999.0,9,   -999.0,  -999.00,9,  -999.00,  -999.00,9,   1.7327,2
  49NZ20031209,  I3I4,   527,  1,     12,  12036,9,20031229,0120,-20.2660,  63.8983, 2978,   2099.8,   2.2047,  34.7211,2,-999.0000,9,    160.6,1,   -999.0,9,  -999.00,9,  -999.00,9,  -999.00,9,  -999.00,9, -999.000,9, -999.000,9, -999.000,9,   -999.0,9,   -999.0,9,-999.0000,9,  -999.00,   -999.0,9,   -999.0,  -999.00,9,  -999.00,  -999.00,9,   2.2048,2
  49NZ20031209,  I3I4,   527,  1,     11,  12035,9,20031229,0120,-20.2660,  63.8983, 2978,   2300.7,   2.0126,  34.7249,2,-999.0000,9,    163.6,1,   -999.0,9,  -999.00,9,  -999.00,9,  -999.00,9,  -999.00,9, -999.000,9, -999.000,9, -999.000,9,   -999.0,9,   -999.0,9,-999.0000,9,  -999.00,   -999.0,9,   -999.0,  -999.00,9,  -999.00,  -999.00,9,   2.0128,2
  49NZ20031209,  I3I4,   527,  1,     10,  12034,9,20031229,0120,-20.2660,  63.8983, 2978,   2499.8,   1.9197,  34.7256,2,-999.0000,9,    166.2,1,   -999.0,9,  -999.00,9,  -999.00,9,  -999.00,9,  -999.00,9, -999.000,9, -999.000,9, -999.000,9,   -999.0,9,   -999.0,9,-999.0000,9,  -999.00,   -999.0,9,   -999.0,  -999.00,9,  -999.00,  -999.00,9,   1.9197,2
  49NZ20031209,  I3I4,   527,  1,      9,  12033,9,20031229,0120,-20.2660,  63.8983, 2978,   2702.0,   1.7950,  34.7251,2,-999.0000,9,    169.6,1,   -999.0,9,  -999.00,9,  -999.00,9,  -999.00,9,  -999.00,9, -999.000,9, -999.000,9, -999.000,9,   -999.0,9,   -999.0,9,-999.0000,9,  -999.00,   -999.0,9,   -999.0,  -999.00,9,  -999.00,  -999.00,9,   1.7952,2
  49NZ20031209,  I3I4,   527,  1,      8,  12032,9,20031229,0120,-20.2660,  63.8983, 2978,     10.1,  26.5296,  35.0887,2,-999.0000,9,    196.3,1,   -999.0,9,  -999.00,9,  -999.00,9,  -999.00,9,  -999.00,9, -999.000,9, -999.000,9, -999.000,9,   -999.0,9,   -999.0,9,-999.0000,9,  -999.00,   -999.0,9,   -999.0,  -999.00,9,  -999.00,  -999.00,9,  26.5247,2
  49NZ20031209,  I3I4,   527,  1,      7,  12031,9,20031229,0120,-20.2660,  63.8983, 2978,   1001.2,   5.1388,  34.5860,2,-999.0000,9,    126.7,1,   -999.0,9,  -999.00,9,  -999.00,9,  -999.00,9,  -999.00,9, -999.000,9, -999.000,9, -999.000,9,   -999.0,9,   -999.0,9,-999.0000,9,  -999.00,   -999.0,9,   -999.0,  -999.00,9,  -999.00,  -999.00,9,   5.1393,2
  49NZ20031209,  I3I4,   527,  1,      6,  12030,9,20031229,0120,-20.2660,  63.8983, 2978,   1001.3,   5.1388,  34.5860,2,-999.0000,9,    126.7,1,   -999.0,9,  -999.00,9,  -999.00,9,  -999.00,9,  -999.00,9, -999.000,9, -999.000,9, -999.000,9,   -999.0,9,   -999.0,9,-999.0000,9,  -999.00,   -999.0,9,   -999.0,  -999.00,9,  -999.00,  -999.00,9,   5.1392,2
  49NZ20031209,  I3I4,   527,  1,      5,  12029,9,20031229,0120,-20.2660,  63.8983, 2978,   1000.3,   5.1387,  34.5860,2,-999.0000,9,    126.7,1,   -999.0,9,  -999.00,9,  -999.00,9,  -999.00,9,  -999.00,9, -999.000,9, -999.000,9, -999.000,9,   -999.0,9,   -999.0,9,-999.0000,9,  -999.00,   -999.0,9,   -999.0,  -999.00,9,  -999.00,  -999.00,9,   5.1387,2
  49NZ20031209,  I3I4,   527,  1,      4,  12028,9,20031229,0120,-20.2660,  63.8983, 2978,   1001.1,   5.1381,  34.5859,2,-999.0000,9,    126.6,1,   -999.0,9,  -999.00,9,  -999.00,9,  -999.00,9,  -999.00,9, -999.000,9, -999.000,9, -999.000,9,   -999.0,9,   -999.0,9,-999.0000,9,  -999.00,   -999.0,9,   -999.0,  -999.00,9,  -999.00,  -999.00,9,   5.1387,2
  49NZ20031209,  I3I4,   527,  1,      3,  12027,9,20031229,0120,-20.2660,  63.8983, 2978,   1000.6,   5.1428,  34.5867,2,-999.0000,9,    126.5,1,   -999.0,9,  -999.00,9,  -999.00,9,  -999.00,9,  -999.00,9, -999.000,9, -999.000,9, -999.000,9,   -999.0,9,   -999.0,9,-999.0000,9,  -999.00,   -999.0,9,   -999.0,  -999.00,9,  -999.00,  -999.00,9,   5.1430,2
  49NZ20031209,  I3I4,   527,  1,      2,  12026,9,20031229,0120,-20.2660,  63.8983, 2978,   3020.7,   1.7327,  34.7246,2,-999.0000,9,    172.4,1,   -999.0,9,  -999.00,9,  -999.00,9,  -999.00,9,  -999.00,9, -999.000,9, -999.000,9, -999.000,9,   -999.0,9,   -999.0,9,-999.0000,9,  -999.00,   -999.0,9,   -999.0,  -999.00,9,  -999.00,  -999.00,9,   1.7326,2
  49NZ20031209,  I3I4,   527,  1,      1,  12025,2,20031229,0120,-20.2660,  63.8983, 2978,   1999.3,   2.3369,  34.7143,2,  34.7139,2,    159.1,1,    164.3,2,   102.92,2,    33.34,2,    -0.01,2,     2.34,2,   -0.004,2,    0.000,2,    0.000,4,   2278.0,2,   2372.8,2,   7.6002,6,    25.00,   -999.0,9,   -999.0,  -999.00,9,  -999.00,  -999.00,9,   2.3369,2