BOTTLE,20141204PRINUNIVRMK
EXPOCODE,SECT_ID,STNNBR,CASTNO,SAMPNO,BTLNBR,BTLNBR_FLAG_W,DATE,TIME,LATITUDE,LONGITUDE,DEPTH,CTDPRS,CTDTMP,CTDSAL,CTDSAL_FLAG_W,SALNTY,SALNTY_FLAG_W,CTDOXY,CTDOXY_FLAG_W,OXYGEN,OXYGEN_FLAG_W,SILCAT,SILCAT_FLAG_W,NITRAT,NITRAT_FLAG_W,NITRIT,NITRIT_FLAG_W,PHSPHT,PHSPHT_FLAG_W,CFC-11,CFC-11_FLAG_W,CFC-12,CFC-12_FLAG_W,CFC113,CFC113_FLAG_W,TCARBN,TCARBN_FLAG_W,ALKALI,ALKALI_FLAG_W,PH_TOT,PH_TOT_FLAG_W,PH_TMP,DELC14,DELC14_FLAG_W,C14ERR,DELC13,DELC13_FLAG_W,CS-137,CS137ER,CS-137_FLAG_W,SBE35,SBE35_FLAG_W
,,,,,,,,,,,METERS,DBAR,ITS-90,PSS-78,,PSS-78,,UMOL/KG,,UMOL/KG,,UMOL/KG,,UMOL/KG,,UMOL/KG,,UMOL/KG,,PMOL/KG,,PMOL/KG,,PMOL/KG,,UMOL/KG,,UMOL/KG,,,,DEG C,/MILLE,,/MILLE,/MILLE,,DM/.1MG,DM/.1MG,,ITS-90,
  49NZ20031209,  I3I4,   535,  1,     36,  12024,2,20031225,1733,-20.3800,  59.2275, 4777,      9.9,  27.1410,  34.9681,2,  34.9701,2,    194.4,1,    203.1,2,     1.75,2,    -0.02,2,     0.00,2,     0.14,2,    1.745,2,    1.013,2,    0.355,4,   1964.5,2,   2281.2,2,   8.0813,2,    25.00,     51.4,2,      3.8,     1.08,2,  -999.00,  -999.00,9,  27.1383,2
  49NZ20031209,  I3I4,   535,  1,     35,  12023,2,20031225,1733,-20.3800,  59.2275, 4777,     50.2,  25.2417,  35.0622,2,  35.0651,2,    206.6,1,    216.0,2,     2.04,2,    -0.04,2,     0.01,2,     0.10,2,    1.989,2,    1.106,2, -999.000,5,   1973.4,6,   2294.7,2,   8.0786,2,    25.00,     55.2,2,      3.8,     1.06,2,  -999.00,  -999.00,9,  25.2407,2
  49NZ20031209,  I3I4,   535,  1,     34,  12022,2,20031225,1733,-20.3800,  59.2275, 4777,     99.6,  22.2288,  35.3074,2,  35.3080,2,    215.4,1,    224.9,2,     2.07,2,    -0.04,2,     0.00,2,     0.11,2,    2.165,2,    1.211,2, -999.000,5,   1990.4,2,   2306.3,6,   8.0696,2,    25.00,     62.4,2,      3.8,     1.07,2,  -999.00,  -999.00,9,  22.2251,2
  49NZ20031209,  I3I4,   535,  1,     33,  12015,2,20031225,1733,-20.3800,  59.2275, 4777,    150.6,  20.9146,  35.4452,2,  35.4409,2,    180.3,1,    187.9,2,     3.66,2,     2.91,2,     0.08,2,     0.32,2,    2.117,2,    1.202,2,    0.272,4,   2038.5,2,   2312.5,2,   8.0022,6,    25.00,     51.8,2,      3.7,     0.80,2,  -999.00,  -999.00,9,  20.9183,2
  49NZ20031209,  I3I4,   535,  1,     32,  12020,2,20031225,1733,-20.3800,  59.2275, 4777,    202.9,  19.2109,  35.6790,2,  35.6660,2,    175.9,1,    181.7,2,     4.50,2,     4.40,2,     0.01,2,     0.41,2,    2.263,2,    1.264,2,    0.125,4,   2073.6,2,   2335.5,2,   7.9587,2,    25.00,     58.1,2,      3.7,     0.78,2,  -999.00,  -999.00,9,  19.2103,2
  49NZ20031209,  I3I4,   535,  1,     31,  12019,2,20031225,1733,-20.3800,  59.2275, 4777,    249.2,  17.9026,  35.7454,2,  35.7438,2,    185.3,1,    193.1,2,     3.76,2,     3.97,2,     0.01,2,     0.41,2,    2.447,6,    1.357,6,    0.082,4,   2085.9,2,   2338.0,2,   7.9479,2,    25.00,     58.2,2,      3.6,     0.93,2,  -999.00,  -999.00,9,  17.9127,2
  49NZ20031209,  I3I4,   535,  1,     30,  12018,2,20031225,1733,-20.3800,  59.2275, 4777,    300.8,  15.9224,  35.5988,2,  35.5986,2,    191.3,1,    199.3,2,     4.42,2,     5.57,2,     0.02,2,     0.52,2,    2.568,2,    1.389,2,    0.075,4,   2100.5,2,   2329.8,2,   7.9129,2,    25.00,     71.3,2,      3.7,     0.98,2,  -999.00,  -999.00,9,  15.9207,2
  49NZ20031209,  I3I4,   535,  1,     29,  12021,2,20031225,1733,-20.3800,  59.2275, 4777,    402.6,  13.3548,  35.3157,2,  35.3148,2,    211.8,1,    219.9,2,     3.19,2,     7.94,2,     0.00,2,     0.66,2,    3.065,2,    1.612,2,    0.086,4,   2107.4,2,   2312.8,2,   7.8750,2,    25.00,     59.1,2,      3.7,     1.12,2,  -999.00,  -999.00,9,  13.3599,2
  49NZ20031209,  I3I4,   535,  1,     28,  12016,2,20031225,1733,-20.3800,  59.2275, 4777,    500.4,  11.5224,  35.0409,2,  35.0388,2,    221.1,1,    229.5,2,     3.65,2,    11.25,2,     0.01,2,     0.87,2,    3.226,2,    1.642,2,    0.104,4,   2111.4,2,   2300.6,2,   7.8407,2,    25.00,     68.7,2,      3.7,     1.19,2,  -999.00,  -999.00,9,  11.5230,2
  49NZ20031209,  I3I4,   535,  1,     27,  12012,2,20031225,1733,-20.3800,  59.2275, 4777,    600.7,  10.1485,  34.8317,2,  34.8285,2,    218.3,1,    226.5,2,     5.27,2,    14.99,2,     0.01,2,     1.10,2,    3.111,2,    1.535,2,    0.108,4,   2121.9,2,   2293.3,2,   7.8038,2,    25.00,     46.5,2,      3.6,     1.22,2,  -999.00,  -999.00,9,  10.1475,2
  49NZ20031209,  I3I4,   535,  1,     26,  12014,2,20031225,1733,-20.3800,  59.2275, 4777,    700.4,   9.2511,  34.7161,2,  34.7123,2,    207.1,1,    214.7,2,     8.93,2,    18.45,2,     0.00,2,     1.32,2,    2.656,2,    1.303,2,    0.089,4,   2133.8,6,   2286.7,2,   7.7686,2,    25.00,     34.5,2,      4.7,     1.17,2,  -999.00,  -999.00,9,   9.2523,2
  49NZ20031209,  I3I4,   535,  1,     25,  12013,2,20031225,1733,-20.3800,  59.2275, 4777,    802.6,   7.6889,  34.5737,2,  34.5737,2,    186.9,1,    194.2,2,    18.10,2,    24.10,2,     0.01,2,     1.69,2,    1.639,2,    0.784,2,    0.055,4,   2160.6,2,   2291.3,6,   7.7053,2,    25.00,    -19.1,2,      3.4,     1.07,2,  -999.00,  -999.00,9,   7.6893,2
  49NZ20031209,  I3I4,   535,  1,     24,  12048,2,20031225,1733,-20.3800,  59.2275, 4777,    901.8,   6.0865,  34.4988,2,  34.4999,2,    166.1,1,    172.2,2,    34.65,2,    29.46,2,     0.01,2,     2.06,2,    0.743,2,    0.339,2,    0.023,4,   2195.6,2,   2297.5,2,   7.6396,2,    25.00,    -68.9,2,      4.7,     0.89,2,  -999.00,  -999.00,9,   6.0869,2
  49NZ20031209,  I3I4,   535,  1,     23,  12047,2,20031225,1733,-20.3800,  59.2275, 4777,   1002.5,   5.1447,  34.5330,2,  34.5345,2,    141.8,1,    146.6,2,    55.59,2,    33.10,2,     0.00,2,     2.34,2,    0.247,6,    0.113,6,    0.008,4,   2232.5,2,   2317.8,2,   7.5936,2,    25.00,   -125.8,2,      3.4,     0.62,2,  -999.00,  -999.00,9,   5.1450,2
  49NZ20031209,  I3I4,   535,  1,     22,  12046,2,20031225,1733,-20.3800,  59.2275, 4777,   4499.8,   1.2327,  34.7134,2,  34.7136,2,    189.1,1,    195.3,2,   124.41,2,    32.95,2,     0.01,2,     2.30,2,    0.013,2,    0.013,2,   -0.001,4,   2274.1,2,   2374.0,2,   7.6170,2,    25.00,   -167.0,2,      3.1,     0.44,2,  -999.00,  -999.00,9,   1.2325,2
  49NZ20031209,  I3I4,   535,  1,     21,  12045,2,20031225,1733,-20.3800,  59.2275, 4777,   1400.8,   3.6028,  34.6685,2,  34.6686,2,    131.4,1,    136.6,2,    88.64,2,    34.91,2,    -0.01,2,     2.48,2,    0.015,2,    0.006,2,    0.014,4,   2274.3,2,   2358.1,2,   7.5704,2,    25.00,   -168.4,6,      6.0,     0.38,6,  -999.00,  -999.00,9,   3.6022,2
  49NZ20031209,  I3I4,   535,  1,     20,  12044,2,20031225,1733,-20.3800,  59.2275, 4777,   1599.2,   3.0541,  34.6839,2,  34.6838,2,    143.3,1,    149.1,2,    93.08,2,    34.32,2,     0.01,2,     2.43,2,    0.004,2,    0.000,2,    0.008,4,   2274.1,2,   2362.5,2,   7.5833,2,    25.00,   -169.7,2,      3.2,     0.40,2,  -999.00,  -999.00,9,   3.0537,2
  49NZ20031209,  I3I4,   535,  1,     19,  12043,2,20031225,1733,-20.3800,  59.2275, 4777,   1800.7,   2.6041,  34.7016,2,  34.7018,2,    152.9,1,    159.8,2,    98.02,2,    33.77,2,     0.01,2,     2.38,2,    0.010,2,    0.000,2,    0.000,4,   2275.6,2,   2363.3,2,   7.5930,2,    25.00,   -173.5,2,      3.3,     0.42,2,  -999.00,  -999.00,9,   2.6041,2
  49NZ20031209,  I3I4,   535,  1,     18,  12042,2,20031225,1733,-20.3800,  59.2275, 4777,   2000.8,   2.3012,  34.7196,2,  34.7196,2,    156.8,1,    164.1,2,   105.03,2,    33.63,2,    -0.01,2,     2.36,2,   -0.002,2,   -0.007,2,    0.000,4,   2280.0,2,   2368.8,2,   7.6018,6,    25.00,   -181.6,2,      3.3,     0.41,2,  -999.00,  -999.00,9,   2.3009,2
  49NZ20031209,  I3I4,   535,  1,     17,  12041,2,20031225,1733,-20.3800,  59.2275, 4777,   2200.8,   2.1526,  34.7266,2,  34.7264,2,    157.9,1,    165.4,2,   110.01,2,    33.67,2,     0.00,2,     2.36,2,    0.004,2,   -0.004,2,    0.000,4,   2284.1,2,   2380.8,2,   7.6030,2,    25.00,   -187.6,3,      4.2,     0.38,2,  -999.00,  -999.00,9,   2.1526,2
  49NZ20031209,  I3I4,   535,  1,     16,  12040,2,20031225,1733,-20.3800,  59.2275, 4777,   2400.7,   1.9975,  34.7262,2,  34.7259,2,    160.8,1,    168.5,2,   113.38,2,    33.66,2,    -0.01,2,     2.36,2,   -0.004,2,    0.001,2,    0.000,4,   2283.9,6,   2382.2,2,   7.6072,2,    25.00,   -187.5,3,      3.0,     0.38,2,  -999.00,  -999.00,9,   1.9972,2
  49NZ20031209,  I3I4,   535,  1,     15,  12039,2,20031225,1733,-20.3800,  59.2275, 4777,   2599.5,   1.8916,  34.7274,2,  34.7273,2,    162.4,1,    170.4,2,   116.05,2,    33.68,2,     0.00,2,     2.36,2,   -0.005,2,    0.008,2,    0.000,4,   2286.3,2,   2383.1,6,   7.6095,2,    25.00,   -176.0,2,      3.3,     0.38,2,  -999.00,  -999.00,9,   1.8912,2
  49NZ20031209,  I3I4,   535,  1,     14,  12038,2,20031225,1733,-20.3800,  59.2275, 4777,   2800.6,   1.7780,  34.7265,2,  34.7266,2,    165.4,1,    173.4,2,   118.09,2,    33.61,2,     0.01,2,     2.35,2,   -0.007,2,    0.002,2,    0.000,4,   2287.6,2,   2387.2,2,   7.6108,6,    25.00,   -184.3,2,      3.1,     0.37,2,  -999.00,  -999.00,9,   1.7791,2
  49NZ20031209,  I3I4,   535,  1,     13,  12037,2,20031225,1733,-20.3800,  59.2275, 4777,   3000.6,   1.7145,  34.7271,2,  34.7273,2,    166.2,1,    174.3,2,   120.54,2,    33.68,2,     0.01,2,     2.36,2, -999.000,5, -999.000,5, -999.000,5,   2288.6,2,   2387.0,2,   7.6121,2,    25.00,   -185.9,6,      2.3,     0.38,6,  -999.00,  -999.00,9,   1.7144,2
  49NZ20031209,  I3I4,   535,  1,     12,  12036,2,20031225,1733,-20.3800,  59.2275, 4777,   3249.8,   1.6054,  34.7243,2,  34.7239,2,    170.7,1,    178.8,2,   121.11,2,    33.32,2,     0.00,2,     2.33,2,   -0.002,2,    0.004,2,   -0.001,4,   2284.3,2,   2382.8,2,   7.6156,2,    25.00,   -179.2,2,      3.1,     0.40,2,  -999.00,  -999.00,9,   1.6053,2
  49NZ20031209,  I3I4,   535,  1,     11,  12035,2,20031225,1733,-20.3800,  59.2275, 4777,   3499.7,   1.5027,  34.7218,2,  34.7215,2,    174.6,1,    182.6,2,   122.37,2,    33.31,2,     0.01,2,     2.34,2,   -0.001,2,    0.005,2,   -0.001,4,   2282.8,2,   2382.6,2,   7.6155,2,    25.00,   -185.2,2,      3.1,     0.36,2,  -999.00,  -999.00,9,   1.5027,2
  49NZ20031209,  I3I4,   535,  1,     10,  12034,2,20031225,1733,-20.3800,  59.2275, 4777,   3749.6,   1.4438,  34.7201,2,  34.7201,2,    177.7,1,    185.4,2,   122.81,2,    33.29,2,     0.01,2,     2.33,2,    0.004,2,    0.007,2,   -0.001,4,   2282.4,2,   2381.0,2,   7.6145,2,    25.00,   -177.8,2,      3.3,     0.29,3,  -999.00,  -999.00,9,   1.4433,2
  49NZ20031209,  I3I4,   535,  1,      9,  12033,2,20031225,1733,-20.3800,  59.2275, 4777,   3999.5,   1.3718,  34.7180,2,  34.7182,2,    181.0,1,    188.4,2,   123.64,2,    33.10,2,     0.01,2,     2.32,2,    0.002,2,    0.009,2,   -0.001,4,   2280.2,2,   2379.4,2,   7.6159,2,    25.00,   -176.3,2,      3.3,     0.40,2,  -999.00,  -999.00,9,   1.3715,2
  49NZ20031209,  I3I4,   535,  1,      8,  12032,2,20031225,1733,-20.3800,  59.2275, 4777,   4249.1,   1.2880,  34.7157,2,  34.7182,3,    185.3,1,    192.3,2,   123.84,2,    33.20,2,     0.01,2,     2.32,2,    0.008,2,    0.008,2,   -0.001,4,   2279.0,6,   2379.4,2,   7.6170,2,    25.00,   -173.4,2,      3.1,     0.38,2,  -999.00,  -999.00,9,   1.2879,2
  49NZ20031209,  I3I4,   535,  1,      7,  12031,2,20031225,1733,-20.3800,  59.2275, 4777,   4499.7,   1.2329,  34.7135,2,  34.7154,3,    189.1,1,    195.4,2,   124.10,2,    33.02,2,     0.00,2,     2.32,2,    0.011,2,    0.015,2,   -0.001,4,   2274.8,2,   2374.2,6,   7.6175,2,    25.00,   -175.1,3,      3.1,     0.42,2,  -999.00,  -999.00,9,   1.2328,2
  49NZ20031209,  I3I4,   535,  1,      6,  12030,2,20031225,1733,-20.3800,  59.2275, 4777,   4822.8,   1.2365,  34.7124,2,  34.7120,2,    192.5,1,    196.6,2,   124.64,2,    32.90,2,     0.00,2,     2.30,2,    0.014,2,    0.013,2,    0.005,4,   2273.2,2,   2370.7,2,   7.6163,6,    25.00,   -168.9,2,      4.6,     0.46,2,  -999.00,  -999.00,9,   1.2365,2
  49NZ20031209,  I3I4,   535,  1,      5,  12029,9,20031225,1733,-20.3800,  59.2275, 4777,   4251.0,   1.2875,  34.7157,2,-999.0000,9,    185.4,1,   -999.0,9,  -999.00,9,  -999.00,9,  -999.00,9,  -999.00,9, -999.000,9, -999.000,9, -999.000,9,   -999.0,9,   -999.0,9,-999.0000,9,  -999.00,   -999.0,9,   -999.0,  -999.00,9,  -999.00,  -999.00,9,   1.2875,2
  49NZ20031209,  I3I4,   535,  1,      4,  12028,9,20031225,1733,-20.3800,  59.2275, 4777,   1002.6,   5.1416,  34.5327,2,-999.0000,9,    141.8,1,   -999.0,9,  -999.00,9,  -999.00,9,  -999.00,9,  -999.00,9, -999.000,9, -999.000,9, -999.000,9,   -999.0,9,   -999.0,9,-999.0000,9,  -999.00,   -999.0,9,   -999.0,  -999.00,9,  -999.00,  -999.00,9,   5.1418,2
  49NZ20031209,  I3I4,   535,  1,      3,  12027,2,20031225,1733,-20.3800,  59.2275, 4777,   1002.3,   5.1425,  34.5327,2,  34.5318,3,    141.8,1,    147.4,2,    55.10,2,    32.98,2,     0.01,2,     2.34,2, -999.000,9, -999.000,9, -999.000,9,   2229.5,2,   2321.7,2,   7.5934,2,    25.00,   -121.6,2,      3.4,     0.65,2,  -999.00,  -999.00,9,   5.1420,2
  49NZ20031209,  I3I4,   535,  1,      2,  12026,9,20031225,1733,-20.3800,  59.2275, 4777,      9.4,  27.1419,  34.9684,2,-999.0000,9,    194.4,1,   -999.0,9,  -999.00,9,  -999.00,9,  -999.00,9,  -999.00,9, -999.000,9, -999.000,9, -999.000,9,   -999.0,9,   -999.0,9,-999.0000,9,  -999.00,   -999.0,9,   -999.0,  -999.00,9,  -999.00,  -999.00,9,  27.1414,2
  49NZ20031209,  I3I4,   535,  1,      1,  12025,2,20031225,1733,-20.3800,  59.2275, 4777,   1199.7,   4.3487,  34.6351,2,  34.6342,2,    122.6,1,    126.8,2,    79.55,2,    35.08,2,     0.01,2,     2.51,2,    0.045,2,    0.017,2,    0.006,4,   2266.1,2,   2344.4,2,   7.5642,2,    25.00,   -165.2,2,      3.3,     0.40,2,  -999.00,  -999.00,9,   4.3483,2