BOTTLE,20141204PRINUNIVRMK
EXPOCODE,SECT_ID,STNNBR,CASTNO,SAMPNO,BTLNBR,BTLNBR_FLAG_W,DATE,TIME,LATITUDE,LONGITUDE,DEPTH,CTDPRS,CTDTMP,CTDSAL,CTDSAL_FLAG_W,SALNTY,SALNTY_FLAG_W,CTDOXY,CTDOXY_FLAG_W,OXYGEN,OXYGEN_FLAG_W,SILCAT,SILCAT_FLAG_W,NITRAT,NITRAT_FLAG_W,NITRIT,NITRIT_FLAG_W,PHSPHT,PHSPHT_FLAG_W,CFC-11,CFC-11_FLAG_W,CFC-12,CFC-12_FLAG_W,CFC113,CFC113_FLAG_W,TCARBN,TCARBN_FLAG_W,ALKALI,ALKALI_FLAG_W,PH_TOT,PH_TOT_FLAG_W,PH_TMP,DELC14,DELC14_FLAG_W,C14ERR,DELC13,DELC13_FLAG_W,CS-137,CS137ER,CS-137_FLAG_W,SBE35,SBE35_FLAG_W
,,,,,,,,,,,METERS,DBAR,ITS-90,PSS-78,,PSS-78,,UMOL/KG,,UMOL/KG,,UMOL/KG,,UMOL/KG,,UMOL/KG,,UMOL/KG,,PMOL/KG,,PMOL/KG,,PMOL/KG,,UMOL/KG,,UMOL/KG,,,,DEG C,/MILLE,,/MILLE,/MILLE,,DM/.1MG,DM/.1MG,,ITS-90,
  49NZ20031209,  I3I4,   486,  1,     36,  12024,2,20040109,0349,-19.9973,  87.7505, 1822,     10.9,  26.0758,  34.8791,2,  34.8759,2,    196.8,1,    205.6,2,     1.79,4,    -0.03,2,     0.01,2,     0.10,2, -999.000,9, -999.000,9, -999.000,9,   -999.0,9,   -999.0,9,-999.0000,9,  -999.00,   -999.0,9,   -999.0,  -999.00,9,  -999.00,  -999.00,9,  26.0913,2
  49NZ20031209,  I3I4,   486,  1,     35,  12023,2,20040109,0349,-19.9973,  87.7505, 1822,     50.3,  24.5214,  35.1576,2,  35.1481,2,    208.0,1,    216.9,2,     1.94,4,    -0.03,2,     0.01,2,     0.09,2, -999.000,9, -999.000,9, -999.000,9,   -999.0,9,   -999.0,9,-999.0000,9,  -999.00,   -999.0,9,   -999.0,  -999.00,9,  -999.00,  -999.00,9,  24.4658,2
  49NZ20031209,  I3I4,   486,  1,     34,  12022,2,20040109,0349,-19.9973,  87.7505, 1822,    104.0,  21.9018,  35.3470,2,  35.3315,2,    209.1,1,    218.5,2,     2.18,4,    -0.04,2,     0.01,2,     0.12,2, -999.000,9, -999.000,9, -999.000,9,   -999.0,9,   -999.0,9,-999.0000,9,  -999.00,   -999.0,9,   -999.0,  -999.00,9,  -999.00,  -999.00,9,  21.9022,2
  49NZ20031209,  I3I4,   486,  1,     33,  12015,2,20040109,0349,-19.9973,  87.7505, 1822,    150.4,  20.7367,  35.5606,2,  35.5634,2,    204.5,1,    213.0,2,     1.91,4,     0.03,2,     0.03,2,     0.15,2, -999.000,9, -999.000,9, -999.000,9,   -999.0,9,   -999.0,9,-999.0000,9,  -999.00,   -999.0,9,   -999.0,  -999.00,9,  -999.00,  -999.00,9,  20.7363,2
  49NZ20031209,  I3I4,   486,  1,     32,  12020,2,20040109,0349,-19.9973,  87.7505, 1822,    202.0,  19.4039,  35.7784,2,  35.7797,2,    198.5,1,    206.6,2,     2.02,4,     1.26,2,     0.08,2,     0.22,2, -999.000,9, -999.000,9, -999.000,9,   -999.0,9,   -999.0,9,-999.0000,9,  -999.00,   -999.0,9,   -999.0,  -999.00,9,  -999.00,  -999.00,9,  19.4015,2
  49NZ20031209,  I3I4,   486,  1,     31,  12019,2,20040109,0349,-19.9973,  87.7505, 1822,    248.9,  17.6443,  35.7941,2,  35.7944,2,    195.6,1,    203.4,2,     2.32,4,     2.75,2,     0.02,2,     0.33,2, -999.000,9, -999.000,9, -999.000,9,   -999.0,9,   -999.0,9,-999.0000,9,  -999.00,   -999.0,9,   -999.0,  -999.00,9,  -999.00,  -999.00,9,  17.6399,2
  49NZ20031209,  I3I4,   486,  1,     30,  12018,2,20040109,0349,-19.9973,  87.7505, 1822,    303.5,  15.6590,  35.6350,2,  35.6366,2,    207.9,1,    215.6,2,     1.79,4,     3.64,2,     0.01,2,     0.40,2, -999.000,9, -999.000,9, -999.000,9,   -999.0,9,   -999.0,9,-999.0000,9,  -999.00,   -999.0,9,   -999.0,  -999.00,9,  -999.00,  -999.00,9,  15.6605,2
  49NZ20031209,  I3I4,   486,  1,     29,  12021,2,20040109,0349,-19.9973,  87.7505, 1822,    401.3,  12.7493,  35.2301,2,  35.2286,2,    221.0,1,    229.0,2,     2.25,4,     8.14,2,     0.01,2,     0.67,2, -999.000,9, -999.000,9, -999.000,9,   -999.0,9,   -999.0,9,-999.0000,9,  -999.00,   -999.0,9,   -999.0,  -999.00,9,  -999.00,  -999.00,9,  12.7508,2
  49NZ20031209,  I3I4,   486,  1,     28,  12016,2,20040109,0349,-19.9973,  87.7505, 1822,    500.0,  11.1695,  34.9830,2,  34.9817,2,    227.2,1,    235.2,2,     2.91,4,    11.26,2,     0.01,2,     0.85,2, -999.000,9, -999.000,9, -999.000,9,   -999.0,9,   -999.0,9,-999.0000,9,  -999.00,   -999.0,9,   -999.0,  -999.00,9,  -999.00,  -999.00,9,  11.1695,2
  49NZ20031209,  I3I4,   486,  1,     18,  12042,2,20040109,0349,-19.9973,  87.7505, 1822,    600.2,   9.8043,  34.7697,2,  34.7664,2,    227.1,1,    234.7,2,     4.22,4,    15.24,2,     0.02,2,     1.09,2, -999.000,9, -999.000,9, -999.000,9,   -999.0,9,   -999.0,9,-999.0000,9,  -999.00,   -999.0,9,   -999.0,  -999.00,9,  -999.00,  -999.00,9,   9.8033,2
  49NZ20031209,  I3I4,   486,  1,     17,  12041,2,20040109,0349,-19.9973,  87.7505, 1822,    700.4,   8.5980,  34.6166,2,  34.6158,2,    213.2,1,    220.2,4,     8.46,4,    19.79,2,     0.01,2,     1.38,2, -999.000,9, -999.000,9, -999.000,9,   -999.0,9,   -999.0,9,-999.0000,9,  -999.00,   -999.0,9,   -999.0,  -999.00,9,  -999.00,  -999.00,9,   8.5984,2
  49NZ20031209,  I3I4,   486,  1,     16,  12040,2,20040109,0349,-19.9973,  87.7505, 1822,    800.1,   6.3925,  34.4695,2,  34.4694,2,    179.8,1,    185.7,2,    25.21,4,    27.90,2,     0.01,2,     1.92,2, -999.000,9, -999.000,9, -999.000,9,   -999.0,9,   -999.0,9,-999.0000,9,  -999.00,   -999.0,9,   -999.0,  -999.00,9,  -999.00,  -999.00,9,   6.3919,2
  49NZ20031209,  I3I4,   486,  1,     15,  12039,2,20040109,0349,-19.9973,  87.7505, 1822,    901.8,   5.3225,  34.5041,2,  34.5039,2,    143.0,1,    147.6,2,    50.76,4,    32.83,2,     0.01,2,     2.31,2, -999.000,9, -999.000,9, -999.000,9,   -999.0,9,   -999.0,9,-999.0000,9,  -999.00,   -999.0,9,   -999.0,  -999.00,9,  -999.00,  -999.00,9,   5.3226,2
  49NZ20031209,  I3I4,   486,  1,     14,  12038,2,20040109,0349,-19.9973,  87.7505, 1822,   1001.5,   4.9290,  34.6062,2,  34.6062,2,    110.2,1,    112.7,2,    75.77,4,    35.64,2,     0.01,2,     2.55,2, -999.000,9, -999.000,9, -999.000,9,   -999.0,9,   -999.0,9,-999.0000,9,  -999.00,   -999.0,9,   -999.0,  -999.00,9,  -999.00,  -999.00,9,   4.9294,2
  49NZ20031209,  I3I4,   486,  1,     13,  12037,2,20040109,0349,-19.9973,  87.7505, 1822,   1200.6,   4.1679,  34.6409,2,  34.6402,2,    115.7,1,    118.3,2,    85.64,4,    35.86,2,     0.01,2,     2.57,2, -999.000,9, -999.000,9, -999.000,9,   -999.0,9,   -999.0,9,-999.0000,9,  -999.00,   -999.0,9,   -999.0,  -999.00,9,  -999.00,  -999.00,9,   4.1682,2
  49NZ20031209,  I3I4,   486,  1,     12,  12036,2,20040109,0349,-19.9973,  87.7505, 1822,   1399.9,   3.6958,  34.6897,2,  34.6894,2,    119.2,1,    124.0,2,    95.02,4,    35.65,2,     0.01,2,     2.55,2, -999.000,9, -999.000,9, -999.000,9,   -999.0,9,   -999.0,9,-999.0000,9,  -999.00,   -999.0,9,   -999.0,  -999.00,9,  -999.00,  -999.00,9,   3.6953,2
  49NZ20031209,  I3I4,   486,  1,     11,  12035,2,20040109,0349,-19.9973,  87.7505, 1822,   1599.9,   3.1764,  34.7069,2,  34.7067,2,    129.1,1,    131.7,2,   101.52,4,    35.31,2,     0.01,2,     2.51,2, -999.000,9, -999.000,9, -999.000,9,   -999.0,9,   -999.0,9,-999.0000,9,  -999.00,   -999.0,9,   -999.0,  -999.00,9,  -999.00,  -999.00,9,   3.1752,2
  49NZ20031209,  I3I4,   486,  1,     10,  12034,2,20040109,0349,-19.9973,  87.7505, 1822,   1816.7,   2.8436,  34.7168,2,  34.7170,2,    137.2,1,    139.9,2,   105.57,4,    34.95,2,     0.01,2,     2.48,2, -999.000,9, -999.000,9, -999.000,9,   -999.0,9,   -999.0,9,-999.0000,9,  -999.00,   -999.0,9,   -999.0,  -999.00,9,  -999.00,  -999.00,9,   2.8434,2
  49NZ20031209,  I3I4,   486,  1,      3,  12027,2,20040109,0349,-19.9973,  87.7505, 1822,      5.6,  26.1325,  34.8742,2,-999.0000,9,    196.4,1,   -999.0,9,  -999.00,9,  -999.00,9,  -999.00,9,  -999.00,9, -999.000,9, -999.000,9, -999.000,9,   -999.0,9,   -999.0,9,-999.0000,9,  -999.00,   -999.0,9,   -999.0,  -999.00,9,  -999.00,  -999.00,9,  26.1319,2
  49NZ20031209,  I3I4,   486,  1,      2,  12026,2,20040109,0349,-19.9973,  87.7505, 1822,      5.0,  26.1344,  34.8744,2,-999.0000,9,    196.5,1,   -999.0,9,  -999.00,9,  -999.00,9,  -999.00,9,  -999.00,9, -999.000,9, -999.000,9, -999.000,9,   -999.0,9,   -999.0,9,-999.0000,9,  -999.00,   -999.0,9,   -999.0,  -999.00,9,  -999.00,  -999.00,9,  26.1324,2
  49NZ20031209,  I3I4,   486,  1,      1,  12025,2,20040109,0349,-19.9973,  87.7505, 1822,    103.0,  21.9072,  35.3384,2,-999.0000,9,    209.0,1,   -999.0,9,  -999.00,9,  -999.00,9,  -999.00,9,  -999.00,9, -999.000,9, -999.000,9, -999.000,9,   -999.0,9,   -999.0,9,-999.0000,9,  -999.00,   -999.0,9,   -999.0,  -999.00,9,  -999.00,  -999.00,9,  21.9088,2