BOTTLE,20141204PRINUNIVRMK
EXPOCODE,SECT_ID,STNNBR,CASTNO,SAMPNO,BTLNBR,BTLNBR_FLAG_W,DATE,TIME,LATITUDE,LONGITUDE,DEPTH,CTDPRS,CTDTMP,CTDSAL,CTDSAL_FLAG_W,SALNTY,SALNTY_FLAG_W,CTDOXY,CTDOXY_FLAG_W,OXYGEN,OXYGEN_FLAG_W,SILCAT,SILCAT_FLAG_W,NITRAT,NITRAT_FLAG_W,NITRIT,NITRIT_FLAG_W,PHSPHT,PHSPHT_FLAG_W,CFC-11,CFC-11_FLAG_W,CFC-12,CFC-12_FLAG_W,CFC113,CFC113_FLAG_W,TCARBN,TCARBN_FLAG_W,ALKALI,ALKALI_FLAG_W,PH_TOT,PH_TOT_FLAG_W,PH_TMP,DELC14,DELC14_FLAG_W,C14ERR,DELC13,DELC13_FLAG_W,CS-137,CS137ER,CS-137_FLAG_W,SBE35,SBE35_FLAG_W
,,,,,,,,,,,METERS,DBAR,ITS-90,PSS-78,,PSS-78,,UMOL/KG,,UMOL/KG,,UMOL/KG,,UMOL/KG,,UMOL/KG,,UMOL/KG,,PMOL/KG,,PMOL/KG,,PMOL/KG,,UMOL/KG,,UMOL/KG,,,,DEG C,/MILLE,,/MILLE,/MILLE,,DM/.1MG,DM/.1MG,,ITS-90,
  49NZ20031209,  I3I4,   451,  1,     36,  12024,2,20040120,0125,-21.8248, 111.9018, 4942,     10.5,  24.7997,  35.3626,2,  35.3653,2,    199.2,1,    210.0,2,     2.42,2,    -0.03,2,     0.01,2,     0.06,2,    1.858,2,    1.057,4,    0.277,4,   1999.2,2,   2315.2,2,   8.0782,2,    25.00,     58.3,2,      5.3,     1.06,2,  -999.00,  -999.00,9,  24.7990,2
  49NZ20031209,  I3I4,   451,  1,     35,  12023,2,20040120,0125,-21.8248, 111.9018, 4942,     50.1,  21.9025,  35.3101,2,  35.3045,2,    203.5,1,    213.2,2,     3.67,2,    -0.02,2,     0.01,2,     0.12,2,    2.028,2,    1.147,4, -999.000,5,   2013.4,6,   2312.9,2,   8.0504,2,    25.00,     62.3,2,      3.5,     0.98,2,  -999.00,  -999.00,9,  21.8990,2
  49NZ20031209,  I3I4,   451,  1,     34,  12022,2,20040120,0125,-21.8248, 111.9018, 4942,    100.4,  20.3285,  35.4911,2,  35.4903,2,    190.2,1,    199.9,2,     3.26,2,     1.88,2,     0.09,2,     0.22,2,    2.142,2,    1.229,4,    0.338,4,   2041.1,2,   2322.4,6,   8.0161,2,    25.00,     68.8,2,      3.8,     0.82,2,  -999.00,  -999.00,9,  20.3278,2
  49NZ20031209,  I3I4,   451,  1,     33,  12015,2,20040120,0125,-21.8248, 111.9018, 4942,    149.0,  19.2795,  35.6520,2,  35.6534,2,    193.3,1,    203.8,2,     3.06,2,     1.98,2,     0.04,2,     0.22,2,    2.259,2,    1.284,4,    0.277,4,   2055.5,2,   2331.6,2,   8.0070,6,    25.00,     70.3,2,      5.3,     0.66,2,  -999.00,  -999.00,9,  19.3204,2
  49NZ20031209,  I3I4,   451,  1,     32,  12020,2,20040120,0125,-21.8248, 111.9018, 4942,    201.3,  17.1229,  35.5719,2,  35.5638,2,    183.4,1,    192.7,2,     6.03,2,     5.46,2,     0.01,2,     0.47,2,    2.381,2,    1.305,4,    0.198,4,   2089.9,2,   2333.4,2,   7.9378,2,    25.00,     57.1,2,      3.8,     0.82,6,  -999.00,  -999.00,9,  17.1276,2
  49NZ20031209,  I3I4,   451,  1,     31,  12019,2,20040120,0125,-21.8248, 111.9018, 4942,    250.3,  15.3840,  35.5086,2,  35.5041,2,    196.4,1,    205.6,2,     4.99,2,     5.58,2,     0.02,2,     0.50,2,    2.602,6,    1.453,4,    0.145,4,   2097.3,2,   2327.6,2,   7.9214,2,    25.00,     52.7,2,      3.8,     0.97,2,  -999.00,  -999.00,9,  15.3844,2
  49NZ20031209,  I3I4,   451,  1,     30,  12018,2,20040120,0125,-21.8248, 111.9018, 4942,    300.3,  13.8684,  35.3651,2,  35.3635,2,    214.6,1,    225.9,2,     2.44,2,     5.63,2,     0.02,2,     0.50,2,    2.918,2,    1.589,4,    0.142,4,   2098.1,2,   2321.1,2,   7.9092,2,    25.00,     46.1,2,      3.6,     1.13,2,  -999.00,  -999.00,9,  13.8662,2
  49NZ20031209,  I3I4,   451,  1,     29,  12017,2,20040120,0125,-21.8248, 111.9018, 4942,    398.8,  10.2143,  34.8143,2,  34.8099,2,    230.9,1,    242.4,2,     3.44,2,    12.90,2,     0.01,2,     0.95,2,    3.460,2,    1.863,4,    0.157,4,   2116.5,2,   2296.7,2,   7.8254,2,    25.00,     39.6,2,      3.7,     1.09,2,  -999.00,  -999.00,9,  10.2135,2
  49NZ20031209,  I3I4,   451,  1,     28,  12016,2,20040120,0125,-21.8248, 111.9018, 4942,    500.9,   7.4852,  34.5238,2,  34.5233,2,    193.9,1,    203.6,2,    16.39,2,    23.70,2,     0.01,2,     1.64,2,    2.252,2,    1.101,4,    0.085,4,   2161.0,2,   2286.3,2,   7.7106,2,    25.00,     -7.9,2,      3.5,     1.06,2,  -999.00,  -999.00,9,   7.4843,2
  49NZ20031209,  I3I4,   451,  1,     27,  12012,2,20040120,0125,-21.8248, 111.9018, 4942,    600.8,   6.0553,  34.4936,2,  34.4937,2,    154.7,1,    161.6,2,    39.06,2,    30.21,2,     0.01,2,     2.10,2,    0.916,2,    0.371,4,    0.026,4,   2209.7,2,   2307.2,2,   7.6267,2,    25.00,    -93.7,2,      3.5,     0.70,2,  -999.00,  -999.00,9,   6.0567,2
  49NZ20031209,  I3I4,   451,  1,     26,  12014,2,20040120,0125,-21.8248, 111.9018, 4942,    700.5,   5.7919,  34.5749,2,  34.5754,2,    112.0,1,    116.2,2,    63.36,2,    34.03,2,     0.00,2,     2.41,2,    0.239,2,    0.010,4,    0.011,4,   2253.7,6,   2328.5,2,   7.5695,2,    25.00,   -149.4,2,      3.4,     0.42,2,  -999.00,  -999.00,9,   5.7919,2
  49NZ20031209,  I3I4,   451,  1,     25,  12013,2,20040120,0125,-21.8248, 111.9018, 4942,    801.6,   5.4517,  34.6079,2,  34.6076,2,     98.1,1,    101.6,2,    76.41,2,    35.47,2,     0.01,2,     2.54,2,    0.077,2,   -0.067,4,    0.007,4,   2274.2,2,   2342.7,6,   7.5477,2,    25.00,   -155.7,2,      3.2,     0.30,2,  -999.00,  -999.00,9,   5.4537,2
  49NZ20031209,  I3I4,   451,  1,     24,  12048,2,20040120,0125,-21.8248, 111.9018, 4942,    899.4,   5.1007,  34.6237,2,  34.6233,2,     94.5,1,     97.8,2,    84.66,2,    35.98,2,     0.01,2,     2.57,2,    0.031,2,   -0.091,4,   -0.001,4,   2285.8,2,   2354.2,2,   7.5392,6,    25.00,   -164.3,2,      3.3,     0.14,3,  -999.00,  -999.00,9,   5.1005,2
  49NZ20031209,  I3I4,   451,  1,     23,  12047,2,20040120,0125,-21.8248, 111.9018, 4942,   1001.7,   4.6790,  34.6216,2,  34.6218,2,     99.3,1,    103.4,2,    88.21,2,    36.10,2,     0.01,2,     2.59,2,    0.024,6,   -0.071,4,   -0.001,4,   2286.7,2,   2354.3,2,   7.6277,4,    25.00,   -169.8,2,      3.2,     0.25,2,  -999.00,  -999.00,9,   4.6861,2
  49NZ20031209,  I3I4,   451,  1,     22,  12046,2,20040120,0125,-21.8248, 111.9018, 4942,   1199.1,   4.1216,  34.6329,2,  34.6332,2,    106.6,1,    110.6,2,    94.12,2,    36.11,2,     0.00,2,     2.59,2,    0.009,2,   -0.077,4,   -0.001,4,   2291.3,2,   2364.4,2,   7.5433,2,    25.00,   -186.5,3,      3.1,     0.23,2,  -999.00,  -999.00,9,   4.1219,2
  49NZ20031209,  I3I4,   451,  1,     21,  12045,2,20040120,0125,-21.8248, 111.9018, 4942,   1400.7,   3.4860,  34.6547,2,  34.6551,2,    118.2,1,    123.3,2,    98.34,2,    35.79,2,     0.00,2,     2.55,2,    0.003,2,   -0.077,4,   -0.001,4,   2292.4,2,   2368.6,2,   7.5511,2,    25.00,   -177.0,6,      2.3,     0.27,2,  -999.00,  -999.00,9,   3.4862,2
  49NZ20031209,  I3I4,   451,  1,     20,  12044,2,20040120,0125,-21.8248, 111.9018, 4942,   1600.9,   3.0603,  34.6827,2,  34.6828,2,    125.9,1,    131.8,2,   104.19,2,    35.42,2,     0.01,2,     2.52,2,    0.003,2,   -0.071,4,   -0.001,4,   2296.2,2,   2376.6,2,   7.5602,2,    25.00,   -181.5,2,      3.2,     0.20,3,  -999.00,  -999.00,9,   3.0605,2
  49NZ20031209,  I3I4,   451,  1,     19,  12043,2,20040120,0125,-21.8248, 111.9018, 4942,   1800.6,   2.6290,  34.7064,2,  34.7072,2,    135.0,1,    141.8,2,   110.24,2,    34.86,2,     0.01,2,     2.48,2,    0.001,2,   -0.044,4,   -0.001,4,   2297.4,2,   2382.4,2,   7.5734,2,    25.00,   -187.0,2,      3.2,     0.29,2,  -999.00,  -999.00,9,   2.6288,2
  49NZ20031209,  I3I4,   451,  1,     18,  12042,2,20040120,0125,-21.8248, 111.9018, 4942,   2000.1,   2.3405,  34.7203,2,  34.7201,2,    139.5,1,    146.7,2,   116.78,2,    34.76,2,     0.00,2,     2.46,2,    0.009,2,   -0.049,4,   -0.002,4,   2301.7,2,   2389.2,2,   7.5819,2,    25.00,   -199.0,2,      4.5,     0.25,2,  -999.00,  -999.00,9,   2.3405,2
  49NZ20031209,  I3I4,   451,  1,     17,  12041,2,20040120,0125,-21.8248, 111.9018, 4942,   2200.7,   2.1426,  34.7254,2,  34.7252,2,    143.8,1,    151.4,2,   120.48,2,    34.56,2,     0.00,2,     2.44,2,    0.004,2,   -0.071,4,   -0.002,4,   2302.8,2,   2392.7,2,   7.5860,2,    25.00,   -190.4,2,      3.1,     0.17,3,  -999.00,  -999.00,9,   2.1422,2
  49NZ20031209,  I3I4,   451,  1,     16,  12040,2,20040120,0125,-21.8248, 111.9018, 4942,   2400.3,   2.0012,  34.7265,2,  34.7269,2,    148.0,1,    156.1,2,   122.44,2,    34.39,2,     0.01,2,     2.42,2,    0.001,2,   -0.028,4,   -0.002,4,   2301.9,6,   2390.9,2,   7.5909,2,    25.00,   -188.3,2,      3.3,     0.31,2,  -999.00,  -999.00,9,   2.0011,2
  49NZ20031209,  I3I4,   451,  1,     15,  12039,2,20040120,0125,-21.8248, 111.9018, 4942,   2600.1,   1.8653,  34.7261,2,  34.7258,2,    153.1,1,    161.6,2,   123.22,2,    34.09,2,     0.01,2,     2.40,2,    0.000,2,   -0.028,4,   -0.002,4,   2298.0,2,   2392.8,6,   7.5972,2,    25.00,   -198.6,2,      3.2,     0.30,2,  -999.00,  -999.00,9,   1.8653,2
  49NZ20031209,  I3I4,   451,  1,     14,  12038,2,20040120,0125,-21.8248, 111.9018, 4942,   2801.0,   1.7321,  34.7255,2,  34.7256,2,    158.7,1,    167.7,2,   123.21,2,    33.82,2,     0.00,2,     2.36,2,    0.000,2,   -0.020,4,   -0.002,4,   2297.9,2,   2390.4,2,   7.6050,6,    25.00,   -196.1,2,      3.1,     0.31,2,  -999.00,  -999.00,9,   1.7322,2
  49NZ20031209,  I3I4,   451,  1,     13,  12037,2,20040120,0125,-21.8248, 111.9018, 4942,   2999.4,   1.6049,  34.7241,2,  34.7238,2,    164.2,1,    173.6,2,   123.61,2,    33.60,2,     0.00,2,     2.34,2,   -0.008,2,   -0.024,4,   -0.002,4,   2292.2,2,   2392.3,2,   7.6097,2,    25.00,   -192.5,6,      4.3,     0.33,2,  -999.00,  -999.00,9,   1.6047,2
  49NZ20031209,  I3I4,   451,  1,     12,  12036,2,20040120,0125,-21.8248, 111.9018, 4942,   3250.1,   1.4637,  34.7220,2,  34.7228,2,    170.3,1,    179.9,2,   123.35,2,    33.17,2,     0.00,2,     2.30,2,   -0.009,2,   -0.030,4,   -0.002,4,   2289.3,2,   2389.9,2,   7.6171,2,    25.00,   -205.3,3,      3.1,     0.39,2,  -999.00,  -999.00,9,   1.4638,2
  49NZ20031209,  I3I4,   451,  1,     11,  12035,2,20040120,0125,-21.8248, 111.9018, 4942,   3500.0,   1.3330,  34.7190,2,  34.7192,2,    174.5,1,    184.3,2,   125.85,2,    33.17,2,     0.00,2,     2.29,2,    0.006,2,   -0.024,4,   -0.002,4,   2289.5,2,   2391.2,2,   7.6224,2,    25.00,   -188.0,2,      3.1,     0.37,2,  -999.00,  -999.00,9,   1.3328,2
  49NZ20031209,  I3I4,   451,  1,     10,  12034,2,20040120,0125,-21.8248, 111.9018, 4942,   3748.8,   1.2481,  34.7168,2,  34.7168,2,    178.2,1,    187.8,2,   126.95,2,    33.09,2,     0.00,2,     2.28,2,    0.000,2,   -0.013,4,   -0.002,4,   2288.8,2,   2392.3,2,   7.6258,2,    25.00,   -186.1,2,      3.2,     0.38,2,  -999.00,  -999.00,9,   1.2481,2
  49NZ20031209,  I3I4,   451,  1,      9,  12033,2,20040120,0125,-21.8248, 111.9018, 4942,   3999.1,   1.1916,  34.7149,2,  34.7152,2,    181.0,1,    190.3,2,   127.98,2,    33.00,2,     0.01,2,     2.28,2,    0.003,2,    0.003,4,   -0.002,4,   2288.1,2,   2395.0,2,   7.6289,2,    25.00,   -185.9,2,      3.2,     0.40,2,  -999.00,  -999.00,9,   1.1916,2
  49NZ20031209,  I3I4,   451,  1,      8,  12032,2,20040120,0125,-21.8248, 111.9018, 4942,   4750.1,   1.1943,  34.7131,2,  34.7134,2,    186.4,1,    193.3,2,   128.44,2,    32.93,2,     0.01,2,     2.27,2,   -0.001,2,    0.082,4,   -0.001,4,   2288.4,2,   2394.9,2,   7.6350,2,    25.00,   -186.7,3,      3.2,     0.36,3,  -999.00,  -999.00,9,   1.1943,2
  49NZ20031209,  I3I4,   451,  1,      7,  12010,2,20040120,0125,-21.8248, 111.9018, 4942,   4500.7,   1.1779,  34.7135,2,  34.7139,2,    184.7,1,    192.5,2,   128.49,2,    32.95,2,     0.00,2,     2.27,2,   -0.001,2,    0.021,4,   -0.002,4,   2287.1,2,   2394.2,6,   7.6337,2,    25.00,   -176.8,2,      3.2,     0.41,2,  -999.00,  -999.00,9,   1.1779,2
  49NZ20031209,  I3I4,   451,  1,      6,  12030,2,20040120,0125,-21.8248, 111.9018, 4942,   4750.5,   1.1943,  34.7131,2,  34.7128,2,    186.4,1,    193.2,2,   128.85,2,    33.02,2,     0.00,2,     2.27,2,   -0.001,2,    0.039,4,   -0.002,4,   2287.1,2,   2394.9,2,   7.6349,6,    25.00,   -172.5,2,      3.2,     0.42,2,  -999.00,  -999.00,9,   1.1944,2
  49NZ20031209,  I3I4,   451,  1,      5,  12029,2,20040120,0125,-21.8248, 111.9018, 4942,   5019.2,   1.2156,  34.7128,2,  34.7127,2,    188.5,1,    193.4,2,   128.88,2,    32.91,2,     0.00,2,     2.27,2,    0.006,2,   -0.001,4,   -0.001,4,   2289.4,2,   2395.0,2,   7.6363,2,    25.00,   -178.6,2,      3.2,     0.40,2,  -999.00,  -999.00,9,   1.2156,2
  49NZ20031209,  I3I4,   451,  1,      4,  12028,9,20040120,0125,-21.8248, 111.9018, 4942,     10.4,  24.8064,  35.3626,2,-999.0000,9,    199.2,1,   -999.0,9,  -999.00,9,  -999.00,9,  -999.00,9,  -999.00,9, -999.000,9, -999.000,9, -999.000,9,   -999.0,9,   -999.0,9,-999.0000,9,  -999.00,   -999.0,9,   -999.0,  -999.00,9,  -999.00,  -999.00,9,  24.8057,2
  49NZ20031209,  I3I4,   451,  1,      3,  12027,9,20040120,0125,-21.8248, 111.9018, 4942,     10.5,  24.8028,  35.3627,2,-999.0000,9,    199.3,1,   -999.0,9,  -999.00,9,  -999.00,9,  -999.00,9,  -999.00,9, -999.000,9, -999.000,9, -999.000,9,   -999.0,9,   -999.0,9,-999.0000,9,  -999.00,   -999.0,9,   -999.0,  -999.00,9,  -999.00,  -999.00,9,  24.8020,2
  49NZ20031209,  I3I4,   451,  1,      2,  12026,2,20040120,0125,-21.8248, 111.9018, 4942,     76.0,  20.9097,  35.3851,2,-999.0000,9,    188.2,1,   -999.0,9,  -999.00,9,  -999.00,9,  -999.00,9,  -999.00,9, -999.000,9, -999.000,9, -999.000,9,   -999.0,9,   -999.0,9,-999.0000,9,  -999.00,   -999.0,9,   -999.0,  -999.00,9,  -999.00,  -999.00,9,  20.9184,2
  49NZ20031209,  I3I4,   451,  1,      1,  12025,2,20040120,0125,-21.8248, 111.9018, 4942,   4248.9,   1.1772,  34.7140,2,  34.7145,2,    182.9,1,    191.4,2,   128.60,2,    33.05,2,     0.01,2,     2.28,2,    0.003,2,    0.023,4,   -0.002,4,   2288.4,6,   2392.6,2,   7.6338,2,    25.00,   -176.1,2,      3.2,     0.40,2,  -999.00,  -999.00,9,   1.1772,2