BOTTLE,20141204PRINUNIVRMK
EXPOCODE,SECT_ID,STNNBR,CASTNO,SAMPNO,BTLNBR,BTLNBR_FLAG_W,DATE,TIME,LATITUDE,LONGITUDE,DEPTH,CTDPRS,CTDTMP,CTDSAL,CTDSAL_FLAG_W,SALNTY,SALNTY_FLAG_W,CTDOXY,CTDOXY_FLAG_W,OXYGEN,OXYGEN_FLAG_W,SILCAT,SILCAT_FLAG_W,NITRAT,NITRAT_FLAG_W,NITRIT,NITRIT_FLAG_W,PHSPHT,PHSPHT_FLAG_W,CFC-11,CFC-11_FLAG_W,CFC-12,CFC-12_FLAG_W,CFC113,CFC113_FLAG_W,TCARBN,TCARBN_FLAG_W,ALKALI,ALKALI_FLAG_W,PH_TOT,PH_TOT_FLAG_W,PH_TMP,DELC14,DELC14_FLAG_W,C14ERR,DELC13,DELC13_FLAG_W,CS-137,CS137ER,CS-137_FLAG_W,SBE35,SBE35_FLAG_W
,,,,,,,,,,,METERS,DBAR,ITS-90,PSS-78,,PSS-78,,UMOL/KG,,UMOL/KG,,UMOL/KG,,UMOL/KG,,UMOL/KG,,UMOL/KG,,PMOL/KG,,PMOL/KG,,PMOL/KG,,UMOL/KG,,UMOL/KG,,,,DEG C,/MILLE,,/MILLE,/MILLE,,DM/.1MG,DM/.1MG,,ITS-90,
  49NZ20031209,  I3I4,   533,  1,     36,  12024,2,20031226,0503,-20.3600,  60.3762, 3902,     10.5,  27.0935,  35.0091,2,  35.0091,2,    194.3,1,    203.0,2,     1.58,2,     0.04,2,     0.01,2,     0.13,2,    1.625,2,    1.018,2, -999.000,5,   1965.0,2,   2287.2,2,   8.0859,2,    25.00,   -999.0,9,   -999.0,  -999.00,9,  -999.00,  -999.00,9,  27.0953,2
  49NZ20031209,  I3I4,   533,  1,     35,  12023,2,20031226,0503,-20.3600,  60.3762, 3902,     50.1,  25.7137,  34.9042,2,  34.9047,2,    197.2,1,    206.2,2,     1.83,2,     0.02,2,     0.01,2,     0.13,2,    1.691,2,    1.054,2, -999.000,5,   1966.9,6,   2282.9,2,   8.0800,2,    25.00,   -999.0,9,   -999.0,  -999.00,9,  -999.00,  -999.00,9,  25.7126,2
  49NZ20031209,  I3I4,   533,  1,     34,  12022,2,20031226,0503,-20.3600,  60.3762, 3902,     99.8,  24.3529,  34.8626,2,  34.8615,2,    190.5,1,    198.6,2,     2.80,2,     0.92,2,     0.15,2,     0.19,2,    1.769,2,    1.086,2, -999.000,5,   1979.4,2,   2281.2,6,   8.0591,2,    25.00,   -999.0,9,   -999.0,  -999.00,9,  -999.00,  -999.00,9,  24.3594,2
  49NZ20031209,  I3I4,   533,  1,     33,  12015,2,20031226,0503,-20.3600,  60.3762, 3902,    150.0,  20.5139,  35.0570,2,  35.0595,3,    141.2,1,    146.3,2,     9.21,2,     8.98,2,     0.03,2,     0.69,2,    1.769,2,    1.062,2,    0.204,4,   2064.8,2,   2294.8,2,   7.9257,6,    25.00,   -999.0,9,   -999.0,  -999.00,9,  -999.00,  -999.00,9,  20.5095,2
  49NZ20031209,  I3I4,   533,  1,     32,  12020,3,20031226,0503,-20.3600,  60.3762, 3902,    200.2,  19.7815,  35.6911,2,  35.6949,2,    186.1,1,    193.9,2,     2.91,2,     2.51,2,     0.02,2,     0.28,2,    2.149,2,    1.259,2,    0.278,4,   2061.1,2,   2331.0,2,   7.9890,2,    25.00,   -999.0,9,   -999.0,  -999.00,9,  -999.00,  -999.00,9,  19.7788,2
  49NZ20031209,  I3I4,   533,  1,     31,  12019,2,20031226,0503,-20.3600,  60.3762, 3902,    249.5,  18.1199,  35.7452,2,  35.7453,2,    184.3,1,    191.8,2,     3.72,2,     3.92,2,     0.02,2,     0.38,2,    2.269,6,    1.314,6,    0.108,4,   2087.3,2,   2335.7,2,   7.9521,2,    25.00,   -999.0,9,   -999.0,  -999.00,9,  -999.00,  -999.00,9,  18.1126,2
  49NZ20031209,  I3I4,   533,  1,     30,  12018,2,20031226,0503,-20.3600,  60.3762, 3902,    301.4,  16.3460,  35.6342,2,  35.6330,2,    188.5,1,    195.7,2,     4.57,2,     5.38,2,     0.01,2,     0.50,2,    2.452,2,    1.378,2,    0.132,4,   2101.5,2,   2330.9,2,   7.9193,2,    25.00,   -999.0,9,   -999.0,  -999.00,9,  -999.00,  -999.00,9,  16.3466,2
  49NZ20031209,  I3I4,   533,  1,     29,  12021,2,20031226,0503,-20.3600,  60.3762, 3902,    402.4,  13.7725,  35.3693,2,  35.3705,2,    209.4,1,    217.0,2,     3.13,2,     7.34,2,     0.01,2,     0.61,2,    2.866,2,    1.556,2,    0.089,4,   2108.3,2,   2317.7,2,   7.8839,2,    25.00,   -999.0,9,   -999.0,  -999.00,9,  -999.00,  -999.00,9,  13.7730,2
  49NZ20031209,  I3I4,   533,  1,     28,  12016,2,20031226,0503,-20.3600,  60.3762, 3902,    501.6,  11.9283,  35.1014,2,  35.1010,2,    221.1,1,    229.6,2,     3.21,2,    10.33,2,     0.01,2,     0.79,2,    3.115,2,    1.661,2,    0.113,4,   2112.3,2,   2306.1,2,   7.8518,2,    25.00,   -999.0,9,   -999.0,  -999.00,9,  -999.00,  -999.00,9,  11.9286,2
  49NZ20031209,  I3I4,   533,  1,     27,  12012,2,20031226,0503,-20.3600,  60.3762, 3902,    602.6,  10.4000,  34.8677,2,  34.8692,2,    219.4,1,    228.1,2,     4.72,2,    14.09,2,     0.01,2,     1.03,2,    3.097,2,    1.592,2,    0.116,4,   2120.9,2,   2295.9,2,   7.8127,2,    25.00,   -999.0,9,   -999.0,  -999.00,9,  -999.00,  -999.00,9,  10.4017,2
  49NZ20031209,  I3I4,   533,  1,     26,  12014,2,20031226,0503,-20.3600,  60.3762, 3902,    701.8,   9.0872,  34.6876,2,  34.6887,2,    211.9,1,    220.1,2,     7.72,2,    18.31,2,     0.01,2,     1.28,2,    2.673,2,    1.329,2,    0.078,4,   2134.6,6,   2286.5,2,   7.7715,2,    25.00,   -999.0,9,   -999.0,  -999.00,9,  -999.00,  -999.00,9,   9.0862,2
  49NZ20031209,  I3I4,   533,  1,     25,  12013,2,20031226,0503,-20.3600,  60.3762, 3902,    800.9,   7.1497,  34.5239,2,  34.5255,2,    185.1,1,    192.6,2,    19.98,2,    25.42,2,     0.01,2,     1.76,2,    1.333,2,    0.709,2,    0.038,4,   2170.7,2,   2291.1,6,   7.6909,2,    25.00,   -999.0,9,   -999.0,  -999.00,9,  -999.00,  -999.00,9,   7.1562,2
  49NZ20031209,  I3I4,   533,  1,     24,  12048,2,20031226,0503,-20.3600,  60.3762, 3902,    902.7,   5.8716,  34.5084,2,  34.5085,2,    159.0,1,    165.2,2,    39.22,2,    30.40,2,     0.01,2,     2.12,2,    0.514,2,    0.303,2,    0.026,4,   2208.8,2,   2308.0,2,   7.6327,6,    25.00,   -999.0,9,   -999.0,  -999.00,9,  -999.00,  -999.00,9,   5.8726,2
  49NZ20031209,  I3I4,   533,  1,     23,  12047,2,20031226,0503,-20.3600,  60.3762, 3902,   1002.3,   4.9949,  34.5530,2,  34.5541,2,    136.5,1,    141.2,2,    60.06,2,    33.56,2,     0.01,2,     2.38,2,    0.187,6,    0.105,6,    0.000,4,   2245.5,2,   2322.0,2,   7.5856,2,    25.00,   -999.0,9,   -999.0,  -999.00,9,  -999.00,  -999.00,9,   4.9947,2
  49NZ20031209,  I3I4,   533,  1,     22,  12046,2,20031226,0503,-20.3600,  60.3762, 3902,   1202.3,   4.1755,  34.6336,2,  34.6332,2,    126.0,1,    130.4,2,    79.67,2,    35.00,2,     0.00,2,     2.50,2,    0.035,2,    0.023,2,    0.000,4,   2270.9,2,   2344.5,2,   7.5663,2,    25.00,   -999.0,9,   -999.0,  -999.00,9,  -999.00,  -999.00,9,   4.1755,2
  49NZ20031209,  I3I4,   533,  1,     21,  12045,2,20031226,0503,-20.3600,  60.3762, 3902,   3749.1,   1.5051,  34.7215,2,  34.7207,2,    178.1,1,    183.4,2,   122.25,2,    33.32,2,     0.01,2,     2.33,2,   -0.001,2,    0.000,2,    0.000,4,   2284.6,2,   2381.2,2,   7.6158,2,    25.00,   -999.0,9,   -999.0,  -999.00,9,  -999.00,  -999.00,9,   1.5052,2
  49NZ20031209,  I3I4,   533,  1,     20,  12044,2,20031226,0503,-20.3600,  60.3762, 3902,   1600.6,   2.9677,  34.6907,2,  34.6907,2,    144.3,1,    149.8,2,    94.72,2,    34.23,2,     0.01,2,     2.43,2,    0.007,2,    0.004,2,    0.000,4,   2277.1,2,   2359.4,2,   7.5858,2,    25.00,   -999.0,9,   -999.0,  -999.00,9,  -999.00,  -999.00,9,   2.9676,2
  49NZ20031209,  I3I4,   533,  1,     19,  12043,2,20031226,0503,-20.3600,  60.3762, 3902,   1800.6,   2.5796,  34.7066,2,  34.7067,2,    152.1,1,    158.4,2,   100.39,2,    33.82,2,     0.01,2,     2.39,2,   -0.002,2,   -0.004,2,    0.000,4,   2281.4,2,   2368.0,2,   7.5927,2,    25.00,   -999.0,9,   -999.0,  -999.00,9,  -999.00,  -999.00,9,   2.5797,2
  49NZ20031209,  I3I4,   533,  1,     18,  12042,2,20031226,0503,-20.3600,  60.3762, 3902,   2001.5,   2.2749,  34.7186,2,  34.7188,2,    156.6,1,    163.2,2,   107.22,2,    33.70,2,     0.01,2,     2.38,2,   -0.003,2,    0.000,2,    0.000,4,   2283.9,2,   2373.1,2,   7.5995,2,    25.00,   -999.0,9,   -999.0,  -999.00,9,  -999.00,  -999.00,9,   2.2746,2
  49NZ20031209,  I3I4,   533,  1,     17,  12041,2,20031226,0503,-20.3600,  60.3762, 3902,   2200.9,   2.0888,  34.7228,2,  34.7229,2,    160.4,1,    167.3,2,   110.41,2,    33.58,2,     0.00,2,     2.36,2,    0.006,2,    0.002,2,    0.000,4,   2285.1,2,   2377.6,2,   7.6051,2,    25.00,   -999.0,9,   -999.0,  -999.00,9,  -999.00,  -999.00,9,   2.0890,2
  49NZ20031209,  I3I4,   533,  1,     16,  12040,2,20031226,0503,-20.3600,  60.3762, 3902,   2399.8,   1.9405,  34.7243,2,  34.7235,2,    164.1,1,    171.3,2,   112.87,2,    33.50,2,     0.01,2,     2.35,2,    0.002,2,    0.001,2,    0.000,4,   2285.9,6,   2379.3,2,   7.6083,2,    25.00,   -999.0,9,   -999.0,  -999.00,9,  -999.00,  -999.00,9,   1.9404,2
  49NZ20031209,  I3I4,   533,  1,     15,  12039,2,20031226,0503,-20.3600,  60.3762, 3902,   2599.4,   1.8394,  34.7259,2,  34.7260,2,    165.7,1,    172.5,2,   115.75,2,    33.51,2,     0.01,2,     2.35,2,   -0.002,2,   -0.002,2,    0.000,4,   2286.6,2,   2382.3,6,   7.6125,2,    25.00,   -999.0,9,   -999.0,  -999.00,9,  -999.00,  -999.00,9,   1.8391,2
  49NZ20031209,  I3I4,   533,  1,     14,  12038,2,20031226,0503,-20.3600,  60.3762, 3902,   2798.9,   1.7756,  34.7266,2,  34.7264,2,    166.9,1,    173.7,2,   117.97,2,    33.51,2,     0.01,2,     2.35,2,   -0.002,2,    0.001,2,    0.000,4,   2290.0,2,   2382.1,2,   7.6115,6,    25.00,   -999.0,9,   -999.0,  -999.00,9,  -999.00,  -999.00,9,   1.7753,2
  49NZ20031209,  I3I4,   533,  1,     13,  12037,2,20031226,0503,-20.3600,  60.3762, 3902,   3000.4,   1.7111,  34.7254,2,  34.7253,2,    169.5,1,    176.1,2,   118.78,2,    33.46,2,     0.00,2,     2.34,2,   -0.005,2,    0.002,2,    0.000,4,   2287.5,2,   2383.9,2,   7.6128,2,    25.00,   -999.0,9,   -999.0,  -999.00,9,  -999.00,  -999.00,9,   1.7109,2
  49NZ20031209,  I3I4,   533,  1,     12,  12036,2,20031226,0503,-20.3600,  60.3762, 3902,   3250.1,   1.6607,  34.7270,2,  34.7270,2,    169.5,1,    175.6,2,   121.75,2,    33.58,2,     0.00,2,     2.34,2,    0.001,2,    0.000,2,    0.000,4,   2291.3,2,   2384.7,2,   7.6126,2,    25.00,   -999.0,9,   -999.0,  -999.00,9,  -999.00,  -999.00,9,   1.6604,2
  49NZ20031209,  I3I4,   533,  1,     11,  12035,2,20031226,0503,-20.3600,  60.3762, 3902,   3498.5,   1.5314,  34.7229,2,  34.7233,2,    175.6,1,    181.6,2,   122.29,2,    33.34,2,     0.01,2,     2.33,2,    0.000,2,    0.000,2,    0.000,4,   2286.6,2,   2383.9,2,   7.6146,2,    25.00,   -999.0,9,   -999.0,  -999.00,9,  -999.00,  -999.00,9,   1.5310,2
  49NZ20031209,  I3I4,   533,  1,     10,  12034,2,20031226,0503,-20.3600,  60.3762, 3902,   3749.4,   1.5030,  34.7214,2,  34.7217,2,    178.3,1,    183.4,2,   122.89,2,    33.26,2,     0.01,2,     2.33,2,    0.002,2,    0.001,2,    0.000,4,   2285.6,2,   2383.8,2,   7.6134,2,    25.00,   -999.0,9,   -999.0,  -999.00,9,  -999.00,  -999.00,9,   1.5029,2
  49NZ20031209,  I3I4,   533,  1,      9,  12033,2,20031226,0503,-20.3600,  60.3762, 3902,   3950.3,   1.4445,  34.7200,2,  34.7200,2,    181.5,1,    185.6,2,   123.23,2,    33.24,2,     0.01,2,     2.33,2,    0.002,2,   -0.001,2,    0.000,4,   2286.3,2,   2379.4,2,   7.6147,2,    25.00,   -999.0,9,   -999.0,  -999.00,9,  -999.00,  -999.00,9,   1.4444,2
  49NZ20031209,  I3I4,   533,  1,      8,  12032,9,20031226,0503,-20.3600,  60.3762, 3902,      4.6,  27.1190,  35.0109,2,-999.0000,9,    194.2,1,   -999.0,9,  -999.00,9,  -999.00,9,  -999.00,9,  -999.00,9, -999.000,9, -999.000,9, -999.000,9,   -999.0,9,   -999.0,9,-999.0000,9,  -999.00,   -999.0,9,   -999.0,  -999.00,9,  -999.00,  -999.00,9,  27.1250,2
  49NZ20031209,  I3I4,   533,  1,      7,  12031,9,20031226,0503,-20.3600,  60.3762, 3902,   1002.6,   4.9963,  34.5529,2,-999.0000,9,    136.6,1,   -999.0,9,  -999.00,9,  -999.00,9,  -999.00,9,  -999.00,9, -999.000,9, -999.000,9, -999.000,9,   -999.0,9,   -999.0,9,-999.0000,9,  -999.00,   -999.0,9,   -999.0,  -999.00,9,  -999.00,  -999.00,9,   4.9958,2
  49NZ20031209,  I3I4,   533,  1,      6,  12030,9,20031226,0503,-20.3600,  60.3762, 3902,   1002.3,   4.9992,  34.5533,2,-999.0000,9,    136.6,1,   -999.0,9,  -999.00,9,  -999.00,9,  -999.00,9,  -999.00,9, -999.000,9, -999.000,9, -999.000,9,   -999.0,9,   -999.0,9,-999.0000,9,  -999.00,   -999.0,9,   -999.0,  -999.00,9,  -999.00,  -999.00,9,   4.9991,2
  49NZ20031209,  I3I4,   533,  1,      5,  12029,9,20031226,0503,-20.3600,  60.3762, 3902,   3599.3,   1.5203,  34.7223,2,-999.0000,9,    176.6,1,   -999.0,9,  -999.00,9,  -999.00,9,  -999.00,9,  -999.00,9, -999.000,9, -999.000,9, -999.000,9,   -999.0,9,   -999.0,9,-999.0000,9,  -999.00,   -999.0,9,   -999.0,  -999.00,9,  -999.00,  -999.00,9,   1.5207,2
  49NZ20031209,  I3I4,   533,  1,      4,  12028,2,20031226,0503,-20.3600,  60.3762, 3902,      4.4,  27.1019,  35.0101,2,-999.0000,9,    194.2,1,   -999.0,9,  -999.00,9,  -999.00,9,  -999.00,9,  -999.00,9, -999.000,9, -999.000,9, -999.000,9,   -999.0,9,   -999.0,9,-999.0000,9,  -999.00,   -999.0,9,   -999.0,  -999.00,9,  -999.00,  -999.00,9,  27.1046,2
  49NZ20031209,  I3I4,   533,  1,      3,  12027,2,20031226,0503,-20.3600,  60.3762, 3902,      4.5,  27.0962,  35.0098,2,-999.0000,9,    194.1,1,   -999.0,9,  -999.00,9,  -999.00,9,  -999.00,9,  -999.00,9, -999.000,9, -999.000,9, -999.000,9,   -999.0,9,   -999.0,9,-999.0000,9,  -999.00,   -999.0,9,   -999.0,  -999.00,9,  -999.00,  -999.00,9,  27.0967,2
  49NZ20031209,  I3I4,   533,  1,      2,  12026,2,20031226,0503,-20.3600,  60.3762, 3902,    110.5,  23.5719,  34.8746,2,-999.0000,9,    180.7,1,   -999.0,9,  -999.00,9,  -999.00,9,  -999.00,9,  -999.00,9, -999.000,9, -999.000,9, -999.000,9,   -999.0,9,   -999.0,9,-999.0000,9,  -999.00,   -999.0,9,   -999.0,  -999.00,9,  -999.00,  -999.00,9,  23.5703,2
  49NZ20031209,  I3I4,   533,  1,      1,  12025,2,20031226,0503,-20.3600,  60.3762, 3902,   1403.1,   3.5497,  34.6767,2,  34.6762,2,    131.7,1,    136.3,2,    90.14,2,    34.87,2,     0.01,2,     2.49,2,    0.007,2,    0.005,2,    0.000,4,   2277.5,2,   2355.6,2,   7.5719,2,    25.00,   -999.0,9,   -999.0,  -999.00,9,  -999.00,  -999.00,9,   3.5487,2