BOTTLE,20141204PRINUNIVRMK
EXPOCODE,SECT_ID,STNNBR,CASTNO,SAMPNO,BTLNBR,BTLNBR_FLAG_W,DATE,TIME,LATITUDE,LONGITUDE,DEPTH,CTDPRS,CTDTMP,CTDSAL,CTDSAL_FLAG_W,SALNTY,SALNTY_FLAG_W,CTDOXY,CTDOXY_FLAG_W,OXYGEN,OXYGEN_FLAG_W,SILCAT,SILCAT_FLAG_W,NITRAT,NITRAT_FLAG_W,NITRIT,NITRIT_FLAG_W,PHSPHT,PHSPHT_FLAG_W,CFC-11,CFC-11_FLAG_W,CFC-12,CFC-12_FLAG_W,CFC113,CFC113_FLAG_W,TCARBN,TCARBN_FLAG_W,ALKALI,ALKALI_FLAG_W,PH_TOT,PH_TOT_FLAG_W,PH_TMP,DELC14,DELC14_FLAG_W,C14ERR,DELC13,DELC13_FLAG_W,CS-137,CS137ER,CS-137_FLAG_W,SBE35,SBE35_FLAG_W
,,,,,,,,,,,METERS,DBAR,ITS-90,PSS-78,,PSS-78,,UMOL/KG,,UMOL/KG,,UMOL/KG,,UMOL/KG,,UMOL/KG,,UMOL/KG,,PMOL/KG,,PMOL/KG,,PMOL/KG,,UMOL/KG,,UMOL/KG,,,,DEG C,/MILLE,,/MILLE,/MILLE,,DM/.1MG,DM/.1MG,,ITS-90,
  49NZ20031209,  I3I4,   501,  1,     36,  12024,2,20040104,1312,-19.9935,  78.3568, 4536,      9.4,  25.9555,  35.1049,2,  35.1049,2,    198.1,1,    206.9,2,     1.88,2,    -0.02,2,     0.01,2,     0.11,2,    1.809,2,    1.078,2,    0.359,4,   1971.2,2,   2300.1,2,   8.0831,2,    25.00,   -999.0,9,   -999.0,  -999.00,9,  -999.00,  -999.00,9,  25.9547,2
  49NZ20031209,  I3I4,   501,  1,     35,  12023,2,20040104,1312,-19.9935,  78.3568, 4536,     49.6,  24.4948,  35.0917,2,  35.0915,2,    208.8,1,    218.0,2,     1.98,2,    -0.02,2,     0.00,2,     0.10,2,    1.975,2,    1.157,2, -999.000,5,   1973.4,6,   2295.7,2,   8.0794,2,    25.00,   -999.0,9,   -999.0,  -999.00,9,  -999.00,  -999.00,9,  24.4747,2
  49NZ20031209,  I3I4,   501,  1,     34,  12022,2,20040104,1312,-19.9935,  78.3568, 4536,     99.1,  22.3853,  35.2404,2,  35.2392,2,    210.2,1,    219.4,2,     2.19,2,    -0.06,2,     0.01,2,     0.12,2,    2.059,2,    1.214,2, -999.000,5,   1988.0,2,   2307.2,6,   8.0664,2,    25.00,   -999.0,9,   -999.0,  -999.00,9,  -999.00,  -999.00,9,  22.3825,2
  49NZ20031209,  I3I4,   501,  1,     33,  12015,2,20040104,1312,-19.9935,  78.3568, 4536,    149.7,  21.0378,  35.4448,2,  35.4460,2,    184.4,1,    192.0,2,     3.41,2,     2.09,2,     0.13,2,     0.29,2,    2.046,2,    1.232,2,    0.272,4,   2035.3,2,   2321.1,2,   8.0076,6,    25.00,   -999.0,9,   -999.0,  -999.00,9,  -999.00,  -999.00,9,  21.0372,2
  49NZ20031209,  I3I4,   501,  1,     32,  12020,2,20040104,1312,-19.9935,  78.3568, 4536,    199.0,  20.0664,  35.6668,2,  35.6673,2,    187.8,1,    195.7,2,     2.92,2,     2.00,2,     0.06,2,     0.28,2,    2.192,2,    1.295,2,    0.221,4,   2052.6,2,   2332.4,2,   7.9961,2,    25.00,   -999.0,9,   -999.0,  -999.00,9,  -999.00,  -999.00,9,  20.0669,2
  49NZ20031209,  I3I4,   501,  1,     31,  12019,2,20040104,1312,-19.9935,  78.3568, 4536,    249.7,  18.3923,  35.7791,2,  35.7802,2,    185.6,1,    193.4,2,     3.28,2,     3.42,2,     0.01,2,     0.37,2,    2.350,6,    1.367,6,    0.052,4,   2082.4,2,   2341.2,2,   7.9573,2,    25.00,   -999.0,9,   -999.0,  -999.00,9,  -999.00,  -999.00,9,  18.3703,2
  49NZ20031209,  I3I4,   501,  1,     30,  12018,2,20040104,1312,-19.9935,  78.3568, 4536,    300.4,  16.6453,  35.7356,2,  35.7330,2,    204.8,1,    212.8,2,     2.02,2,     2.67,2,     0.01,2,     0.36,2,    2.613,2,    1.502,2,    0.128,4,   2091.7,2,   2343.1,2,   7.9431,2,    25.00,   -999.0,9,   -999.0,  -999.00,9,  -999.00,  -999.00,9,  16.6427,2
  49NZ20031209,  I3I4,   501,  1,     29,  12021,2,20040104,1312,-19.9935,  78.3568, 4536,    399.9,  12.8606,  35.2434,2,  35.2428,2,    220.3,1,    228.4,2,     2.64,2,     8.27,2,     0.01,2,     0.68,2,    3.166,2,    1.741,2,    0.082,4,   2107.1,2,   2313.5,2,   7.8701,2,    25.00,   -999.0,9,   -999.0,  -999.00,9,  -999.00,  -999.00,9,  12.8605,2
  49NZ20031209,  I3I4,   501,  1,     28,  12016,2,20040104,1312,-19.9935,  78.3568, 4536,    499.5,  11.2876,  35.0009,2,  34.9984,2,    225.3,1,    233.8,2,     3.37,2,    11.54,2,     0.01,2,     0.87,2,    3.318,2,    1.774,2,    0.096,4,   2112.4,2,   2302.5,2,   7.8367,2,    25.00,   -999.0,9,   -999.0,  -999.00,9,  -999.00,  -999.00,9,  11.2937,2
  49NZ20031209,  I3I4,   501,  1,     27,  12012,2,20040104,1312,-19.9935,  78.3568, 4536,    600.2,   9.7051,  34.7587,2,  34.7588,2,    224.2,1,    233.0,2,     4.67,2,    15.67,2,     0.01,2,     1.13,2,    3.306,2,    1.658,2,    0.075,4,   2122.7,2,   2289.2,2,   7.7972,2,    25.00,   -999.0,9,   -999.0,  -999.00,9,  -999.00,  -999.00,9,   9.7055,2
  49NZ20031209,  I3I4,   501,  1,     26,  12014,2,20040104,1312,-19.9935,  78.3568, 4536,    699.9,   8.4632,  34.6053,2,  34.6030,2,    209.2,1,    216.3,2,     9.24,2,    20.55,2,     0.00,2,     1.43,2,    2.547,2,    1.256,2,    0.074,4,   2139.8,6,   2287.3,2,   7.7475,2,    25.00,   -999.0,9,   -999.0,  -999.00,9,  -999.00,  -999.00,9,   8.4636,2
  49NZ20031209,  I3I4,   501,  1,     25,  12013,2,20040104,1312,-19.9935,  78.3568, 4536,    800.5,   6.6642,  34.4935,2,  34.4911,2,    174.6,1,    181.2,2,    25.98,2,    27.87,2,     0.01,2,     1.93,2,    1.123,2,    0.543,2,    0.000,4,   2182.3,2,   2299.3,6,   7.6603,2,    25.00,   -999.0,9,   -999.0,  -999.00,9,  -999.00,  -999.00,9,   6.6652,2
  49NZ20031209,  I3I4,   501,  1,     24,  12048,2,20040104,1312,-19.9935,  78.3568, 4536,    899.6,   5.1282,  34.4873,2,  34.4890,2,    148.2,1,    153.5,2,    50.10,2,    32.89,2,     0.00,2,     2.31,2,    0.295,2,    0.146,2,    0.000,4,   2226.9,2,   2318.9,2,   7.5959,2,    25.00,   -999.0,9,   -999.0,  -999.00,9,  -999.00,  -999.00,9,   5.1272,2
  49NZ20031209,  I3I4,   501,  1,     23,  12047,2,20040104,1312,-19.9935,  78.3568, 4536,   1000.7,   4.6619,  34.5489,2,  34.5488,2,    128.2,1,    132.8,2,    67.35,2,    34.86,2,     0.01,2,     2.47,2,    0.068,6,    0.037,6,    0.000,4,   2255.0,2,   2335.3,2,   7.5690,2,    25.00,   -999.0,9,   -999.0,  -999.00,9,  -999.00,  -999.00,9,   4.6619,2
  49NZ20031209,  I3I4,   501,  1,     22,  12046,2,20040104,1312,-19.9935,  78.3568, 4536,   1202.0,   4.3382,  34.6830,2,  34.6822,2,    109.7,1,    112.8,2,    88.74,2,    35.93,2,     0.00,2,     2.57,2,    0.026,2,    0.007,2,    0.000,4,   2284.9,2,   2356.5,2,   7.5502,2,    25.00,   -999.0,9,   -999.0,  -999.00,9,  -999.00,  -999.00,9,   4.3382,2
  49NZ20031209,  I3I4,   501,  1,     21,  12045,2,20040104,1312,-19.9935,  78.3568, 4536,   1400.1,   3.8056,  34.6992,2,  34.6991,2,    117.0,1,    120.7,2,    95.23,2,    35.67,2,     0.01,2,     2.56,2,    0.003,2,    0.001,2,    0.000,4,   2290.3,2,   2362.9,2,   7.5550,2,    25.00,   -999.0,9,   -999.0,  -999.00,9,  -999.00,  -999.00,9,   3.8059,2
  49NZ20031209,  I3I4,   501,  1,     20,  12044,2,20040104,1312,-19.9935,  78.3568, 4536,   1599.9,   3.2836,  34.7108,2,  34.7116,2,    127.2,1,    131.7,2,   100.21,2,    35.35,2,     0.00,2,     2.52,2,   -0.002,2,    0.004,2,    0.000,4,   2290.2,2,   2367.7,2,   7.5641,2,    25.00,   -999.0,9,   -999.0,  -999.00,9,  -999.00,  -999.00,9,   3.2837,2
  49NZ20031209,  I3I4,   501,  1,     19,  12043,2,20040104,1312,-19.9935,  78.3568, 4536,   1800.8,   2.8684,  34.7221,2,  34.7229,2,    136.0,1,    141.1,2,   105.33,2,    34.95,2,     0.01,2,     2.48,2,    0.005,2,    0.001,2,    0.000,4,   2293.0,2,   2375.0,2,   7.5747,2,    25.00,   -999.0,9,   -999.0,  -999.00,9,  -999.00,  -999.00,9,   2.8685,2
  49NZ20031209,  I3I4,   501,  1,     18,  12042,2,20040104,1312,-19.9935,  78.3568, 4536,   2000.8,   2.5197,  34.7258,2,  34.7260,2,    145.4,1,    151.5,2,   108.44,2,    34.42,2,     0.00,2,     2.44,2,    0.001,2,    0.001,2,   -0.005,4,   2289.5,2,   2379.7,2,   7.5853,6,    25.00,   -999.0,9,   -999.0,  -999.00,9,  -999.00,  -999.00,9,   2.5197,2
  49NZ20031209,  I3I4,   501,  1,     17,  12041,2,20040104,1312,-19.9935,  78.3568, 4536,   2198.2,   2.2326,  34.7251,2,  34.7255,2,    155.4,1,    161.8,2,   109.38,2,    33.94,2,     0.00,2,     2.38,2,    0.001,2,    0.000,2,   -0.005,4,   2284.8,2,   2374.5,2,   7.5962,2,    25.00,   -999.0,9,   -999.0,  -999.00,9,  -999.00,  -999.00,9,   2.2322,2
  49NZ20031209,  I3I4,   501,  1,     16,  12040,2,20040104,1312,-19.9935,  78.3568, 4536,   2400.0,   1.9950,  34.7248,2,  34.7252,2,    164.2,1,    171.5,2,   109.69,2,    33.37,2,     0.01,2,     2.33,2,   -0.007,2,   -0.001,2,   -0.001,4,   2279.8,6,   2375.5,2,   7.6032,2,    25.00,   -999.0,9,   -999.0,  -999.00,9,  -999.00,  -999.00,9,   1.9951,2
  49NZ20031209,  I3I4,   501,  1,     15,  12039,2,20040104,1312,-19.9935,  78.3568, 4536,   2599.9,   1.8156,  34.7258,2,  34.7262,2,    171.2,1,    179.0,2,   110.08,2,    32.87,2,     0.00,2,     2.29,2,   -0.003,2,   -0.003,2,    0.000,4,   2274.9,2,   2374.1,6,   7.6113,2,    25.00,   -999.0,9,   -999.0,  -999.00,9,  -999.00,  -999.00,9,   1.8156,2
  49NZ20031209,  I3I4,   501,  1,     14,  12038,2,20040104,1312,-19.9935,  78.3568, 4536,   2799.1,   1.7070,  34.7270,2,  34.7270,2,    172.4,1,    180.2,2,   113.55,2,    33.01,2,     0.00,2,     2.29,2,   -0.001,2,   -0.002,2,    0.000,4,   2280.4,2,   2379.1,2,   7.6143,6,    25.00,   -999.0,9,   -999.0,  -999.00,9,  -999.00,  -999.00,9,   1.7072,2
  49NZ20031209,  I3I4,   501,  1,     13,  12037,2,20040104,1312,-19.9935,  78.3568, 4536,   3000.2,   1.5888,  34.7272,2,  34.7268,2,    174.4,1,    182.2,2,   117.00,2,    32.99,2,     0.00,2,     2.29,2,    0.002,2,   -0.003,2,    0.000,4,   2281.6,2,   2383.7,2,   7.6171,2,    25.00,   -999.0,9,   -999.0,  -999.00,9,  -999.00,  -999.00,9,   1.5888,2
  49NZ20031209,  I3I4,   501,  1,     12,  12036,2,20040104,1312,-19.9935,  78.3568, 4536,   3251.1,   1.4765,  34.7267,2,  34.7263,2,    178.4,1,    186.1,2,   118.19,2,    32.84,2,     0.01,2,     2.27,2,    0.000,2,    0.000,2,    0.000,4,   2281.0,2,   2382.7,2,   7.6210,2,    25.00,   -999.0,9,   -999.0,  -999.00,9,  -999.00,  -999.00,9,   1.4766,2
  49NZ20031209,  I3I4,   501,  1,     11,  12035,2,20040104,1312,-19.9935,  78.3568, 4536,   3500.3,   1.4093,  34.7242,2,  34.7240,2,    178.6,1,    185.9,2,   122.01,2,    33.04,2,     0.00,2,     2.29,2,    0.001,2,    0.002,2,    0.000,4,   2286.5,2,   2385.7,2,   7.6243,2,    25.00,   -999.0,9,   -999.0,  -999.00,9,  -999.00,  -999.00,9,   1.4093,2
  49NZ20031209,  I3I4,   501,  1,     10,  12034,2,20040104,1312,-19.9935,  78.3568, 4536,   3749.0,   1.3733,  34.7216,2,  34.7214,2,    178.8,1,    185.7,2,   125.14,2,    33.20,2,     0.00,2,     2.30,2,   -0.002,2,    0.004,2,    0.000,4,   2287.8,2,   2394.9,2,   7.6251,2,    25.00,   -999.0,9,   -999.0,  -999.00,9,  -999.00,  -999.00,9,   1.3732,2
  49NZ20031209,  I3I4,   501,  1,      9,  12033,2,20040104,1312,-19.9935,  78.3568, 4536,   3999.8,   1.3660,  34.7201,2,  34.7201,2,    178.7,1,    184.8,2,   127.64,2,    33.45,2,     0.01,2,     2.31,2,    0.001,2,    0.004,2,    0.000,4,   2291.9,2,   2400.0,2,   7.6266,2,    25.00,   -999.0,9,   -999.0,  -999.00,9,  -999.00,  -999.00,9,   1.3659,2
  49NZ20031209,  I3I4,   501,  1,      8,  12032,2,20040104,1312,-19.9935,  78.3568, 4536,   4249.9,   1.3735,  34.7190,2,  34.7190,2,    179.0,1,    184.3,2,   129.14,2,    33.46,2,    -0.01,2,     2.32,2,    0.000,2,   -0.003,2,    0.000,4,   2293.8,6,   2398.8,2,   7.6265,2,    25.00,   -999.0,9,   -999.0,  -999.00,9,  -999.00,  -999.00,9,   1.3734,2
  49NZ20031209,  I3I4,   501,  1,      7,  12031,2,20040104,1312,-19.9935,  78.3568, 4536,   4500.0,   1.3814,  34.7181,2,  34.7180,2,    179.7,1,    183.8,2,   130.27,2,    33.61,2,     0.00,2,     2.33,2,    0.004,2,    0.003,2,    0.000,4,   2294.4,2,   2402.6,6,   7.6259,2,    25.00,   -999.0,9,   -999.0,  -999.00,9,  -999.00,  -999.00,9,   1.3813,2
  49NZ20031209,  I3I4,   501,  1,      6,  12030,2,20040104,1312,-19.9935,  78.3568, 4536,   4586.8,   1.3883,  34.7179,2,  34.7179,2,    180.5,1,    183.9,2,   130.46,2,    33.60,2,     0.00,2,     2.33,2,   -0.001,2,    0.000,2,    0.000,4,   2296.8,2,   2405.0,2,   7.6257,6,    25.00,   -999.0,9,   -999.0,  -999.00,9,  -999.00,  -999.00,9,   1.3882,2
  49NZ20031209,  I3I4,   501,  1,      5,  12029,2,20040104,1312,-19.9935,  78.3568, 4536,   4250.9,   1.3738,  34.7190,2,  34.7187,2,    179.0,1,    184.2,2,   128.94,2,    33.55,2,     0.00,2,     2.33,2,    0.000,2,   -0.001,2,    0.000,4,   2294.8,2,   2400.5,2,   7.6269,2,    25.00,   -999.0,9,   -999.0,  -999.00,9,  -999.00,  -999.00,9,   1.3737,2
  49NZ20031209,  I3I4,   501,  1,      4,  12028,9,20040104,1312,-19.9935,  78.3568, 4536,   1000.8,   4.6613,  34.5489,2,-999.0000,9,    128.3,1,   -999.0,9,  -999.00,9,  -999.00,9,  -999.00,9,  -999.00,9, -999.000,9, -999.000,9, -999.000,9,   -999.0,9,   -999.0,9,-999.0000,9,  -999.00,   -999.0,9,   -999.0,  -999.00,9,  -999.00,  -999.00,9,   4.6611,2
  49NZ20031209,  I3I4,   501,  1,      3,  12027,9,20040104,1312,-19.9935,  78.3568, 4536,   1000.9,   4.6595,  34.5490,2,-999.0000,9,    128.3,1,   -999.0,9,  -999.00,9,  -999.00,9,  -999.00,9,  -999.00,9, -999.000,9, -999.000,9, -999.000,9,   -999.0,9,   -999.0,9,-999.0000,9,  -999.00,   -999.0,9,   -999.0,  -999.00,9,  -999.00,  -999.00,9,   4.6605,2
  49NZ20031209,  I3I4,   501,  1,      2,  12026,9,20040104,1312,-19.9935,  78.3568, 4536,   1000.9,   4.6620,  34.5492,2,-999.0000,9,    128.3,1,   -999.0,9,  -999.00,9,  -999.00,9,  -999.00,9,  -999.00,9, -999.000,9, -999.000,9, -999.000,9,   -999.0,9,   -999.0,9,-999.0000,9,  -999.00,   -999.0,9,   -999.0,  -999.00,9,  -999.00,  -999.00,9,   4.6621,2
  49NZ20031209,  I3I4,   501,  1,      1,  12025,9,20040104,1312,-19.9935,  78.3568, 4536,      9.6,  25.9566,  35.1050,2,-999.0000,9,    198.1,1,   -999.0,9,  -999.00,9,  -999.00,9,  -999.00,9,  -999.00,9, -999.000,9, -999.000,9, -999.000,9,   -999.0,9,   -999.0,9,-999.0000,9,  -999.00,   -999.0,9,   -999.0,  -999.00,9,  -999.00,  -999.00,9,  25.9548,2