BOTTLE,20141204PRINUNIVRMK
EXPOCODE,SECT_ID,STNNBR,CASTNO,SAMPNO,BTLNBR,BTLNBR_FLAG_W,DATE,TIME,LATITUDE,LONGITUDE,DEPTH,CTDPRS,CTDTMP,CTDSAL,CTDSAL_FLAG_W,SALNTY,SALNTY_FLAG_W,CTDOXY,CTDOXY_FLAG_W,OXYGEN,OXYGEN_FLAG_W,SILCAT,SILCAT_FLAG_W,NITRAT,NITRAT_FLAG_W,NITRIT,NITRIT_FLAG_W,PHSPHT,PHSPHT_FLAG_W,CFC-11,CFC-11_FLAG_W,CFC-12,CFC-12_FLAG_W,CFC113,CFC113_FLAG_W,TCARBN,TCARBN_FLAG_W,ALKALI,ALKALI_FLAG_W,PH_TOT,PH_TOT_FLAG_W,PH_TMP,DELC14,DELC14_FLAG_W,C14ERR,DELC13,DELC13_FLAG_W,CS-137,CS137ER,CS-137_FLAG_W,SBE35,SBE35_FLAG_W
,,,,,,,,,,,METERS,DBAR,ITS-90,PSS-78,,PSS-78,,UMOL/KG,,UMOL/KG,,UMOL/KG,,UMOL/KG,,UMOL/KG,,UMOL/KG,,PMOL/KG,,PMOL/KG,,PMOL/KG,,UMOL/KG,,UMOL/KG,,,,DEG C,/MILLE,,/MILLE,/MILLE,,DM/.1MG,DM/.1MG,,ITS-90,
  49NZ20031209,  I3I4,   475,  1,     36,  12024,2,20040111,1341,-19.9947,  92.8045, 5081,      9.3,  24.4615,  35.2741,2,  35.2675,2,    203.2,1,    213.1,2,     2.31,2,     0.01,2,    -0.01,2,     0.08,2, -999.000,9, -999.000,9, -999.000,9,   -999.0,9,   -999.0,9,-999.0000,9,  -999.00,   -999.0,9,   -999.0,  -999.00,9,  -999.00,  -999.00,9,  24.4527,2
  49NZ20031209,  I3I4,   475,  1,     35,  12023,2,20040111,1341,-19.9947,  92.8045, 5081,     49.0,  23.6001,  35.2410,2,  35.2448,2,    208.3,1,    218.0,2,     2.34,2,    -0.01,2,    -0.01,2,     0.08,2, -999.000,9, -999.000,9, -999.000,9,   -999.0,9,   -999.0,9,-999.0000,9,  -999.00,   -999.0,9,   -999.0,  -999.00,9,  -999.00,  -999.00,9,  23.6090,2
  49NZ20031209,  I3I4,   475,  1,     34,  12022,2,20040111,1341,-19.9947,  92.8045, 5081,    101.2,  21.5677,  35.3999,2,  35.3919,2,    212.5,1,    221.8,2,     2.47,2,    -0.02,2,    -0.01,2,     0.09,2, -999.000,9, -999.000,9, -999.000,9,   -999.0,9,   -999.0,9,-999.0000,9,  -999.00,   -999.0,9,   -999.0,  -999.00,9,  -999.00,  -999.00,9,  21.5669,2
  49NZ20031209,  I3I4,   475,  1,     33,  12015,2,20040111,1341,-19.9947,  92.8045, 5081,    152.0,  20.5482,  35.5886,2,  35.5853,2,    201.6,1,    210.3,2,     2.41,2,     0.10,2,     0.16,2,     0.15,2, -999.000,9, -999.000,9, -999.000,9,   -999.0,9,   -999.0,9,-999.0000,9,  -999.00,   -999.0,9,   -999.0,  -999.00,9,  -999.00,  -999.00,9,  20.5440,2
  49NZ20031209,  I3I4,   475,  1,     32,  12020,2,20040111,1341,-19.9947,  92.8045, 5081,    201.0,  19.6959,  35.6830,2,  35.6954,2,    192.2,1,    200.6,2,     3.05,2,     1.82,2,     0.04,2,     0.25,2, -999.000,9, -999.000,9, -999.000,9,   -999.0,9,   -999.0,9,-999.0000,9,  -999.00,   -999.0,9,   -999.0,  -999.00,9,  -999.00,  -999.00,9,  19.6870,2
  49NZ20031209,  I3I4,   475,  1,     31,  12019,2,20040111,1341,-19.9947,  92.8045, 5081,    252.0,  17.6641,  35.7942,2,  35.7942,2,    201.2,1,    209.9,2,     2.34,2,     2.12,2,     0.00,2,     0.29,2, -999.000,9, -999.000,9, -999.000,9,   -999.0,9,   -999.0,9,-999.0000,9,  -999.00,   -999.0,9,   -999.0,  -999.00,9,  -999.00,  -999.00,9,  17.6638,2
  49NZ20031209,  I3I4,   475,  1,     30,  12018,2,20040111,1341,-19.9947,  92.8045, 5081,    300.5,  15.6991,  35.6224,2,  35.6204,2,    207.0,1,    215.6,2,     2.24,2,     3.66,2,    -0.01,2,     0.39,2, -999.000,9, -999.000,9, -999.000,9,   -999.0,9,   -999.0,9,-999.0000,9,  -999.00,   -999.0,9,   -999.0,  -999.00,9,  -999.00,  -999.00,9,  15.6957,2
  49NZ20031209,  I3I4,   475,  1,     29,  12017,2,20040111,1341,-19.9947,  92.8045, 5081,    399.2,  12.5860,  35.1965,2,  35.1906,2,    219.9,1,    228.8,2,     2.79,2,     8.27,2,    -0.01,2,     0.68,2, -999.000,9, -999.000,9, -999.000,9,   -999.0,9,   -999.0,9,-999.0000,9,  -999.00,   -999.0,9,   -999.0,  -999.00,9,  -999.00,  -999.00,9,  12.5885,2
  49NZ20031209,  I3I4,   475,  1,     28,  12016,2,20040111,1341,-19.9947,  92.8045, 5081,    499.6,  10.5654,  34.8801,2,  34.8737,2,    229.5,1,    238.8,2,     3.47,2,    12.43,2,    -0.01,2,     0.93,2, -999.000,9, -999.000,9, -999.000,9,   -999.0,9,   -999.0,9,-999.0000,9,  -999.00,   -999.0,9,   -999.0,  -999.00,9,  -999.00,  -999.00,9,  10.5634,2
  49NZ20031209,  I3I4,   475,  1,     27,  12012,2,20040111,1341,-19.9947,  92.8045, 5081,    600.3,   9.1394,  34.6693,2,  34.6678,2,    224.7,1,    233.7,2,     5.27,2,    17.16,2,    -0.01,2,     1.22,2, -999.000,9, -999.000,9, -999.000,9,   -999.0,9,   -999.0,9,-999.0000,9,  -999.00,   -999.0,9,   -999.0,  -999.00,9,  -999.00,  -999.00,9,   9.1395,2
  49NZ20031209,  I3I4,   475,  1,     26,  12014,2,20040111,1341,-19.9947,  92.8045, 5081,    699.0,   7.8412,  34.5418,2,  34.5394,2,    202.3,1,    210.4,2,    12.06,2,    22.53,2,    -0.01,2,     1.56,2, -999.000,9, -999.000,9, -999.000,9,   -999.0,9,   -999.0,9,-999.0000,9,  -999.00,   -999.0,9,   -999.0,  -999.00,9,  -999.00,  -999.00,9,   7.8434,2
  49NZ20031209,  I3I4,   475,  1,     25,  12013,2,20040111,1341,-19.9947,  92.8045, 5081,    801.0,   6.0146,  34.4791,2,  34.4790,2,    161.8,1,    168.1,2,    35.01,2,    30.00,2,    -0.01,2,     2.09,2, -999.000,9, -999.000,9, -999.000,9,   -999.0,9,   -999.0,9,-999.0000,9,  -999.00,   -999.0,9,   -999.0,  -999.00,9,  -999.00,  -999.00,9,   6.0204,2
  49NZ20031209,  I3I4,   475,  1,     24,  12048,2,20040111,1341,-19.9947,  92.8045, 5081,    901.1,   5.1925,  34.5387,2,  34.5385,2,    127.6,1,    132.1,2,    60.64,2,    33.93,2,    -0.01,2,     2.41,2, -999.000,9, -999.000,9, -999.000,9,   -999.0,9,   -999.0,9,-999.0000,9,  -999.00,   -999.0,9,   -999.0,  -999.00,9,  -999.00,  -999.00,9,   5.1952,2
  49NZ20031209,  I3I4,   475,  1,     23,  12047,2,20040111,1341,-19.9947,  92.8045, 5081,   1001.7,   4.6985,  34.5716,2,  34.5730,2,    118.7,1,    122.5,2,    72.82,2,    35.16,2,    -0.01,2,     2.51,2, -999.000,9, -999.000,9, -999.000,9,   -999.0,9,   -999.0,9,-999.0000,9,  -999.00,   -999.0,9,   -999.0,  -999.00,9,  -999.00,  -999.00,9,   4.6997,2
  49NZ20031209,  I3I4,   475,  1,     22,  12046,2,20040111,1341,-19.9947,  92.8045, 5081,   1200.6,   4.1229,  34.6361,2,  34.6361,2,    114.6,1,    118.6,2,    86.56,2,    35.79,2,    -0.02,2,     2.56,2, -999.000,9, -999.000,9, -999.000,9,   -999.0,9,   -999.0,9,-999.0000,9,  -999.00,   -999.0,9,   -999.0,  -999.00,9,  -999.00,  -999.00,9,   4.1228,2
  49NZ20031209,  I3I4,   475,  1,     21,  12045,2,20040111,1341,-19.9947,  92.8045, 5081,   1399.7,   3.4872,  34.6673,2,  34.6673,2,    124.1,1,    129.0,2,    93.40,2,    35.52,2,    -0.01,2,     2.53,2, -999.000,9, -999.000,9, -999.000,9,   -999.0,9,   -999.0,9,-999.0000,9,  -999.00,   -999.0,9,   -999.0,  -999.00,9,  -999.00,  -999.00,9,   3.4873,2
  49NZ20031209,  I3I4,   475,  1,     20,  12044,2,20040111,1341,-19.9947,  92.8045, 5081,   1600.1,   3.0265,  34.6925,2,  34.6925,2,    132.4,1,    137.9,2,    99.65,2,    34.97,2,    -0.01,2,     2.48,2, -999.000,9, -999.000,9, -999.000,9,   -999.0,9,   -999.0,9,-999.0000,9,  -999.00,   -999.0,9,   -999.0,  -999.00,9,  -999.00,  -999.00,9,   3.0267,2
  49NZ20031209,  I3I4,   475,  1,     19,  12043,2,20040111,1341,-19.9947,  92.8045, 5081,   1800.7,   2.6749,  34.7151,2,  34.7151,2,    139.6,1,    145.8,2,   105.65,2,    34.58,2,    -0.01,2,     2.44,2, -999.000,9, -999.000,9, -999.000,9,   -999.0,9,   -999.0,9,-999.0000,9,  -999.00,   -999.0,9,   -999.0,  -999.00,9,  -999.00,  -999.00,9,   2.6745,2
  49NZ20031209,  I3I4,   475,  1,     18,  12042,2,20040111,1341,-19.9947,  92.8045, 5081,   2000.9,   2.3586,  34.7236,2,  34.7237,2,    147.0,1,    153.9,2,   110.04,2,    34.19,2,    -0.01,2,     2.41,2, -999.000,9, -999.000,9, -999.000,9,   -999.0,9,   -999.0,9,-999.0000,9,  -999.00,   -999.0,9,   -999.0,  -999.00,9,  -999.00,  -999.00,9,   2.3585,2
  49NZ20031209,  I3I4,   475,  1,     17,  12041,2,20040111,1341,-19.9947,  92.8045, 5081,   2199.7,   2.1325,  34.7269,2,  34.7270,2,    152.4,1,    159.7,2,   113.30,2,    33.93,2,    -0.01,2,     2.39,2, -999.000,9, -999.000,9, -999.000,9,   -999.0,9,   -999.0,9,-999.0000,9,  -999.00,   -999.0,9,   -999.0,  -999.00,9,  -999.00,  -999.00,9,   2.1325,2
  49NZ20031209,  I3I4,   475,  1,     16,  12040,2,20040111,1341,-19.9947,  92.8045, 5081,   2399.1,   1.9719,  34.7282,2,  34.7279,2,    156.4,1,    164.2,2,   116.05,2,    33.74,2,    -0.02,2,     2.38,2, -999.000,9, -999.000,9, -999.000,9,   -999.0,9,   -999.0,9,-999.0000,9,  -999.00,   -999.0,9,   -999.0,  -999.00,9,  -999.00,  -999.00,9,   1.9719,2
  49NZ20031209,  I3I4,   475,  1,     15,  12039,2,20040111,1341,-19.9947,  92.8045, 5081,   2599.4,   1.8451,  34.7284,2,  34.7273,2,    159.1,1,    167.0,2,   118.65,2,    33.73,2,    -0.01,2,     2.36,2, -999.000,9, -999.000,9, -999.000,9,   -999.0,9,   -999.0,9,-999.0000,9,  -999.00,   -999.0,9,   -999.0,  -999.00,9,  -999.00,  -999.00,9,   1.8450,2
  49NZ20031209,  I3I4,   475,  1,     14,  12038,2,20040111,1341,-19.9947,  92.8045, 5081,   2800.2,   1.7389,  34.7274,2,  34.7270,2,    161.2,1,    169.2,2,   121.26,2,    33.74,2,    -0.02,2,     2.35,2, -999.000,9, -999.000,9, -999.000,9,   -999.0,9,   -999.0,9,-999.0000,9,  -999.00,   -999.0,9,   -999.0,  -999.00,9,  -999.00,  -999.00,9,   1.7388,2
  49NZ20031209,  I3I4,   475,  1,     13,  12037,2,20040111,1341,-19.9947,  92.8045, 5081,   3001.1,   1.6508,  34.7263,2,  34.7262,2,    163.7,1,    171.8,2,   123.18,2,    33.62,2,    -0.02,2,     2.35,2, -999.000,9, -999.000,9, -999.000,9,   -999.0,9,   -999.0,9,-999.0000,9,  -999.00,   -999.0,9,   -999.0,  -999.00,9,  -999.00,  -999.00,9,   1.6506,2
  49NZ20031209,  I3I4,   475,  1,     12,  12036,2,20040111,1341,-19.9947,  92.8045, 5081,   3249.7,   1.5528,  34.7247,2,  34.7243,2,    167.1,1,    175.3,2,   124.30,2,    33.43,2,    -0.01,2,     2.33,2, -999.000,9, -999.000,9, -999.000,9,   -999.0,9,   -999.0,9,-999.0000,9,  -999.00,   -999.0,9,   -999.0,  -999.00,9,  -999.00,  -999.00,9,   1.5528,2
  49NZ20031209,  I3I4,   475,  1,     11,  12035,2,20040111,1341,-19.9947,  92.8045, 5081,   3499.5,   1.4364,  34.7220,2,  34.7214,2,    172.7,1,    180.9,2,   124.34,2,    33.26,2,    -0.01,2,     2.32,2, -999.000,9, -999.000,9, -999.000,9,   -999.0,9,   -999.0,9,-999.0000,9,  -999.00,   -999.0,9,   -999.0,  -999.00,9,  -999.00,  -999.00,9,   1.4362,2
  49NZ20031209,  I3I4,   475,  1,     10,  12034,2,20040111,1341,-19.9947,  92.8045, 5081,   3750.7,   1.3124,  34.7192,2,  34.7191,2,    179.3,1,    187.6,2,   123.75,2,    32.99,2,    -0.01,2,     2.29,2, -999.000,9, -999.000,9, -999.000,9,   -999.0,9,   -999.0,9,-999.0000,9,  -999.00,   -999.0,9,   -999.0,  -999.00,9,  -999.00,  -999.00,9,   1.3126,2
  49NZ20031209,  I3I4,   475,  1,      9,  12033,2,20040111,1341,-19.9947,  92.8045, 5081,   4000.6,   1.2105,  34.7168,2,  34.7166,2,    186.0,1,    194.5,2,   122.18,2,    32.63,2,    -0.01,2,     2.26,2, -999.000,9, -999.000,9, -999.000,9,   -999.0,9,   -999.0,9,-999.0000,9,  -999.00,   -999.0,9,   -999.0,  -999.00,9,  -999.00,  -999.00,9,   1.2105,2
  49NZ20031209,  I3I4,   475,  1,      8,  12032,2,20040111,1341,-19.9947,  92.8045, 5081,   4250.3,   1.1416,  34.7146,2,  34.7142,2,    190.7,1,    198.8,2,   121.70,2,    32.47,2,    -0.01,2,     2.24,2, -999.000,9, -999.000,9, -999.000,9,   -999.0,9,   -999.0,9,-999.0000,9,  -999.00,   -999.0,9,   -999.0,  -999.00,9,  -999.00,  -999.00,9,   1.1416,2
  49NZ20031209,  I3I4,   475,  1,      7,  12031,2,20040111,1341,-19.9947,  92.8045, 5081,   4499.0,   1.1222,  34.7133,2,  34.7133,2,    193.2,1,    200.6,2,   121.83,2,    32.34,2,    -0.01,2,     2.24,2, -999.000,9, -999.000,9, -999.000,9,   -999.0,9,   -999.0,9,-999.0000,9,  -999.00,   -999.0,9,   -999.0,  -999.00,9,  -999.00,  -999.00,9,   1.1223,2
  49NZ20031209,  I3I4,   475,  1,      6,  12030,2,20040111,1341,-19.9947,  92.8045, 5081,   4749.9,   1.1268,  34.7127,2,  34.7122,3,    195.2,1,    201.6,2,   121.73,2,    32.40,2,    -0.01,2,     2.23,2, -999.000,9, -999.000,9, -999.000,9,   -999.0,9,   -999.0,9,-999.0000,9,  -999.00,   -999.0,9,   -999.0,  -999.00,9,  -999.00,  -999.00,9,   1.1268,2
  49NZ20031209,  I3I4,   475,  1,      5,  12029,2,20040111,1341,-19.9947,  92.8045, 5081,   5000.2,   1.1231,  34.7113,2,  34.7121,2,    197.8,1,    203.2,2,   121.70,2,    32.26,2,    -0.01,2,     2.23,2, -999.000,9, -999.000,9, -999.000,9,   -999.0,9,   -999.0,9,-999.0000,9,  -999.00,   -999.0,9,   -999.0,  -999.00,9,  -999.00,  -999.00,9,   1.1230,2
  49NZ20031209,  I3I4,   475,  1,      4,  12028,2,20040111,1341,-19.9947,  92.8045, 5081,   5111.3,   1.1242,  34.7109,2,  34.7113,2,    199.4,1,    203.7,2,   121.59,2,    32.29,2,    -0.01,2,     2.23,2, -999.000,9, -999.000,9, -999.000,9,   -999.0,9,   -999.0,9,-999.0000,9,  -999.00,   -999.0,9,   -999.0,  -999.00,9,  -999.00,  -999.00,9,   1.1241,2
  49NZ20031209,  I3I4,   475,  1,      3,  12027,9,20040111,1341,-19.9947,  92.8045, 5081,    899.8,   5.2048,  34.5386,2,-999.0000,9,    127.4,1,   -999.0,9,  -999.00,9,  -999.00,9,  -999.00,9,  -999.00,9, -999.000,9, -999.000,9, -999.000,9,   -999.0,9,   -999.0,9,-999.0000,9,  -999.00,   -999.0,9,   -999.0,  -999.00,9,  -999.00,  -999.00,9,   5.2049,2
  49NZ20031209,  I3I4,   475,  1,      2,  12026,9,20040111,1341,-19.9947,  92.8045, 5081,   1001.5,   4.7006,  34.5716,2,-999.0000,9,    118.4,1,   -999.0,9,  -999.00,9,  -999.00,9,  -999.00,9,  -999.00,9, -999.000,9, -999.000,9, -999.000,9,   -999.0,9,   -999.0,9,-999.0000,9,  -999.00,   -999.0,9,   -999.0,  -999.00,9,  -999.00,  -999.00,9,   4.7013,2
  49NZ20031209,  I3I4,   475,  1,      1,  12025,9,20040111,1341,-19.9947,  92.8045, 5081,      9.7,  24.0537,  35.2391,2,-999.0000,9,    205.0,1,   -999.0,9,  -999.00,9,  -999.00,9,  -999.00,9,  -999.00,9, -999.000,9, -999.000,9, -999.000,9,   -999.0,9,   -999.0,9,-999.0000,9,  -999.00,   -999.0,9,   -999.0,  -999.00,9,  -999.00,  -999.00,9,  24.0280,2