BOTTLE,20141204PRINUNIVRMK
EXPOCODE,SECT_ID,STNNBR,CASTNO,SAMPNO,BTLNBR,BTLNBR_FLAG_W,DATE,TIME,LATITUDE,LONGITUDE,DEPTH,CTDPRS,CTDTMP,CTDSAL,CTDSAL_FLAG_W,SALNTY,SALNTY_FLAG_W,CTDOXY,CTDOXY_FLAG_W,OXYGEN,OXYGEN_FLAG_W,SILCAT,SILCAT_FLAG_W,NITRAT,NITRAT_FLAG_W,NITRIT,NITRIT_FLAG_W,PHSPHT,PHSPHT_FLAG_W,CFC-11,CFC-11_FLAG_W,CFC-12,CFC-12_FLAG_W,CFC113,CFC113_FLAG_W,TCARBN,TCARBN_FLAG_W,ALKALI,ALKALI_FLAG_W,PH_TOT,PH_TOT_FLAG_W,PH_TMP,DELC14,DELC14_FLAG_W,C14ERR,DELC13,DELC13_FLAG_W,CS-137,CS137ER,CS-137_FLAG_W,SBE35,SBE35_FLAG_W
,,,,,,,,,,,METERS,DBAR,ITS-90,PSS-78,,PSS-78,,UMOL/KG,,UMOL/KG,,UMOL/KG,,UMOL/KG,,UMOL/KG,,UMOL/KG,,PMOL/KG,,PMOL/KG,,PMOL/KG,,UMOL/KG,,UMOL/KG,,,,DEG C,/MILLE,,/MILLE,/MILLE,,DM/.1MG,DM/.1MG,,ITS-90,
  49NZ20031209,  I3I4,   503,  1,     36,  12024,2,20040103,2259,-19.9872,  76.9078, 5048,     10.2,  26.0337,  35.1288,2,  35.1302,2,    196.3,1,    205.7,2,     1.99,2,    -0.01,2,     0.01,2,     0.12,2,    1.708,2,    1.065,2,    0.338,4,   1976.5,2,   2300.0,2,   8.0790,2,    25.00,     64.7,2,      3.5,     1.03,2,  -999.00,  -999.00,9,  26.0346,2
  49NZ20031209,  I3I4,   503,  1,     35,  12023,2,20040103,2259,-19.9872,  76.9078, 5048,     49.4,  23.7432,  35.1826,2,  35.1823,2,    213.0,1,    223.1,2,     2.06,2,    -0.03,2,     0.00,2,     0.11,2,    1.968,2,    1.165,2, -999.000,5,   1981.8,6,   2301.1,2,   8.0760,2,    25.00,     72.0,2,      3.5,     1.05,2,  -999.00,  -999.00,9,  23.7395,2
  49NZ20031209,  I3I4,   503,  1,     34,  12022,2,20040103,2259,-19.9872,  76.9078, 5048,     98.9,  21.7311,  35.3498,2,  35.3535,2,    209.5,1,    219.2,2,     2.30,2,    -0.01,2,     0.01,2,     0.13,2,    2.040,2,    1.217,2, -999.000,5,   2002.9,2,   2313.1,6,   8.0560,2,    25.00,     71.0,2,      3.5,     1.02,2,  -999.00,  -999.00,9,  21.7301,2
  49NZ20031209,  I3I4,   503,  1,     33,  12015,2,20040103,2259,-19.9872,  76.9078, 5048,    151.4,  20.4304,  35.5188,2,  35.5145,2,    178.9,1,    185.2,2,     3.98,2,     3.24,2,     0.07,2,     0.36,2,    2.072,2,    1.227,2,    0.222,4,   2051.9,2,   2321.1,2,   7.9851,2,    25.00,     67.2,2,      3.5,     0.73,2,  -999.00,  -999.00,9,  20.4314,2
  49NZ20031209,  I3I4,   503,  1,     32,  12020,2,20040103,2259,-19.9872,  76.9078, 5048,    200.5,  19.5272,  35.7304,2,  35.7304,2,    183.8,1,    191.9,2,     3.23,2,     2.75,2,     0.01,2,     0.33,2,    2.174,2,    1.286,2,    0.168,4,   2067.7,2,   2339.5,2,   7.9783,2,    25.00,     75.9,6,      2.6,     0.82,6,  -999.00,  -999.00,9,  19.5268,2
  49NZ20031209,  I3I4,   503,  1,     31,  12019,3,20040103,2259,-19.9872,  76.9078, 5048,    250.7,  17.7648,  35.7825,2,  35.7814,2,    188.4,1,    196.4,2,     3.29,2,     3.51,2,     0.01,2,     0.39,2,    2.393,6,    1.379,6,    0.050,4,   2087.8,2,   2343.6,2,   7.9502,2,    25.00,     83.6,2,      3.6,     0.89,2,  -999.00,  -999.00,9,  17.7644,2
  49NZ20031209,  I3I4,   503,  1,     30,  12018,2,20040103,2259,-19.9872,  76.9078, 5048,    301.1,  15.9599,  35.6640,2,  35.6663,2,    201.1,1,    209.2,2,     2.60,2,     4.04,2,     0.01,2,     0.44,2,    2.648,2,    1.489,2,    0.085,4,   2097.9,2,   2338.7,2,   7.9257,2,    25.00,     74.4,2,      3.4,     1.05,2,  -999.00,  -999.00,9,  15.9576,2
  49NZ20031209,  I3I4,   503,  1,     29,  12021,2,20040103,2259,-19.9872,  76.9078, 5048,    397.7,  12.5275,  35.2028,2,  35.2027,2,    218.0,1,    226.9,2,     2.88,2,     8.91,2,     0.01,2,     0.73,2,    3.114,2,    1.670,2,    0.066,4,   2110.9,2,   2310.2,2,   7.8616,2,    25.00,     65.2,2,      3.6,     1.14,2,  -999.00,  -999.00,9,  12.5286,2
  49NZ20031209,  I3I4,   503,  1,     28,  12016,2,20040103,2259,-19.9872,  76.9078, 5048,    499.6,  11.0029,  34.9617,2,  34.9576,2,    222.8,1,    231.8,2,     3.67,2,    12.27,2,     0.00,2,     0.92,2,    3.231,2,    1.685,2,    0.095,4,   2116.6,2,   2300.8,2,   7.8276,2,    25.00,     61.6,2,      3.5,     1.19,2,  -999.00,  -999.00,9,  11.0063,2
  49NZ20031209,  I3I4,   503,  1,     27,  12012,2,20040103,2259,-19.9872,  76.9078, 5048,    598.5,   9.6994,  34.7651,2,  34.7639,2,    218.7,1,    228.1,2,     5.52,2,    15.91,2,     0.01,2,     1.15,2,    3.196,2,    1.625,2,    0.088,4,   2127.4,2,   2294.2,2,   7.7911,2,    25.00,     43.4,2,      3.5,     1.21,2,  -999.00,  -999.00,9,   9.7005,2
  49NZ20031209,  I3I4,   503,  1,     26,  12014,2,20040103,2259,-19.9872,  76.9078, 5048,    699.8,   8.2620,  34.5915,2,  34.5892,2,    202.3,1,    210.7,2,    11.06,2,    21.42,2,     0.01,2,     1.49,2,    2.316,2,    1.157,2,    0.049,4,   2145.8,6,   2287.2,2,   7.7353,2,    25.00,      4.7,2,      3.5,     1.20,2,  -999.00,  -999.00,9,   8.2603,2
  49NZ20031209,  I3I4,   503,  1,     25,  12013,2,20040103,2259,-19.9872,  76.9078, 5048,    800.0,   6.3698,  34.4762,2,  34.4755,2,    173.6,1,    179.9,2,    28.17,2,    28.56,2,     0.00,2,     1.98,2,    0.892,2,    0.473,2,    0.030,4,   2187.8,2,   2296.7,6,   7.6523,2,    25.00,    -59.6,2,      3.3,     0.96,2,  -999.00,  -999.00,9,   6.3695,2
  49NZ20031209,  I3I4,   503,  1,     24,  12048,2,20040103,2259,-19.9872,  76.9078, 5048,    900.3,   5.0502,  34.4949,2,  34.4977,2,    144.0,1,    149.4,2,    53.00,2,    33.11,2,     0.00,2,     2.33,2,    0.227,2,    0.107,2,    0.000,4,   2233.1,2,   2318.2,2,   7.5909,6,    25.00,   -123.2,2,      3.1,     0.64,2,  -999.00,  -999.00,9,   5.0502,2
  49NZ20031209,  I3I4,   503,  1,     23,  12047,2,20040103,2259,-19.9872,  76.9078, 5048,   1000.0,   4.7062,  34.5776,2,  34.5797,2,    120.8,1,    125.0,2,    71.68,2,    35.06,2,     0.00,2,     2.51,2,    0.051,6,    0.026,6,    0.000,4,   2264.1,2,   2341.7,2,   7.5605,2,    25.00,   -152.6,2,      3.1,     0.40,2,  -999.00,  -999.00,9,   4.7065,2
  49NZ20031209,  I3I4,   503,  1,     22,  12046,2,20040103,2259,-19.9872,  76.9078, 5048,   1201.4,   4.3000,  34.6769,2,  34.6770,2,    108.8,1,    112.6,2,    89.41,2,    35.85,2,     0.00,2,     2.58,2,    0.017,2,    0.005,2,    0.000,4,   2289.0,2,   2359.0,2,   7.5487,2,    25.00,   -999.0,5,   -999.0,  -999.00,5,  -999.00,  -999.00,9,   4.2999,2
  49NZ20031209,  I3I4,   503,  1,     21,  12045,2,20040103,2259,-19.9872,  76.9078, 5048,   1398.8,   3.8182,  34.7048,2,  34.7048,2,    115.3,1,    119.6,2,    96.07,2,    35.70,2,     0.00,2,     2.56,2,    0.019,2,    0.004,2,    0.000,4,   2291.2,2,   2369.1,2,   7.5537,2,    25.00,   -172.9,2,      3.0,     0.30,2,  -999.00,  -999.00,9,   3.8182,2
  49NZ20031209,  I3I4,   503,  1,     20,  12044,2,20040103,2259,-19.9872,  76.9078, 5048,   1599.6,   3.3483,  34.7153,2,  34.7152,2,    123.8,1,    128.8,2,   101.27,2,    35.34,2,     0.00,2,     2.53,2,   -0.004,2,    0.002,2,    0.000,4,   2292.2,2,   2375.5,2,   7.5620,2,    25.00,   -179.2,2,      3.0,     0.29,2,  -999.00,  -999.00,9,   3.3493,2
  49NZ20031209,  I3I4,   503,  1,     19,  12043,2,20040103,2259,-19.9872,  76.9078, 5048,   1801.0,   2.9163,  34.7238,2,  34.7237,2,    132.9,1,    138.7,2,   105.91,2,    34.91,2,     0.00,2,     2.49,2,   -0.002,2,    0.000,2,    0.000,4,   2294.3,2,   2375.6,2,   7.5724,2,    25.00,   -180.3,2,      2.9,     0.30,2,  -999.00,  -999.00,9,   2.9165,2
  49NZ20031209,  I3I4,   503,  1,     18,  12042,2,20040103,2259,-19.9872,  76.9078, 5048,   2001.0,   2.5649,  34.7271,2,  34.7271,2,    142.1,1,    148.6,2,   108.92,2,    34.49,2,     0.00,2,     2.44,2,    0.003,2,    0.000,2,    0.000,4,   2291.1,2,   2377.8,2,   7.5832,6,    25.00,   -185.9,2,      2.9,     0.36,2,  -999.00,  -999.00,9,   2.5648,2
  49NZ20031209,  I3I4,   503,  1,     17,  12041,2,20040103,2259,-19.9872,  76.9078, 5048,   2201.0,   2.2708,  34.7272,2,  34.7270,2,    151.3,1,    158.6,2,   110.70,2,    34.01,2,     0.00,2,     2.39,2,    0.004,2,    0.000,2,    0.000,4,   2288.2,2,   2377.3,2,   7.5920,2,    25.00,   -185.4,2,      3.0,     0.39,2,  -999.00,  -999.00,9,   2.2706,2
  49NZ20031209,  I3I4,   503,  1,     16,  12040,2,20040103,2259,-19.9872,  76.9078, 5048,   2400.1,   2.0792,  34.7270,2,  34.7266,2,    158.2,1,    166.2,2,   111.26,2,    33.59,2,     0.00,2,     2.35,2,    0.030,4,    0.010,4,    0.000,4,   2284.6,6,   2380.5,2,   7.5999,2,    25.00,   -181.2,2,      3.0,     0.38,2,  -999.00,  -999.00,9,   2.0791,2
  49NZ20031209,  I3I4,   503,  1,     15,  12039,2,20040103,2259,-19.9872,  76.9078, 5048,   2600.8,   1.8713,  34.7254,2,  34.7260,2,    168.7,1,    177.3,2,   109.01,2,    32.81,2,     0.00,2,     2.29,2, -999.000,5, -999.000,5, -999.000,5,   2275.9,2,   2375.0,6,   7.6114,2,    25.00,   -176.4,2,      3.0,     0.45,2,  -999.00,  -999.00,9,   1.8715,2
  49NZ20031209,  I3I4,   503,  1,     14,  12038,2,20040103,2259,-19.9872,  76.9078, 5048,   2800.6,   1.7291,  34.7270,2,  34.7272,2,    172.8,1,    182.0,2,   110.62,2,    32.64,2,     0.00,2,     2.26,2,    0.001,2,    0.000,2,    0.000,4,   2278.6,2,   2375.2,2,   7.6165,6,    25.00,   -177.7,2,      3.0,     0.48,3,  -999.00,  -999.00,9,   1.7291,2
  49NZ20031209,  I3I4,   503,  1,     13,  12037,2,20040103,2259,-19.9872,  76.9078, 5048,   2999.7,   1.6151,  34.7278,2,  34.7280,2,    175.3,1,    184.7,2,   113.23,2,    32.54,2,     0.00,2,     2.27,2,   -0.001,2,   -0.002,2,    0.000,4,   2277.7,2,   2377.0,2,   7.6186,2,    25.00,   -183.5,6,      2.1,     0.43,6,  -999.00,  -999.00,9,   1.6153,2
  49NZ20031209,  I3I4,   503,  1,     12,  12036,2,20040103,2259,-19.9872,  76.9078, 5048,   3295.9,   1.4722,  34.7261,2,  34.7261,2,    175.7,1,    185.2,2,   119.28,2,    32.83,2,     0.00,2,     2.28,2,    0.002,2,    0.001,2,    0.000,4,   2283.6,2,   2385.3,2,   7.6220,2,    25.00,   -183.6,2,      3.1,     0.41,2,  -999.00,  -999.00,9,   1.4722,2
  49NZ20031209,  I3I4,   503,  1,     11,  12035,2,20040103,2259,-19.9872,  76.9078, 5048,   3550.8,   1.4003,  34.7234,2,  34.7233,2,    176.0,1,    184.9,2,   123.52,2,    32.98,2,     0.00,2,     2.29,2,   -0.001,2,   -0.001,2,    0.000,4,   2287.1,2,   2389.1,2,   7.6251,2,    25.00,   -197.7,3,      3.1,     0.39,2,  -999.00,  -999.00,9,   1.4004,2
  49NZ20031209,  I3I4,   503,  1,     10,  12034,2,20040103,2259,-19.9872,  76.9078, 5048,   3750.3,   1.3860,  34.7223,2,  34.7232,2,    176.6,1,    185.3,2,   124.70,2,    33.09,2,     0.00,2,     2.29,2,    0.004,2,    0.001,2,    0.000,4,   2288.9,2,   2392.4,2,   7.6258,2,    25.00,   -193.6,2,      3.2,     0.42,2,  -999.00,  -999.00,9,   1.3862,2
  49NZ20031209,  I3I4,   503,  1,      9,  12033,2,20040103,2259,-19.9872,  76.9078, 5048,   4000.3,   1.3874,  34.7209,2,  34.7207,2,    175.6,1,    183.7,2,   127.49,2,    33.31,2,     0.00,2,     2.31,2,   -0.002,2,    0.000,2,    0.000,4,   2293.0,2,   2396.3,2,   7.6264,2,    25.00,   -186.4,2,      3.0,     0.38,2,  -999.00,  -999.00,9,   1.3876,2
  49NZ20031209,  I3I4,   503,  1,      8,  12032,2,20040103,2259,-19.9872,  76.9078, 5048,   4249.9,   1.4005,  34.7201,2,  34.7201,2,    175.5,1,    183.0,2,   129.02,2,    33.34,2,     0.00,2,     2.31,2,   -0.003,2,   -0.002,2,    0.000,4,   2295.4,6,   2396.6,2,   7.6264,2,    25.00,   -192.2,2,      3.0,     0.40,2,  -999.00,  -999.00,9,   1.4007,2
  49NZ20031209,  I3I4,   503,  1,      7,  12031,2,20040103,2259,-19.9872,  76.9078, 5048,   4575.8,   1.4260,  34.7195,2,  34.7200,3,    176.3,1,    182.8,2,   129.45,2,    33.45,2,     0.01,2,     2.31,2,   -0.001,2,    0.000,2,    0.000,4,   2296.0,2,   2401.1,6,   7.6264,2,    25.00,   -192.4,2,      3.0,     0.39,2,  -999.00,  -999.00,9,   1.4261,2
  49NZ20031209,  I3I4,   503,  1,      6,  12030,2,20040103,2259,-19.9872,  76.9078, 5048,   4749.2,   1.4425,  34.7191,2,  34.7192,2,    176.9,1,    182.7,2,   129.51,2,    33.45,2,     0.00,2,     2.32,2,    0.001,2,    0.000,2,    0.000,4,   2296.0,2,   2398.8,2,   7.6271,2,    25.00,   -189.7,2,      2.9,     0.41,2,  -999.00,  -999.00,9,   1.4424,2
  49NZ20031209,  I3I4,   503,  1,      5,  12029,2,20040103,2259,-19.9872,  76.9078, 5048,   5002.3,   1.4710,  34.7190,2,  34.7190,2,    178.0,4,    182.7,2,   129.75,2,    33.46,2,     0.00,2,     2.32,2,   -0.001,2,   -0.001,2,    0.000,4,   2295.9,2,   2398.0,2,   7.6271,2,    25.00,   -188.5,2,      3.0,     0.40,2,  -999.00,  -999.00,9,   1.4709,2
  49NZ20031209,  I3I4,   503,  1,      4,  12028,2,20040103,2259,-19.9872,  76.9078, 5048,   5168.2,   1.4921,  34.7190,2,  34.7190,2,    178.8,4,    182.7,2,   129.49,2,    33.50,2,     0.00,2,     2.32,2,   -0.001,2,    0.000,2,    0.000,4,   2295.6,2,   2396.2,2,   7.6274,2,    25.00,   -193.0,2,      2.9,     0.40,2,  -999.00,  -999.00,9,   1.4918,2
  49NZ20031209,  I3I4,   503,  1,      3,  12027,9,20040103,2259,-19.9872,  76.9078, 5048,      5.3,  26.0288,  35.1297,2,-999.0000,9,    196.4,1,   -999.0,9,  -999.00,9,  -999.00,9,  -999.00,9,  -999.00,9, -999.000,9, -999.000,9, -999.000,9,   -999.0,9,   -999.0,9,-999.0000,9,  -999.00,   -999.0,9,   -999.0,  -999.00,9,  -999.00,  -999.00,9,  26.0296,2
  49NZ20031209,  I3I4,   503,  1,      2,  12026,9,20040103,2259,-19.9872,  76.9078, 5048,    109.9,  21.4848,  35.4354,2,-999.0000,9,    202.4,1,   -999.0,9,  -999.00,9,  -999.00,9,  -999.00,9,  -999.00,9, -999.000,9, -999.000,9, -999.000,9,   -999.0,9,   -999.0,9,-999.0000,9,  -999.00,   -999.0,9,   -999.0,  -999.00,9,  -999.00,  -999.00,9,  21.4855,2
  49NZ20031209,  I3I4,   503,  1,      1,  12025,2,20040103,2259,-19.9872,  76.9078, 5048,   4749.3,   1.4425,  34.7192,2,  34.7193,2,    176.9,1,    182.7,2,   129.56,2,    33.49,2,     0.00,2,     2.32,2,    0.001,2,    0.001,2,    0.000,4,   2295.7,2,   2397.9,2,   7.6276,6,    25.00,   -189.0,2,      2.9,     0.38,2,  -999.00,  -999.00,9,   1.4425,2