BOTTLE,20141204PRINUNIVRMK
EXPOCODE,SECT_ID,STNNBR,CASTNO,SAMPNO,BTLNBR,BTLNBR_FLAG_W,DATE,TIME,LATITUDE,LONGITUDE,DEPTH,CTDPRS,CTDTMP,CTDSAL,CTDSAL_FLAG_W,SALNTY,SALNTY_FLAG_W,CTDOXY,CTDOXY_FLAG_W,OXYGEN,OXYGEN_FLAG_W,SILCAT,SILCAT_FLAG_W,NITRAT,NITRAT_FLAG_W,NITRIT,NITRIT_FLAG_W,PHSPHT,PHSPHT_FLAG_W,CFC-11,CFC-11_FLAG_W,CFC-12,CFC-12_FLAG_W,CFC113,CFC113_FLAG_W,TCARBN,TCARBN_FLAG_W,ALKALI,ALKALI_FLAG_W,PH_TOT,PH_TOT_FLAG_W,PH_TMP,DELC14,DELC14_FLAG_W,C14ERR,DELC13,DELC13_FLAG_W,CS-137,CS137ER,CS-137_FLAG_W,SBE35,SBE35_FLAG_W
,,,,,,,,,,,METERS,DBAR,ITS-90,PSS-78,,PSS-78,,UMOL/KG,,UMOL/KG,,UMOL/KG,,UMOL/KG,,UMOL/KG,,UMOL/KG,,PMOL/KG,,PMOL/KG,,PMOL/KG,,UMOL/KG,,UMOL/KG,,,,DEG C,/MILLE,,/MILLE,/MILLE,,DM/.1MG,DM/.1MG,,ITS-90,
  49NZ20031209,  I3I4,   545,  1,     36,  12024,2,20031223,1906,-19.9990,  56.0922, 4385,     10.3,  27.2545,  34.9420,2,  34.9421,2,    194.3,1,    203.2,2,     1.61,2,     0.02,2,     0.01,2,     0.13,2,    1.737,2,    0.979,2,    0.391,4,   1964.6,2,   2282.2,2,   8.0845,2,    25.00,     59.5,2,      3.0,     1.04,2,  -999.00,  -999.00,9,  27.2539,2
  49NZ20031209,  I3I4,   545,  1,     35,  12023,2,20031223,1906,-19.9990,  56.0922, 4385,     50.6,  26.6855,  34.9078,2,  34.9103,2,    197.6,1,    206.6,2,     1.57,2,    -0.01,2,     0.00,2,     0.13,2,    1.790,2,    0.996,2,    0.500,4,   1962.1,6,   2284.4,2,   8.0856,2,    25.00,     60.5,2,      3.6,     1.15,2,  -999.00,  -999.00,9,  26.6789,2
  49NZ20031209,  I3I4,   545,  1,     34,  12022,2,20031223,1906,-19.9990,  56.0922, 4385,    100.8,  24.3429,  34.8868,2,  34.8908,2,    181.5,1,    190.0,2,     3.28,2,     1.55,2,     0.40,2,     0.27,2,    1.843,2,    1.035,2,    0.327,4,   1987.8,2,   2281.2,6,   8.0449,2,    25.00,     60.4,2,      3.5,     0.95,2,  -999.00,  -999.00,9,  24.3395,2
  49NZ20031209,  I3I4,   545,  1,     33,  12015,2,20031223,1906,-19.9990,  56.0922, 4385,    150.4,  22.7280,  35.0615,2,  35.0669,2,    184.6,1,    192.5,2,     3.10,2,     1.86,2,     0.07,2,     0.26,2,    1.985,2,    1.118,2,    0.325,4,   1998.8,2,   2289.4,2,   8.0362,6,    25.00,     63.8,2,      3.5,     0.86,2,  -999.00,  -999.00,9,  22.7281,2
  49NZ20031209,  I3I4,   545,  1,     32,  12020,2,20031223,1906,-19.9990,  56.0922, 4385,    199.6,  20.0171,  35.0217,2,  35.0820,4,    128.2,1,    139.2,2,    10.30,2,    10.15,2,     0.02,2,     0.76,2,    1.871,2,    1.058,2,    0.130,4,   2075.6,2,   2292.1,2,   7.9052,3,    25.00,     49.5,6,      2.8,     0.50,6,  -999.00,  -999.00,9,  20.0273,2
  49NZ20031209,  I3I4,   545,  1,     31,  12019,2,20031223,1906,-19.9990,  56.0922, 4385,    250.3,  19.2937,  35.5819,2,  35.5874,2,    169.6,1,    177.1,2,     5.15,2,     5.26,2,     0.01,2,     0.46,2,    2.200,6,    1.210,6,    0.152,4,   2074.4,2,   2324.4,2,   7.9522,2,    25.00,     63.0,2,      3.5,     0.71,2,  -999.00,  -999.00,9,  19.2876,2
  49NZ20031209,  I3I4,   545,  1,     30,  12018,2,20031223,1906,-19.9990,  56.0922, 4385,    301.5,  17.3861,  35.6185,2,  35.6179,2,    176.4,1,    183.9,2,     5.50,2,     5.95,2,     0.01,2,     0.52,2,    2.368,2,    1.290,2,    0.087,4,   2094.5,2,   2329.4,2,   7.9246,2,    25.00,     60.7,2,      3.4,     0.83,2,  -999.00,  -999.00,9,  17.3819,2
  49NZ20031209,  I3I4,   545,  1,     29,  12021,2,20031223,1906,-19.9990,  56.0922, 4385,    400.9,  14.4658,  35.4004,2,  35.4027,2,    191.5,1,    198.8,2,     5.67,2,     8.37,2,     0.01,2,     0.68,2,    2.665,2,    1.386,2,    0.065,4,   2109.7,2,   2319.5,2,   7.8787,2,    25.00,     72.0,2,      3.5,     0.98,2,  -999.00,  -999.00,9,  14.4674,2
  49NZ20031209,  I3I4,   545,  1,     28,  12016,2,20031223,1906,-19.9990,  56.0922, 4385,    499.6,  13.0090,  35.2385,2,  35.2352,2,    206.2,1,    214.3,2,     4.83,2,     9.72,2,     0.01,2,     0.76,2,    3.017,2,    1.543,2,    0.092,4,   2111.8,2,   2310.9,2,   7.8601,2,    25.00,     64.8,2,      3.4,     1.06,2,  -999.00,  -999.00,9,  13.0094,2
  49NZ20031209,  I3I4,   545,  1,     27,  12012,2,20031223,1906,-19.9990,  56.0922, 4385,    601.2,  11.9291,  35.0879,2,  35.0854,2,    212.8,1,    221.6,2,     4.68,2,    11.37,2,     0.01,2,     0.86,2,    3.081,2,    1.559,2,    0.096,4,   2114.7,2,   2303.8,2,   7.8424,2,    25.00,     62.0,2,      3.5,     1.15,2,  -999.00,  -999.00,9,  11.9271,2
  49NZ20031209,  I3I4,   545,  1,     26,  12014,2,20031223,1906,-19.9990,  56.0922, 4385,    699.6,   7.6439,  34.5769,2,  34.5771,2,    185.7,1,    193.1,2,    19.34,2,    24.15,2,     0.00,2,     1.68,2,    1.629,2,    0.761,2,    0.043,4,   2164.8,6,   2291.0,2,   7.7070,2,    25.00,    -20.8,2,      3.3,     1.05,2,  -999.00,  -999.00,9,   7.6367,2
  49NZ20031209,  I3I4,   545,  1,     25,  12013,2,20031223,1906,-19.9990,  56.0922, 4385,    801.8,   6.0465,  34.5289,2,  34.5289,2,    157.4,1,    163.3,2,    39.77,2,    30.01,2,     0.01,2,     2.10,2,    0.667,2,    0.317,2,    0.018,4,   2208.1,2,   2314.8,6,   7.6336,2,    25.00,    -77.3,2,      3.2,     0.78,2,  -999.00,  -999.00,9,   6.0525,2
  49NZ20031209,  I3I4,   545,  1,     24,  12048,2,20031223,1906,-19.9990,  56.0922, 4385,    900.6,   5.4062,  34.5526,2,  34.5522,2,    140.2,1,    145.3,2,    54.07,2,    32.48,2,     0.01,2,     2.29,2,    0.319,2,    0.152,2,    0.012,4,   2231.7,2,   2318.3,2,   7.5989,6,    25.00,   -117.1,2,      3.3,     0.62,2,  -999.00,  -999.00,9,   5.4065,2
  49NZ20031209,  I3I4,   545,  1,     23,  12047,2,20031223,1906,-19.9990,  56.0922, 4385,   1001.5,   5.0390,  34.6025,2,  34.6035,2,    127.4,1,    131.5,2,    66.35,2,    33.81,2,     0.00,2,     2.40,2,    0.162,6,    0.075,6,    0.016,4,   2253.0,2,   2319.9,4,   7.5812,2,    25.00,   -143.2,2,      3.2,     0.48,2,  -999.00,  -999.00,9,   5.0382,2
  49NZ20031209,  I3I4,   545,  1,     22,  12046,2,20031223,1906,-19.9990,  56.0922, 4385,   1200.8,   4.2153,  34.6358,2,  34.6347,2,    127.0,1,    131.6,2,    79.18,2,    34.71,2,     0.00,2,     2.46,2,    0.049,2,    0.024,2,    0.008,4,   2267.3,2,   2327.3,4,   7.5707,2,    25.00,   -161.8,2,      3.1,     0.40,2,  -999.00,  -999.00,9,   4.2154,2
  49NZ20031209,  I3I4,   545,  1,     21,  12045,2,20031223,1906,-19.9990,  56.0922, 4385,   1401.0,   3.3322,  34.6467,2,  34.6485,2,    142.6,1,    148.5,2,    84.94,2,    34.23,2,     0.00,2,     2.41,2,    0.017,2,    0.010,2,    0.008,4,   2268.7,2,   2322.2,4,   7.5808,2,    25.00,   -156.4,6,      3.7,     0.42,6,  -999.00,  -999.00,9,   3.3322,2
  49NZ20031209,  I3I4,   545,  1,     20,  12044,2,20031223,1906,-19.9990,  56.0922, 4385,   1598.9,   2.7636,  34.6741,2,  34.6745,2,    155.7,1,    162.6,2,    88.79,2,    33.39,2,     0.00,2,     2.34,2,    0.016,2,    0.006,2,    0.005,4,   2265.7,2,   2354.1,2,   7.5961,2,    25.00,   -162.3,2,      3.2,     0.44,2,  -999.00,  -999.00,9,   2.7635,2
  49NZ20031209,  I3I4,   545,  1,     19,  12043,2,20031223,1906,-19.9990,  56.0922, 4385,   1800.6,   2.5003,  34.7061,2,  34.7057,2,    158.2,1,    165.3,2,    96.28,2,    33.15,2,     0.00,2,     2.32,2,    0.010,2,    0.006,2,    0.005,4,   2272.8,2,   2360.1,2,   7.6016,2,    25.00,   -161.9,2,      3.2,     0.42,2,  -999.00,  -999.00,9,   2.5002,2
  49NZ20031209,  I3I4,   545,  1,     18,  12042,2,20031223,1906,-19.9990,  56.0922, 4385,   2000.7,   2.3148,  34.7214,2,  34.7206,2,    156.8,1,    163.9,2,   105.10,2,    33.45,2,     0.01,2,     2.34,2,    0.004,2,   -0.001,2,    0.000,4,   2282.4,2,   2371.8,2,   7.6029,6,    25.00,   -178.5,2,      3.1,     0.39,2,  -999.00,  -999.00,9,   2.3146,2
  49NZ20031209,  I3I4,   545,  1,     17,  12041,2,20031223,1906,-19.9990,  56.0922, 4385,   2200.9,   2.1491,  34.7305,2,  34.7304,2,    156.9,1,    164.0,2,   111.50,2,    33.59,2,     0.00,2,     2.36,2,   -0.006,4,   -0.005,4,    0.000,4,   2287.1,2,   2375.6,2,   7.6060,2,    25.00,   -175.7,2,      3.1,     0.27,3,  -999.00,  -999.00,9,   2.1491,2
  49NZ20031209,  I3I4,   545,  1,     16,  12040,2,20031223,1906,-19.9990,  56.0922, 4385,   2400.0,   2.0630,  34.7338,2,  34.7338,2,    156.3,1,    163.3,2,   115.89,2,    33.85,2,     0.00,2,     2.37,2,   -0.001,2,    0.001,2,    0.000,4,   2291.8,6,   2383.0,2,   7.6061,2,    25.00,   -182.4,2,      3.0,     0.28,3,  -999.00,  -999.00,9,   2.0627,2
  49NZ20031209,  I3I4,   545,  1,     15,  12039,2,20031223,1906,-19.9990,  56.0922, 4385,   2599.7,   1.9540,  34.7366,2,  34.7367,2,    156.1,1,    163.0,2,   120.65,2,    34.02,2,     0.00,2,     2.39,2,   -0.011,2,   -0.004,2,    0.000,4,   2296.6,2,   2391.0,6,   7.6068,2,    25.00,   -184.0,2,      3.0,     0.33,2,  -999.00,  -999.00,9,   1.9534,2
  49NZ20031209,  I3I4,   545,  1,     14,  12038,2,20031223,1906,-19.9990,  56.0922, 4385,   2801.1,   1.8382,  34.7349,2,  34.7349,2,    158.4,1,    165.4,2,   123.15,2,    34.01,2,     0.01,2,     2.39,2,   -0.003,2,    0.003,2,    0.000,4,   2297.9,2,   2392.1,2,   7.6064,2,    25.00,   -183.9,2,      3.2,     0.32,2,  -999.00,  -999.00,9,   1.8382,2
  49NZ20031209,  I3I4,   545,  1,     13,  12037,2,20031223,1906,-19.9990,  56.0922, 4385,   3000.7,   1.7680,  34.7350,2,  34.7351,2,    159.6,1,    166.4,2,   125.53,2,    34.15,2,     0.01,2,     2.39,2,   -0.003,2,    0.001,2,    0.000,4,   2298.8,2,   2395.8,2,   7.6087,2,    25.00,   -185.9,2,      3.0,     0.33,2,  -999.00,  -999.00,9,   1.7678,2
  49NZ20031209,  I3I4,   545,  1,     12,  12036,2,20031223,1906,-19.9990,  56.0922, 4385,   3250.8,   1.6822,  34.7330,2,  34.7323,2,    162.7,1,    169.4,2,   126.85,2,    33.95,2,     0.00,2,     2.38,2,    0.004,2,    0.003,2,   -0.001,4,   2297.3,2,   2390.8,2,   7.6109,2,    25.00,   -183.0,2,      3.1,     0.34,2,  -999.00,  -999.00,9,   1.6822,2
  49NZ20031209,  I3I4,   545,  1,     11,  12035,2,20031223,1906,-19.9990,  56.0922, 4385,   3500.1,   1.5826,  34.7297,2,  34.7297,2,    167.4,1,    173.9,2,   127.31,2,    33.75,2,     0.01,2,     2.36,2,   -0.005,2,    0.002,2,   -0.001,4,   2295.6,2,   2392.0,2,   7.6169,2,    25.00,   -179.8,2,      3.2,     0.35,2,  -999.00,  -999.00,9,   1.5826,2
  49NZ20031209,  I3I4,   545,  1,     10,  12034,2,20031223,1906,-19.9990,  56.0922, 4385,   3751.2,   1.4719,  34.7254,2,  34.7254,2,    173.8,1,    180.1,2,   126.78,2,    33.53,2,     0.00,2,     2.35,2,   -0.002,2,    0.000,2,   -0.001,4,   2290.1,2,   2389.9,2,   7.6172,2,    25.00,   -179.5,2,      3.1,     0.38,2,  -999.00,  -999.00,9,   1.4720,2
  49NZ20031209,  I3I4,   545,  1,      9,  12033,2,20031223,1906,-19.9990,  56.0922, 4385,   4000.7,   1.3602,  34.7212,2,  34.7212,2,    180.4,1,    186.5,2,   126.28,2,    33.19,2,     0.01,2,     2.32,2,   -0.004,2,   -0.001,2,   -0.001,4,   2287.0,2,   2384.4,2,   7.6190,2,    25.00,   -179.6,2,      3.0,     0.41,2,  -999.00,  -999.00,9,   1.3604,2
  49NZ20031209,  I3I4,   545,  1,      8,  12032,2,20031223,1906,-19.9990,  56.0922, 4385,   4250.0,   1.2426,  34.7164,2,  34.7165,2,    187.8,1,    193.2,2,   125.17,2,    32.89,2,     0.01,2,     2.29,2,    0.004,2,   -0.001,2,   -0.001,4,   2279.9,6,   2377.6,2,   7.6216,2,    25.00,   -170.5,2,      3.2,     0.43,2,  -999.00,  -999.00,9,   1.2422,2
  49NZ20031209,  I3I4,   545,  1,      7,  12031,2,20031223,1906,-19.9990,  56.0922, 4385,   4440.8,   1.1461,  34.7126,2,  34.7128,2,    194.1,1,    198.8,2,   124.38,2,    32.66,2,     0.01,2,     2.27,2,    0.022,2,    0.001,2,   -0.001,4,   2273.5,2,   2371.2,6,   7.6239,2,    25.00,   -166.5,2,      3.3,     0.44,2,  -999.00,  -999.00,9,   1.1460,2
  49NZ20031209,  I3I4,   545,  1,      6,  12030,9,20031223,1906,-19.9990,  56.0922, 4385,   1002.3,   5.0345,  34.6033,2,-999.0000,9,    127.4,1,   -999.0,9,  -999.00,9,  -999.00,9,  -999.00,9,  -999.00,9, -999.000,9, -999.000,9, -999.000,9,   -999.0,9,   -999.0,9,-999.0000,9,  -999.00,   -999.0,9,   -999.0,  -999.00,9,  -999.00,  -999.00,9,   5.0346,2
  49NZ20031209,  I3I4,   545,  1,      5,  12029,9,20031223,1906,-19.9990,  56.0922, 4385,   1001.9,   5.0343,  34.6031,2,-999.0000,9,    127.3,1,   -999.0,9,  -999.00,9,  -999.00,9,  -999.00,9,  -999.00,9, -999.000,9, -999.000,9, -999.000,9,   -999.0,9,   -999.0,9,-999.0000,9,  -999.00,   -999.0,9,   -999.0,  -999.00,9,  -999.00,  -999.00,9,   5.0345,2
  49NZ20031209,  I3I4,   545,  1,      4,  12028,2,20031223,1906,-19.9990,  56.0922, 4385,   4250.6,   1.2416,  34.7165,2,  34.7164,2,    187.8,1,    193.2,2,   125.23,2,    32.91,2,     0.01,2,     2.29,2,    0.001,2,    0.001,2,   -0.001,4,   2279.7,2,   2378.3,2,   7.6234,2,    25.00,   -166.9,2,      3.2,     0.28,3,  -999.00,  -999.00,9,   1.2416,2
  49NZ20031209,  I3I4,   545,  1,      3,  12027,9,20031223,1906,-19.9990,  56.0922, 4385,   1001.8,   5.0352,  34.6027,2,-999.0000,9,    127.3,1,   -999.0,9,  -999.00,9,  -999.00,9,  -999.00,9,  -999.00,9, -999.000,9, -999.000,9, -999.000,9,   -999.0,9,   -999.0,9,-999.0000,9,  -999.00,   -999.0,9,   -999.0,  -999.00,9,  -999.00,  -999.00,9,   5.0354,2
  49NZ20031209,  I3I4,   545,  1,      2,  12026,9,20031223,1906,-19.9990,  56.0922, 4385,   4250.4,   1.2415,  34.7164,2,-999.0000,9,    187.8,1,   -999.0,9,  -999.00,9,  -999.00,9,  -999.00,9,  -999.00,9, -999.000,9, -999.000,9, -999.000,9,   -999.0,9,   -999.0,9,-999.0000,9,  -999.00,   -999.0,9,   -999.0,  -999.00,9,  -999.00,  -999.00,9,   1.2416,2
  49NZ20031209,  I3I4,   545,  1,      1,  12025,9,20031223,1906,-19.9990,  56.0922, 4385,     10.3,  27.2482,  34.9420,2,-999.0000,9,    194.4,1,   -999.0,9,  -999.00,9,  -999.00,9,  -999.00,9,  -999.00,9, -999.000,9, -999.000,9, -999.000,9,   -999.0,9,   -999.0,9,-999.0000,9,  -999.00,   -999.0,9,   -999.0,  -999.00,9,  -999.00,  -999.00,9,  27.2465,2