BOTTLE,20141204PRINUNIVRMK
EXPOCODE,SECT_ID,STNNBR,CASTNO,SAMPNO,BTLNBR,BTLNBR_FLAG_W,DATE,TIME,LATITUDE,LONGITUDE,DEPTH,CTDPRS,CTDTMP,CTDSAL,CTDSAL_FLAG_W,SALNTY,SALNTY_FLAG_W,CTDOXY,CTDOXY_FLAG_W,OXYGEN,OXYGEN_FLAG_W,SILCAT,SILCAT_FLAG_W,NITRAT,NITRAT_FLAG_W,NITRIT,NITRIT_FLAG_W,PHSPHT,PHSPHT_FLAG_W,CFC-11,CFC-11_FLAG_W,CFC-12,CFC-12_FLAG_W,CFC113,CFC113_FLAG_W,TCARBN,TCARBN_FLAG_W,ALKALI,ALKALI_FLAG_W,PH_TOT,PH_TOT_FLAG_W,PH_TMP,DELC14,DELC14_FLAG_W,C14ERR,DELC13,DELC13_FLAG_W,CS-137,CS137ER,CS-137_FLAG_W,SBE35,SBE35_FLAG_W
,,,,,,,,,,,METERS,DBAR,ITS-90,PSS-78,,PSS-78,,UMOL/KG,,UMOL/KG,,UMOL/KG,,UMOL/KG,,UMOL/KG,,UMOL/KG,,PMOL/KG,,PMOL/KG,,PMOL/KG,,UMOL/KG,,UMOL/KG,,,,DEG C,/MILLE,,/MILLE,/MILLE,,DM/.1MG,DM/.1MG,,ITS-90,
  49NZ20031209,  I3I4,   551,  1,     36,  12024,2,20031222,1041,-19.9853,  52.7773, 4933,     10.2,  27.5998,  34.9651,2,  34.9619,2,    193.5,1,    202.4,2,     1.82,2,     0.01,2,     0.00,2,     0.12,2,    1.621,4,    1.071,4,    0.526,4,   1963.5,2,   2292.9,2,   8.0881,2,    25.00,     62.3,2,      3.6,     1.10,2,  -999.00,  -999.00,9,  27.5954,2
  49NZ20031209,  I3I4,   551,  1,     35,  12023,2,20031222,1041,-19.9853,  52.7773, 4933,     50.2,  25.5091,  34.9509,2,  34.9505,2,    208.8,1,    218.4,2,     1.91,2,    -0.02,2,    -0.01,2,     0.10,2,    1.796,2,    1.099,2, -999.000,5,   1962.3,6,   2289.9,2,   8.0843,2,    25.00,     56.7,2,      5.5,     1.16,2,  -999.00,  -999.00,9,  25.5080,2
  49NZ20031209,  I3I4,   551,  1,     34,  12022,2,20031222,1041,-19.9853,  52.7773, 4933,    101.6,  23.0182,  35.1385,2,  35.1460,2,    202.7,1,    212.9,2,     2.04,2,    -0.02,2,    -0.01,2,     0.14,2,    1.922,2,    1.172,2,    0.571,4,   1987.2,2,   2302.8,6,   8.0573,2,    25.00,     53.3,2,      4.5,     1.05,2,  -999.00,  -999.00,9,  23.0133,2
  49NZ20031209,  I3I4,   551,  1,     33,  12015,2,20031222,1041,-19.9853,  52.7773, 4933,    149.7,  21.5495,  35.3071,2,  35.3145,2,    187.0,1,    193.2,2,     3.02,2,     2.33,2,     0.04,2,     0.28,2,    1.935,2,    1.184,2,    0.411,4,   2020.6,2,   2313.5,2,   8.0182,2,    25.00,     62.9,2,      3.6,     0.87,2,  -999.00,  -999.00,9,  21.5511,2
  49NZ20031209,  I3I4,   551,  1,     32,  12020,2,20031222,1041,-19.9853,  52.7773, 4933,    200.2,  19.8954,  35.5315,2,  35.5331,2,    170.6,1,    177.7,2,     4.87,2,     4.93,2,     0.01,2,     0.46,2,    2.038,2,    1.218,2,    0.229,4,   2064.8,2,   2327.8,2,   7.9593,2,    25.00,     70.5,2,      3.7,     0.73,2,  -999.00,  -999.00,9,  19.8930,2
  49NZ20031209,  I3I4,   551,  1,     31,  12019,2,20031222,1041,-19.9853,  52.7773, 4933,    254.1,  18.0282,  35.6187,2,  35.6159,2,    171.6,1,    178.2,2,     5.85,2,     6.06,2,     0.00,2,     0.55,2,    2.170,6,    1.265,6,    0.109,4,   2091.7,2,   2331.3,2,   7.9264,2,    25.00,     78.1,2,      3.7,     0.76,2,  -999.00,  -999.00,9,  18.0303,2
  49NZ20031209,  I3I4,   551,  1,     30,  12018,2,20031222,1041,-19.9853,  52.7773, 4933,    301.8,  16.2621,  35.6196,2,  35.6172,2,    193.3,1,    201.2,2,     4.16,2,     5.03,2,     0.00,2,     0.51,2,    2.496,2,    1.403,2,    0.147,4,   2097.4,2,   2339.8,2,   7.9199,2,    25.00,     73.8,2,      3.8,     0.94,2,  -999.00,  -999.00,9,  16.2620,2
  49NZ20031209,  I3I4,   551,  1,     29,  12017,3,20031222,1041,-19.9853,  52.7773, 4933,    401.0,  13.6103,  35.3329,2,  35.3317,2,    208.7,1,    217.0,2,     4.06,2,     8.12,2,     0.01,2,     0.70,2,    2.865,2,    1.550,2,    0.088,4,   2107.8,2,   2321.0,2,   7.8767,2,    25.00,     70.1,2,      3.7,     1.06,2,  -999.00,  -999.00,9,  13.6104,2
  49NZ20031209,  I3I4,   551,  1,     28,  12016,2,20031222,1041,-19.9853,  52.7773, 4933,    501.0,  11.8585,  35.0806,2,  35.0796,2,    219.1,1,    227.9,2,     3.91,2,    11.12,2,    -0.01,2,     0.87,2,    3.096,2,    1.620,2,    0.130,4,   2111.0,2,   2307.2,2,   7.8466,2,    25.00,     58.0,2,      3.7,     1.09,2,  -999.00,  -999.00,9,  11.8586,2
  49NZ20031209,  I3I4,   551,  1,     27,  12012,2,20031222,1041,-19.9853,  52.7773, 4933,    602.4,  10.4627,  34.8794,2,  34.8773,2,    211.5,1,    219.6,2,     6.49,2,    14.96,2,     0.00,2,     1.10,2,    2.936,2,    1.509,2,    0.118,4,   2124.7,2,   2305.5,2,   7.8033,2,    25.00,     53.0,2,      3.7,     1.17,2,  -999.00,  -999.00,9,  10.4632,2
  49NZ20031209,  I3I4,   551,  1,     26,  12014,2,20031222,1041,-19.9853,  52.7773, 4933,    699.6,   9.3296,  34.7312,2,  34.7282,2,    203.9,1,    211.8,2,     9.83,2,    18.60,2,     0.00,2,     1.33,2,    2.539,2,    1.305,2,    0.069,4,   2138.7,6,   2298.1,2,   7.7660,2,    25.00,     36.5,2,      3.6,     1.14,2,  -999.00,  -999.00,9,   9.3274,2
  49NZ20031209,  I3I4,   551,  1,     25,  12013,2,20031222,1041,-19.9853,  52.7773, 4933,    801.5,   7.4769,  34.5837,2,  34.5832,2,    173.5,1,    179.9,2,    24.73,2,    25.93,2,    -0.01,2,     1.81,2,    1.245,2,    0.663,2,    0.000,4,   2179.0,2,   2302.2,6,   7.6836,2,    25.00,    -37.6,2,      3.1,     0.98,2,  -999.00,  -999.00,9,   7.4772,2
  49NZ20031209,  I3I4,   551,  1,     24,  12048,2,20031222,1041,-19.9853,  52.7773, 4933,    900.8,   6.2811,  34.5733,2,  34.5776,3,    144.3,1,    147.8,2,    44.90,2,    31.03,2,     0.00,2,     2.16,2,    0.481,2,    0.278,2,    0.027,4,   2218.3,2,   2314.6,2,   7.6176,6,    25.00,    -94.1,2,      3.3,     0.68,2,  -999.00,  -999.00,9,   6.2825,2
  49NZ20031209,  I3I4,   551,  1,     23,  12047,2,20031222,1041,-19.9853,  52.7773, 4933,   1001.3,   5.4878,  34.6004,2,  34.6005,2,    128.1,1,    132.5,2,    59.79,2,    33.42,2,    -0.01,2,     2.36,2,    0.205,6,    0.122,6,    0.023,4,   2245.3,2,   2333.1,2,   7.5847,2,    25.00,   -130.7,2,      3.2,     0.55,2,  -999.00,  -999.00,9,   5.4885,2
  49NZ20031209,  I3I4,   551,  1,     22,  12046,2,20031222,1041,-19.9853,  52.7773, 4933,   1201.5,   4.3087,  34.6099,2,  34.6100,2,    130.2,1,    135.1,2,    74.17,2,    34.71,2,    -0.01,2,     2.45,2,    0.070,2,    0.046,2,    0.000,4,   2262.1,2,   2344.8,2,   7.5731,2,    25.00,   -157.6,2,      3.1,     0.46,2,  -999.00,  -999.00,9,   4.3087,2
  49NZ20031209,  I3I4,   551,  1,     21,  12045,2,20031222,1041,-19.9853,  52.7773, 4933,   1401.0,   3.5006,  34.6402,2,  34.6403,2,    140.7,1,    146.5,2,    81.97,2,    34.45,2,     0.00,2,     2.42,2,    0.037,2,    0.023,2,    0.000,4,   2268.6,2,   2352.8,2,   7.5805,2,    25.00,   -160.7,2,      3.1,     0.45,2,  -999.00,  -999.00,9,   3.5006,2
  49NZ20031209,  I3I4,   551,  1,     20,  12044,2,20031222,1041,-19.9853,  52.7773, 4933,   1600.7,   2.8595,  34.6689,2,  34.6698,2,    153.8,1,    160.7,2,    87.38,2,    33.71,2,     0.00,2,     2.35,2,    0.016,2,    0.011,2,    0.000,4,   2267.0,2,   2356.9,2,   7.5940,2,    25.00,   -173.1,2,      3.0,     0.46,2,  -999.00,  -999.00,9,   2.8596,2
  49NZ20031209,  I3I4,   551,  1,     19,  12043,2,20031222,1041,-19.9853,  52.7773, 4933,   1801.2,   2.6059,  34.7002,2,  34.6999,2,    155.5,1,    162.6,2,    95.02,2,    33.56,2,     0.00,2,     2.34,2,    0.008,2,    0.014,2,    0.000,4,   2273.6,2,   2365.3,2,   7.5986,2,    25.00,   -163.0,2,      3.1,     0.42,2,  -999.00,  -999.00,9,   2.6059,2
  49NZ20031209,  I3I4,   551,  1,     18,  12042,2,20031222,1041,-19.9853,  52.7773, 4933,   2001.4,   2.4093,  34.7192,2,  34.7189,2,    154.4,1,    161.6,2,   103.80,2,    33.83,2,    -0.01,2,     2.36,2,    0.010,2,    0.004,2,    0.000,4,   2281.8,2,   2376.2,2,   7.6004,6,    25.00,   -172.5,2,      3.1,     0.43,2,  -999.00,  -999.00,9,   2.4093,2
  49NZ20031209,  I3I4,   551,  1,     17,  12041,2,20031222,1041,-19.9853,  52.7773, 4933,   2201.3,   2.2338,  34.7293,2,  34.7285,2,    154.4,1,    161.9,2,   110.46,2,    33.92,2,    -0.01,2,     2.37,2,    0.003,2,    0.004,2,    0.004,4,   2288.7,2,   2386.6,2,   7.6028,2,    25.00,   -171.7,2,      3.1,     0.38,2,  -999.00,  -999.00,9,   2.2338,2
  49NZ20031209,  I3I4,   551,  1,     16,  12040,2,20031222,1041,-19.9853,  52.7773, 4933,   2402.4,   2.1094,  34.7345,2,  34.7343,2,    154.4,1,    161.8,2,   115.40,2,    34.13,2,     0.00,2,     2.38,2,    0.002,2,    0.001,2,    0.000,4,   2294.4,6,   2388.4,2,   7.6042,2,    25.00,   -185.2,2,      3.1,     0.33,2,  -999.00,  -999.00,9,   2.1093,2
  49NZ20031209,  I3I4,   551,  1,     15,  12039,2,20031222,1041,-19.9853,  52.7773, 4933,   2601.1,   1.9990,  34.7363,2,  34.7369,2,    154.9,1,    162.3,2,   119.53,2,    34.25,2,     0.00,2,     2.40,2,   -0.001,2,    0.001,2,    0.000,4,   2297.3,2,   2391.6,6,   7.6038,2,    25.00,   -180.3,2,      3.2,     0.33,2,  -999.00,  -999.00,9,   1.9990,2
  49NZ20031209,  I3I4,   551,  1,     14,  12038,2,20031222,1041,-19.9853,  52.7773, 4933,   2801.1,   1.9338,  34.7376,2,  34.7378,2,    155.0,1,    162.2,2,   122.35,2,    34.35,2,    -0.01,2,     2.39,2,    0.004,2,    0.000,2,    0.000,4,   2298.6,2,   2395.2,2,   7.6040,6,    25.00,   -182.2,2,      3.1,     0.29,2,  -999.00,  -999.00,9,   1.9333,2
  49NZ20031209,  I3I4,   551,  1,     13,  12037,2,20031222,1041,-19.9853,  52.7773, 4933,   3001.7,   1.8437,  34.7369,2,  34.7369,2,    156.4,1,    163.8,2,   124.78,2,    34.38,2,    -0.01,2,     2.40,2,   -0.005,2,   -0.001,2,    0.013,4,   2301.1,2,   2396.5,2,   7.6056,2,    25.00,   -189.7,6,      2.2,     0.33,6,  -999.00,  -999.00,9,   1.8436,2
  49NZ20031209,  I3I4,   551,  1,     12,  12036,2,20031222,1041,-19.9853,  52.7773, 4933,   3251.0,   1.7655,  34.7355,2,  34.7357,2,    158.8,1,    166.1,2,   126.47,2,    34.28,2,    -0.01,2,     2.38,2,    0.002,2,   -0.001,2,    0.001,4,   2301.8,2,   2398.8,2,   7.6085,2,    25.00,   -176.6,3,      3.0,     0.33,2,  -999.00,  -999.00,9,   1.7655,2
  49NZ20031209,  I3I4,   551,  1,     11,  12035,2,20031222,1041,-19.9853,  52.7773, 4933,   3501.5,   1.6636,  34.7322,2,  34.7324,2,    163.2,1,    170.4,2,   127.34,2,    34.24,2,     0.00,2,     2.38,2,    0.000,2,    0.001,2,    0.001,4,   2297.7,2,   2399.1,2,   7.6133,2,    25.00,   -180.3,2,      3.0,     0.36,2,  -999.00,  -999.00,9,   1.6638,2
  49NZ20031209,  I3I4,   551,  1,     10,  12034,2,20031222,1041,-19.9853,  52.7773, 4933,   3751.8,   1.5019,  34.7267,2,  34.7267,2,    171.0,1,    178.5,2,   127.07,2,    33.89,2,    -0.01,2,     2.35,2,   -0.002,2,   -0.001,2,    0.001,4,   2290.9,2,   2394.0,2,   7.6152,2,    25.00,   -179.6,2,      3.1,     0.38,2,  -999.00,  -999.00,9,   1.5017,2
  49NZ20031209,  I3I4,   551,  1,      9,  12033,2,20031222,1041,-19.9853,  52.7773, 4933,   4001.7,   1.3462,  34.7210,2,  34.7209,2,    179.8,1,    187.4,2,   125.61,2,    33.42,2,    -0.01,2,     2.31,2,    0.001,2,    0.003,2,    0.001,4,   2284.5,2,   2388.0,2,   7.6181,2,    25.00,   -172.5,2,      3.0,     0.40,2,  -999.00,  -999.00,9,   1.3460,2
  49NZ20031209,  I3I4,   551,  1,      8,  12032,9,20031222,1041,-19.9853,  52.7773, 4933,   4500.4,   1.0823,  34.7108,2,-999.0000,9,    195.2,1,   -999.0,9,  -999.00,9,  -999.00,9,  -999.00,9,  -999.00,9, -999.000,9, -999.000,9, -999.000,9,   -999.0,9,   -999.0,9,-999.0000,9,  -999.00,   -999.0,9,   -999.0,  -999.00,9,  -999.00,  -999.00,9,   1.0821,2
  49NZ20031209,  I3I4,   551,  1,      7,  12031,2,20031222,1041,-19.9853,  52.7773, 4933,   4751.6,   1.0112,  34.7073,2,  34.7074,2,    200.1,1,    206.4,2,   123.32,2,    32.57,2,    -0.01,2,     2.24,2,    0.025,2,    0.014,2,    0.001,4,   2268.3,2,   2368.7,2,   7.6220,2,    25.00,   -161.3,2,      3.1,     0.50,2,  -999.00,  -999.00,9,   1.0112,2
  49NZ20031209,  I3I4,   551,  1,      6,  12030,2,20031222,1041,-19.9853,  52.7773, 4933,   4751.4,   1.0111,  34.7074,2,  34.7067,2,    200.2,1,    206.4,2,   123.17,2,    32.58,2,     0.00,2,     2.24,2,    0.029,2,    0.013,2,    0.001,4,   2268.5,2,   2370.0,2,   7.6250,6,    25.00,   -159.0,2,      3.3,     0.49,2,  -999.00,  -999.00,9,   1.0111,2
  49NZ20031209,  I3I4,   551,  1,      5,  12029,2,20031222,1041,-19.9853,  52.7773, 4933,   5001.7,   1.0233,  34.7063,2,  34.7063,2,    202.4,1,    207.1,2,   123.28,2,    32.56,2,    -0.01,2,     2.24,2,    0.019,2,    0.013,2,    0.007,4,   2265.0,2,   2366.8,2,   7.6215,2,    25.00,   -165.5,2,      3.1,     0.50,2,  -999.00,  -999.00,9,   1.0234,2
  49NZ20031209,  I3I4,   551,  1,      4,  12028,2,20031222,1041,-19.9853,  52.7773, 4933,   4252.8,   1.2466,  34.7170,2,  34.7169,2,    186.3,1,    193.5,2,   124.43,2,    33.07,2,     0.00,2,     2.29,2,    0.005,2,    0.004,2,    0.001,4,   2278.0,6,   2381.1,2,   7.6216,2,    25.00,   -170.4,2,      3.0,     0.45,2,  -999.00,  -999.00,9,   1.2466,2
  49NZ20031209,  I3I4,   551,  1,      3,  12027,9,20031222,1041,-19.9853,  52.7773, 4933,   1001.9,   5.4880,  34.6005,2,-999.0000,9,    128.1,1,   -999.0,9,  -999.00,9,  -999.00,9,  -999.00,9,  -999.00,9, -999.000,9, -999.000,9, -999.000,9,   -999.0,9,   -999.0,9,-999.0000,9,  -999.00,   -999.0,9,   -999.0,  -999.00,9,  -999.00,  -999.00,9,   5.4886,2
  49NZ20031209,  I3I4,   551,  1,      2,  12026,9,20031222,1041,-19.9853,  52.7773, 4933,     10.4,  27.6261,  34.9662,2,-999.0000,9,    193.5,1,   -999.0,9,  -999.00,9,  -999.00,9,  -999.00,9,  -999.00,9, -999.000,9, -999.000,9, -999.000,9,   -999.0,9,   -999.0,9,-999.0000,9,  -999.00,   -999.0,9,   -999.0,  -999.00,9,  -999.00,  -999.00,9,  27.6438,2
  49NZ20031209,  I3I4,   551,  1,      1,  12025,2,20031222,1041,-19.9853,  52.7773, 4933,   4502.5,   1.0822,  34.7109,2,  34.7102,2,    195.1,1,    202.1,2,   123.50,2,    32.75,2,     0.00,2,     2.26,2,    0.016,2,    0.012,2,    0.001,4,   2270.9,2,   2373.1,6,   7.6232,2,    25.00,   -165.6,2,      3.0,     0.47,2,  -999.00,  -999.00,9,   1.0821,2