BOTTLE,20141204PRINUNIVRMK
EXPOCODE,SECT_ID,STNNBR,CASTNO,SAMPNO,BTLNBR,BTLNBR_FLAG_W,DATE,TIME,LATITUDE,LONGITUDE,DEPTH,CTDPRS,CTDTMP,CTDSAL,CTDSAL_FLAG_W,SALNTY,SALNTY_FLAG_W,CTDOXY,CTDOXY_FLAG_W,OXYGEN,OXYGEN_FLAG_W,SILCAT,SILCAT_FLAG_W,NITRAT,NITRAT_FLAG_W,NITRIT,NITRIT_FLAG_W,PHSPHT,PHSPHT_FLAG_W,CFC-11,CFC-11_FLAG_W,CFC-12,CFC-12_FLAG_W,CFC113,CFC113_FLAG_W,TCARBN,TCARBN_FLAG_W,ALKALI,ALKALI_FLAG_W,PH_TOT,PH_TOT_FLAG_W,PH_TMP,DELC14,DELC14_FLAG_W,C14ERR,DELC13,DELC13_FLAG_W,CS-137,CS137ER,CS-137_FLAG_W,SBE35,SBE35_FLAG_W
,,,,,,,,,,,METERS,DBAR,ITS-90,PSS-78,,PSS-78,,UMOL/KG,,UMOL/KG,,UMOL/KG,,UMOL/KG,,UMOL/KG,,UMOL/KG,,PMOL/KG,,PMOL/KG,,PMOL/KG,,UMOL/KG,,UMOL/KG,,,,DEG C,/MILLE,,/MILLE,/MILLE,,DM/.1MG,DM/.1MG,,ITS-90,
  49NZ20031209,  I3I4,   496,  1,     36,  12024,2,20040105,2137,-19.9948,  82.0018, 4884,     10.1,  26.8435,  34.5829,2,  34.5833,2,    194.2,1,    203.1,2,     1.65,2,    -0.01,2,     0.01,2,     0.10,2, -999.000,9, -999.000,9, -999.000,9,   -999.0,9,   -999.0,9,-999.0000,9,  -999.00,   -999.0,9,   -999.0,  -999.00,9,  -999.00,  -999.00,9,  26.8407,2
  49NZ20031209,  I3I4,   496,  1,     35,  12023,2,20040105,2137,-19.9948,  82.0018, 4884,     49.8,  24.7851,  35.2571,2,  35.2489,2,    204.2,1,    213.6,2,     1.74,2,    -0.02,2,     0.00,2,     0.10,2, -999.000,9, -999.000,9, -999.000,9,   -999.0,9,   -999.0,9,-999.0000,9,  -999.00,   -999.0,9,   -999.0,  -999.00,9,  -999.00,  -999.00,9,  24.7805,2
  49NZ20031209,  I3I4,   496,  1,     34,  12022,2,20040105,2137,-19.9948,  82.0018, 4884,     97.9,  22.5218,  35.1397,2,  35.1399,2,    198.0,1,    206.8,2,     2.28,2,     0.31,2,     0.20,2,     0.15,2, -999.000,9, -999.000,9, -999.000,9,   -999.0,9,   -999.0,9,-999.0000,9,  -999.00,   -999.0,9,   -999.0,  -999.00,9,  -999.00,  -999.00,9,  22.5225,2
  49NZ20031209,  I3I4,   496,  1,     33,  12015,2,20040105,2137,-19.9948,  82.0018, 4884,    150.9,  21.0069,  35.4161,2,  35.4147,2,    191.8,1,    199.4,2,     2.83,2,     1.56,2,     0.16,2,     0.24,2, -999.000,9, -999.000,9, -999.000,9,   -999.0,9,   -999.0,9,-999.0000,9,  -999.00,   -999.0,9,   -999.0,  -999.00,9,  -999.00,  -999.00,9,  21.0077,2
  49NZ20031209,  I3I4,   496,  1,     32,  12020,2,20040105,2137,-19.9948,  82.0018, 4884,    202.0,  19.5277,  35.7171,2,  35.7160,2,    185.4,1,    193.5,2,     2.80,2,     2.52,2,     0.02,2,     0.30,2, -999.000,9, -999.000,9, -999.000,9,   -999.0,9,   -999.0,9,-999.0000,9,  -999.00,   -999.0,9,   -999.0,  -999.00,9,  -999.00,  -999.00,9,  19.5329,2
  49NZ20031209,  I3I4,   496,  1,     31,  12019,2,20040105,2137,-19.9948,  82.0018, 4884,    251.7,  17.8288,  35.7977,2,  35.7977,2,    192.3,1,    200.0,2,     2.61,2,     2.97,2,     0.01,2,     0.35,2, -999.000,9, -999.000,9, -999.000,9,   -999.0,9,   -999.0,9,-999.0000,9,  -999.00,   -999.0,9,   -999.0,  -999.00,9,  -999.00,  -999.00,9,  17.8286,2
  49NZ20031209,  I3I4,   496,  1,     30,  12018,2,20040105,2137,-19.9948,  82.0018, 4884,    302.1,  15.6054,  35.6219,2,  35.6241,2,    201.4,1,    209.6,2,     2.46,2,     4.49,2,     0.01,2,     0.45,2, -999.000,9, -999.000,9, -999.000,9,   -999.0,9,   -999.0,9,-999.0000,9,  -999.00,   -999.0,9,   -999.0,  -999.00,9,  -999.00,  -999.00,9,  15.6056,2
  49NZ20031209,  I3I4,   496,  1,     29,  12017,2,20040105,2137,-19.9948,  82.0018, 4884,    400.3,  12.3318,  35.1655,2,  35.1600,2,    217.4,1,    226.4,2,     2.86,2,     9.27,2,     0.00,2,     0.74,2, -999.000,9, -999.000,9, -999.000,9,   -999.0,9,   -999.0,9,-999.0000,9,  -999.00,   -999.0,9,   -999.0,  -999.00,9,  -999.00,  -999.00,9,  12.3319,2
  49NZ20031209,  I3I4,   496,  1,     28,  12016,2,20040105,2137,-19.9948,  82.0018, 4884,    499.2,  10.3197,  34.8576,2,  34.8579,2,    222.4,1,    231.4,2,     4.11,2,    13.73,2,     0.00,2,     1.00,2, -999.000,9, -999.000,9, -999.000,9,   -999.0,9,   -999.0,9,-999.0000,9,  -999.00,   -999.0,9,   -999.0,  -999.00,9,  -999.00,  -999.00,9,  10.3204,2
  49NZ20031209,  I3I4,   496,  1,     27,  12012,2,20040105,2137,-19.9948,  82.0018, 4884,    598.4,   9.1023,  34.6745,2,  34.6714,2,    221.6,1,    230.7,2,     5.74,2,    17.50,2,     0.00,2,     1.23,2, -999.000,9, -999.000,9, -999.000,9,   -999.0,9,   -999.0,9,-999.0000,9,  -999.00,   -999.0,9,   -999.0,  -999.00,9,  -999.00,  -999.00,9,   9.1022,2
  49NZ20031209,  I3I4,   496,  1,     26,  12014,2,20040105,2137,-19.9948,  82.0018, 4884,    699.7,   7.5818,  34.5396,2,  34.5385,2,    188.6,1,    196.5,2,    16.50,2,    24.25,2,     0.00,2,     1.67,2, -999.000,9, -999.000,9, -999.000,9,   -999.0,9,   -999.0,9,-999.0000,9,  -999.00,   -999.0,9,   -999.0,  -999.00,9,  -999.00,  -999.00,9,   7.5824,2
  49NZ20031209,  I3I4,   496,  1,     25,  12013,2,20040105,2137,-19.9948,  82.0018, 4884,    797.8,   6.0560,  34.5372,2,  34.5394,2,    138.7,1,    143.7,2,    45.66,2,    31.77,2,     0.00,2,     2.23,2, -999.000,9, -999.000,9, -999.000,9,   -999.0,9,   -999.0,9,-999.0000,9,  -999.00,   -999.0,9,   -999.0,  -999.00,9,  -999.00,  -999.00,9,   6.0564,2
  49NZ20031209,  I3I4,   496,  1,     24,  12048,2,20040105,2137,-19.9948,  82.0018, 4884,    899.7,   5.6661,  34.6228,2,  34.6213,2,    105.0,1,    108.6,2,    67.98,2,    34.82,2,     0.00,2,     2.48,2, -999.000,9, -999.000,9, -999.000,9,   -999.0,9,   -999.0,9,-999.0000,9,  -999.00,   -999.0,9,   -999.0,  -999.00,9,  -999.00,  -999.00,9,   5.6656,2
  49NZ20031209,  I3I4,   496,  1,     23,  12047,2,20040105,2137,-19.9948,  82.0018, 4884,   1000.5,   5.1784,  34.6400,2,  34.6401,2,    102.6,1,    105.8,2,    77.17,2,    35.65,2,     0.01,2,     2.55,2, -999.000,9, -999.000,9, -999.000,9,   -999.0,9,   -999.0,9,-999.0000,9,  -999.00,   -999.0,9,   -999.0,  -999.00,9,  -999.00,  -999.00,9,   5.1785,2
  49NZ20031209,  I3I4,   496,  1,     22,  12046,2,20040105,2137,-19.9948,  82.0018, 4884,   1200.6,   4.5510,  34.6710,2,  34.6715,2,    103.1,1,    106.5,2,    88.88,2,    36.02,2,     0.00,2,     2.59,2, -999.000,9, -999.000,9, -999.000,9,   -999.0,9,   -999.0,9,-999.0000,9,  -999.00,   -999.0,9,   -999.0,  -999.00,9,  -999.00,  -999.00,9,   4.5510,2
  49NZ20031209,  I3I4,   496,  1,     21,  12045,2,20040105,2137,-19.9948,  82.0018, 4884,   1399.4,   3.8532,  34.6824,2,  34.6824,2,    115.0,1,    119.1,2,    94.42,2,    35.77,2,     0.00,2,     2.56,2, -999.000,9, -999.000,9, -999.000,9,   -999.0,9,   -999.0,9,-999.0000,9,  -999.00,   -999.0,9,   -999.0,  -999.00,9,  -999.00,  -999.00,9,   3.8532,2
  49NZ20031209,  I3I4,   496,  1,     20,  12044,2,20040105,2137,-19.9948,  82.0018, 4884,   1599.7,   3.3620,  34.7083,2,  34.7074,2,    123.8,1,    128.6,2,   100.52,2,    35.44,2,     0.00,2,     2.52,2, -999.000,9, -999.000,9, -999.000,9,   -999.0,9,   -999.0,9,-999.0000,9,  -999.00,   -999.0,9,   -999.0,  -999.00,9,  -999.00,  -999.00,9,   3.3623,2
  49NZ20031209,  I3I4,   496,  1,     19,  12043,2,20040105,2137,-19.9948,  82.0018, 4884,   1801.3,   2.9013,  34.7193,2,  34.7193,2,    133.6,1,    139.2,2,   105.44,2,    34.96,2,     0.00,2,     2.47,2, -999.000,9, -999.000,9, -999.000,9,   -999.0,9,   -999.0,9,-999.0000,9,  -999.00,   -999.0,9,   -999.0,  -999.00,9,  -999.00,  -999.00,9,   2.9014,2
  49NZ20031209,  I3I4,   496,  1,     18,  12042,2,20040105,2137,-19.9948,  82.0018, 4884,   2000.9,   2.5875,  34.7260,2,  34.7261,2,    141.3,1,    147.7,2,   109.13,2,    34.61,2,     0.00,2,     2.44,2, -999.000,9, -999.000,9, -999.000,9,   -999.0,9,   -999.0,9,-999.0000,9,  -999.00,   -999.0,9,   -999.0,  -999.00,9,  -999.00,  -999.00,9,   2.5875,2
  49NZ20031209,  I3I4,   496,  1,     17,  12041,2,20040105,2137,-19.9948,  82.0018, 4884,   2199.0,   2.3225,  34.7271,2,  34.7271,2,    149.6,1,    156.7,2,   110.87,2,    34.09,2,     0.00,2,     2.39,2, -999.000,9, -999.000,9, -999.000,9,   -999.0,9,   -999.0,9,-999.0000,9,  -999.00,   -999.0,9,   -999.0,  -999.00,9,  -999.00,  -999.00,9,   2.3221,2
  49NZ20031209,  I3I4,   496,  1,     16,  12040,2,20040105,2137,-19.9948,  82.0018, 4884,   2401.7,   2.0728,  34.7281,2,  34.7278,2,    157.1,1,    164.8,2,   112.90,2,    33.77,2,     0.00,2,     2.35,2, -999.000,9, -999.000,9, -999.000,9,   -999.0,9,   -999.0,9,-999.0000,9,  -999.00,   -999.0,9,   -999.0,  -999.00,9,  -999.00,  -999.00,9,   2.0726,2
  49NZ20031209,  I3I4,   496,  1,     15,  12039,2,20040105,2137,-19.9948,  82.0018, 4884,   2601.6,   1.9142,  34.7275,2,  34.7280,2,    163.4,1,    171.8,2,   113.22,2,    33.31,2,     0.00,2,     2.31,2, -999.000,9, -999.000,9, -999.000,9,   -999.0,9,   -999.0,9,-999.0000,9,  -999.00,   -999.0,9,   -999.0,  -999.00,9,  -999.00,  -999.00,9,   1.9140,2
  49NZ20031209,  I3I4,   496,  1,     14,  12038,2,20040105,2137,-19.9948,  82.0018, 4884,   2802.2,   1.7812,  34.7279,2,  34.7278,2,    167.3,1,    175.9,2,   115.03,2,    33.18,2,     0.01,2,     2.30,2, -999.000,9, -999.000,9, -999.000,9,   -999.0,9,   -999.0,9,-999.0000,9,  -999.00,   -999.0,9,   -999.0,  -999.00,9,  -999.00,  -999.00,9,   1.7812,2
  49NZ20031209,  I3I4,   496,  1,     13,  12037,2,20040105,2137,-19.9948,  82.0018, 4884,   3001.7,   1.6732,  34.7274,2,  34.7274,2,    169.0,1,    177.9,2,   118.24,2,    33.24,2,     0.01,2,     2.30,2, -999.000,9, -999.000,9, -999.000,9,   -999.0,9,   -999.0,9,-999.0000,9,  -999.00,   -999.0,9,   -999.0,  -999.00,9,  -999.00,  -999.00,9,   1.6732,2
  49NZ20031209,  I3I4,   496,  1,     12,  12036,2,20040105,2137,-19.9948,  82.0018, 4884,   3252.1,   1.5596,  34.7260,2,  34.7260,2,    170.1,1,    178.8,2,   122.26,2,    33.22,2,     0.00,2,     2.30,2, -999.000,9, -999.000,9, -999.000,9,   -999.0,9,   -999.0,9,-999.0000,9,  -999.00,   -999.0,9,   -999.0,  -999.00,9,  -999.00,  -999.00,9,   1.5594,2
  49NZ20031209,  I3I4,   496,  1,     11,  12035,2,20040105,2137,-19.9948,  82.0018, 4884,   3501.3,   1.4697,  34.7245,2,  34.7243,2,    173.5,1,    182.1,2,   123.66,2,    33.09,2,     0.00,2,     2.30,2, -999.000,9, -999.000,9, -999.000,9,   -999.0,9,   -999.0,9,-999.0000,9,  -999.00,   -999.0,9,   -999.0,  -999.00,9,  -999.00,  -999.00,9,   1.4698,2
  49NZ20031209,  I3I4,   496,  1,     10,  12034,2,20040105,2137,-19.9948,  82.0018, 4884,   3750.8,   1.4052,  34.7226,2,  34.7230,2,    176.9,1,    185.3,2,   124.51,2,    33.08,2,     0.01,2,     2.28,2, -999.000,9, -999.000,9, -999.000,9,   -999.0,9,   -999.0,9,-999.0000,9,  -999.00,   -999.0,9,   -999.0,  -999.00,9,  -999.00,  -999.00,9,   1.4053,2
  49NZ20031209,  I3I4,   496,  1,      9,  12033,2,20040105,2137,-19.9948,  82.0018, 4884,   4000.9,   1.3730,  34.7199,2,  34.7198,2,    176.1,1,    183.9,2,   128.30,2,    33.38,2,     0.00,2,     2.31,2, -999.000,9, -999.000,9, -999.000,9,   -999.0,9,   -999.0,9,-999.0000,9,  -999.00,   -999.0,9,   -999.0,  -999.00,9,  -999.00,  -999.00,9,   1.3729,2
  49NZ20031209,  I3I4,   496,  1,      8,  12032,2,20040105,2137,-19.9948,  82.0018, 4884,   4249.1,   1.3691,  34.7187,2,  34.7187,2,    176.4,1,    183.6,2,   130.08,2,    33.50,2,     0.00,2,     2.31,2, -999.000,9, -999.000,9, -999.000,9,   -999.0,9,   -999.0,9,-999.0000,9,  -999.00,   -999.0,9,   -999.0,  -999.00,9,  -999.00,  -999.00,9,   1.3691,2
  49NZ20031209,  I3I4,   496,  1,      7,  12031,2,20040105,2137,-19.9948,  82.0018, 4884,   4499.3,   1.3729,  34.7178,2,  34.7181,2,    177.8,1,    184.1,2,   130.42,2,    33.55,2,     0.00,2,     2.31,2, -999.000,9, -999.000,9, -999.000,9,   -999.0,9,   -999.0,9,-999.0000,9,  -999.00,   -999.0,9,   -999.0,  -999.00,9,  -999.00,  -999.00,9,   1.3729,2
  49NZ20031209,  I3I4,   496,  1,      6,  12030,2,20040105,2137,-19.9948,  82.0018, 4884,   4749.3,   1.3916,  34.7174,2,  34.7176,2,    179.2,1,    184.5,2,   130.83,2,    33.49,2,     0.00,2,     2.31,2, -999.000,9, -999.000,9, -999.000,9,   -999.0,9,   -999.0,9,-999.0000,9,  -999.00,   -999.0,9,   -999.0,  -999.00,9,  -999.00,  -999.00,9,   1.3916,2
  49NZ20031209,  I3I4,   496,  1,      5,  12029,2,20040105,2137,-19.9948,  82.0018, 4884,   5003.5,   1.4187,  34.7172,2,  34.7170,2,    181.0,1,    184.5,2,   130.86,2,    33.43,2,     0.00,2,     2.31,2, -999.000,9, -999.000,9, -999.000,9,   -999.0,9,   -999.0,9,-999.0000,9,  -999.00,   -999.0,9,   -999.0,  -999.00,9,  -999.00,  -999.00,9,   1.4189,2
  49NZ20031209,  I3I4,   496,  1,      4,  12028,9,20040105,2137,-19.9948,  82.0018, 4884,   1000.3,   5.1784,  34.6401,2,-999.0000,9,    102.6,1,   -999.0,9,  -999.00,9,  -999.00,9,  -999.00,9,  -999.00,9, -999.000,9, -999.000,9, -999.000,9,   -999.0,9,   -999.0,9,-999.0000,9,  -999.00,   -999.0,9,   -999.0,  -999.00,9,  -999.00,  -999.00,9,   5.1784,2
  49NZ20031209,  I3I4,   496,  1,      3,  12027,9,20040105,2137,-19.9948,  82.0018, 4884,   1000.5,   5.1779,  34.6402,2,-999.0000,9,    102.6,1,   -999.0,9,  -999.00,9,  -999.00,9,  -999.00,9,  -999.00,9, -999.000,9, -999.000,9, -999.000,9,   -999.0,9,   -999.0,9,-999.0000,9,  -999.00,   -999.0,9,   -999.0,  -999.00,9,  -999.00,  -999.00,9,   5.1781,2
  49NZ20031209,  I3I4,   496,  1,      2,  12026,9,20040105,2137,-19.9948,  82.0018, 4884,    999.8,   5.1776,  34.6401,2,-999.0000,9,    102.5,1,   -999.0,9,  -999.00,9,  -999.00,9,  -999.00,9,  -999.00,9, -999.000,9, -999.000,9, -999.000,9,   -999.0,9,   -999.0,9,-999.0000,9,  -999.00,   -999.0,9,   -999.0,  -999.00,9,  -999.00,  -999.00,9,   5.1777,2
  49NZ20031209,  I3I4,   496,  1,      1,  12025,9,20040105,2137,-19.9948,  82.0018, 4884,     10.7,  26.8437,  34.5828,2,-999.0000,9,    194.4,1,   -999.0,9,  -999.00,9,  -999.00,9,  -999.00,9,  -999.00,9, -999.000,9, -999.000,9, -999.000,9,   -999.0,9,   -999.0,9,-999.0000,9,  -999.00,   -999.0,9,   -999.0,  -999.00,9,  -999.00,  -999.00,9,  26.8419,2