BOTTLE,20141204PRINUNIVRMK
EXPOCODE,SECT_ID,STNNBR,CASTNO,SAMPNO,BTLNBR,BTLNBR_FLAG_W,DATE,TIME,LATITUDE,LONGITUDE,DEPTH,CTDPRS,CTDTMP,CTDSAL,CTDSAL_FLAG_W,SALNTY,SALNTY_FLAG_W,CTDOXY,CTDOXY_FLAG_W,OXYGEN,OXYGEN_FLAG_W,SILCAT,SILCAT_FLAG_W,NITRAT,NITRAT_FLAG_W,NITRIT,NITRIT_FLAG_W,PHSPHT,PHSPHT_FLAG_W,CFC-11,CFC-11_FLAG_W,CFC-12,CFC-12_FLAG_W,CFC113,CFC113_FLAG_W,TCARBN,TCARBN_FLAG_W,ALKALI,ALKALI_FLAG_W,PH_TOT,PH_TOT_FLAG_W,PH_TMP,DELC14,DELC14_FLAG_W,C14ERR,DELC13,DELC13_FLAG_W,CS-137,CS137ER,CS-137_FLAG_W,SBE35,SBE35_FLAG_W
,,,,,,,,,,,METERS,DBAR,ITS-90,PSS-78,,PSS-78,,UMOL/KG,,UMOL/KG,,UMOL/KG,,UMOL/KG,,UMOL/KG,,UMOL/KG,,PMOL/KG,,PMOL/KG,,PMOL/KG,,UMOL/KG,,UMOL/KG,,,,DEG C,/MILLE,,/MILLE,/MILLE,,DM/.1MG,DM/.1MG,,ITS-90,
  49NZ20031209,  I3I4,   463,  1,     36,  12024,2,20040116,1159,-19.9920, 103.1287, 5619,      8.9,  24.9465,  34.9393,2,  34.9393,2,    199.8,1,    210.3,2,     2.28,2,     0.00,2,     0.00,2,     0.08,2,    1.846,2,    1.137,2, -999.000,5,   1965.7,2,   2289.7,2,   8.0939,2,    25.00,     45.0,2,      3.6,     1.09,2,  -999.00,  -999.00,9,  24.9459,2
  49NZ20031209,  I3I4,   463,  1,     35,  12023,2,20040116,1159,-19.9920, 103.1287, 5619,     49.7,  24.6816,  34.9833,2,  34.9847,2,    201.2,1,    211.8,2,     2.33,2,     0.01,2,     0.00,2,     0.07,2,    1.894,2,    1.162,2, -999.000,5,   1970.0,6,   2295.1,2,   8.0920,2,    25.00,     54.5,2,      3.4,     1.03,2,  -999.00,  -999.00,9,  24.6812,2
  49NZ20031209,  I3I4,   463,  1,     34,  12022,2,20040116,1159,-19.9920, 103.1287, 5619,    100.0,  22.1687,  35.1458,2,  35.1506,2,    194.6,1,    204.8,2,     3.09,2,     0.28,2,     0.22,2,     0.14,2,    1.997,2,    1.216,2, -999.000,5,   1998.5,2,   2305.1,6,   8.0552,2,    25.00,     57.0,2,      3.5,     0.89,2,  -999.00,  -999.00,9,  22.1674,2
  49NZ20031209,  I3I4,   463,  1,     33,  12015,2,20040116,1159,-19.9920, 103.1287, 5619,    153.2,  20.4179,  35.3549,2,  35.3473,2,    168.1,1,    177.1,2,     5.30,2,     4.42,2,     0.03,2,     0.40,2,    2.084,2,    1.224,2,    0.215,4,   2047.4,2,   2314.5,2,   7.9845,6,    25.00,     56.4,2,      3.4,     0.64,2,  -999.00,  -999.00,9,  20.4139,2
  49NZ20031209,  I3I4,   463,  1,     32,  12020,2,20040116,1159,-19.9920, 103.1287, 5619,    199.9,  19.2829,  35.5668,2,  35.5727,2,    173.1,1,    181.8,2,     5.06,2,     4.49,2,     0.01,2,     0.41,2,    2.181,2,    1.282,2,    0.120,4,   2067.9,2,   2328.9,2,   7.9698,2,    25.00,     73.0,6,      2.5,     0.70,6,  -999.00,  -999.00,9,  19.2809,2
  49NZ20031209,  I3I4,   463,  1,     31,  12019,2,20040116,1159,-19.9920, 103.1287, 5619,    249.7,  17.2290,  35.5845,2,  35.5635,3,    170.3,1,    177.5,2,     7.47,2,     7.12,2,     0.01,2,     0.59,2,    2.278,6,    1.318,6,    0.044,4,   2096.7,2,   2332.1,2,   7.9190,2,    25.00,     64.2,2,      3.6,     0.74,2,  -999.00,  -999.00,9,  17.2247,2
  49NZ20031209,  I3I4,   463,  1,     30,  12018,2,20040116,1159,-19.9920, 103.1287, 5619,    299.4,  14.9108,  35.4528,2,  35.4508,2,    184.8,1,    194.5,2,     6.69,2,     7.69,2,     0.01,2,     0.65,2,    2.559,2,    1.484,2,    0.064,4,   2106.6,2,   2329.0,2,   7.8945,2,    25.00,     67.0,2,      3.4,     0.90,2,  -999.00,  -999.00,9,  14.9118,2
  49NZ20031209,  I3I4,   463,  1,     29,  12017,2,20040116,1159,-19.9920, 103.1287, 5619,    400.1,  11.3427,  34.9981,2,  34.9894,2,    213.8,1,    224.4,2,     4.73,2,    11.88,2,     0.00,2,     0.90,2,    3.236,2,    1.792,2,    0.094,4,   2117.6,2,   2305.6,2,   7.8345,2,    25.00,     65.1,2,      3.3,     1.16,2,  -999.00,  -999.00,9,  11.3444,2
  49NZ20031209,  I3I4,   463,  1,     28,  12016,2,20040116,1159,-19.9920, 103.1287, 5619,    501.6,   9.3652,  34.7180,2,  34.7151,2,    214.6,1,    225.2,2,     6.69,2,    17.11,2,     0.00,2,     1.22,2,    3.243,2,    1.673,2,    0.109,4,   2128.3,2,   2292.1,2,   7.7819,2,    25.00,     45.0,2,      3.4,     1.20,2,  -999.00,  -999.00,9,   9.3656,2
  49NZ20031209,  I3I4,   463,  1,     27,  12012,2,20040116,1159,-19.9920, 103.1287, 5619,    600.1,   7.7900,  34.5578,2,  34.5542,2,    185.8,1,    194.4,2,    17.69,2,    24.09,2,     0.01,2,     1.68,2,    1.990,2,    0.996,2,    0.054,4,   2160.2,2,   2295.7,2,   7.7040,2,    25.00,    -14.9,2,      3.3,     1.01,2,  -999.00,  -999.00,9,   7.7937,2
  49NZ20031209,  I3I4,   463,  1,     26,  12014,2,20040116,1159,-19.9920, 103.1287, 5619,    699.3,   6.4963,  34.5670,2,  34.5655,2,    128.5,1,    134.6,2,    46.01,2,    31.73,2,     0.00,2,     2.24,2,    0.408,2,    0.215,2,    0.012,4,   2224.0,6,   2313.3,2,   7.5992,2,    25.00,    -98.5,2,      3.2,     0.61,2,  -999.00,  -999.00,9,   6.4952,2
  49NZ20031209,  I3I4,   463,  1,     25,  12013,2,20040116,1159,-19.9920, 103.1287, 5619,    800.4,   6.0226,  34.6217,2,  34.6216,2,    100.8,1,    104.1,2,    65.68,2,    34.80,2,     0.00,2,     2.49,2,    0.082,2,    0.055,2,    0.000,4,   2258.6,2,   2336.9,6,   7.5491,2,    25.00,   -136.2,2,      3.2,     0.38,2,  -999.00,  -999.00,9,   6.0235,2
  49NZ20031209,  I3I4,   463,  1,     24,  12048,2,20040116,1159,-19.9920, 103.1287, 5619,    898.8,   5.6201,  34.6446,2,  34.6442,2,     92.6,1,     95.7,2,    76.43,2,    35.88,2,     0.00,2,     2.57,2,    0.029,2,    0.023,2,   -0.001,4,   2273.1,2,   2348.9,2,   7.5433,2,    25.00,   -155.5,2,      3.1,     0.29,2,  -999.00,  -999.00,9,   5.6205,2
  49NZ20031209,  I3I4,   463,  1,     23,  12047,2,20040116,1159,-19.9920, 103.1287, 5619,   1000.2,   5.2521,  34.6570,2,  34.6571,2,     90.8,1,     94.1,2,    84.49,2,    36.28,2,     0.00,2,     2.62,2,    0.015,6,    0.020,6,   -0.001,4,   2284.7,2,   2352.3,2,   7.5297,2,    25.00,   -171.1,2,      3.0,     0.20,2,  -999.00,  -999.00,9,   5.2525,2
  49NZ20031209,  I3I4,   463,  1,     22,  12046,2,20040116,1159,-19.9920, 103.1287, 5619,   1199.9,   4.5839,  34.6640,2,  34.6645,2,     98.5,1,    102.4,2,    91.30,2,    36.40,2,     0.00,2,     2.63,2,    0.008,2,    0.015,2,   -0.001,4,   2291.3,2,   2364.1,2,   7.5345,2,    25.00,   -170.1,2,      2.9,     0.22,2,  -999.00,  -999.00,9,   4.5841,2
  49NZ20031209,  I3I4,   463,  1,     21,  12045,2,20040116,1159,-19.9920, 103.1287, 5619,   1399.7,   3.8570,  34.6581,2,  34.6582,2,    110.3,1,    115.3,2,    97.02,2,    36.21,2,     0.00,2,     2.60,2,    0.005,2,    0.009,2,   -0.001,4,   2293.1,2,   2365.1,2,   7.5426,2,    25.00,   -189.9,2,      2.9,     0.22,2,  -999.00,  -999.00,9,   3.8571,2
  49NZ20031209,  I3I4,   463,  1,     20,  12044,2,20040116,1159,-19.9920, 103.1287, 5619,   1599.8,   3.2891,  34.6787,2,  34.6796,2,    123.2,1,    129.2,2,    99.78,2,    35.54,2,     0.00,2,     2.55,2,    0.002,2,    0.023,2,   -0.022,4,   2289.4,2,   2367.9,2,   7.5552,2,    25.00,   -194.1,2,      2.9,     0.29,2,  -999.00,  -999.00,9,   3.2893,2
  49NZ20031209,  I3I4,   463,  1,     19,  12043,2,20040116,1159,-19.9920, 103.1287, 5619,   1799.4,   2.8770,  34.7025,2,  34.7020,2,    131.7,1,    138.6,2,   104.91,2,    35.23,2,     0.00,2,     2.50,2,   -0.001,2,    0.009,2,   -0.022,4,   2293.6,2,   2375.0,2,   7.5653,2,    25.00,   -195.1,2,      2.9,     0.36,3,  -999.00,  -999.00,9,   2.8771,2
  49NZ20031209,  I3I4,   463,  1,     18,  12042,2,20040116,1159,-19.9920, 103.1287, 5619,   1999.4,   2.5176,  34.7172,2,  34.7168,2,    138.8,1,    146.3,2,   110.75,2,    34.85,2,     0.00,2,     2.46,2,    0.002,2,    0.005,2,   -0.022,4,   2294.2,2,   2377.8,2,   7.5761,6,    25.00,   -193.2,2,      2.8,     0.23,3,  -999.00,  -999.00,9,   2.5173,2
  49NZ20031209,  I3I4,   463,  1,     17,  12041,2,20040116,1159,-19.9920, 103.1287, 5619,   2201.2,   2.2870,  34.7242,2,  34.7247,2,    143.5,1,    151.5,2,   115.10,2,    34.64,2,     0.00,2,     2.44,2,    0.003,2,    0.004,2,   -0.022,4,   2293.4,2,   2389.7,2,   7.5832,2,    25.00,   -191.1,2,      2.9,     0.29,2,  -999.00,  -999.00,9,   2.2873,2
  49NZ20031209,  I3I4,   463,  1,     16,  12040,2,20040116,1159,-19.9920, 103.1287, 5619,   2400.4,   2.0738,  34.7266,2,  34.7258,2,    149.8,1,    158.5,2,   117.40,2,    34.25,2,    -0.01,2,     2.41,2,    0.007,2,    0.003,2,   -0.001,4,   2294.7,6,   2391.9,2,   7.5902,2,    25.00,   -194.9,2,      3.0,     0.29,2,  -999.00,  -999.00,9,   2.0740,2
  49NZ20031209,  I3I4,   463,  1,     15,  12039,2,20040116,1159,-19.9920, 103.1287, 5619,   2600.8,   1.9028,  34.7268,2,  34.7274,2,    154.8,1,    164.0,2,   119.26,2,    34.02,2,     0.00,2,     2.39,2,    0.003,2,    0.005,2,   -0.001,4,   2293.6,2,   2388.3,6,   7.5961,2,    25.00,   -181.6,3,      3.0,     0.31,2,  -999.00,  -999.00,9,   1.9025,2
  49NZ20031209,  I3I4,   463,  1,     14,  12038,2,20040116,1159,-19.9920, 103.1287, 5619,   2801.8,   1.7708,  34.7263,2,  34.7268,2,    159.1,1,    168.8,2,   120.68,2,    33.82,2,     0.00,2,     2.37,2,    0.003,2,    0.002,2,   -0.001,4,   2293.0,2,   2386.4,2,   7.6020,6,    25.00,   -194.9,2,      2.9,     0.33,2,  -999.00,  -999.00,9,   1.7708,2
  49NZ20031209,  I3I4,   463,  1,     13,  12037,2,20040116,1159,-19.9920, 103.1287, 5619,   5500.6,   1.1796,  34.7111,2,  34.7110,2,    194.8,1,    201.3,2,   124.09,2,    32.62,2,     0.00,2,     2.25,2,    0.008,2,    0.000,2,   -0.002,4,   2274.3,2,   2381.8,2,   7.6262,2,    25.00,   -170.1,2,      2.9,     0.43,2,  -999.00,  -999.00,9,   1.1798,2
  49NZ20031209,  I3I4,   463,  1,     12,  12036,2,20040116,1159,-19.9920, 103.1287, 5619,   3249.6,   1.4954,  34.7228,2,  34.7228,2,    168.1,1,    178.6,2,   123.53,2,    33.47,2,     0.00,2,     2.33,2,   -0.001,2,    0.008,2,   -0.002,4,   2290.8,2,   2391.9,2,   7.6111,2,    25.00,   -181.5,2,      2.8,     0.34,2,  -999.00,  -999.00,9,   1.4956,2
  49NZ20031209,  I3I4,   463,  1,     11,  12035,2,20040116,1159,-19.9920, 103.1287, 5619,   3500.5,   1.3683,  34.7198,2,  34.7193,2,    172.1,1,    183.0,2,   125.59,2,    33.43,2,     0.00,2,     2.32,2,    0.001,2,    0.006,2,   -0.002,4,   2290.0,2,   2391.8,2,   7.6163,2,    25.00,   -187.6,2,      2.8,     0.34,2,  -999.00,  -999.00,9,   1.3684,2
  49NZ20031209,  I3I4,   463,  1,     10,  12034,2,20040116,1159,-19.9920, 103.1287, 5619,   3749.9,   1.2793,  34.7171,2,  34.7170,2,    175.6,1,    186.6,2,   126.48,2,    33.29,2,     0.00,2,     2.31,2,   -0.005,2,    0.003,2,   -0.002,4,   2288.4,2,   2393.1,2,   7.6201,2,    25.00,   -181.3,2,      2.9,     0.36,2,  -999.00,  -999.00,9,   1.2794,2
  49NZ20031209,  I3I4,   463,  1,      9,  12033,2,20040116,1159,-19.9920, 103.1287, 5619,   3999.4,   1.2329,  34.7156,2,  34.7155,2,    178.7,1,    189.3,2,   127.09,2,    33.24,2,     0.00,2,     2.30,2,    0.000,2,    0.001,2,   -0.002,4,   2288.8,2,   2389.1,2,   7.6215,2,    25.00,   -183.6,2,      3.1,     0.37,2,  -999.00,  -999.00,9,   1.2328,2
  49NZ20031209,  I3I4,   463,  1,      8,  12032,2,20040116,1159,-19.9920, 103.1287, 5619,   4248.2,   1.2052,  34.7147,2,  34.7145,2,    181.3,1,    191.7,2,   126.82,2,    33.13,2,     0.00,2,     2.29,2,   -0.002,2,    0.000,2,   -0.002,4,   2285.9,6,   2385.6,2,   7.6250,2,    25.00,   -191.4,3,      3.0,     0.39,2,  -999.00,  -999.00,9,   1.2053,2
  49NZ20031209,  I3I4,   463,  1,      7,  12031,2,20040116,1159,-19.9920, 103.1287, 5619,   4500.6,   1.1811,  34.7139,2,  34.7140,2,    184.4,1,    194.6,2,   126.33,2,    32.97,2,     0.00,2,     2.28,2,    0.008,2,    0.007,2,   -0.002,4,   2282.3,2,   2385.8,6,   7.6258,2,    25.00,   -178.2,2,      2.9,     0.42,2,  -999.00,  -999.00,9,   1.1813,2
  49NZ20031209,  I3I4,   463,  1,      6,  12030,2,20040116,1159,-19.9920, 103.1287, 5619,   4750.1,   1.1597,  34.7129,2,  34.7131,2,    187.7,1,    197.4,2,   125.61,2,    32.81,2,    -0.01,2,     2.27,2,   -0.002,2,    0.000,2,   -0.002,4,   2280.6,2,   2384.6,2,   7.6263,6,    25.00,   -177.4,2,      4.3,     0.42,2,  -999.00,  -999.00,9,   1.1599,2
  49NZ20031209,  I3I4,   463,  1,      5,  12029,2,20040116,1159,-19.9920, 103.1287, 5619,   5000.4,   1.1445,  34.7116,2,  34.7117,2,    190.8,1,    199.8,2,   124.67,2,    32.70,2,     0.00,2,     2.26,2,    0.002,2,    0.001,2,   -0.002,4,   2276.1,2,   2380.7,2,   7.6263,2,    25.00,   -175.5,2,      3.0,     0.39,2,  -999.00,  -999.00,9,   1.1446,2
  49NZ20031209,  I3I4,   463,  1,      4,  12028,2,20040116,1159,-19.9920, 103.1287, 5619,   5251.2,   1.1577,  34.7111,2,  34.7111,2,    192.8,1,    200.8,2,   124.08,2,    32.69,2,    -0.01,2,     2.25,2,    0.002,2,   -0.003,2,   -0.002,4,   2276.8,2,   2382.6,2,   7.6541,4,    25.00,   -166.6,2,      3.0,     0.44,2,  -999.00,  -999.00,9,   1.1577,2
  49NZ20031209,  I3I4,   463,  1,      3,  12027,2,20040116,1159,-19.9920, 103.1287, 5619,   5500.2,   1.1795,  34.7111,2,  34.7108,2,    194.8,1,    201.5,2,   123.82,2,    32.63,2,     0.00,2,     2.25,2,    0.002,2,   -0.001,2,   -0.002,4,   2273.9,2,   2377.4,2,   7.6239,2,    25.00,   -162.9,2,      3.2,     0.44,2,  -999.00,  -999.00,9,   1.1797,2
  49NZ20031209,  I3I4,   463,  1,      2,  12026,2,20040116,1159,-19.9920, 103.1287, 5619,   5751.1,   1.2040,  34.7110,2,  34.7110,2,    197.5,1,    202.2,2,   123.41,2,    32.63,2,     0.00,2,     2.25,2,    0.002,2,    0.000,2,   -0.002,4,   2274.4,2,   2381.0,2,   7.6256,2,    25.00,   -157.6,2,      3.1,     0.46,2,  -999.00,  -999.00,9,   1.2042,2
  49NZ20031209,  I3I4,   463,  1,      1,  12025,2,20040116,1159,-19.9920, 103.1287, 5619,   3001.7,   1.6322,  34.7248,2,  34.7253,2,    163.9,1,    174.1,2,   121.53,2,    33.64,2,     0.00,2,     2.35,2,    0.001,2,    0.008,2,   -0.002,4,   2292.2,2,   2392.0,2,   7.6075,2,    25.00,   -183.6,6,      2.2,     0.32,6,  -999.00,  -999.00,9,   1.6322,2