BOTTLE,20141204PRINUNIVRMK
EXPOCODE,SECT_ID,STNNBR,CASTNO,SAMPNO,BTLNBR,BTLNBR_FLAG_W,DATE,TIME,LATITUDE,LONGITUDE,DEPTH,CTDPRS,CTDTMP,CTDSAL,CTDSAL_FLAG_W,SALNTY,SALNTY_FLAG_W,CTDOXY,CTDOXY_FLAG_W,OXYGEN,OXYGEN_FLAG_W,SILCAT,SILCAT_FLAG_W,NITRAT,NITRAT_FLAG_W,NITRIT,NITRIT_FLAG_W,PHSPHT,PHSPHT_FLAG_W,CFC-11,CFC-11_FLAG_W,CFC-12,CFC-12_FLAG_W,CFC113,CFC113_FLAG_W,TCARBN,TCARBN_FLAG_W,ALKALI,ALKALI_FLAG_W,PH_TOT,PH_TOT_FLAG_W,PH_TMP,DELC14,DELC14_FLAG_W,C14ERR,DELC13,DELC13_FLAG_W,CS-137,CS137ER,CS-137_FLAG_W,SBE35,SBE35_FLAG_W
,,,,,,,,,,,METERS,DBAR,ITS-90,PSS-78,,PSS-78,,UMOL/KG,,UMOL/KG,,UMOL/KG,,UMOL/KG,,UMOL/KG,,UMOL/KG,,PMOL/KG,,PMOL/KG,,PMOL/KG,,UMOL/KG,,UMOL/KG,,,,DEG C,/MILLE,,/MILLE,/MILLE,,DM/.1MG,DM/.1MG,,ITS-90,
  49NZ20031209,  I3I4,   483,  1,     36,  12024,2,20040109,1533,-19.9940,  88.9242, 4996,      9.3,  25.8117,  34.9833,2,  34.9820,2,    197.7,1,    206.8,2,     1.94,2,     0.06,2,     0.00,2,     0.10,2, -999.000,9, -999.000,9, -999.000,9,   -999.0,9,   -999.0,9,-999.0000,9,  -999.00,   -999.0,9,   -999.0,  -999.00,9,  -999.00,  -999.00,9,  25.7969,2
  49NZ20031209,  I3I4,   483,  1,     35,  12023,2,20040109,1533,-19.9940,  88.9242, 4996,     49.2,  23.9117,  35.2748,2,  35.2775,2,    212.3,1,    222.2,2,     2.07,2,     0.04,2,     0.01,2,     0.10,2, -999.000,9, -999.000,9, -999.000,9,   -999.0,9,   -999.0,9,-999.0000,9,  -999.00,   -999.0,9,   -999.0,  -999.00,9,  -999.00,  -999.00,9,  23.9065,2
  49NZ20031209,  I3I4,   483,  1,     34,  12022,2,20040109,1533,-19.9940,  88.9242, 4996,     99.3,  21.8128,  35.3977,2,  35.3981,2,    215.3,1,    225.0,2,     2.03,2,     0.04,2,     0.01,2,     0.11,2, -999.000,9, -999.000,9, -999.000,9,   -999.0,9,   -999.0,9,-999.0000,9,  -999.00,   -999.0,9,   -999.0,  -999.00,9,  -999.00,  -999.00,9,  21.8128,2
  49NZ20031209,  I3I4,   483,  1,     33,  12015,2,20040109,1533,-19.9940,  88.9242, 4996,    150.9,  20.6068,  35.6237,2,  35.6291,2,    212.1,1,    221.6,2,     1.96,2,     0.06,2,     0.00,2,     0.12,2, -999.000,9, -999.000,9, -999.000,9,   -999.0,9,   -999.0,9,-999.0000,9,  -999.00,   -999.0,9,   -999.0,  -999.00,9,  -999.00,  -999.00,9,  20.6054,2
  49NZ20031209,  I3I4,   483,  1,     32,  12020,2,20040109,1533,-19.9940,  88.9242, 4996,    200.0,  19.4799,  35.7188,2,  35.7208,2,    189.7,1,    196.8,2,     2.94,2,     2.41,2,     0.06,2,     0.30,2, -999.000,9, -999.000,9, -999.000,9,   -999.0,9,   -999.0,9,-999.0000,9,  -999.00,   -999.0,9,   -999.0,  -999.00,9,  -999.00,  -999.00,9,  19.4697,2
  49NZ20031209,  I3I4,   483,  1,     31,  12019,2,20040109,1533,-19.9940,  88.9242, 4996,    250.4,  17.3703,  35.7259,2,  35.7239,2,    186.8,1,    195.0,2,     4.02,2,     4.31,2,     0.01,2,     0.42,2, -999.000,9, -999.000,9, -999.000,9,   -999.0,9,   -999.0,9,-999.0000,9,  -999.00,   -999.0,9,   -999.0,  -999.00,9,  -999.00,  -999.00,9,  17.3683,2
  49NZ20031209,  I3I4,   483,  1,     30,  12018,2,20040109,1533,-19.9940,  88.9242, 4996,    300.8,  15.3072,  35.5786,2,  35.5728,2,    204.1,1,    212.0,2,     2.77,2,     4.91,2,     0.01,2,     0.47,2, -999.000,9, -999.000,9, -999.000,9,   -999.0,9,   -999.0,9,-999.0000,9,  -999.00,   -999.0,9,   -999.0,  -999.00,9,  -999.00,  -999.00,9,  15.3090,2
  49NZ20031209,  I3I4,   483,  1,     29,  12017,2,20040109,1533,-19.9940,  88.9242, 4996,    401.1,  12.3362,  35.1641,2,  35.1607,2,    220.3,1,    229.0,2,     2.69,2,     9.04,2,     0.01,2,     0.72,2, -999.000,9, -999.000,9, -999.000,9,   -999.0,9,   -999.0,9,-999.0000,9,  -999.00,   -999.0,9,   -999.0,  -999.00,9,  -999.00,  -999.00,9,  12.3392,2
  49NZ20031209,  I3I4,   483,  1,     28,  12016,2,20040109,1533,-19.9940,  88.9242, 4996,    500.7,  10.1553,  34.8269,2,  34.8233,2,    225.6,1,    234.5,2,     3.98,2,    14.18,2,     0.00,2,     1.04,2, -999.000,9, -999.000,9, -999.000,9,   -999.0,9,   -999.0,9,-999.0000,9,  -999.00,   -999.0,9,   -999.0,  -999.00,9,  -999.00,  -999.00,9,  10.1554,2
  49NZ20031209,  I3I4,   483,  1,     27,  12012,2,20040109,1533,-19.9940,  88.9242, 4996,    599.2,   9.0377,  34.6677,2,  34.6669,2,    220.1,1,    229.1,2,     6.16,2,    17.93,2,     0.00,2,     1.27,2, -999.000,9, -999.000,9, -999.000,9,   -999.0,9,   -999.0,9,-999.0000,9,  -999.00,   -999.0,9,   -999.0,  -999.00,9,  -999.00,  -999.00,9,   9.0384,2
  49NZ20031209,  I3I4,   483,  1,     26,  12014,2,20040109,1533,-19.9940,  88.9242, 4996,    700.9,   7.6058,  34.5398,2,  34.5387,2,    190.6,1,    197.8,2,    16.74,2,    24.33,2,     0.00,2,     1.68,2, -999.000,9, -999.000,9, -999.000,9,   -999.0,9,   -999.0,9,-999.0000,9,  -999.00,   -999.0,9,   -999.0,  -999.00,9,  -999.00,  -999.00,9,   7.6110,2
  49NZ20031209,  I3I4,   483,  1,     25,  12013,2,20040109,1533,-19.9940,  88.9242, 4996,    800.4,   6.1442,  34.5135,2,  34.5211,4,    150.0,1,    152.3,2,    41.59,2,    31.23,2,     0.00,2,     2.19,2, -999.000,9, -999.000,9, -999.000,9,   -999.0,9,   -999.0,9,-999.0000,9,  -999.00,   -999.0,9,   -999.0,  -999.00,9,  -999.00,  -999.00,9,   6.1448,2
  49NZ20031209,  I3I4,   483,  1,     24,  12048,2,20040109,1533,-19.9940,  88.9242, 4996,    900.2,   5.4760,  34.5706,2,  34.5712,2,    120.0,1,    124.0,2,    61.60,2,    34.40,2,     0.00,2,     2.44,2, -999.000,9, -999.000,9, -999.000,9,   -999.0,9,   -999.0,9,-999.0000,9,  -999.00,   -999.0,9,   -999.0,  -999.00,9,  -999.00,  -999.00,9,   5.4758,2
  49NZ20031209,  I3I4,   483,  1,     23,  12047,2,20040109,1533,-19.9940,  88.9242, 4996,   1001.1,   5.0898,  34.6258,2,  34.6257,2,    105.9,1,    109.2,2,    75.91,2,    35.72,2,     0.00,2,     2.56,2, -999.000,9, -999.000,9, -999.000,9,   -999.0,9,   -999.0,9,-999.0000,9,  -999.00,   -999.0,9,   -999.0,  -999.00,9,  -999.00,  -999.00,9,   5.0908,2
  49NZ20031209,  I3I4,   483,  1,     22,  12046,2,20040109,1533,-19.9940,  88.9242, 4996,   1201.0,   4.3638,  34.6607,2,  34.6604,2,    108.0,1,    111.5,2,    88.08,2,    36.08,2,     0.00,2,     2.60,2, -999.000,9, -999.000,9, -999.000,9,   -999.0,9,   -999.0,9,-999.0000,9,  -999.00,   -999.0,9,   -999.0,  -999.00,9,  -999.00,  -999.00,9,   4.3645,2
  49NZ20031209,  I3I4,   483,  1,     21,  12045,2,20040109,1533,-19.9940,  88.9242, 4996,   1401.4,   3.8000,  34.6806,2,  34.6807,2,    115.8,1,    120.2,2,    94.64,2,    35.98,2,     0.00,2,     2.57,2, -999.000,9, -999.000,9, -999.000,9,   -999.0,9,   -999.0,9,-999.0000,9,  -999.00,   -999.0,9,   -999.0,  -999.00,9,  -999.00,  -999.00,9,   3.8006,2
  49NZ20031209,  I3I4,   483,  1,     20,  12044,2,20040109,1533,-19.9940,  88.9242, 4996,   1601.1,   3.2460,  34.7004,2,  34.7014,2,    125.6,1,    130.4,2,   101.27,2,    35.56,2,     0.00,2,     2.54,2, -999.000,9, -999.000,9, -999.000,9,   -999.0,9,   -999.0,9,-999.0000,9,  -999.00,   -999.0,9,   -999.0,  -999.00,9,  -999.00,  -999.00,9,   3.2461,2
  49NZ20031209,  I3I4,   483,  1,     19,  12043,2,20040109,1533,-19.9940,  88.9242, 4996,   1801.3,   2.8795,  34.7173,2,  34.7171,2,    135.0,1,    140.6,2,   104.67,2,    35.08,2,     0.00,2,     2.49,2, -999.000,9, -999.000,9, -999.000,9,   -999.0,9,   -999.0,9,-999.0000,9,  -999.00,   -999.0,9,   -999.0,  -999.00,9,  -999.00,  -999.00,9,   2.8792,2
  49NZ20031209,  I3I4,   483,  1,     18,  12042,2,20040109,1533,-19.9940,  88.9242, 4996,   1999.5,   2.5145,  34.7226,2,  34.7228,2,    144.5,1,    151.1,2,   108.18,2,    34.52,2,     0.00,2,     2.44,2, -999.000,9, -999.000,9, -999.000,9,   -999.0,9,   -999.0,9,-999.0000,9,  -999.00,   -999.0,9,   -999.0,  -999.00,9,  -999.00,  -999.00,9,   2.5147,2
  49NZ20031209,  I3I4,   483,  1,     17,  12041,2,20040109,1533,-19.9940,  88.9242, 4996,   2199.7,   2.2300,  34.7258,2,  34.7252,2,    152.6,1,    159.8,2,   110.73,2,    34.08,2,     0.00,2,     2.40,2, -999.000,9, -999.000,9, -999.000,9,   -999.0,9,   -999.0,9,-999.0000,9,  -999.00,   -999.0,9,   -999.0,  -999.00,9,  -999.00,  -999.00,9,   2.2299,2
  49NZ20031209,  I3I4,   483,  1,     16,  12040,2,20040109,1533,-19.9940,  88.9242, 4996,   2399.9,   2.0306,  34.7280,2,  34.7280,2,    156.6,1,    164.2,2,   114.15,2,    33.99,2,     0.00,2,     2.39,2, -999.000,9, -999.000,9, -999.000,9,   -999.0,9,   -999.0,9,-999.0000,9,  -999.00,   -999.0,9,   -999.0,  -999.00,9,  -999.00,  -999.00,9,   2.0305,2
  49NZ20031209,  I3I4,   483,  1,     15,  12039,2,20040109,1533,-19.9940,  88.9242, 4996,   2601.1,   1.8948,  34.7283,2,  34.7289,2,    160.2,1,    168.3,2,   116.47,2,    33.86,2,     0.00,2,     2.37,2, -999.000,9, -999.000,9, -999.000,9,   -999.0,9,   -999.0,9,-999.0000,9,  -999.00,   -999.0,9,   -999.0,  -999.00,9,  -999.00,  -999.00,9,   1.8948,2
  49NZ20031209,  I3I4,   483,  1,     14,  12038,2,20040109,1533,-19.9940,  88.9242, 4996,   2801.4,   1.7776,  34.7281,2,  34.7281,2,    164.5,1,    172.8,2,   117.50,2,    33.60,2,     0.00,2,     2.35,2, -999.000,9, -999.000,9, -999.000,9,   -999.0,9,   -999.0,9,-999.0000,9,  -999.00,   -999.0,9,   -999.0,  -999.00,9,  -999.00,  -999.00,9,   1.7776,2
  49NZ20031209,  I3I4,   483,  1,     13,  12037,2,20040109,1533,-19.9940,  88.9242, 4996,   2998.9,   1.6725,  34.7275,2,  34.7279,2,    168.4,1,    176.8,2,   118.24,2,    33.47,2,     0.01,2,     2.34,2, -999.000,9, -999.000,9, -999.000,9,   -999.0,9,   -999.0,9,-999.0000,9,  -999.00,   -999.0,9,   -999.0,  -999.00,9,  -999.00,  -999.00,9,   1.6725,2
  49NZ20031209,  I3I4,   483,  1,     12,  12036,2,20040109,1533,-19.9940,  88.9242, 4996,   3248.9,   1.5608,  34.7257,2,  34.7246,2,    170.0,1,    178.5,2,   121.52,2,    33.47,2,     0.00,2,     2.33,2, -999.000,9, -999.000,9, -999.000,9,   -999.0,9,   -999.0,9,-999.0000,9,  -999.00,   -999.0,9,   -999.0,  -999.00,9,  -999.00,  -999.00,9,   1.5608,2
  49NZ20031209,  I3I4,   483,  1,     11,  12035,2,20040109,1533,-19.9940,  88.9242, 4996,   3499.6,   1.4362,  34.7235,2,  34.7230,2,    176.7,1,    185.3,2,   120.56,2,    33.14,2,     0.00,2,     2.30,2, -999.000,9, -999.000,9, -999.000,9,   -999.0,9,   -999.0,9,-999.0000,9,  -999.00,   -999.0,9,   -999.0,  -999.00,9,  -999.00,  -999.00,9,   1.4363,2
  49NZ20031209,  I3I4,   483,  1,     10,  12034,2,20040109,1533,-19.9940,  88.9242, 4996,   3749.9,   1.2862,  34.7195,2,  34.7189,2,    181.6,1,    190.0,2,   122.80,2,    33.11,2,     0.00,2,     2.29,2, -999.000,9, -999.000,9, -999.000,9,   -999.0,9,   -999.0,9,-999.0000,9,  -999.00,   -999.0,9,   -999.0,  -999.00,9,  -999.00,  -999.00,9,   1.2861,2
  49NZ20031209,  I3I4,   483,  1,      9,  12033,2,20040109,1533,-19.9940,  88.9242, 4996,   4000.3,   1.1361,  34.7157,2,  34.7151,2,    189.7,1,    198.5,2,   121.69,2,    32.71,2,    -0.01,2,     2.26,2, -999.000,9, -999.000,9, -999.000,9,   -999.0,9,   -999.0,9,-999.0000,9,  -999.00,   -999.0,9,   -999.0,  -999.00,9,  -999.00,  -999.00,9,   1.1361,2
  49NZ20031209,  I3I4,   483,  1,      8,  12032,2,20040109,1533,-19.9940,  88.9242, 4996,   4249.2,   1.1382,  34.7150,2,  34.7149,2,    191.4,1,    199.4,2,   121.72,2,    32.66,2,     0.00,2,     2.26,2, -999.000,9, -999.000,9, -999.000,9,   -999.0,9,   -999.0,9,-999.0000,9,  -999.00,   -999.0,9,   -999.0,  -999.00,9,  -999.00,  -999.00,9,   1.1382,2
  49NZ20031209,  I3I4,   483,  1,      7,  12031,2,20040109,1533,-19.9940,  88.9242, 4996,   4501.0,   1.1518,  34.7145,2,  34.7146,2,    192.8,1,    200.2,2,   121.61,2,    32.66,2,     0.00,2,     2.26,2, -999.000,9, -999.000,9, -999.000,9,   -999.0,9,   -999.0,9,-999.0000,9,  -999.00,   -999.0,9,   -999.0,  -999.00,9,  -999.00,  -999.00,9,   1.1517,2
  49NZ20031209,  I3I4,   483,  1,      6,  12030,2,20040109,1533,-19.9940,  88.9242, 4996,   4749.9,   1.1768,  34.7143,2,  34.7143,2,    194.0,1,    200.2,2,   121.68,2,    32.65,2,     0.00,2,     2.26,2, -999.000,9, -999.000,9, -999.000,9,   -999.0,9,   -999.0,9,-999.0000,9,  -999.00,   -999.0,9,   -999.0,  -999.00,9,  -999.00,  -999.00,9,   1.1769,2
  49NZ20031209,  I3I4,   483,  1,      5,  12029,2,20040109,1533,-19.9940,  88.9242, 4996,   4998.8,   1.2063,  34.7140,2,  34.7139,2,    195.6,1,    200.3,2,   121.55,2,    32.66,2,     0.00,2,     2.26,2, -999.000,9, -999.000,9, -999.000,9,   -999.0,9,   -999.0,9,-999.0000,9,  -999.00,   -999.0,9,   -999.0,  -999.00,9,  -999.00,  -999.00,9,   1.2063,2
  49NZ20031209,  I3I4,   483,  1,      4,  12028,2,20040109,1533,-19.9940,  88.9242, 4996,   5063.5,   1.2144,  34.7138,2,  34.7140,2,    196.4,1,    200.2,2,   121.53,2,    32.61,2,     0.00,2,     2.26,2, -999.000,9, -999.000,9, -999.000,9,   -999.0,9,   -999.0,9,-999.0000,9,  -999.00,   -999.0,9,   -999.0,  -999.00,9,  -999.00,  -999.00,9,   1.2143,2
  49NZ20031209,  I3I4,   483,  1,      3,  12027,9,20040109,1533,-19.9940,  88.9242, 4996,   1001.6,   5.0877,  34.6262,2,-999.0000,9,    105.9,1,   -999.0,9,  -999.00,9,  -999.00,9,  -999.00,9,  -999.00,9, -999.000,9, -999.000,9, -999.000,9,   -999.0,9,   -999.0,9,-999.0000,9,  -999.00,   -999.0,9,   -999.0,  -999.00,9,  -999.00,  -999.00,9,   5.0897,2
  49NZ20031209,  I3I4,   483,  1,      2,  12026,9,20040109,1533,-19.9940,  88.9242, 4996,   1000.8,   5.0924,  34.6255,2,-999.0000,9,    105.9,1,   -999.0,9,  -999.00,9,  -999.00,9,  -999.00,9,  -999.00,9, -999.000,9, -999.000,9, -999.000,9,   -999.0,9,   -999.0,9,-999.0000,9,  -999.00,   -999.0,9,   -999.0,  -999.00,9,  -999.00,  -999.00,9,   5.0921,2
  49NZ20031209,  I3I4,   483,  1,      1,  12025,9,20040109,1533,-19.9940,  88.9242, 4996,      9.7,  25.7945,  34.9966,2,-999.0000,9,    198.4,1,   -999.0,9,  -999.00,9,  -999.00,9,  -999.00,9,  -999.00,9, -999.000,9, -999.000,9, -999.000,9,   -999.0,9,   -999.0,9,-999.0000,9,  -999.00,   -999.0,9,   -999.0,  -999.00,9,  -999.00,  -999.00,9,  25.7983,2