BOTTLE,20141204PRINUNIVRMK
EXPOCODE,SECT_ID,STNNBR,CASTNO,SAMPNO,BTLNBR,BTLNBR_FLAG_W,DATE,TIME,LATITUDE,LONGITUDE,DEPTH,CTDPRS,CTDTMP,CTDSAL,CTDSAL_FLAG_W,SALNTY,SALNTY_FLAG_W,CTDOXY,CTDOXY_FLAG_W,OXYGEN,OXYGEN_FLAG_W,SILCAT,SILCAT_FLAG_W,NITRAT,NITRAT_FLAG_W,NITRIT,NITRIT_FLAG_W,PHSPHT,PHSPHT_FLAG_W,CFC-11,CFC-11_FLAG_W,CFC-12,CFC-12_FLAG_W,CFC113,CFC113_FLAG_W,TCARBN,TCARBN_FLAG_W,ALKALI,ALKALI_FLAG_W,PH_TOT,PH_TOT_FLAG_W,PH_TMP,DELC14,DELC14_FLAG_W,C14ERR,DELC13,DELC13_FLAG_W,CS-137,CS137ER,CS-137_FLAG_W,SBE35,SBE35_FLAG_W
,,,,,,,,,,,METERS,DBAR,ITS-90,PSS-78,,PSS-78,,UMOL/KG,,UMOL/KG,,UMOL/KG,,UMOL/KG,,UMOL/KG,,UMOL/KG,,PMOL/KG,,PMOL/KG,,PMOL/KG,,UMOL/KG,,UMOL/KG,,,,DEG C,/MILLE,,/MILLE,/MILLE,,DM/.1MG,DM/.1MG,,ITS-90,
  49NZ20031209,  I3I4,   474,  1,     36,  12024,2,20040111,2010,-19.9912,  93.5328, 5325,     10.4,  24.6406,  35.2728,2,  35.2717,2,    201.6,1,    211.2,2,     2.21,2,    -0.01,2,     0.01,2,     0.09,2,    1.818,2,    1.106,2, -999.000,5,   1988.7,2,   2309.6,2,   8.0819,2,    25.00,     53.7,2,      3.3,     1.03,2,  -999.00,  -999.00,9,  24.6404,2
  49NZ20031209,  I3I4,   474,  1,     35,  12023,2,20040111,2010,-19.9912,  93.5328, 5325,     50.1,  23.1336,  35.3080,2,  35.3045,2,    211.2,1,    221.1,2,     2.35,2,    -0.02,2,     0.00,2,     0.08,2,    1.960,2,    1.166,2, -999.000,5,   1994.3,6,   2311.8,2,   8.0800,2,    25.00,     69.7,2,      3.4,     1.06,2,  -999.00,  -999.00,9,  23.1300,2
  49NZ20031209,  I3I4,   474,  1,     34,  12022,2,20040111,2010,-19.9912,  93.5328, 5325,    101.1,  21.3850,  35.5243,2,  35.5321,2,    216.6,1,    227.0,2,     2.24,2,    -0.03,2,     0.00,2,     0.10,2,    2.092,2,    1.244,2, -999.000,5,   2012.5,2,   2325.3,6,   8.0662,2,    25.00,     62.7,2,      3.5,     0.99,2,  -999.00,  -999.00,9,  21.3809,2
  49NZ20031209,  I3I4,   474,  1,     33,  12015,2,20040111,2010,-19.9912,  93.5328, 5325,    149.4,  20.0285,  35.6065,2,  35.6098,2,    200.6,1,    208.5,2,     2.64,2,     1.07,2,     0.05,2,     0.18,2,    2.091,2,    1.257,2,    0.438,4,   2040.8,2,   2328.6,2,   8.0257,2,    25.00,     77.8,2,      3.4,     0.84,2,  -999.00,  -999.00,9,  20.0287,2
  49NZ20031209,  I3I4,   474,  1,     32,  12020,2,20040111,2010,-19.9912,  93.5328, 5325,    200.6,  18.7993,  35.7431,2,  35.7428,2,    193.7,1,    201.8,2,     2.98,2,     2.27,2,     0.01,2,     0.28,2,    2.226,2,    1.289,2,    0.283,4,   2069.5,2,   2338.8,2,   7.9906,2,    25.00,     66.4,6,      4.1,     0.85,6,  -999.00,  -999.00,9,  18.7984,2
  49NZ20031209,  I3I4,   474,  1,     31,  12019,2,20040111,2010,-19.9912,  93.5328, 5325,    249.3,  17.2564,  35.7590,2,  35.7595,2,    199.3,1,    207.5,2,     2.57,2,     2.65,2,     0.01,2,     0.33,2,    2.410,2,    1.391,2,    0.173,4,   2081.0,2,   2338.9,2,   7.9659,2,    25.00,     67.9,2,      3.4,     0.94,2,  -999.00,  -999.00,9,  17.2554,2
  49NZ20031209,  I3I4,   474,  1,     30,  12018,2,20040111,2010,-19.9912,  93.5328, 5325,    300.8,  15.3767,  35.6039,2,  35.5994,2,    209.8,1,    218.7,2,     1.91,2,     3.77,2,     0.01,2,     0.41,2,    2.619,2,    1.503,2,    0.137,4,   2095.3,2,   2333.0,2,   7.9354,2,    25.00,     70.2,2,      3.6,     1.10,2,  -999.00,  -999.00,9,  15.3821,2
  49NZ20031209,  I3I4,   474,  1,     29,  12017,2,20040111,2010,-19.9912,  93.5328, 5325,    400.4,  11.9510,  35.1024,2,  35.1013,2,    223.5,1,    232.8,2,     2.92,2,     9.28,2,     0.00,2,     0.75,2,    2.288,4,    1.224,4,    0.102,4,   2108.5,2,   2304.8,2,   7.8643,2,    25.00,     65.6,2,      3.4,     1.23,2,  -999.00,  -999.00,9,  11.9508,2
  49NZ20031209,  I3I4,   474,  1,     28,  12016,2,20040111,2010,-19.9912,  93.5328, 5325,    500.3,   9.8378,  34.7674,2,  34.7654,2,    230.1,1,    239.7,2,     3.97,2,    14.44,2,     0.00,2,     1.06,2,    3.409,2,    1.822,2,    0.172,4,   2120.2,2,   2289.7,2,   7.8113,2,    25.00,     56.9,2,      3.4,     1.29,2,  -999.00,  -999.00,9,   9.8350,2
  49NZ20031209,  I3I4,   474,  1,     27,  12012,2,20040111,2010,-19.9912,  93.5328, 5325,    599.4,   8.7963,  34.6347,2,  34.6278,2,    216.6,1,    225.2,2,     7.68,2,    18.92,2,     0.00,2,     1.34,2,    3.012,2,    1.561,2,    0.143,4,   2136.2,2,   2285.0,2,   7.7657,2,    25.00,     46.8,2,      3.3,     1.19,2,  -999.00,  -999.00,9,   8.7966,2
  49NZ20031209,  I3I4,   474,  1,     26,  12014,2,20040111,2010,-19.9912,  93.5328, 5325,    699.6,   7.2342,  34.5003,2,  34.4992,2,    191.8,1,    199.6,2,    16.99,2,    24.89,2,     0.00,2,     1.72,2,    1.774,2,    0.917,2,    0.055,4,   2162.4,6,   2286.9,2,   7.6978,2,    25.00,     -8.0,2,      3.2,     1.12,2,  -999.00,  -999.00,9,   7.2397,2
  49NZ20031209,  I3I4,   474,  1,     25,  12013,2,20040111,2010,-19.9912,  93.5328, 5325,    799.9,   5.8673,  34.5218,2,  34.5229,2,    139.3,1,    144.4,2,    47.44,2,    32.10,2,     0.00,2,     2.27,2,    0.347,2,    0.203,2,    0.000,4,   2224.9,2,   2313.2,6,   7.5999,2,    25.00,   -100.5,2,      3.0,     0.70,2,  -999.00,  -999.00,9,   5.8682,2
  49NZ20031209,  I3I4,   474,  1,     24,  12048,2,20040111,2010,-19.9912,  93.5328, 5325,    900.1,   5.1150,  34.5582,2,  34.5565,2,    121.2,1,    126.4,2,    65.17,2,    34.53,2,     0.01,2,     2.46,2,    0.116,2,    0.067,2,    0.000,4,   2254.2,2,   2329.7,2,   7.5635,6,    25.00,   -135.4,2,      3.0,     0.50,2,  -999.00,  -999.00,9,   5.1137,2
  49NZ20031209,  I3I4,   474,  1,     23,  12047,2,20040111,2010,-19.9912,  93.5328, 5325,    999.0,   4.6272,  34.5768,2,  34.5783,2,    117.6,1,    121.8,2,    74.66,2,    35.30,2,     0.00,2,     2.53,2,    0.046,6,    0.028,6,    0.000,4,   2267.9,2,   2342.0,2,   7.5513,2,    25.00,   -152.7,2,      3.0,     0.39,2,  -999.00,  -999.00,9,   4.6274,2
  49NZ20031209,  I3I4,   474,  1,     22,  12046,2,20040111,2010,-19.9912,  93.5328, 5325,   1199.9,   4.1295,  34.6353,2,  34.6342,2,    113.7,1,    118.4,2,    87.07,2,    35.81,2,     0.00,2,     2.58,2,    0.003,2,    0.001,2,    0.000,4,   2283.1,2,   2353.5,2,   7.5459,2,    25.00,   -173.2,2,      3.0,     0.32,2,  -999.00,  -999.00,9,   4.1279,2
  49NZ20031209,  I3I4,   474,  1,     21,  12045,2,20040111,2010,-19.9912,  93.5328, 5325,   1399.1,   3.5339,  34.6657,2,  34.6666,2,    122.8,1,    128.0,2,    93.25,2,    35.48,2,     0.00,2,     2.54,2,    0.004,2,   -0.001,2,    0.000,4,   2287.2,2,   2361.2,2,   7.5546,2,    25.00,   -180.8,2,      3.0,     0.31,2,  -999.00,  -999.00,9,   3.5316,2
  49NZ20031209,  I3I4,   474,  1,     20,  12044,2,20040111,2010,-19.9912,  93.5328, 5325,   1601.2,   2.9852,  34.6971,2,  34.6974,2,    132.5,1,    138.5,2,   101.01,2,    34.92,2,     0.00,2,     2.50,2,    0.000,2,    0.000,2,    0.000,4,   2286.5,2,   2368.6,2,   7.5659,2,    25.00,   -179.0,2,      2.9,     0.32,2,  -999.00,  -999.00,9,   2.9855,2
  49NZ20031209,  I3I4,   474,  1,     19,  12043,2,20040111,2010,-19.9912,  93.5328, 5325,   1801.0,   2.6000,  34.7188,2,  34.7188,2,    140.4,1,    147.1,2,   107.29,2,    34.54,2,     0.00,2,     2.46,2,    0.000,2,   -0.003,2,    0.000,4,   2291.0,2,   2375.4,2,   7.5772,2,    25.00,   -189.1,2,      3.0,     0.33,2,  -999.00,  -999.00,9,   2.6001,2
  49NZ20031209,  I3I4,   474,  1,     18,  12042,2,20040111,2010,-19.9912,  93.5328, 5325,   2000.6,   2.3146,  34.7230,2,  34.7243,2,    147.8,1,    155.2,2,   110.48,2,    34.11,2,     0.00,2,     2.43,2,    0.001,2,    0.001,2,    0.000,4,   2290.4,2,   2378.2,2,   7.5881,6,    25.00,   -197.2,2,      3.0,     0.33,2,  -999.00,  -999.00,9,   2.3146,2
  49NZ20031209,  I3I4,   474,  1,     17,  12041,2,20040111,2010,-19.9912,  93.5328, 5325,   2199.7,   2.1121,  34.7265,2,  34.7264,2,    153.2,1,    161.1,2,   113.19,2,    33.84,2,     0.00,2,     2.40,2,    0.004,2,    0.005,2,    0.000,4,   2292.0,2,   2376.9,2,   7.5943,2,    25.00,   -188.7,2,      2.9,     0.37,2,  -999.00,  -999.00,9,   2.1119,2
  49NZ20031209,  I3I4,   474,  1,     16,  12040,2,20040111,2010,-19.9912,  93.5328, 5325,   4750.8,   1.0792,  34.7115,2,  34.7111,2,    195.4,1,    203.7,2,   121.70,2,    32.26,2,     0.00,2,     2.25,2,    0.000,2,    0.001,2,    0.000,4,   2270.6,6,   2374.0,2,   7.6367,4,    25.00,   -163.7,2,      2.8,     0.45,3,  -999.00,  -999.00,9,   1.0792,2
  49NZ20031209,  I3I4,   474,  1,     15,  12039,2,20040111,2010,-19.9912,  93.5328, 5325,   2600.7,   1.8364,  34.7282,2,  34.7281,2,    159.5,1,    168.2,2,   118.02,2,    33.62,2,     0.00,2,     2.37,2,   -0.003,2,    0.000,2,    0.000,4,   2288.7,2,   2384.3,6,   7.6027,2,    25.00,   -191.5,2,      2.9,     0.36,2,  -999.00,  -999.00,9,   1.8364,2
  49NZ20031209,  I3I4,   474,  1,     14,  12038,2,20040111,2010,-19.9912,  93.5328, 5325,   2800.6,   1.7160,  34.7274,2,  34.7273,2,    162.0,1,    171.0,2,   120.70,2,    33.62,2,     0.00,2,     2.36,2,   -0.003,2,   -0.002,2,    0.000,4,   2292.8,2,   2391.0,2,   7.6058,6,    25.00,   -193.7,2,      2.9,     0.36,2,  -999.00,  -999.00,9,   1.7160,2
  49NZ20031209,  I3I4,   474,  1,     13,  12037,2,20040111,2010,-19.9912,  93.5328, 5325,   3000.3,   1.6135,  34.7261,2,  34.7260,2,    164.0,1,    173.1,2,   123.25,2,    33.62,2,     0.00,2,     2.37,2,   -0.004,2,   -0.002,2,    0.000,4,   2294.6,2,   2391.8,2,   7.6078,2,    25.00,   -193.1,6,      4.1,     0.35,6,  -999.00,  -999.00,9,   1.6136,2
  49NZ20031209,  I3I4,   474,  1,     12,  12036,2,20040111,2010,-19.9912,  93.5328, 5325,   3249.9,   1.5281,  34.7241,2,  34.7242,2,    165.4,1,    174.4,2,   126.17,2,    33.70,2,     0.00,2,     2.36,2,    0.003,2,    0.001,2,    0.000,4,   2295.5,2,   2393.0,2,   7.6112,2,    25.00,   -196.0,2,      2.9,     0.32,2,  -999.00,  -999.00,9,   1.5281,2
  49NZ20031209,  I3I4,   474,  1,     11,  12035,2,20040111,2010,-19.9912,  93.5328, 5325,   3501.0,   1.4414,  34.7221,2,  34.7218,2,    169.5,1,    178.7,2,   126.59,2,    33.52,2,     0.00,2,     2.35,2,    0.000,2,   -0.001,2,    0.000,4,   2294.5,2,   2395.3,2,   7.6160,2,    25.00,   -195.4,2,      2.8,     0.34,2,  -999.00,  -999.00,9,   1.4411,2
  49NZ20031209,  I3I4,   474,  1,     10,  12034,2,20040111,2010,-19.9912,  93.5328, 5325,   3748.8,   1.3462,  34.7199,2,  34.7198,2,    175.9,1,    185.2,2,   125.06,2,    33.21,2,     0.00,2,     2.31,2,   -0.003,2,   -0.001,2,    0.000,4,   2288.8,2,   2387.1,2,   7.6201,2,    25.00,   -180.4,2,      2.9,     0.38,2,  -999.00,  -999.00,9,   1.3459,2
  49NZ20031209,  I3I4,   474,  1,      9,  12033,2,20040111,2010,-19.9912,  93.5328, 5325,   4000.5,   1.2345,  34.7176,2,  34.7172,2,    183.8,1,    193.3,2,   122.64,2,    32.74,2,     0.01,2,     2.28,2,   -0.003,2,    0.002,2,    0.000,4,   2277.9,2,   2383.0,2,   7.6234,2,    25.00,   -176.2,2,      2.9,     0.44,2,  -999.00,  -999.00,9,   1.2345,2
  49NZ20031209,  I3I4,   474,  1,      8,  12032,2,20040111,2010,-19.9912,  93.5328, 5325,   4250.0,   1.1620,  34.7156,2,  34.7165,2,    188.7,1,    198.2,2,   121.85,2,    32.54,2,     0.00,2,     2.26,2,   -0.001,2,   -0.002,2,    0.000,4,   2275.7,6,   2376.6,2,   7.6260,2,    25.00,   -177.9,2,      3.0,     0.45,2,  -999.00,  -999.00,9,   1.1619,2
  49NZ20031209,  I3I4,   474,  1,      7,  12031,2,20040111,2010,-19.9912,  93.5328, 5325,   4500.5,   1.1162,  34.7137,2,  34.7130,2,    192.4,1,    201.4,2,   121.47,2,    32.40,2,     0.00,2,     2.25,2,    0.001,2,   -0.003,2,    0.000,4,   2272.3,2,   2379.1,6,   7.6274,2,    25.00,   -168.5,2,      2.8,     0.50,2,  -999.00,  -999.00,9,   1.1163,2
  49NZ20031209,  I3I4,   474,  1,      6,  12030,2,20040111,2010,-19.9912,  93.5328, 5325,   4749.6,   1.0797,  34.7115,2,  34.7111,2,    195.4,1,    203.7,2,   121.87,2,    32.33,2,    -0.01,2,     2.25,2,    0.003,2,    0.001,2,    0.000,4,   2270.6,2,   2376.0,2,   7.6258,6,    25.00,   -176.8,2,      2.9,     0.48,2,  -999.00,  -999.00,9,   1.0796,2
  49NZ20031209,  I3I4,   474,  1,      5,  12029,2,20040111,2010,-19.9912,  93.5328, 5325,   5001.8,   1.0930,  34.7105,2,  34.7104,2,    197.3,1,    204.2,2,   121.87,3,    32.34,3,     0.00,3,     2.25,3,    0.002,2,    0.002,2,    0.000,4,   2269.7,2,   2382.7,4,   7.6266,2,    25.00,   -172.7,2,      3.0,     0.48,2,  -999.00,  -999.00,9,   1.0928,2
  49NZ20031209,  I3I4,   474,  1,      4,  12028,2,20040111,2010,-19.9912,  93.5328, 5325,   5250.6,   1.1238,  34.7104,2,  34.7107,3,    198.7,1,    204.2,2,   121.85,3,    32.32,3,     0.00,3,     2.25,3,   -0.001,2,    0.002,2,    0.000,4,   2270.5,2,   2373.3,2,   7.6264,2,    25.00,   -163.8,2,      2.8,     0.52,2,  -999.00,  -999.00,9,   1.1238,2
  49NZ20031209,  I3I4,   474,  1,      3,  12027,2,20040111,2010,-19.9912,  93.5328, 5325,   5409.7,   1.1441,  34.7103,2,  34.7103,2,    200.1,1,    204.2,2,   121.98,3,    32.35,3,     0.00,3,     2.25,3,    0.000,2,    0.001,2,    0.000,4,   2271.7,2,   2372.5,2,   7.6240,2,    25.00,   -166.3,2,      2.9,     0.50,2,  -999.00,  -999.00,9,   1.1441,2
  49NZ20031209,  I3I4,   474,  1,      2,  12026,9,20040111,2010,-19.9912,  93.5328, 5325,     10.7,  24.6331,  35.2724,2,-999.0000,9,    201.8,1,   -999.0,9,  -999.00,9,  -999.00,9,  -999.00,9,  -999.00,9, -999.000,9, -999.000,9, -999.000,9,   -999.0,9,   -999.0,9,-999.0000,9,  -999.00,   -999.0,9,   -999.0,  -999.00,9,  -999.00,  -999.00,9,  24.6308,2
  49NZ20031209,  I3I4,   474,  1,      1,  12025,2,20040111,2010,-19.9912,  93.5328, 5325,   2399.6,   1.9551,  34.7283,2,  34.7279,2,    156.5,1,    164.8,2,   116.25,2,    33.78,2,     0.00,2,     2.39,2,   -0.004,2,   -0.002,2,    0.000,4,   2292.0,6,   2382.0,2,   7.5982,2,    25.00,   -196.3,2,      3.0,     0.38,2,  -999.00,  -999.00,9,   1.9551,2