BOTTLE,20141204PRINUNIVRMK
EXPOCODE,SECT_ID,STNNBR,CASTNO,SAMPNO,BTLNBR,BTLNBR_FLAG_W,DATE,TIME,LATITUDE,LONGITUDE,DEPTH,CTDPRS,CTDTMP,CTDSAL,CTDSAL_FLAG_W,SALNTY,SALNTY_FLAG_W,CTDOXY,CTDOXY_FLAG_W,OXYGEN,OXYGEN_FLAG_W,SILCAT,SILCAT_FLAG_W,NITRAT,NITRAT_FLAG_W,NITRIT,NITRIT_FLAG_W,PHSPHT,PHSPHT_FLAG_W,CFC-11,CFC-11_FLAG_W,CFC-12,CFC-12_FLAG_W,CFC113,CFC113_FLAG_W,TCARBN,TCARBN_FLAG_W,ALKALI,ALKALI_FLAG_W,PH_TOT,PH_TOT_FLAG_W,PH_TMP,DELC14,DELC14_FLAG_W,C14ERR,DELC13,DELC13_FLAG_W,CS-137,CS137ER,CS-137_FLAG_W,SBE35,SBE35_FLAG_W
,,,,,,,,,,,METERS,DBAR,ITS-90,PSS-78,,PSS-78,,UMOL/KG,,UMOL/KG,,UMOL/KG,,UMOL/KG,,UMOL/KG,,UMOL/KG,,PMOL/KG,,PMOL/KG,,PMOL/KG,,UMOL/KG,,UMOL/KG,,,,DEG C,/MILLE,,/MILLE,/MILLE,,DM/.1MG,DM/.1MG,,ITS-90,
  49NZ20031209,  I3I4,   606,  1,     36,  12024,2,20031213,1540,-24.6713,  35.8863, 1207,     10.5,  27.9285,  35.2766,2,  35.2800,2,    190.6,1,    201.0,2,     1.48,2,    -0.01,2,     0.00,2,     0.14,2, -999.000,9, -999.000,9, -999.000,9,   -999.0,9,   -999.0,9,-999.0000,9,  -999.00,   -999.0,9,   -999.0,  -999.00,9,  -999.00,  -999.00,9,  27.9239,2
  49NZ20031209,  I3I4,   606,  1,     35,  12023,2,20031213,1540,-24.6713,  35.8863, 1207,     51.2,  23.6218,  35.1721,2,  35.1692,2,    190.8,1,    200.8,2,     3.07,2,     0.44,2,     0.06,2,     0.25,2, -999.000,9, -999.000,9, -999.000,9,   -999.0,9,   -999.0,9,-999.0000,9,  -999.00,   -999.0,9,   -999.0,  -999.00,9,  -999.00,  -999.00,9,  23.6345,2
  49NZ20031209,  I3I4,   606,  1,     34,  12022,2,20031213,1540,-24.6713,  35.8863, 1207,     99.9,  20.6950,  35.2855,2,  35.2897,2,    143.8,1,    150.6,2,     7.06,2,     8.22,2,     0.18,2,     0.00,4, -999.000,9, -999.000,9, -999.000,9,   -999.0,9,   -999.0,9,-999.0000,9,  -999.00,   -999.0,9,   -999.0,  -999.00,9,  -999.00,  -999.00,9,  20.6922,2
  49NZ20031209,  I3I4,   606,  1,     33,  12015,2,20031213,1540,-24.6713,  35.8863, 1207,    150.2,  18.6133,  35.6148,2,  35.6166,2,    191.4,1,    198.8,2,     3.87,2,     3.58,2,     0.08,2,     0.37,2, -999.000,9, -999.000,9, -999.000,9,   -999.0,9,   -999.0,9,-999.0000,9,  -999.00,   -999.0,9,   -999.0,  -999.00,9,  -999.00,  -999.00,9,  18.6073,2
  49NZ20031209,  I3I4,   606,  1,     32,  12020,2,20031213,1540,-24.6713,  35.8863, 1207,    200.5,  17.0468,  35.5638,2,  35.5644,2,    176.0,1,    184.3,2,     6.03,2,     6.79,2,     0.01,2,     0.58,2, -999.000,9, -999.000,9, -999.000,9,   -999.0,9,   -999.0,9,-999.0000,9,  -999.00,   -999.0,9,   -999.0,  -999.00,9,  -999.00,  -999.00,9,  17.0442,2
  49NZ20031209,  I3I4,   606,  1,     31,  12019,2,20031213,1540,-24.6713,  35.8863, 1207,    250.4,  15.4446,  35.3837,2,  35.3894,2,    153.3,1,    161.0,2,     9.49,2,    11.70,2,     0.01,2,     0.00,4, -999.000,9, -999.000,9, -999.000,9,   -999.0,9,   -999.0,9,-999.0000,9,  -999.00,   -999.0,9,   -999.0,  -999.00,9,  -999.00,  -999.00,9,  15.4460,2
  49NZ20031209,  I3I4,   606,  1,     30,  12018,2,20031213,1540,-24.6713,  35.8863, 1207,    299.4,  14.4767,  35.3913,2,  35.3904,2,    186.0,1,    193.4,2,     6.07,2,     9.14,2,     0.01,2,     0.74,2, -999.000,9, -999.000,9, -999.000,9,   -999.0,9,   -999.0,9,-999.0000,9,  -999.00,   -999.0,9,   -999.0,  -999.00,9,  -999.00,  -999.00,9,  14.4754,2
  49NZ20031209,  I3I4,   606,  1,     29,  12017,2,20031213,1540,-24.6713,  35.8863, 1207,    398.7,  12.2151,  35.0979,2,  35.0981,2,    172.7,1,    181.9,2,    10.11,2,    14.98,2,     0.00,2,     1.10,2, -999.000,9, -999.000,9, -999.000,9,   -999.0,9,   -999.0,9,-999.0000,9,  -999.00,   -999.0,9,   -999.0,  -999.00,9,  -999.00,  -999.00,9,  12.2131,2
  49NZ20031209,  I3I4,   606,  1,     18,  12042,2,20031213,1540,-24.6713,  35.8863, 1207,    498.3,  11.0797,  34.9591,2,  34.9589,2,    211.5,1,    220.4,2,     5.18,2,    13.60,2,     0.01,2,     1.00,2, -999.000,9, -999.000,9, -999.000,9,   -999.0,9,   -999.0,9,-999.0000,9,  -999.00,   -999.0,9,   -999.0,  -999.00,9,  -999.00,  -999.00,9,  11.0781,2
  49NZ20031209,  I3I4,   606,  1,     17,  12041,2,20031213,1540,-24.6713,  35.8863, 1207,    600.2,   9.7668,  34.7925,2,  34.7891,2,    200.1,1,    208.2,2,     9.28,2,    17.87,2,     0.00,2,     1.27,2, -999.000,9, -999.000,9, -999.000,9,   -999.0,9,   -999.0,9,-999.0000,9,  -999.00,   -999.0,9,   -999.0,  -999.00,9,  -999.00,  -999.00,9,   9.7701,2
  49NZ20031209,  I3I4,   606,  1,     16,  12040,2,20031213,1540,-24.6713,  35.8863, 1207,    699.5,   8.2242,  34.6453,2,  34.6492,2,    182.6,1,    187.9,2,    18.60,2,    23.34,2,     0.01,2,     1.63,2, -999.000,9, -999.000,9, -999.000,9,   -999.0,9,   -999.0,9,-999.0000,9,  -999.00,   -999.0,9,   -999.0,  -999.00,9,  -999.00,  -999.00,9,   8.2250,2
  49NZ20031209,  I3I4,   606,  1,     15,  12039,2,20031213,1540,-24.6713,  35.8863, 1207,    800.7,   7.3308,  34.6587,2,  34.6587,2,    146.9,1,    151.8,2,    34.62,2,    28.56,2,     0.00,2,     2.02,2, -999.000,9, -999.000,9, -999.000,9,   -999.0,9,   -999.0,9,-999.0000,9,  -999.00,   -999.0,9,   -999.0,  -999.00,9,  -999.00,  -999.00,9,   7.3310,2
  49NZ20031209,  I3I4,   606,  1,     14,  12038,2,20031213,1540,-24.6713,  35.8863, 1207,    900.6,   6.6754,  34.6580,2,  34.6584,2,    136.3,1,    140.2,2,    43.93,2,    30.69,2,     0.00,2,     2.19,2, -999.000,9, -999.000,9, -999.000,9,   -999.0,9,   -999.0,9,-999.0000,9,  -999.00,   -999.0,9,   -999.0,  -999.00,9,  -999.00,  -999.00,9,   6.6752,2
  49NZ20031209,  I3I4,   606,  1,     13,  12037,2,20031213,1540,-24.6713,  35.8863, 1207,   1000.6,   5.7357,  34.6789,2,  34.6789,2,    124.2,1,    127.4,2,    58.10,2,    33.16,2,     0.00,2,     2.38,2, -999.000,9, -999.000,9, -999.000,9,   -999.0,9,   -999.0,9,-999.0000,9,  -999.00,   -999.0,9,   -999.0,  -999.00,9,  -999.00,  -999.00,9,   5.7355,2
  49NZ20031209,  I3I4,   606,  1,     12,  12036,2,20031213,1540,-24.6713,  35.8863, 1207,   1203.3,   4.2396,  34.6400,2,  34.6392,4,    139.3,1,    142.9,2,    68.90,2,     0.00,4,     0.00,2,     2.42,2, -999.000,9, -999.000,9, -999.000,9,   -999.0,9,   -999.0,9,-999.0000,9,  -999.00,   -999.0,9,   -999.0,  -999.00,9,  -999.00,  -999.00,9,   4.2402,2
  49NZ20031209,  I3I4,   605,  1,     36,  12024,2,20031213,1833,-24.6723,  35.9940, 1623,     10.3,  28.2595,  35.2688,2,  35.2689,2,    189.7,1,    199.6,2,     1.60,2,     0.05,2,     0.00,2,     0.13,2,    1.708,2,    0.960,2, -999.000,5,   1977.9,2,   2303.7,2,   8.0939,2,    25.00,   -999.0,9,   -999.0,  -999.00,9,  -999.00,  -999.00,9,  28.2883,2
  49NZ20031209,  I3I4,   605,  1,     35,  12023,2,20031213,1833,-24.6723,  35.9940, 1623,     48.4,  23.9537,  35.1470,2,  35.1504,2,    193.4,1,    205.2,2,     2.83,2,     0.11,2,     0.01,2,     0.22,2,    1.922,2,    1.051,2,    0.356,4,   2001.0,6,   2300.3,2,   8.0491,2,    25.00,   -999.0,9,   -999.0,  -999.00,9,  -999.00,  -999.00,9,  23.9488,2
  49NZ20031209,  I3I4,   605,  1,     34,  12022,2,20031213,1833,-24.6723,  35.9940, 1623,     99.9,  20.5832,  35.2757,2,  35.2780,2,    140.8,1,    147.9,2,     7.23,2,     8.62,2,     0.13,2,     0.70,2,    2.026,2,    1.075,2,    0.112,4,   2076.9,2,   2305.6,6,   7.9221,2,    25.00,   -999.0,9,   -999.0,  -999.00,9,  -999.00,  -999.00,9,  20.5825,2
  49NZ20031209,  I3I4,   605,  1,     33,  12015,2,20031213,1833,-24.6723,  35.9940, 1623,    150.7,  18.5729,  35.6103,2,  35.6089,2,    182.8,1,    191.3,2,     4.48,2,     4.30,2,     0.04,2,     0.42,2,    2.381,2,    1.290,2,    0.213,4,   2075.7,2,   2326.8,2,   7.9576,2,    25.00,   -999.0,9,   -999.0,  -999.00,9,  -999.00,  -999.00,9,  18.5736,2
  49NZ20031209,  I3I4,   605,  1,     32,  12020,2,20031213,1833,-24.6723,  35.9940, 1623,    200.6,  16.8339,  35.6356,2,  35.6359,2,    195.8,1,    205.2,2,     3.74,2,     4.50,2,     0.01,2,     0.43,2,    2.644,2,    1.408,2,    0.154,4,   2086.6,2,   2333.2,2,   7.9427,2,    25.00,   -999.0,9,   -999.0,  -999.00,9,  -999.00,  -999.00,9,  16.8309,2
  49NZ20031209,  I3I4,   605,  1,     31,  12019,2,20031213,1833,-24.6723,  35.9940, 1623,    251.7,  15.7572,  35.5462,2,  35.5438,2,    192.6,1,    202.2,2,     4.16,2,     6.14,2,     0.00,2,     0.54,2,    2.719,6,    1.438,6,    0.082,4,   2100.8,2,   2325.5,2,   7.9124,2,    25.00,   -999.0,9,   -999.0,  -999.00,9,  -999.00,  -999.00,9,  15.7534,2
  49NZ20031209,  I3I4,   605,  1,     30,  12018,2,20031213,1833,-24.6723,  35.9940, 1623,    300.9,  14.2022,  35.3605,2,  35.3628,2,    185.6,1,    194.9,2,     6.24,2,     9.57,2,     0.00,2,     0.75,2,    2.745,2,    1.416,2,    0.080,4,   2117.0,2,   2316.0,2,   7.8659,2,    25.00,   -999.0,9,   -999.0,  -999.00,9,  -999.00,  -999.00,9,  14.2111,2
  49NZ20031209,  I3I4,   605,  1,     29,  12017,2,20031213,1833,-24.6723,  35.9940, 1623,    401.5,  12.3478,  35.1126,2,  35.1089,2,    172.4,1,    180.2,2,    10.28,2,    14.94,2,     0.00,2,     1.09,2,    2.604,2,    1.300,2,    0.073,4,   2140.8,2,   2307.8,2,   7.7985,2,    25.00,   -999.0,9,   -999.0,  -999.00,9,  -999.00,  -999.00,9,  12.3481,2
  49NZ20031209,  I3I4,   605,  1,     28,  12016,2,20031213,1833,-24.6723,  35.9940, 1623,    500.6,  11.0250,  34.9541,2,  34.9625,3,    197.3,1,    200.2,2,     8.65,2,    15.51,2,     0.00,2,     1.13,2,    2.704,2,    1.355,2,    0.087,4,   2135.2,2,   2303.8,2,   7.7964,2,    25.00,   -999.0,9,   -999.0,  -999.00,9,  -999.00,  -999.00,9,  11.0288,2
  49NZ20031209,  I3I4,   605,  1,     24,  12048,2,20031213,1833,-24.6723,  35.9940, 1623,   1401.1,   3.3554,  34.6771,2,  34.6775,2,    151.9,1,    156.3,2,    76.16,2,    33.20,2,     0.00,2,     2.34,2,    0.135,2,    0.062,2,    0.000,4,   2261.9,2,   2345.4,2,   7.5894,2,    25.00,   -999.0,9,   -999.0,  -999.00,9,  -999.00,  -999.00,9,   3.3553,2
  49NZ20031209,  I3I4,   605,  1,     18,  12042,2,20031213,1833,-24.6723,  35.9940, 1623,    601.3,   9.7778,  34.7908,2,  34.7905,2,    203.5,1,    211.1,2,     8.73,2,    17.46,2,     0.00,2,     1.25,2,    2.706,2,    1.315,2,    0.079,4,   2136.1,2,   2294.3,2,   7.7771,2,    25.00,   -999.0,9,   -999.0,  -999.00,9,  -999.00,  -999.00,9,   9.7795,2
  49NZ20031209,  I3I4,   605,  1,     17,  12041,2,20031213,1833,-24.6723,  35.9940, 1623,    701.4,   8.0410,  34.6136,2,  34.6140,2,    190.8,1,    198.1,2,    16.43,2,    22.81,2,     0.00,2,     1.60,2,    1.979,2,    0.955,2,    0.042,4,   2159.1,6,   2291.4,2,   7.7210,2,    25.00,   -999.0,9,   -999.0,  -999.00,9,  -999.00,  -999.00,9,   8.0419,2
  49NZ20031209,  I3I4,   605,  1,     16,  12040,2,20031213,1833,-24.6723,  35.9940, 1623,    800.9,   7.2372,  34.6114,2,  34.6173,3,    162.9,1,    166.9,2,    29.87,2,    27.41,2,     0.00,2,     1.92,2,    1.183,2,    0.573,2,    0.036,4,   2192.1,2,   2302.2,6,   7.6618,2,    25.00,   -999.0,9,   -999.0,  -999.00,9,  -999.00,  -999.00,9,   7.2377,2
  49NZ20031209,  I3I4,   605,  1,     15,  12039,2,20031213,1833,-24.6723,  35.9940, 1623,    900.5,   6.1725,  34.5647,2,  34.5675,2,    158.6,1,    163.3,2,    37.78,2,    29.82,2,     0.00,2,     2.09,2,    1.009,2,    0.482,2,    0.033,4,   2209.0,2,   2304.9,2,   7.6316,6,    25.00,   -999.0,9,   -999.0,  -999.00,9,  -999.00,  -999.00,9,   6.1708,2
  49NZ20031209,  I3I4,   605,  1,     14,  12038,2,20031213,1833,-24.6723,  35.9940, 1623,   1000.3,   5.4065,  34.6090,2,  34.6107,2,    139.8,1,    143.6,2,    53.50,2,    32.62,2,     0.00,2,     2.32,2,    0.533,6,    0.260,6,    0.009,4,   2237.7,2,   2323.6,2,   7.5942,2,    25.00,   -999.0,9,   -999.0,  -999.00,9,  -999.00,  -999.00,9,   5.4069,2
  49NZ20031209,  I3I4,   605,  1,     13,  12037,2,20031213,1833,-24.6723,  35.9940, 1623,   1201.1,   4.2753,  34.6390,2,  34.6389,2,    138.2,1,    142.2,2,    68.54,2,    33.93,2,     0.00,2,     2.42,2,    0.251,2,    0.131,2,    0.000,4,   2257.4,2,   2340.0,2,   7.5779,2,    25.00,   -999.0,9,   -999.0,  -999.00,9,  -999.00,  -999.00,9,   4.2764,2
  49NZ20031209,  I3I4,   605,  1,     12,  12036,2,20031213,1833,-24.6723,  35.9940, 1623,   1400.9,   3.3560,  34.6771,2,  34.6769,2,    152.0,1,    156.1,2,    76.21,2,    33.32,2,     0.00,2,     2.34,2,    0.128,2,    0.067,2,    0.000,4,   2259.5,2,   2345.4,2,   7.5892,2,    25.00,   -999.0,9,   -999.0,  -999.00,9,  -999.00,  -999.00,9,   3.3565,2
  49NZ20031209,  I3I4,   605,  1,     11,  12035,2,20031213,1833,-24.6723,  35.9940, 1623,   1623.8,   2.9973,  34.7144,2,  34.7143,2,    162.2,1,    166.5,2,    77.90,2,    32.34,2,     0.00,2,     2.26,2,    0.079,2,    0.043,2,    0.000,4,   2257.0,2,   2354.5,2,   7.6021,2,    25.00,   -999.0,9,   -999.0,  -999.00,9,  -999.00,  -999.00,9,   2.9970,2
  49NZ20031209,  I3I4,   604,  1,     36,  12024,2,20031213,2128,-24.6670,  36.2403, 2143,      9.5,  28.2509,  35.2872,2,  35.2901,2,    189.5,1,    199.4,2,     1.80,2,     0.02,2,     0.00,2,     0.13,2, -999.000,9, -999.000,9, -999.000,9,   -999.0,9,   -999.0,9,-999.0000,9,  -999.00,   -999.0,9,   -999.0,  -999.00,9,  -999.00,  -999.00,9,  28.2474,2
  49NZ20031209,  I3I4,   604,  1,     35,  12023,2,20031213,2128,-24.6670,  36.2403, 2143,     49.5,  24.4544,  35.1891,2,  35.1805,2,    201.0,1,    211.2,2,     2.40,2,     0.00,2,     0.00,2,     0.18,2, -999.000,9, -999.000,9, -999.000,9,   -999.0,9,   -999.0,9,-999.0000,9,  -999.00,   -999.0,9,   -999.0,  -999.00,9,  -999.00,  -999.00,9,  24.4328,2
  49NZ20031209,  I3I4,   604,  1,     34,  12022,2,20031213,2128,-24.6670,  36.2403, 2143,     99.6,  20.6426,  35.2454,2,  35.2475,2,    138.9,1,    145.7,2,     7.83,2,     9.07,2,     0.07,2,     0.72,2, -999.000,9, -999.000,9, -999.000,9,   -999.0,9,   -999.0,9,-999.0000,9,  -999.00,   -999.0,9,   -999.0,  -999.00,9,  -999.00,  -999.00,9,  20.6430,2
  49NZ20031209,  I3I4,   604,  1,     33,  12015,2,20031213,2128,-24.6670,  36.2403, 2143,    149.5,  18.7723,  35.5514,2,  35.5512,2,    165.4,1,    173.4,2,     6.19,2,     6.32,2,     0.02,2,     0.54,2, -999.000,9, -999.000,9, -999.000,9,   -999.0,9,   -999.0,9,-999.0000,9,  -999.00,   -999.0,9,   -999.0,  -999.00,9,  -999.00,  -999.00,9,  18.7743,2
  49NZ20031209,  I3I4,   604,  1,     32,  12020,2,20031213,2128,-24.6670,  36.2403, 2143,    199.6,  17.2621,  35.6473,2,  35.6530,2,    194.8,1,    206.1,2,     4.06,2,     3.94,2,     0.01,2,     0.40,2, -999.000,9, -999.000,9, -999.000,9,   -999.0,9,   -999.0,9,-999.0000,9,  -999.00,   -999.0,9,   -999.0,  -999.00,9,  -999.00,  -999.00,9,  17.2620,2
  49NZ20031209,  I3I4,   604,  1,     31,  12019,2,20031213,2128,-24.6670,  36.2403, 2143,    250.0,  16.3191,  35.5903,2,  35.5919,2,    192.9,1,    202.0,2,     4.35,2,     5.53,2,     0.01,2,     0.50,2, -999.000,9, -999.000,9, -999.000,9,   -999.0,9,   -999.0,9,-999.0000,9,  -999.00,   -999.0,9,   -999.0,  -999.00,9,  -999.00,  -999.00,9,  16.3180,2
  49NZ20031209,  I3I4,   604,  1,     30,  12018,2,20031213,2128,-24.6670,  36.2403, 2143,    299.1,  14.9159,  35.4620,2,  35.4620,2,    194.3,1,    202.9,2,     4.88,2,     7.39,2,     0.01,2,     0.63,2, -999.000,9, -999.000,9, -999.000,9,   -999.0,9,   -999.0,9,-999.0000,9,  -999.00,   -999.0,9,   -999.0,  -999.00,9,  -999.00,  -999.00,9,  14.9161,2
  49NZ20031209,  I3I4,   604,  1,     29,  12017,2,20031213,2128,-24.6670,  36.2403, 2143,    400.4,  13.3762,  35.2943,2,  35.2907,2,    208.7,1,    217.2,2,     4.59,2,     9.14,2,     0.00,2,     0.73,2, -999.000,9, -999.000,9, -999.000,9,   -999.0,9,   -999.0,9,-999.0000,9,  -999.00,   -999.0,9,   -999.0,  -999.00,9,  -999.00,  -999.00,9,  13.3727,2
  49NZ20031209,  I3I4,   604,  1,     28,  12016,2,20031213,2128,-24.6670,  36.2403, 2143,    499.9,  11.8696,  35.0710,2,  35.0664,2,    206.0,1,    213.8,2,     6.01,2,    12.58,2,     0.00,2,     0.94,2, -999.000,9, -999.000,9, -999.000,9,   -999.0,9,   -999.0,9,-999.0000,9,  -999.00,   -999.0,9,   -999.0,  -999.00,9,  -999.00,  -999.00,9,  11.8687,2
  49NZ20031209,  I3I4,   604,  1,     27,  12012,2,20031213,2128,-24.6670,  36.2403, 2143,    600.3,  10.2158,  34.8454,2,  34.8456,2,    201.2,1,    210.0,2,     8.52,2,    16.57,2,    -0.01,2,     1.19,2, -999.000,9, -999.000,9, -999.000,9,   -999.0,9,   -999.0,9,-999.0000,9,  -999.00,   -999.0,9,   -999.0,  -999.00,9,  -999.00,  -999.00,9,  10.2208,2
  49NZ20031209,  I3I4,   604,  1,     18,  12042,2,20031213,2128,-24.6670,  36.2403, 2143,    701.4,   9.0071,  34.7247,2,  34.7251,2,    180.7,1,    187.4,2,    16.16,2,    21.67,2,    -0.01,2,     1.52,2, -999.000,9, -999.000,9, -999.000,9,   -999.0,9,   -999.0,9,-999.0000,9,  -999.00,   -999.0,9,   -999.0,  -999.00,9,  -999.00,  -999.00,9,   9.0079,2
  49NZ20031209,  I3I4,   604,  1,     17,  12041,2,20031213,2128,-24.6670,  36.2403, 2143,    799.7,   7.7339,  34.6623,2,  34.6622,2,    155.7,1,    161.4,2,    29.14,2,    26.72,2,    -0.01,2,     1.89,2, -999.000,9, -999.000,9, -999.000,9,   -999.0,9,   -999.0,9,-999.0000,9,  -999.00,   -999.0,9,   -999.0,  -999.00,9,  -999.00,  -999.00,9,   7.7343,2
  49NZ20031209,  I3I4,   604,  1,     16,  12040,2,20031213,2128,-24.6670,  36.2403, 2143,    900.5,   6.9763,  34.6743,2,  34.6743,2,    134.8,1,    139.8,2,    41.64,2,    30.08,2,     0.00,2,     2.14,2, -999.000,9, -999.000,9, -999.000,9,   -999.0,9,   -999.0,9,-999.0000,9,  -999.00,   -999.0,9,   -999.0,  -999.00,9,  -999.00,  -999.00,9,   6.9769,2
  49NZ20031209,  I3I4,   604,  1,     15,  12039,2,20031213,2128,-24.6670,  36.2403, 2143,   1000.5,   5.9725,  34.6403,2,  34.6412,2,    134.4,1,    138.6,2,    50.58,2,    32.03,2,    -0.01,2,     2.28,2, -999.000,9, -999.000,9, -999.000,9,   -999.0,9,   -999.0,9,-999.0000,9,  -999.00,   -999.0,9,   -999.0,  -999.00,9,  -999.00,  -999.00,9,   5.9714,2
  49NZ20031209,  I3I4,   604,  1,     14,  12038,2,20031213,2128,-24.6670,  36.2403, 2143,   1199.9,   4.2274,  34.5919,2,  34.5916,2,    146.5,1,    151.8,2,    63.59,2,    33.51,2,    -0.01,2,     2.37,2, -999.000,9, -999.000,9, -999.000,9,   -999.0,9,   -999.0,9,-999.0000,9,  -999.00,   -999.0,9,   -999.0,  -999.00,9,  -999.00,  -999.00,9,   4.2277,2
  49NZ20031209,  I3I4,   604,  1,     13,  12037,2,20031213,2128,-24.6670,  36.2403, 2143,   1400.3,   3.8281,  34.6948,2,  34.6948,2,    135.8,1,    140.2,2,    78.97,2,    34.12,2,    -0.01,2,     2.43,2, -999.000,9, -999.000,9, -999.000,9,   -999.0,9,   -999.0,9,-999.0000,9,  -999.00,   -999.0,9,   -999.0,  -999.00,9,  -999.00,  -999.00,9,   3.8282,2
  49NZ20031209,  I3I4,   604,  1,     12,  12036,2,20031213,2128,-24.6670,  36.2403, 2143,   1598.7,   3.2429,  34.7098,2,  34.7095,2,    149.3,1,    154.0,2,    81.87,2,    33.22,2,    -0.01,2,     2.35,2, -999.000,9, -999.000,9, -999.000,9,   -999.0,9,   -999.0,9,-999.0000,9,  -999.00,   -999.0,9,   -999.0,  -999.00,9,  -999.00,  -999.00,9,   3.2430,2
  49NZ20031209,  I3I4,   604,  1,     11,  12035,2,20031213,2128,-24.6670,  36.2403, 2143,   1800.3,   2.8192,  34.7301,2,  34.7299,2,    166.5,1,    171.8,2,    79.28,2,    31.66,2,     0.00,2,     2.22,2, -999.000,9, -999.000,9, -999.000,9,   -999.0,9,   -999.0,9,-999.0000,9,  -999.00,   -999.0,9,   -999.0,  -999.00,9,  -999.00,  -999.00,9,   2.8192,2
  49NZ20031209,  I3I4,   604,  1,     10,  12034,2,20031213,2128,-24.6670,  36.2403, 2143,   2001.3,   2.5704,  34.7609,2,  34.7602,2,    180.1,1,    185.8,2,    76.46,2,    30.17,2,     0.00,2,     2.10,2, -999.000,9, -999.000,9, -999.000,9,   -999.0,9,   -999.0,9,-999.0000,9,  -999.00,   -999.0,9,   -999.0,  -999.00,9,  -999.00,  -999.00,9,   2.5703,2
  49NZ20031209,  I3I4,   604,  1,      9,  12033,2,20031213,2128,-24.6670,  36.2403, 2143,   2164.9,   2.4828,  34.7718,2,  34.7731,2,    185.6,1,    191.2,2,    75.51,2,    29.55,2,    -0.01,2,     2.06,2, -999.000,9, -999.000,9, -999.000,9,   -999.0,9,   -999.0,9,-999.0000,9,  -999.00,   -999.0,9,   -999.0,  -999.00,9,  -999.00,  -999.00,9,   2.4827,2