BOTTLE,20141204PRINUNIVRMK
EXPOCODE,SECT_ID,STNNBR,CASTNO,SAMPNO,BTLNBR,BTLNBR_FLAG_W,DATE,TIME,LATITUDE,LONGITUDE,DEPTH,CTDPRS,CTDTMP,CTDSAL,CTDSAL_FLAG_W,SALNTY,SALNTY_FLAG_W,CTDOXY,CTDOXY_FLAG_W,OXYGEN,OXYGEN_FLAG_W,SILCAT,SILCAT_FLAG_W,NITRAT,NITRAT_FLAG_W,NITRIT,NITRIT_FLAG_W,PHSPHT,PHSPHT_FLAG_W,CFC-11,CFC-11_FLAG_W,CFC-12,CFC-12_FLAG_W,CFC113,CFC113_FLAG_W,TCARBN,TCARBN_FLAG_W,ALKALI,ALKALI_FLAG_W,PH_TOT,PH_TOT_FLAG_W,PH_TMP,DELC14,DELC14_FLAG_W,C14ERR,DELC13,DELC13_FLAG_W,CS-137,CS137ER,CS-137_FLAG_W,SBE35,SBE35_FLAG_W
,,,,,,,,,,,METERS,DBAR,ITS-90,PSS-78,,PSS-78,,UMOL/KG,,UMOL/KG,,UMOL/KG,,UMOL/KG,,UMOL/KG,,UMOL/KG,,PMOL/KG,,PMOL/KG,,PMOL/KG,,UMOL/KG,,UMOL/KG,,,,DEG C,/MILLE,,/MILLE,/MILLE,,DM/.1MG,DM/.1MG,,ITS-90,
  49NZ20031209,  I3I4,   521,  1,     36,  12024,2,20031230,0340,-20.0002,  67.0970, 2390,     10.2,  26.4285,  35.0340,2,  35.0340,2,    196.3,1,    205.0,2,     1.81,2,    -0.02,2,     0.00,2,     0.12,2,    1.727,2,    1.063,2,    0.361,4,   1971.1,2,   2295.1,2,   8.0842,2,    25.00,   -999.0,9,   -999.0,  -999.00,9,  -999.00,  -999.00,9,  26.4288,2
  49NZ20031209,  I3I4,   521,  1,     35,  12023,2,20031230,0340,-20.0002,  67.0970, 2390,     50.9,  26.0060,  34.9788,2,  34.9866,2,    199.3,1,    208.1,2,     1.81,2,    -0.03,2,     0.01,2,     0.12,2,    1.785,2,    1.081,2,    0.487,4,   1968.3,6,   2289.7,2,   8.0841,2,    25.00,   -999.0,9,   -999.0,  -999.00,9,  -999.00,  -999.00,9,  26.0122,2
  49NZ20031209,  I3I4,   521,  1,     34,  12022,2,20031230,0340,-20.0002,  67.0970, 2390,    100.8,  22.7242,  35.1755,2,  35.1834,2,    207.5,1,    216.4,2,     2.32,2,    -0.03,2,     0.01,2,     0.13,2,    2.036,2,    1.208,2, -999.000,5,   1990.1,2,   2303.1,6,   8.0639,2,    25.00,   -999.0,9,   -999.0,  -999.00,9,  -999.00,  -999.00,9,  22.7272,2
  49NZ20031209,  I3I4,   521,  1,     33,  12015,2,20031230,0340,-20.0002,  67.0970, 2390,    149.6,  20.9638,  35.4346,2,  35.4201,2,    182.6,1,    188.6,2,     3.67,2,     2.76,2,     0.14,2,     0.32,2,    2.039,2,    1.236,2,    0.269,4,   2037.8,2,   2316.8,2,   8.0039,2,    25.00,   -999.0,9,   -999.0,  -999.00,9,  -999.00,  -999.00,9,  20.9568,2
  49NZ20031209,  I3I4,   521,  1,     32,  12020,2,20031230,0340,-20.0002,  67.0970, 2390,    202.0,  19.8269,  35.7292,2,  35.7306,2,    187.8,1,    195.8,2,     2.64,2,     2.04,2,     0.04,2,     0.28,2,    2.240,2,    1.327,2,    0.205,4,   2060.8,2,   2334.5,2,   7.9917,2,    25.00,   -999.0,9,   -999.0,  -999.00,9,  -999.00,  -999.00,9,  19.8249,2
  49NZ20031209,  I3I4,   521,  1,     31,  12019,2,20031230,0340,-20.0002,  67.0970, 2390,    249.5,  18.2270,  35.7880,2,  35.7869,2,    190.6,1,    198.3,2,     2.87,2,     2.93,2,     0.01,2,     0.34,2,    2.405,6,    1.406,6,    0.070,4,   2081.1,2,   2341.0,2,   7.9618,2,    25.00,   -999.0,9,   -999.0,  -999.00,9,  -999.00,  -999.00,9,  18.2231,2
  49NZ20031209,  I3I4,   521,  1,     30,  12018,2,20031230,0340,-20.0002,  67.0970, 2390,    299.7,  16.4159,  35.6851,2,  35.6823,2,    198.3,1,    205.9,2,     2.94,2,     3.90,2,     0.01,2,     0.42,2,    2.628,2,    1.519,2,    0.038,4,   2095.3,2,   2337.9,2,   7.9328,2,    25.00,   -999.0,9,   -999.0,  -999.00,9,  -999.00,  -999.00,9,  16.4119,2
  49NZ20031209,  I3I4,   521,  1,     29,  12021,2,20031230,0340,-20.0002,  67.0970, 2390,    399.9,  13.5055,  35.3374,2,  35.3358,2,    214.9,1,    222.6,2,     2.72,2,     7.36,2,     0.01,2,     0.63,2, -999.000,5, -999.000,5, -999.000,5,   2106.5,2,   2319.9,2,   7.8836,2,    25.00,   -999.0,9,   -999.0,  -999.00,9,  -999.00,  -999.00,9,  13.5082,2
  49NZ20031209,  I3I4,   521,  1,     28,  12016,2,20031230,0340,-20.0002,  67.0970, 2390,    501.1,  11.6401,  35.0587,2,  35.0576,2,    222.3,1,    229.9,2,     3.38,2,    10.82,2,     0.00,2,     0.84,2,    3.280,2,    1.766,2,    0.085,4,   2112.8,2,   2306.0,2,   7.8455,2,    25.00,   -999.0,9,   -999.0,  -999.00,9,  -999.00,  -999.00,9,  11.6676,2
  49NZ20031209,  I3I4,   521,  1,     27,  12012,2,20031230,0340,-20.0002,  67.0970, 2390,    599.1,  10.2856,  34.8482,2,  34.8425,2,    224.9,1,    232.8,2,     4.11,2,    14.00,2,     0.00,2,     1.01,2,    3.375,2,    1.751,2,    0.112,4,   2119.4,2,   2293.0,2,   7.8136,2,    25.00,   -999.0,9,   -999.0,  -999.00,9,  -999.00,  -999.00,9,  10.2873,2
  49NZ20031209,  I3I4,   521,  1,     26,  12014,2,20031230,0340,-20.0002,  67.0970, 2390,    699.5,   8.7077,  34.6430,2,  34.6335,3,    204.7,1,    210.8,2,    10.42,2,    20.34,2,     0.00,2,     1.42,2,    2.472,2,    1.245,2,    0.016,4,   2142.5,6,   2290.3,2,   7.7476,2,    25.00,   -999.0,9,   -999.0,  -999.00,9,  -999.00,  -999.00,9,   8.6931,2
  49NZ20031209,  I3I4,   521,  1,     25,  12013,2,20031230,0340,-20.0002,  67.0970, 2390,    799.4,   6.8268,  34.5050,2,  34.5054,2,    178.0,1,    183.6,2,    24.16,2,    26.99,2,     0.00,2,     1.87,2,    1.139,2,    0.566,2,    0.024,4,   2179.6,2,   2295.0,6,   7.6718,2,    25.00,   -999.0,9,   -999.0,  -999.00,9,  -999.00,  -999.00,9,   6.8277,2
  49NZ20031209,  I3I4,   521,  1,     24,  12048,2,20031230,0340,-20.0002,  67.0970, 2390,    899.9,   5.7249,  34.4755,2,  34.4764,2,    161.5,1,    168.5,2,    37.45,2,    30.48,2,     0.01,2,     2.13,2,    0.564,2,    0.294,2,    0.000,4,   2207.0,2,   2306.3,2,   7.6292,6,    25.00,   -999.0,9,   -999.0,  -999.00,9,  -999.00,  -999.00,9,   5.7240,2
  49NZ20031209,  I3I4,   521,  1,     23,  12047,2,20031230,0340,-20.0002,  67.0970, 2390,   1001.4,   5.1746,  34.5815,2,  34.5821,2,    124.5,1,    128.9,2,    63.95,2,    34.05,2,     0.00,2,     2.42,2,    0.139,6,    0.071,6,    0.000,4,   2251.6,2,   2332.7,2,   7.5735,2,    25.00,   -999.0,9,   -999.0,  -999.00,9,  -999.00,  -999.00,9,   5.1747,2
  49NZ20031209,  I3I4,   521,  1,     22,  12046,2,20031230,0340,-20.0002,  67.0970, 2390,   1200.0,   4.4380,  34.6424,2,  34.6436,2,    115.2,1,    118.7,2,    81.88,2,    35.44,2,     0.00,2,     2.53,2,    0.028,2,    0.011,2,    0.000,4,   2277.4,2,   2348.8,2,   7.5572,2,    25.00,   -999.0,9,   -999.0,  -999.00,9,  -999.00,  -999.00,9,   4.4386,2
  49NZ20031209,  I3I4,   521,  1,     21,  12045,2,20031230,0340,-20.0002,  67.0970, 2390,   1399.9,   3.7725,  34.6674,2,  34.6676,2,    124.9,1,    129.1,2,    88.85,2,    35.18,2,     0.00,2,     2.51,2,    0.008,2,    0.000,2,    0.000,4,   2281.5,2,   2360.9,2,   7.5663,2,    25.00,   -999.0,9,   -999.0,  -999.00,9,  -999.00,  -999.00,9,   3.7725,2
  49NZ20031209,  I3I4,   521,  1,     20,  12044,2,20031230,0340,-20.0002,  67.0970, 2390,   1601.1,   2.9988,  34.6935,2,  34.6928,2,    141.4,1,    146.6,2,    95.30,2,    34.36,2,     0.00,2,     2.43,2,    0.016,2,    0.004,2,    0.000,4,   2281.6,2,   2364.8,2,   7.5813,2,    25.00,   -999.0,9,   -999.0,  -999.00,9,  -999.00,  -999.00,9,   2.9978,2
  49NZ20031209,  I3I4,   521,  1,     19,  12043,2,20031230,0340,-20.0002,  67.0970, 2390,   1801.1,   2.4626,  34.7078,2,  34.7073,2,    156.0,1,    161.5,2,    98.99,2,    33.52,2,     0.00,2,     2.35,2,    0.002,2,    0.000,2,    0.000,4,   2276.8,2,   2373.8,2,   7.5942,2,    25.00,   -999.0,9,   -999.0,  -999.00,9,  -999.00,  -999.00,9,   2.4626,2
  49NZ20031209,  I3I4,   521,  1,     18,  12042,2,20031230,0340,-20.0002,  67.0970, 2390,   2000.8,   2.0292,  34.7199,2,  34.7194,2,    165.5,1,    171.3,2,   107.16,2,    33.10,2,     0.00,2,     2.33,2,    0.002,2,    0.001,2,    0.000,4,   2278.6,2,   2361.6,4,   7.6076,6,    25.00,   -999.0,9,   -999.0,  -999.00,9,  -999.00,  -999.00,9,   2.0292,2
  49NZ20031209,  I3I4,   521,  1,     17,  12041,2,20031230,0340,-20.0002,  67.0970, 2390,   2200.1,   1.9399,  34.7215,2,  34.7214,2,    168.1,1,    173.6,2,   109.20,2,    33.07,2,     0.00,2,     2.32,2,   -0.003,2,   -0.002,2,    0.000,4,   2278.8,2,   2375.4,2,   7.6109,2,    25.00,   -999.0,9,   -999.0,  -999.00,9,  -999.00,  -999.00,9,   1.9397,2
  49NZ20031209,  I3I4,   521,  1,     16,  12040,2,20031230,0340,-20.0002,  67.0970, 2390,   2394.3,   1.8886,  34.7220,2,  34.7222,2,    170.4,1,    175.4,2,   110.25,2,    33.04,2,     0.00,2,     2.30,2,    0.001,2,    0.000,2,    0.000,4,   2279.6,6,   2377.3,2,   7.6119,2,    25.00,   -999.0,9,   -999.0,  -999.00,9,  -999.00,  -999.00,9,   1.8885,2
  49NZ20031209,  I3I4,   521,  1,     15,  12039,2,20031230,0340,-20.0002,  67.0970, 2390,   2200.8,   1.9394,  34.7214,2,  34.7210,2,    168.0,1,    173.7,2,   109.10,2,    33.11,2,     0.00,2,     2.31,2,   -0.003,2,    0.001,2,    0.000,4,   2279.8,2,   2375.5,2,   7.6109,2,    25.00,   -999.0,9,   -999.0,  -999.00,9,  -999.00,  -999.00,9,   1.9395,2
  49NZ20031209,  I3I4,   521,  1,     14,  12038,9,20031230,0340,-20.0002,  67.0970, 2390,   2101.5,   1.9956,  34.7206,2,-999.0000,9,    166.5,1,   -999.0,9,  -999.00,9,  -999.00,9,  -999.00,9,  -999.00,9, -999.000,9, -999.000,9, -999.000,9,   -999.0,9,   -999.0,9,-999.0000,9,  -999.00,   -999.0,9,   -999.0,  -999.00,9,  -999.00,  -999.00,9,   1.9956,2
  49NZ20031209,  I3I4,   521,  1,     13,  12037,9,20031230,0340,-20.0002,  67.0970, 2390,   2299.5,   1.9241,  34.7215,2,-999.0000,9,    169.2,1,   -999.0,9,  -999.00,9,  -999.00,9,  -999.00,9,  -999.00,9, -999.000,9, -999.000,9, -999.000,9,   -999.0,9,   -999.0,9,-999.0000,9,  -999.00,   -999.0,9,   -999.0,  -999.00,9,  -999.00,  -999.00,9,   1.9241,2
  49NZ20031209,  I3I4,   521,  1,     12,  12036,9,20031230,0340,-20.0002,  67.0970, 2390,   1001.7,   5.1742,  34.5816,2,-999.0000,9,    124.5,1,   -999.0,9,  -999.00,9,  -999.00,9,  -999.00,9,  -999.00,9, -999.000,9, -999.000,9, -999.000,9,   -999.0,9,   -999.0,9,-999.0000,9,  -999.00,   -999.0,9,   -999.0,  -999.00,9,  -999.00,  -999.00,9,   5.1744,2
  49NZ20031209,  I3I4,   521,  1,     11,  12035,9,20031230,0340,-20.0002,  67.0970, 2390,   1001.8,   5.1731,  34.5817,2,-999.0000,9,    124.5,1,   -999.0,9,  -999.00,9,  -999.00,9,  -999.00,9,  -999.00,9, -999.000,9, -999.000,9, -999.000,9,   -999.0,9,   -999.0,9,-999.0000,9,  -999.00,   -999.0,9,   -999.0,  -999.00,9,  -999.00,  -999.00,9,   5.1732,2
  49NZ20031209,  I3I4,   521,  1,     10,  12034,9,20031230,0340,-20.0002,  67.0970, 2390,   1001.6,   5.1749,  34.5816,2,-999.0000,9,    124.4,1,   -999.0,9,  -999.00,9,  -999.00,9,  -999.00,9,  -999.00,9, -999.000,9, -999.000,9, -999.000,9,   -999.0,9,   -999.0,9,-999.0000,9,  -999.00,   -999.0,9,   -999.0,  -999.00,9,  -999.00,  -999.00,9,   5.1750,2
  49NZ20031209,  I3I4,   521,  1,      9,  12033,9,20031230,0340,-20.0002,  67.0970, 2390,   1001.8,   5.1747,  34.5815,2,-999.0000,9,    124.5,1,   -999.0,9,  -999.00,9,  -999.00,9,  -999.00,9,  -999.00,9, -999.000,9, -999.000,9, -999.000,9,   -999.0,9,   -999.0,9,-999.0000,9,  -999.00,   -999.0,9,   -999.0,  -999.00,9,  -999.00,  -999.00,9,   5.1751,2
  49NZ20031209,  I3I4,   521,  1,      8,  12032,9,20031230,0340,-20.0002,  67.0970, 2390,   1001.5,   5.1756,  34.5813,2,-999.0000,9,    124.4,1,   -999.0,9,  -999.00,9,  -999.00,9,  -999.00,9,  -999.00,9, -999.000,9, -999.000,9, -999.000,9,   -999.0,9,   -999.0,9,-999.0000,9,  -999.00,   -999.0,9,   -999.0,  -999.00,9,  -999.00,  -999.00,9,   5.1758,2
  49NZ20031209,  I3I4,   521,  1,      7,  12031,9,20031230,0340,-20.0002,  67.0970, 2390,   1002.0,   5.1759,  34.5812,2,-999.0000,9,    124.3,1,   -999.0,9,  -999.00,9,  -999.00,9,  -999.00,9,  -999.00,9, -999.000,9, -999.000,9, -999.000,9,   -999.0,9,   -999.0,9,-999.0000,9,  -999.00,   -999.0,9,   -999.0,  -999.00,9,  -999.00,  -999.00,9,   5.1762,2
  49NZ20031209,  I3I4,   521,  1,      6,  12030,9,20031230,0340,-20.0002,  67.0970, 2390,   1002.0,   5.1762,  34.5810,2,-999.0000,9,    124.3,1,   -999.0,9,  -999.00,9,  -999.00,9,  -999.00,9,  -999.00,9, -999.000,9, -999.000,9, -999.000,9,   -999.0,9,   -999.0,9,-999.0000,9,  -999.00,   -999.0,9,   -999.0,  -999.00,9,  -999.00,  -999.00,9,   5.1748,2
  49NZ20031209,  I3I4,   521,  1,      5,  12029,9,20031230,0340,-20.0002,  67.0970, 2390,   1001.8,   5.1689,  34.5825,2,-999.0000,9,    123.9,1,   -999.0,9,  -999.00,9,  -999.00,9,  -999.00,9,  -999.00,9, -999.000,9, -999.000,9, -999.000,9,   -999.0,9,   -999.0,9,-999.0000,9,  -999.00,   -999.0,9,   -999.0,  -999.00,9,  -999.00,  -999.00,9,   5.1693,2
  49NZ20031209,  I3I4,   521,  1,      4,  12028,9,20031230,0340,-20.0002,  67.0970, 2390,      4.1,  26.4342,  35.0351,2,-999.0000,9,    196.1,1,   -999.0,9,  -999.00,9,  -999.00,9,  -999.00,9,  -999.00,9, -999.000,9, -999.000,9, -999.000,9,   -999.0,9,   -999.0,9,-999.0000,9,  -999.00,   -999.0,9,   -999.0,  -999.00,9,  -999.00,  -999.00,9,  26.4344,2
  49NZ20031209,  I3I4,   521,  1,      3,  12027,2,20031230,0340,-20.0002,  67.0970, 2390,      4.0,  26.4332,  35.0351,2,-999.0000,9,    195.9,1,   -999.0,9,  -999.00,9,  -999.00,9,  -999.00,9,  -999.00,9, -999.000,9, -999.000,9, -999.000,9,   -999.0,9,   -999.0,9,-999.0000,9,  -999.00,   -999.0,9,   -999.0,  -999.00,9,  -999.00,  -999.00,9,  26.4348,2
  49NZ20031209,  I3I4,   521,  1,      2,  12026,2,20031230,0340,-20.0002,  67.0970, 2390,      4.0,  26.4316,  35.0349,2,-999.0000,9,    196.2,1,   -999.0,9,  -999.00,9,  -999.00,9,  -999.00,9,  -999.00,9, -999.000,9, -999.000,9, -999.000,9,   -999.0,9,   -999.0,9,-999.0000,9,  -999.00,   -999.0,9,   -999.0,  -999.00,9,  -999.00,  -999.00,9,  26.4321,2
  49NZ20031209,  I3I4,   521,  1,      1,  12025,2,20031230,0340,-20.0002,  67.0970, 2390,    118.2,  21.8070,  35.3014,2,-999.0000,9,    195.7,1,   -999.0,9,  -999.00,9,  -999.00,9,  -999.00,9,  -999.00,9, -999.000,9, -999.000,9, -999.000,9,   -999.0,9,   -999.0,9,-999.0000,9,  -999.00,   -999.0,9,   -999.0,  -999.00,9,  -999.00,  -999.00,9,  21.8175,2