BOTTLE,20141204PRINUNIVRMK
EXPOCODE,SECT_ID,STNNBR,CASTNO,SAMPNO,BTLNBR,BTLNBR_FLAG_W,DATE,TIME,LATITUDE,LONGITUDE,DEPTH,CTDPRS,CTDTMP,CTDSAL,CTDSAL_FLAG_W,SALNTY,SALNTY_FLAG_W,CTDOXY,CTDOXY_FLAG_W,OXYGEN,OXYGEN_FLAG_W,SILCAT,SILCAT_FLAG_W,NITRAT,NITRAT_FLAG_W,NITRIT,NITRIT_FLAG_W,PHSPHT,PHSPHT_FLAG_W,CFC-11,CFC-11_FLAG_W,CFC-12,CFC-12_FLAG_W,CFC113,CFC113_FLAG_W,TCARBN,TCARBN_FLAG_W,ALKALI,ALKALI_FLAG_W,PH_TOT,PH_TOT_FLAG_W,PH_TMP,DELC14,DELC14_FLAG_W,C14ERR,DELC13,DELC13_FLAG_W,CS-137,CS137ER,CS-137_FLAG_W,SBE35,SBE35_FLAG_W
,,,,,,,,,,,METERS,DBAR,ITS-90,PSS-78,,PSS-78,,UMOL/KG,,UMOL/KG,,UMOL/KG,,UMOL/KG,,UMOL/KG,,UMOL/KG,,PMOL/KG,,PMOL/KG,,PMOL/KG,,UMOL/KG,,UMOL/KG,,,,DEG C,/MILLE,,/MILLE,/MILLE,,DM/.1MG,DM/.1MG,,ITS-90,
  49NZ20031209,  I3I4,   462,  1,     36,  12024,2,20040116,1928,-19.9943, 104.0103, 5479,     10.4,  25.0956,  34.8559,2,  34.8563,2,    198.6,1,    209.1,2,     2.02,2,     0.01,2,     0.01,2,     0.08,2, -999.000,9, -999.000,9, -999.000,9,   -999.0,9,   -999.0,9,-999.0000,9,  -999.00,   -999.0,9,   -999.0,  -999.00,9,  -999.00,  -999.00,9,  25.0944,2
  49NZ20031209,  I3I4,   462,  1,     35,  12023,2,20040116,1928,-19.9943, 104.0103, 5479,     50.2,  24.6164,  34.8846,2,  34.8833,2,    203.1,1,    213.2,2,     2.20,2,     0.00,2,     0.01,2,     0.07,2, -999.000,9, -999.000,9, -999.000,9,   -999.0,9,   -999.0,9,-999.0000,9,  -999.00,   -999.0,9,   -999.0,  -999.00,9,  -999.00,  -999.00,9,  24.6328,2
  49NZ20031209,  I3I4,   462,  1,     34,  12022,2,20040116,1928,-19.9943, 104.0103, 5479,    100.5,  22.2730,  35.1434,2,  35.1434,2,    201.4,1,    211.8,2,     3.06,2,     0.17,2,     0.02,2,     0.12,2, -999.000,9, -999.000,9, -999.000,9,   -999.0,9,   -999.0,9,-999.0000,9,  -999.00,   -999.0,9,   -999.0,  -999.00,9,     2.15,     0.19,2,  22.2708,2
  49NZ20031209,  I3I4,   462,  1,     33,  12015,2,20040116,1928,-19.9943, 104.0103, 5479,    150.3,  20.5525,  35.3417,2,  35.3425,2,    172.2,1,    180.2,2,     5.10,2,     4.05,2,     0.08,2,     0.38,2, -999.000,9, -999.000,9, -999.000,9,   -999.0,9,   -999.0,9,-999.0000,9,  -999.00,   -999.0,9,   -999.0,  -999.00,9,  -999.00,  -999.00,9,  20.5532,2
  49NZ20031209,  I3I4,   462,  1,     32,  12020,2,20040116,1928,-19.9943, 104.0103, 5479,    201.5,  18.7160,  35.5229,2,  35.5227,2,    166.4,1,    174.7,2,     6.74,2,     5.96,2,     0.02,2,     0.51,2, -999.000,9, -999.000,9, -999.000,9,   -999.0,9,   -999.0,9,-999.0000,9,  -999.00,   -999.0,9,   -999.0,  -999.00,9,     1.77,     0.16,2,  18.7156,2
  49NZ20031209,  I3I4,   462,  1,     31,  12019,2,20040116,1928,-19.9943, 104.0103, 5479,    251.4,  16.8708,  35.5914,2,  35.5802,2,    172.7,1,    180.4,2,     6.92,2,     6.79,2,     0.02,2,     0.58,2, -999.000,9, -999.000,9, -999.000,9,   -999.0,9,   -999.0,9,-999.0000,9,  -999.00,   -999.0,9,   -999.0,  -999.00,9,  -999.00,  -999.00,9,  16.8742,2
  49NZ20031209,  I3I4,   462,  1,     30,  12018,2,20040116,1928,-19.9943, 104.0103, 5479,    299.7,  14.5806,  35.4244,2,  35.4224,2,    187.9,1,    196.8,2,     6.42,2,     7.98,2,     0.01,2,     0.67,2, -999.000,9, -999.000,9, -999.000,9,   -999.0,9,   -999.0,9,-999.0000,9,  -999.00,   -999.0,9,   -999.0,  -999.00,9,  -999.00,  -999.00,9,  14.5815,2
  49NZ20031209,  I3I4,   462,  1,     29,  12017,2,20040116,1928,-19.9943, 104.0103, 5479,    401.7,  11.3592,  35.0037,2,  35.0034,2,    215.6,1,    225.9,2,     4.28,2,    11.53,2,     0.01,2,     0.89,2, -999.000,9, -999.000,9, -999.000,9,   -999.0,9,   -999.0,9,-999.0000,9,  -999.00,   -999.0,9,   -999.0,  -999.00,9,  -999.00,  -999.00,5,  11.3597,2
  49NZ20031209,  I3I4,   462,  1,     28,  12016,2,20040116,1928,-19.9943, 104.0103, 5479,    500.2,   9.5549,  34.7396,2,  34.7395,2,    219.9,1,    230.9,2,     5.26,2,    16.02,2,     0.01,2,     1.16,2, -999.000,9, -999.000,9, -999.000,9,   -999.0,9,   -999.0,9,-999.0000,9,  -999.00,   -999.0,9,   -999.0,  -999.00,9,  -999.00,  -999.00,9,   9.5548,2
  49NZ20031209,  I3I4,   462,  1,     27,  12012,2,20040116,1928,-19.9943, 104.0103, 5479,    598.7,   8.2351,  34.5887,2,  34.5886,2,    199.2,1,    209.2,2,    12.36,2,    21.64,2,     0.01,2,     1.51,2, -999.000,9, -999.000,9, -999.000,9,   -999.0,9,   -999.0,9,-999.0000,9,  -999.00,   -999.0,9,   -999.0,  -999.00,9,     1.11,     0.17,2,   8.2329,2
  49NZ20031209,  I3I4,   462,  1,     26,  12014,2,20040116,1928,-19.9943, 104.0103, 5479,    698.5,   6.8019,  34.5663,2,  34.5663,2,    136.7,1,    143.2,2,    39.66,2,    30.37,2,     0.00,2,     2.14,2, -999.000,9, -999.000,9, -999.000,9,   -999.0,9,   -999.0,9,-999.0000,9,  -999.00,   -999.0,9,   -999.0,  -999.00,9,  -999.00,  -999.00,9,   6.7999,2
  49NZ20031209,  I3I4,   462,  1,     25,  12013,2,20040116,1928,-19.9943, 104.0103, 5479,    800.9,   5.9698,  34.5978,2,  34.5981,2,    105.8,1,    110.4,2,    63.03,2,    34.43,2,     0.00,2,     2.46,2, -999.000,9, -999.000,9, -999.000,9,   -999.0,9,   -999.0,9,-999.0000,9,  -999.00,   -999.0,9,   -999.0,  -999.00,9,     0.00,     0.00,2,   5.9698,2
  49NZ20031209,  I3I4,   462,  1,     24,  12048,2,20040116,1928,-19.9943, 104.0103, 5479,    898.1,   5.5434,  34.6314,2,  34.6310,2,     93.3,1,     96.8,2,    77.40,2,    35.89,2,     0.01,2,     2.59,2, -999.000,9, -999.000,9, -999.000,9,   -999.0,9,   -999.0,9,-999.0000,9,  -999.00,   -999.0,9,   -999.0,  -999.00,9,  -999.00,  -999.00,9,   5.5435,2
  49NZ20031209,  I3I4,   462,  1,     23,  12047,2,20040116,1928,-19.9943, 104.0103, 5479,   1001.0,   5.0968,  34.6420,2,  34.6418,2,     92.2,1,     95.6,2,    86.42,2,    36.38,2,     0.00,2,     2.64,2, -999.000,9, -999.000,9, -999.000,9,   -999.0,9,   -999.0,9,-999.0000,9,  -999.00,   -999.0,9,   -999.0,  -999.00,9,  -999.00,  -999.00,5,   5.0971,2
  49NZ20031209,  I3I4,   462,  1,     22,  12046,2,20040116,1928,-19.9943, 104.0103, 5479,   1200.8,   4.4691,  34.6502,2,  34.6502,2,     99.2,1,    103.0,2,    93.33,2,    36.49,2,     0.00,2,     2.64,2, -999.000,9, -999.000,9, -999.000,9,   -999.0,9,   -999.0,9,-999.0000,9,  -999.00,   -999.0,9,   -999.0,  -999.00,9,  -999.00,  -999.00,5,   4.4696,2
  49NZ20031209,  I3I4,   462,  1,     21,  12045,2,20040116,1928,-19.9943, 104.0103, 5479,   1399.8,   3.8520,  34.6564,2,  34.6569,2,    110.9,1,    115.6,2,    96.55,2,    36.13,2,     0.01,2,     2.60,2, -999.000,9, -999.000,9, -999.000,9,   -999.0,9,   -999.0,9,-999.0000,9,  -999.00,   -999.0,9,   -999.0,  -999.00,9,  -999.00,  -999.00,1,   3.8523,2
  49NZ20031209,  I3I4,   462,  1,     20,  12044,2,20040116,1928,-19.9943, 104.0103, 5479,   1598.5,   3.2984,  34.6792,2,  34.6793,2,    124.5,1,    130.5,2,    98.08,2,    35.48,2,     0.00,2,     2.54,2, -999.000,9, -999.000,9, -999.000,9,   -999.0,9,   -999.0,9,-999.0000,9,  -999.00,   -999.0,9,   -999.0,  -999.00,9,  -999.00,  -999.00,9,   3.2984,2
  49NZ20031209,  I3I4,   462,  1,     19,  12043,2,20040116,1928,-19.9943, 104.0103, 5479,   1799.5,   2.8216,  34.7022,2,  34.7025,2,    134.9,1,    142.1,2,   103.19,2,    34.88,2,     0.00,2,     2.49,2, -999.000,9, -999.000,9, -999.000,9,   -999.0,9,   -999.0,9,-999.0000,9,  -999.00,   -999.0,9,   -999.0,  -999.00,9,  -999.00,  -999.00,9,   2.8218,2
  49NZ20031209,  I3I4,   462,  1,     18,  12042,2,20040116,1928,-19.9943, 104.0103, 5479,   2000.9,   2.4940,  34.7170,2,  34.7173,2,    139.9,1,    147.5,2,   110.13,2,    34.69,2,     0.01,2,     2.47,2, -999.000,9, -999.000,9, -999.000,9,   -999.0,9,   -999.0,9,-999.0000,9,  -999.00,   -999.0,9,   -999.0,  -999.00,9,  -999.00,  -999.00,1,   2.4941,2
  49NZ20031209,  I3I4,   462,  1,     17,  12041,2,20040116,1928,-19.9943, 104.0103, 5479,   2199.7,   2.2450,  34.7243,2,  34.7246,2,    144.6,1,    152.5,2,   115.55,2,    34.50,2,     0.00,2,     2.45,2, -999.000,9, -999.000,9, -999.000,9,   -999.0,9,   -999.0,9,-999.0000,9,  -999.00,   -999.0,9,   -999.0,  -999.00,9,  -999.00,  -999.00,9,   2.2450,2
  49NZ20031209,  I3I4,   462,  1,     16,  12040,2,20040116,1928,-19.9943, 104.0103, 5479,   2400.0,   2.0453,  34.7266,2,  34.7265,2,    150.0,1,    158.7,2,   117.85,2,    34.27,2,     0.00,2,     2.42,2, -999.000,9, -999.000,9, -999.000,9,   -999.0,9,   -999.0,9,-999.0000,9,  -999.00,   -999.0,9,   -999.0,  -999.00,9,  -999.00,  -999.00,1,   2.0453,2
  49NZ20031209,  I3I4,   462,  1,     15,  12039,2,20040116,1928,-19.9943, 104.0103, 5479,   2601.0,   1.8962,  34.7267,2,  34.7271,2,    154.8,1,    164.0,2,   119.31,2,    34.02,2,     0.00,2,     2.40,2, -999.000,9, -999.000,9, -999.000,9,   -999.0,9,   -999.0,9,-999.0000,9,  -999.00,   -999.0,9,   -999.0,  -999.00,9,  -999.00,  -999.00,9,   1.8963,2
  49NZ20031209,  I3I4,   462,  1,     14,  12038,2,20040116,1928,-19.9943, 104.0103, 5479,   2802.6,   1.7704,  34.7261,2,  34.7262,2,    159.1,1,    168.8,2,   120.35,2,    33.83,2,     0.00,2,     2.38,2, -999.000,9, -999.000,9, -999.000,9,   -999.0,9,   -999.0,9,-999.0000,9,  -999.00,   -999.0,9,   -999.0,  -999.00,9,  -999.00,  -999.00,9,   1.7704,2
  49NZ20031209,  I3I4,   462,  1,     13,  12037,2,20040116,1928,-19.9943, 104.0103, 5479,   3001.0,   1.6348,  34.7246,2,  34.7245,2,    163.3,1,    173.4,2,   122.13,2,    33.67,2,     0.00,2,     2.37,2, -999.000,9, -999.000,9, -999.000,9,   -999.0,9,   -999.0,9,-999.0000,9,  -999.00,   -999.0,9,   -999.0,  -999.00,9,  -999.00,  -999.00,1,   1.6347,2
  49NZ20031209,  I3I4,   462,  1,     12,  12036,2,20040116,1928,-19.9943, 104.0103, 5479,   3252.3,   1.4642,  34.7221,2,  34.7218,2,    168.9,1,    179.5,2,   123.86,2,    33.37,2,     0.00,2,     2.34,2, -999.000,9, -999.000,9, -999.000,9,   -999.0,9,   -999.0,9,-999.0000,9,  -999.00,   -999.0,9,   -999.0,  -999.00,9,  -999.00,  -999.00,9,   1.4648,2
  49NZ20031209,  I3I4,   462,  1,     11,  12035,2,20040116,1928,-19.9943, 104.0103, 5479,   3500.8,   1.3557,  34.7195,2,  34.7190,2,    172.6,1,    183.4,2,   125.31,2,    33.28,2,     0.01,2,     2.33,2, -999.000,9, -999.000,9, -999.000,9,   -999.0,9,   -999.0,9,-999.0000,9,  -999.00,   -999.0,9,   -999.0,  -999.00,9,  -999.00,  -999.00,1,   1.3554,2
  49NZ20031209,  I3I4,   462,  1,     10,  12034,2,20040116,1928,-19.9943, 104.0103, 5479,   3748.6,   1.2770,  34.7174,2,  34.7175,2,    175.6,1,    186.4,2,   126.83,2,    33.40,2,     0.00,2,     2.32,2, -999.000,9, -999.000,9, -999.000,9,   -999.0,9,   -999.0,9,-999.0000,9,  -999.00,   -999.0,9,   -999.0,  -999.00,9,  -999.00,  -999.00,9,   1.2768,2
  49NZ20031209,  I3I4,   462,  1,      9,  12033,2,20040116,1928,-19.9943, 104.0103, 5479,   4000.4,   1.2251,  34.7156,2,  34.7155,2,    178.6,1,    189.1,2,   127.15,2,    33.20,2,     0.00,2,     2.31,2, -999.000,9, -999.000,9, -999.000,9,   -999.0,9,   -999.0,9,-999.0000,9,  -999.00,   -999.0,9,   -999.0,  -999.00,9,  -999.00,  -999.00,1,   1.2250,2
  49NZ20031209,  I3I4,   462,  1,      8,  12032,2,20040116,1928,-19.9943, 104.0103, 5479,   4249.6,   1.2002,  34.7148,2,  34.7148,2,    181.0,1,    191.6,2,   127.19,2,    33.17,2,     0.00,2,     2.31,2, -999.000,9, -999.000,9, -999.000,9,   -999.0,9,   -999.0,9,-999.0000,9,  -999.00,   -999.0,9,   -999.0,  -999.00,9,  -999.00,  -999.00,9,   1.2003,2
  49NZ20031209,  I3I4,   462,  1,      7,  12031,2,20040116,1928,-19.9943, 104.0103, 5479,   4499.0,   1.1849,  34.7139,2,  34.7138,2,    183.7,1,    193.6,2,   127.07,2,    33.10,2,     0.00,2,     2.30,2, -999.000,9, -999.000,9, -999.000,9,   -999.0,9,   -999.0,9,-999.0000,9,  -999.00,   -999.0,9,   -999.0,  -999.00,9,  -999.00,  -999.00,1,   1.1850,2
  49NZ20031209,  I3I4,   462,  1,      6,  12030,2,20040116,1928,-19.9943, 104.0103, 5479,   4750.7,   1.1683,  34.7129,2,  34.7135,3,    187.2,1,    196.5,2,   125.67,2,    32.93,2,     0.00,2,     2.28,2, -999.000,9, -999.000,9, -999.000,9,   -999.0,9,   -999.0,9,-999.0000,9,  -999.00,   -999.0,9,   -999.0,  -999.00,9,  -999.00,  -999.00,9,   1.1684,2
  49NZ20031209,  I3I4,   462,  1,      5,  12029,2,20040116,1928,-19.9943, 104.0103, 5479,   5000.3,   1.1600,  34.7121,2,  34.7121,2,    190.2,1,    198.6,2,   125.13,2,    32.77,2,     0.01,2,     2.27,2, -999.000,9, -999.000,9, -999.000,9,   -999.0,9,   -999.0,9,-999.0000,9,  -999.00,   -999.0,9,   -999.0,  -999.00,9,  -999.00,  -999.00,1,   1.1602,2
  49NZ20031209,  I3I4,   462,  1,      4,  12028,2,20040116,1928,-19.9943, 104.0103, 5479,   5250.0,   1.1636,  34.7113,2,  34.7114,2,    193.0,1,    200.5,2,   124.18,2,    32.68,2,     0.00,2,     2.27,2, -999.000,9, -999.000,9, -999.000,9,   -999.0,9,   -999.0,9,-999.0000,9,  -999.00,   -999.0,9,   -999.0,  -999.00,9,  -999.00,  -999.00,9,   1.1637,2
  49NZ20031209,  I3I4,   462,  1,      3,  12027,2,20040116,1928,-19.9943, 104.0103, 5479,   5499.3,   1.1834,  34.7110,2,  34.7108,2,    195.1,1,    201.1,2,   124.13,2,    32.60,2,     0.01,2,     2.26,2, -999.000,9, -999.000,9, -999.000,9,   -999.0,9,   -999.0,9,-999.0000,9,  -999.00,   -999.0,9,   -999.0,  -999.00,9,  -999.00,  -999.00,1,   1.1836,2
  49NZ20031209,  I3I4,   462,  1,      2,  12026,2,20040116,1928,-19.9943, 104.0103, 5479,   5612.0,   1.1957,  34.7109,2,  34.7109,2,    196.4,1,    201.4,2,   123.86,2,    32.63,2,     0.00,2,     2.26,2, -999.000,9, -999.000,9, -999.000,9,   -999.0,9,   -999.0,9,-999.0000,9,  -999.00,   -999.0,9,   -999.0,  -999.00,9,  -999.00,  -999.00,1,   1.1958,2
  49NZ20031209,  I3I4,   462,  1,      1,  12025,2,20040116,1928,-19.9943, 104.0103, 5479,   5612.9,   1.1958,  34.7107,2,-999.0000,9,    196.4,1,   -999.0,9,  -999.00,9,  -999.00,9,  -999.00,9,  -999.00,9, -999.000,9, -999.000,9, -999.000,9,   -999.0,9,   -999.0,9,-999.0000,9,  -999.00,   -999.0,9,   -999.0,  -999.00,9,  -999.00,  -999.00,9,   1.1958,2