BOTTLE,20141204PRINUNIVRMK
EXPOCODE,SECT_ID,STNNBR,CASTNO,SAMPNO,BTLNBR,BTLNBR_FLAG_W,DATE,TIME,LATITUDE,LONGITUDE,DEPTH,CTDPRS,CTDTMP,CTDSAL,CTDSAL_FLAG_W,SALNTY,SALNTY_FLAG_W,CTDOXY,CTDOXY_FLAG_W,OXYGEN,OXYGEN_FLAG_W,SILCAT,SILCAT_FLAG_W,NITRAT,NITRAT_FLAG_W,NITRIT,NITRIT_FLAG_W,PHSPHT,PHSPHT_FLAG_W,CFC-11,CFC-11_FLAG_W,CFC-12,CFC-12_FLAG_W,CFC113,CFC113_FLAG_W,TCARBN,TCARBN_FLAG_W,ALKALI,ALKALI_FLAG_W,PH_TOT,PH_TOT_FLAG_W,PH_TMP,DELC14,DELC14_FLAG_W,C14ERR,DELC13,DELC13_FLAG_W,CS-137,CS137ER,CS-137_FLAG_W,SBE35,SBE35_FLAG_W
,,,,,,,,,,,METERS,DBAR,ITS-90,PSS-78,,PSS-78,,UMOL/KG,,UMOL/KG,,UMOL/KG,,UMOL/KG,,UMOL/KG,,UMOL/KG,,PMOL/KG,,PMOL/KG,,PMOL/KG,,UMOL/KG,,UMOL/KG,,,,DEG C,/MILLE,,/MILLE,/MILLE,,DM/.1MG,DM/.1MG,,ITS-90,
  49NZ20031209,  I3I4,   493,  1,     36,  12024,2,20040106,1709,-19.9893,  84.0357, 4930,      9.1,  26.7258,  34.5168,2,  34.5190,2,    194.9,1,    204.0,2,     1.75,2,    -0.03,2,     0.01,2,     0.09,2,    1.706,2,    1.033,2,    0.369,4,   1929.7,2,   2261.0,2,   8.1181,2,    25.00,   -999.0,9,   -999.0,  -999.00,9,  -999.00,  -999.00,9,  26.7238,2
  49NZ20031209,  I3I4,   493,  1,     35,  12023,2,20040106,1709,-19.9893,  84.0357, 4930,     50.0,  25.4400,  35.0883,2,  35.0876,2,    202.7,1,    212.2,2,     1.82,2,    -0.03,2,     0.01,2,     0.10,2,    1.897,2,    1.120,2, -999.000,5,   1972.5,6,   2296.0,2,   8.0964,2,    25.00,   -999.0,9,   -999.0,  -999.00,9,  -999.00,  -999.00,9,  25.4382,2
  49NZ20031209,  I3I4,   493,  1,     34,  12022,2,20040106,1709,-19.9893,  84.0357, 4930,    102.2,  22.0586,  35.4118,2,  35.4117,2,    217.3,1,    226.9,2,     2.05,2,    -0.05,2,     0.00,2,     0.09,2,    2.178,2,    1.254,2, -999.000,5,   1999.2,2,   2317.8,6,   8.0777,2,    25.00,   -999.0,9,   -999.0,  -999.00,9,  -999.00,  -999.00,9,  22.0524,2
  49NZ20031209,  I3I4,   493,  1,     33,  12015,2,20040106,1709,-19.9893,  84.0357, 4930,    152.5,  20.9658,  35.5173,2,  35.5218,2,    206.0,1,    214.6,2,     2.17,2,    -0.03,2,     0.01,2,     0.13,2,    2.169,2,    1.275,2, -999.000,5,   2020.9,2,   2326.6,2,   8.0514,6,    25.00,   -999.0,9,   -999.0,  -999.00,9,  -999.00,  -999.00,9,  20.9666,2
  49NZ20031209,  I3I4,   493,  1,     32,  12020,2,20040106,1709,-19.9893,  84.0357, 4930,    203.2,  19.4459,  35.7696,2,  35.7613,2,    195.1,1,    203.6,2,     2.37,2,     1.50,2,     0.06,2,     0.23,2,    2.264,2,    1.336,2,    0.248,4,   2059.4,2,   2340.4,2,   8.0071,2,    25.00,   -999.0,9,   -999.0,  -999.00,9,  -999.00,  -999.00,9,  19.4438,2
  49NZ20031209,  I3I4,   493,  1,     31,  12019,2,20040106,1709,-19.9893,  84.0357, 4930,    250.2,  17.7586,  35.7908,2,  35.7900,2,    192.4,1,    200.4,2,     2.85,2,     3.01,2,     0.01,2,     0.34,2,    2.433,6,    1.408,6,    0.077,4,   2085.3,2,   2346.0,2,   7.9663,2,    25.00,   -999.0,9,   -999.0,  -999.00,9,  -999.00,  -999.00,9,  17.7622,2
  49NZ20031209,  I3I4,   493,  1,     30,  12018,2,20040106,1709,-19.9893,  84.0357, 4930,    301.8,  16.1058,  35.6825,2,  35.6905,2,    204.0,1,    212.1,2,     2.18,2,     3.31,2,     0.01,2,     0.38,2,    2.635,2,    1.525,2,    0.125,4,   2093.9,2,   2341.7,2,   7.9459,2,    25.00,   -999.0,9,   -999.0,  -999.00,9,  -999.00,  -999.00,9,  16.1181,2
  49NZ20031209,  I3I4,   493,  1,     29,  12017,2,20040106,1709,-19.9893,  84.0357, 4930,    402.9,  12.7664,  35.2354,2,  35.2340,2,    220.6,1,    229.7,2,     2.43,2,     8.06,2,     0.01,2,     0.66,2,    3.186,2,    1.746,2,    0.103,4,   2107.0,2,   2312.4,2,   7.8800,2,    25.00,   -999.0,9,   -999.0,  -999.00,9,  -999.00,  -999.00,9,  12.7643,2
  49NZ20031209,  I3I4,   493,  1,     28,  12016,2,20040106,1709,-19.9893,  84.0357, 4930,    501.2,  10.8905,  34.9417,2,  34.9420,2,    225.7,1,    234.8,2,     3.32,2,    11.92,2,     0.01,2,     0.89,2,    3.411,2,    1.814,2,    0.150,4,   2114.8,2,   2297.5,2,   7.8373,2,    25.00,   -999.0,9,   -999.0,  -999.00,9,  -999.00,  -999.00,9,  10.8924,2
  49NZ20031209,  I3I4,   493,  1,     27,  12012,2,20040106,1709,-19.9893,  84.0357, 4930,    599.6,   9.6488,  34.7515,2,  34.7454,2,    224.2,1,    233.2,2,     4.65,2,    15.61,2,     0.00,2,     1.12,2,    3.422,2,    1.766,2,    0.141,4,   2121.6,2,   2289.9,2,   7.8009,2,    25.00,   -999.0,9,   -999.0,  -999.00,9,  -999.00,  -999.00,9,   9.6464,2
  49NZ20031209,  I3I4,   493,  1,     26,  12014,2,20040106,1709,-19.9893,  84.0357, 4930,    699.9,   8.2927,  34.5835,2,  34.5801,2,    209.4,1,    217.4,2,     9.39,2,    20.70,2,     0.00,2,     1.44,2,    2.589,2,    1.298,2,    0.097,4,   2142.1,6,   2284.4,2,   7.7484,2,    25.00,   -999.0,9,   -999.0,  -999.00,9,  -999.00,  -999.00,9,   8.2944,2
  49NZ20031209,  I3I4,   493,  1,     25,  12013,2,20040106,1709,-19.9893,  84.0357, 4930,    801.9,   6.3016,  34.4946,2,  34.4960,2,    162.4,1,    168.9,2,    32.65,2,    29.20,2,     0.00,2,     2.03,2,    0.805,2,    0.402,2,    0.025,4,   2198.5,2,   2300.4,6,   7.6417,2,    25.00,   -999.0,9,   -999.0,  -999.00,9,  -999.00,  -999.00,9,   6.3019,2
  49NZ20031209,  I3I4,   493,  1,     24,  12048,2,20040106,1709,-19.9893,  84.0357, 4930,    900.5,   5.6503,  34.5678,2,  34.5659,2,    122.4,1,    127.2,2,    57.93,2,    33.54,2,     0.00,2,     2.37,2,    0.147,2,    0.083,2,    0.000,4,   2244.9,2,   2327.2,2,   7.5775,2,    25.00,   -999.0,9,   -999.0,  -999.00,9,  -999.00,  -999.00,9,   5.6514,2
  49NZ20031209,  I3I4,   493,  1,     23,  12047,2,20040106,1709,-19.9893,  84.0357, 4930,   1001.2,   5.1252,  34.6081,2,  34.6077,2,    109.8,1,    113.3,2,    72.75,2,    35.03,2,     0.00,2,     2.51,2,    0.041,6,    0.023,6,    0.000,4,   2266.7,2,   2340.4,2,   7.5518,2,    25.00,   -999.0,9,   -999.0,  -999.00,9,  -999.00,  -999.00,9,   5.1256,2
  49NZ20031209,  I3I4,   493,  1,     22,  12046,2,20040106,1709,-19.9893,  84.0357, 4930,   1199.8,   4.2553,  34.6425,2,  34.6432,2,    113.0,1,    116.9,2,    85.83,2,    35.60,2,     0.00,2,     2.55,2,    0.007,2,    0.001,2,    0.000,4,   2281.6,2,   2353.0,2,   7.5481,2,    25.00,   -999.0,9,   -999.0,  -999.00,9,  -999.00,  -999.00,9,   4.2554,2
  49NZ20031209,  I3I4,   493,  1,     21,  12045,2,20040106,1709,-19.9893,  84.0357, 4930,   1401.1,   3.7774,  34.6924,2,  34.6927,2,    117.3,1,    121.8,4,    94.63,2,    35.39,2,     0.00,2,     2.53,2,    0.004,2,   -0.001,2,    0.000,4,   2288.5,2,   2361.4,2,   7.5551,2,    25.00,   -999.0,9,   -999.0,  -999.00,9,  -999.00,  -999.00,9,   3.7776,2
  49NZ20031209,  I3I4,   493,  1,     20,  12044,2,20040106,1709,-19.9893,  84.0357, 4930,   1599.7,   3.2896,  34.7117,2,  34.7118,2,    126.1,1,    131.1,2,   100.73,2,    35.00,2,     0.00,2,     2.50,2,    0.003,2,   -0.004,2,    0.000,4,   2292.3,2,   2370.5,2,   7.5638,2,    25.00,   -999.0,9,   -999.0,  -999.00,9,  -999.00,  -999.00,9,   3.2896,2
  49NZ20031209,  I3I4,   493,  1,     19,  12043,2,20040106,1709,-19.9893,  84.0357, 4930,   1799.5,   2.9126,  34.7211,2,  34.7207,2,    133.5,1,    139.0,2,   105.25,2,    34.66,2,     0.00,2,     2.47,2,    0.000,2,    0.002,2,    0.000,4,   2293.1,2,   2373.2,2,   7.5709,2,    25.00,   -999.0,9,   -999.0,  -999.00,9,  -999.00,  -999.00,9,   2.9126,2
  49NZ20031209,  I3I4,   493,  1,     18,  12042,2,20040106,1709,-19.9893,  84.0357, 4930,   2001.1,   2.5711,  34.7256,2,  34.7251,2,    141.7,1,    148.0,2,   108.76,2,    34.36,2,     0.00,2,     2.43,2,   -0.003,2,   -0.002,2,    0.000,4,   2294.2,2,   2377.0,2,   7.5808,6,    25.00,   -999.0,9,   -999.0,  -999.00,9,  -999.00,  -999.00,9,   2.5712,2
  49NZ20031209,  I3I4,   493,  1,     17,  12041,2,20040106,1709,-19.9893,  84.0357, 4930,   2199.7,   2.3145,  34.7277,2,  34.7269,2,    149.3,1,    156.2,2,   110.78,2,    33.96,2,     0.00,2,     2.40,2,   -0.003,2,   -0.002,2,    0.000,4,   2291.7,2,   2379.9,2,   7.5902,2,    25.00,   -999.0,9,   -999.0,  -999.00,9,  -999.00,  -999.00,9,   2.3144,2
  49NZ20031209,  I3I4,   493,  1,     16,  12040,2,20040106,1709,-19.9893,  84.0357, 4930,   2400.0,   2.0648,  34.7271,2,  34.7271,2,    158.9,1,    166.5,2,   111.04,2,    33.41,2,     0.00,2,     2.34,2,    0.002,2,    0.001,2,    0.005,4,   2286.1,6,   2378.5,2,   7.6003,2,    25.00,   -999.0,9,   -999.0,  -999.00,9,  -999.00,  -999.00,9,   2.0648,2
  49NZ20031209,  I3I4,   493,  1,     15,  12039,2,20040106,1709,-19.9893,  84.0357, 4930,   2600.2,   1.9094,  34.7271,2,  34.7276,2,    164.9,1,    172.8,2,   111.88,2,    33.02,2,     0.00,2,     2.31,2,   -0.008,2,   -0.001,2,    0.000,4,   2282.9,2,   2380.8,6,   7.6083,2,    25.00,   -999.0,9,   -999.0,  -999.00,9,  -999.00,  -999.00,9,   1.9093,2
  49NZ20031209,  I3I4,   493,  1,     14,  12038,2,20040106,1709,-19.9893,  84.0357, 4930,   2799.9,   1.7607,  34.7275,2,  34.7280,2,    168.6,1,    176.9,2,   114.55,2,    32.82,2,     0.00,2,     2.29,2,    0.000,2,    0.000,2,    0.000,4,   2283.6,2,   2381.4,2,   7.6127,6,    25.00,   -999.0,9,   -999.0,  -999.00,9,  -999.00,  -999.00,9,   1.7605,2
  49NZ20031209,  I3I4,   493,  1,     13,  12037,2,20040106,1709,-19.9893,  84.0357, 4930,   2999.9,   1.6557,  34.7275,2,  34.7277,2,    170.3,1,    178.8,2,   117.63,2,    32.90,2,     0.00,2,     2.29,2,   -0.006,2,    0.003,2,    0.000,4,   2286.7,2,   2384.0,2,   7.6154,2,    25.00,   -999.0,9,   -999.0,  -999.00,9,  -999.00,  -999.00,9,   1.6558,2
  49NZ20031209,  I3I4,   493,  1,     12,  12036,2,20040106,1709,-19.9893,  84.0357, 4930,   3250.1,   1.5550,  34.7263,2,  34.7267,2,    171.4,1,    179.8,2,   120.86,2,    32.92,2,     0.00,2,     2.29,2,    0.000,2,    0.000,2,    0.000,4,   2289.4,2,   2389.0,2,   7.6177,2,    25.00,   -999.0,9,   -999.0,  -999.00,9,  -999.00,  -999.00,9,   1.5550,2
  49NZ20031209,  I3I4,   493,  1,     11,  12035,2,20040106,1709,-19.9893,  84.0357, 4930,   3501.3,   1.4545,  34.7236,2,  34.7235,2,    172.4,1,    180.4,2,   125.28,2,    33.14,2,     0.00,2,     2.30,2,    0.001,2,    0.000,2,    0.000,4,   2293.3,2,   2391.1,2,   7.6207,2,    25.00,   -999.0,9,   -999.0,  -999.00,9,  -999.00,  -999.00,9,   1.4545,2
  49NZ20031209,  I3I4,   493,  1,     10,  12034,2,20040106,1709,-19.9893,  84.0357, 4930,   3751.0,   1.3878,  34.7212,2,  34.7210,2,    174.9,1,    182.6,2,   127.02,2,    33.17,2,     0.00,2,     2.30,2,   -0.001,2,    0.000,2,    0.000,4,   2294.6,2,   2394.3,2,   7.6244,2,    25.00,   -999.0,9,   -999.0,  -999.00,9,  -999.00,  -999.00,9,   1.3876,2
  49NZ20031209,  I3I4,   493,  1,      9,  12033,2,20040106,1709,-19.9893,  84.0357, 4930,   4000.2,   1.3626,  34.7195,2,  34.7190,2,    175.5,1,    182.7,2,   129.15,2,    33.25,2,     0.00,2,     2.31,2,    0.002,2,    0.002,2,    0.000,4,   2296.8,2,   2399.6,2,   7.6248,2,    25.00,   -999.0,9,   -999.0,  -999.00,9,  -999.00,  -999.00,9,   1.3625,2
  49NZ20031209,  I3I4,   493,  1,      8,  12032,2,20040106,1709,-19.9893,  84.0357, 4930,   4249.6,   1.3601,  34.7186,2,  34.7189,3,    177.0,1,    183.5,2,   129.93,2,    33.30,2,     0.00,2,     2.31,2,    0.001,2,   -0.001,2,    0.000,4,   2296.8,6,   2400.9,2,   7.6265,2,    25.00,   -999.0,9,   -999.0,  -999.00,9,  -999.00,  -999.00,9,   1.3601,2
  49NZ20031209,  I3I4,   493,  1,      7,  12031,2,20040106,1709,-19.9893,  84.0357, 4930,   4501.2,   1.3683,  34.7179,2,  34.7179,2,    178.5,1,    184.1,2,   130.28,2,    33.21,2,     0.00,2,     2.31,2,    0.000,2,    0.001,2,    0.000,4,   2294.1,2,   2400.4,6,   7.6279,2,    25.00,   -999.0,9,   -999.0,  -999.00,9,  -999.00,  -999.00,9,   1.3684,2
  49NZ20031209,  I3I4,   493,  1,      6,  12030,2,20040106,1709,-19.9893,  84.0357, 4930,   4752.5,   1.3893,  34.7177,2,  34.7178,2,    180.2,1,    184.5,2,   130.15,2,    33.26,2,     0.00,2,     2.30,2,    0.000,2,    0.002,2,    0.000,4,   2295.4,2,   2396.5,2,   7.6276,2,    25.00,   -999.0,9,   -999.0,  -999.00,9,  -999.00,  -999.00,9,   1.3894,2
  49NZ20031209,  I3I4,   493,  1,      5,  12029,2,20040106,1709,-19.9893,  84.0357, 4930,   4853.4,   1.4011,  34.7174,2,  34.7174,2,    181.2,1,    184.5,2,   130.27,2,    33.26,2,     0.00,2,     2.31,2,    0.009,2,   -0.002,2,    0.000,4,   2297.9,2,   2396.8,2,   7.6288,2,    25.00,   -999.0,9,   -999.0,  -999.00,9,  -999.00,  -999.00,9,   1.4011,2
  49NZ20031209,  I3I4,   493,  1,      4,  12028,9,20040106,1709,-19.9893,  84.0357, 4930,   1001.7,   5.1240,  34.6080,2,-999.0000,9,    109.8,1,   -999.0,9,  -999.00,9,  -999.00,9,  -999.00,9,  -999.00,9, -999.000,9, -999.000,9, -999.000,9,   -999.0,9,   -999.0,9,-999.0000,9,  -999.00,   -999.0,9,   -999.0,  -999.00,9,  -999.00,  -999.00,9,   5.1246,2
  49NZ20031209,  I3I4,   493,  1,      3,  12027,9,20040106,1709,-19.9893,  84.0357, 4930,   1001.2,   5.1254,  34.6080,2,-999.0000,9,    109.9,1,   -999.0,9,  -999.00,9,  -999.00,9,  -999.00,9,  -999.00,9, -999.000,9, -999.000,9, -999.000,9,   -999.0,9,   -999.0,9,-999.0000,9,  -999.00,   -999.0,9,   -999.0,  -999.00,9,  -999.00,  -999.00,9,   5.1251,2
  49NZ20031209,  I3I4,   493,  1,      2,  12026,9,20040106,1709,-19.9893,  84.0357, 4930,     10.2,  26.7274,  34.5170,2,-999.0000,9,    195.2,1,   -999.0,9,  -999.00,9,  -999.00,9,  -999.00,9,  -999.00,9, -999.000,9, -999.000,9, -999.000,9,   -999.0,9,   -999.0,9,-999.0000,9,  -999.00,   -999.0,9,   -999.0,  -999.00,9,  -999.00,  -999.00,9,  26.7247,2
  49NZ20031209,  I3I4,   493,  1,      1,  12025,2,20040106,1709,-19.9893,  84.0357, 4930,   4752.9,   1.3894,  34.7176,2,  34.7176,2,    180.1,1,    184.4,2,   130.36,2,    33.28,2,     0.00,2,     2.32,2,    0.003,2,    0.000,2,    0.000,4,   2296.1,2,   2400.5,2,   7.6287,2,    25.00,   -999.0,9,   -999.0,  -999.00,9,  -999.00,  -999.00,9,   1.3895,2