BOTTLE,20141204PRINUNIVRMK
EXPOCODE,SECT_ID,STNNBR,CASTNO,SAMPNO,BTLNBR,BTLNBR_FLAG_W,DATE,TIME,LATITUDE,LONGITUDE,DEPTH,CTDPRS,CTDTMP,CTDSAL,CTDSAL_FLAG_W,SALNTY,SALNTY_FLAG_W,CTDOXY,CTDOXY_FLAG_W,OXYGEN,OXYGEN_FLAG_W,SILCAT,SILCAT_FLAG_W,NITRAT,NITRAT_FLAG_W,NITRIT,NITRIT_FLAG_W,PHSPHT,PHSPHT_FLAG_W,CFC-11,CFC-11_FLAG_W,CFC-12,CFC-12_FLAG_W,CFC113,CFC113_FLAG_W,TCARBN,TCARBN_FLAG_W,ALKALI,ALKALI_FLAG_W,PH_TOT,PH_TOT_FLAG_W,PH_TMP,DELC14,DELC14_FLAG_W,C14ERR,DELC13,DELC13_FLAG_W,CS-137,CS137ER,CS-137_FLAG_W,SBE35,SBE35_FLAG_W
,,,,,,,,,,,METERS,DBAR,ITS-90,PSS-78,,PSS-78,,UMOL/KG,,UMOL/KG,,UMOL/KG,,UMOL/KG,,UMOL/KG,,UMOL/KG,,PMOL/KG,,PMOL/KG,,PMOL/KG,,UMOL/KG,,UMOL/KG,,,,DEG C,/MILLE,,/MILLE,/MILLE,,DM/.1MG,DM/.1MG,,ITS-90,
  49NZ20031209,  I3I4,   456,  1,     36,  12024,2,20040118,1522,-20.6255, 108.8053, 5059,      9.8,  25.4184,  35.1781,2,  35.1830,2,    196.3,1,    207.0,2,     2.36,2,     0.03,2,     0.00,2,     0.08,2, -999.000,9, -999.000,9, -999.000,9,   -999.0,9,   -999.0,9,-999.0000,9,  -999.00,   -999.0,9,   -999.0,  -999.00,9,  -999.00,  -999.00,9,  25.4153,2
  49NZ20031209,  I3I4,   456,  1,     35,  12023,2,20040118,1522,-20.6255, 108.8053, 5059,     49.9,  23.0914,  35.3154,2,  35.3166,2,    206.3,1,    217.6,2,     2.45,2,     0.01,2,     0.00,2,     0.08,2, -999.000,9, -999.000,9, -999.000,9,   -999.0,9,   -999.0,9,-999.0000,9,  -999.00,   -999.0,9,   -999.0,  -999.00,9,  -999.00,  -999.00,9,  23.0939,2
  49NZ20031209,  I3I4,   456,  1,     34,  12022,2,20040118,1522,-20.6255, 108.8053, 5059,    100.8,  20.6566,  35.4127,2,  35.4110,2,    191.8,1,    202.1,2,     3.45,2,     1.15,2,     0.17,2,     0.22,2, -999.000,9, -999.000,9, -999.000,9,   -999.0,9,   -999.0,9,-999.0000,9,  -999.00,   -999.0,9,   -999.0,  -999.00,9,  -999.00,  -999.00,9,  20.6644,2
  49NZ20031209,  I3I4,   456,  1,     33,  12015,2,20040118,1522,-20.6255, 108.8053, 5059,    149.6,  19.6128,  35.5486,2,  35.5508,2,    183.4,1,    191.9,2,     4.17,2,     3.38,2,     0.03,2,     0.32,2, -999.000,9, -999.000,9, -999.000,9,   -999.0,9,   -999.0,9,-999.0000,9,  -999.00,   -999.0,9,   -999.0,  -999.00,9,  -999.00,  -999.00,9,  19.6100,2
  49NZ20031209,  I3I4,   456,  1,     32,  12020,2,20040118,1522,-20.6255, 108.8053, 5059,    200.8,  17.9606,  35.6217,2,  35.6209,2,    179.9,1,    188.7,2,     5.25,2,     4.90,2,     0.01,2,     0.45,2, -999.000,9, -999.000,9, -999.000,9,   -999.0,9,   -999.0,9,-999.0000,9,  -999.00,   -999.0,9,   -999.0,  -999.00,9,  -999.00,  -999.00,9,  17.9638,2
  49NZ20031209,  I3I4,   456,  1,     31,  12019,2,20040118,1522,-20.6255, 108.8053, 5059,    250.3,  16.0250,  35.6050,2,  35.5983,2,    196.9,1,    207.1,2,     3.68,2,     4.45,2,     0.00,2,     0.44,2, -999.000,9, -999.000,9, -999.000,9,   -999.0,9,   -999.0,9,-999.0000,9,  -999.00,   -999.0,9,   -999.0,  -999.00,9,  -999.00,  -999.00,9,  16.0229,2
  49NZ20031209,  I3I4,   456,  1,     30,  12018,2,20040118,1522,-20.6255, 108.8053, 5059,    298.7,  14.2472,  35.4234,2,  35.4160,2,    209.6,1,    220.3,2,     2.68,2,     5.65,2,     0.00,2,     0.52,2, -999.000,9, -999.000,9, -999.000,9,   -999.0,9,   -999.0,9,-999.0000,9,  -999.00,   -999.0,9,   -999.0,  -999.00,9,  -999.00,  -999.00,9,  14.2520,2
  49NZ20031209,  I3I4,   456,  1,     29,  12017,2,20040118,1522,-20.6255, 108.8053, 5059,    400.3,  10.4877,  34.8620,2,  34.8576,2,    226.1,1,    237.4,2,     4.04,2,    12.76,2,     0.00,2,     0.96,2, -999.000,9, -999.000,9, -999.000,9,   -999.0,9,   -999.0,9,-999.0000,9,  -999.00,   -999.0,9,   -999.0,  -999.00,9,  -999.00,  -999.00,9,  10.4866,2
  49NZ20031209,  I3I4,   456,  1,     28,  12016,2,20040118,1522,-20.6255, 108.8053, 5059,    501.1,   8.9190,  34.6490,2,  34.6453,2,    209.0,1,    219.3,2,     9.67,2,    19.16,2,     0.00,2,     1.35,2, -999.000,9, -999.000,9, -999.000,9,   -999.0,9,   -999.0,9,-999.0000,9,  -999.00,   -999.0,9,   -999.0,  -999.00,9,  -999.00,  -999.00,9,   8.9212,2
  49NZ20031209,  I3I4,   456,  1,     27,  12012,2,20040118,1522,-20.6255, 108.8053, 5059,    600.2,   7.3317,  34.5610,2,  34.5632,2,    156.6,1,    160.8,2,    32.45,2,    27.84,2,     0.00,2,     1.94,2, -999.000,9, -999.000,9, -999.000,9,   -999.0,9,   -999.0,9,-999.0000,9,  -999.00,   -999.0,9,   -999.0,  -999.00,9,  -999.00,  -999.00,9,   7.3318,2
  49NZ20031209,  I3I4,   456,  1,     26,  12014,2,20040118,1522,-20.6255, 108.8053, 5059,    699.2,   6.5706,  34.6076,2,  34.6074,2,    103.9,1,    107.4,2,    59.70,2,    33.51,2,     0.00,2,     2.38,2, -999.000,9, -999.000,9, -999.000,9,   -999.0,9,   -999.0,9,-999.0000,9,  -999.00,   -999.0,9,   -999.0,  -999.00,9,  -999.00,  -999.00,9,   6.5711,2
  49NZ20031209,  I3I4,   456,  1,     25,  12013,2,20040118,1522,-20.6255, 108.8053, 5059,    801.4,   6.1058,  34.6261,2,  34.6264,2,     91.3,1,     94.2,2,    72.24,2,    35.28,2,    -0.01,2,     2.52,2, -999.000,9, -999.000,9, -999.000,9,   -999.0,9,   -999.0,9,-999.0000,9,  -999.00,   -999.0,9,   -999.0,  -999.00,9,  -999.00,  -999.00,9,   6.1062,2
  49NZ20031209,  I3I4,   456,  1,     24,  12048,2,20040118,1522,-20.6255, 108.8053, 5059,    899.1,   5.6791,  34.6375,2,  34.6365,2,     87.8,1,     90.7,2,    80.20,2,    36.12,2,    -0.01,2,     2.59,2, -999.000,9, -999.000,9, -999.000,9,   -999.0,9,   -999.0,9,-999.0000,9,  -999.00,   -999.0,9,   -999.0,  -999.00,9,  -999.00,  -999.00,9,   5.6794,2
  49NZ20031209,  I3I4,   456,  1,     23,  12047,2,20040118,1522,-20.6255, 108.8053, 5059,   1001.2,   5.2237,  34.6303,2,  34.6295,2,     92.5,1,     96.0,2,    84.05,2,    36.23,2,    -0.01,2,     2.61,2, -999.000,9, -999.000,9, -999.000,9,   -999.0,9,   -999.0,9,-999.0000,9,  -999.00,   -999.0,9,   -999.0,  -999.00,9,  -999.00,  -999.00,9,   5.2238,2
  49NZ20031209,  I3I4,   456,  1,     22,  12046,2,20040118,1522,-20.6255, 108.8053, 5059,   1200.0,   4.5521,  34.6367,2,  34.6369,2,     98.3,1,    101.8,2,    93.04,2,    36.48,2,    -0.01,2,     2.63,2, -999.000,9, -999.000,9, -999.000,9,   -999.0,9,   -999.0,9,-999.0000,9,  -999.00,   -999.0,9,   -999.0,  -999.00,9,  -999.00,  -999.00,9,   4.5522,2
  49NZ20031209,  I3I4,   456,  1,     21,  12045,2,20040118,1522,-20.6255, 108.8053, 5059,   1400.5,   3.8793,  34.6508,2,  34.6507,2,    109.5,1,    114.2,2,    97.54,2,    36.27,2,    -0.01,2,     2.59,2, -999.000,9, -999.000,9, -999.000,9,   -999.0,9,   -999.0,9,-999.0000,9,  -999.00,   -999.0,9,   -999.0,  -999.00,9,  -999.00,  -999.00,9,   3.8796,2
  49NZ20031209,  I3I4,   456,  1,     20,  12044,2,20040118,1522,-20.6255, 108.8053, 5059,   1600.9,   3.2339,  34.6799,2,  34.6802,2,    122.0,1,    127.8,2,   103.11,2,    35.64,2,    -0.01,2,     2.55,2, -999.000,9, -999.000,9, -999.000,9,   -999.0,9,   -999.0,9,-999.0000,9,  -999.00,   -999.0,9,   -999.0,  -999.00,9,  -999.00,  -999.00,9,   3.2343,2
  49NZ20031209,  I3I4,   456,  1,     19,  12043,2,20040118,1522,-20.6255, 108.8053, 5059,   1799.6,   2.7769,  34.7043,2,  34.7044,2,    131.7,1,    138.5,2,   108.35,2,    35.22,2,    -0.01,2,     2.50,2, -999.000,9, -999.000,9, -999.000,9,   -999.0,9,   -999.0,9,-999.0000,9,  -999.00,   -999.0,9,   -999.0,  -999.00,9,  -999.00,  -999.00,9,   2.7769,2
  49NZ20031209,  I3I4,   456,  1,     18,  12042,2,20040118,1522,-20.6255, 108.8053, 5059,   2000.0,   2.4505,  34.7186,2,  34.7186,2,    136.8,1,    143.9,2,   115.36,2,    35.04,2,     0.00,2,     2.48,2, -999.000,9, -999.000,9, -999.000,9,   -999.0,9,   -999.0,9,-999.0000,9,  -999.00,   -999.0,9,   -999.0,  -999.00,9,  -999.00,  -999.00,9,   2.4506,2
  49NZ20031209,  I3I4,   456,  1,     17,  12041,2,20040118,1522,-20.6255, 108.8053, 5059,   2199.6,   2.2112,  34.7251,2,  34.7256,2,    141.2,1,    148.8,2,   120.51,2,    34.84,2,    -0.01,2,     2.47,2, -999.000,9, -999.000,9, -999.000,9,   -999.0,9,   -999.0,9,-999.0000,9,  -999.00,   -999.0,9,   -999.0,  -999.00,9,  -999.00,  -999.00,9,   2.2107,2
  49NZ20031209,  I3I4,   456,  1,     16,  12040,4,20040118,1522,-20.6255, 108.8053, 5059,   2400.2,   2.0540,  34.7267,2,  34.7198,4,    145.6,1,    144.5,4,   116.14,4,    35.05,4,    -0.01,4,     2.48,4, -999.000,9, -999.000,9, -999.000,9,   -999.0,9,   -999.0,9,-999.0000,9,  -999.00,   -999.0,9,   -999.0,  -999.00,9,  -999.00,  -999.00,9,   2.0541,2
  49NZ20031209,  I3I4,   456,  1,     15,  12039,2,20040118,1522,-20.6255, 108.8053, 5059,   2600.2,   1.9262,  34.7266,2,  34.7262,2,    150.1,1,    158.1,2,   123.52,2,    34.47,2,    -0.01,2,     2.43,2, -999.000,9, -999.000,9, -999.000,9,   -999.0,9,   -999.0,9,-999.0000,9,  -999.00,   -999.0,9,   -999.0,  -999.00,9,  -999.00,  -999.00,9,   1.9262,2
  49NZ20031209,  I3I4,   456,  1,     14,  12038,2,20040118,1522,-20.6255, 108.8053, 5059,   2799.4,   1.7779,  34.7255,2,  34.7250,2,    156.7,1,    165.5,2,   123.03,2,    34.07,2,    -0.01,2,     2.39,2, -999.000,9, -999.000,9, -999.000,9,   -999.0,9,   -999.0,9,-999.0000,9,  -999.00,   -999.0,9,   -999.0,  -999.00,9,  -999.00,  -999.00,9,   1.7778,2
  49NZ20031209,  I3I4,   456,  1,     13,  12037,2,20040118,1522,-20.6255, 108.8053, 5059,   3000.5,   1.6446,  34.7242,2,  34.7229,2,    162.3,1,    171.3,2,   123.34,2,    33.84,2,    -0.01,2,     2.36,2, -999.000,9, -999.000,9, -999.000,9,   -999.0,9,   -999.0,9,-999.0000,9,  -999.00,   -999.0,9,   -999.0,  -999.00,9,  -999.00,  -999.00,9,   1.6447,2
  49NZ20031209,  I3I4,   456,  1,     12,  12036,2,20040118,1522,-20.6255, 108.8053, 5059,   3250.7,   1.4849,  34.7221,2,  34.7219,2,    168.9,1,    178.4,2,   123.86,2,    33.47,2,    -0.01,2,     2.33,2, -999.000,9, -999.000,9, -999.000,9,   -999.0,9,   -999.0,9,-999.0000,9,  -999.00,   -999.0,9,   -999.0,  -999.00,9,  -999.00,  -999.00,9,   1.4850,2
  49NZ20031209,  I3I4,   456,  1,     11,  12035,2,20040118,1522,-20.6255, 108.8053, 5059,   3500.8,   1.3619,  34.7193,2,  34.7194,2,    173.4,1,    183.0,2,   125.36,2,    33.31,2,    -0.01,2,     2.32,2, -999.000,9, -999.000,9, -999.000,9,   -999.0,9,   -999.0,9,-999.0000,9,  -999.00,   -999.0,9,   -999.0,  -999.00,9,  -999.00,  -999.00,9,   1.3618,2
  49NZ20031209,  I3I4,   456,  1,     10,  12034,2,20040118,1522,-20.6255, 108.8053, 5059,   3750.0,   1.2622,  34.7168,2,  34.7167,2,    177.8,1,    187.4,2,   126.22,2,    33.17,2,    -0.01,2,     2.30,2, -999.000,9, -999.000,9, -999.000,9,   -999.0,9,   -999.0,9,-999.0000,9,  -999.00,   -999.0,9,   -999.0,  -999.00,9,  -999.00,  -999.00,9,   1.2621,2
  49NZ20031209,  I3I4,   456,  1,      9,  12033,2,20040118,1522,-20.6255, 108.8053, 5059,   4000.3,   1.2057,  34.7152,2,  34.7145,2,    180.4,1,    189.7,2,   127.41,2,    33.15,2,    -0.01,2,     2.30,2, -999.000,9, -999.000,9, -999.000,9,   -999.0,9,   -999.0,9,-999.0000,9,  -999.00,   -999.0,9,   -999.0,  -999.00,9,  -999.00,  -999.00,9,   1.2057,2
  49NZ20031209,  I3I4,   456,  1,      8,  12032,2,20040118,1522,-20.6255, 108.8053, 5059,   4250.0,   1.1880,  34.7140,2,  34.7141,2,    182.3,1,    191.1,2,   127.92,2,    33.09,2,    -0.01,2,     2.29,2, -999.000,9, -999.000,9, -999.000,9,   -999.0,9,   -999.0,9,-999.0000,9,  -999.00,   -999.0,9,   -999.0,  -999.00,9,  -999.00,  -999.00,9,   1.1880,2
  49NZ20031209,  I3I4,   456,  1,      7,  12031,2,20040118,1522,-20.6255, 108.8053, 5059,   4499.7,   1.1868,  34.7134,2,  34.7135,2,    184.1,1,    192.2,2,   128.17,2,    33.07,2,    -0.01,2,     2.29,2, -999.000,9, -999.000,9, -999.000,9,   -999.0,9,   -999.0,9,-999.0000,9,  -999.00,   -999.0,9,   -999.0,  -999.00,9,  -999.00,  -999.00,9,   1.1869,2
  49NZ20031209,  I3I4,   456,  1,      6,  12030,2,20040118,1522,-20.6255, 108.8053, 5059,   4748.6,   1.1943,  34.7129,2,  34.7132,2,    186.0,1,    193.2,2,   127.96,2,    33.05,2,    -0.01,2,     2.28,2, -999.000,9, -999.000,9, -999.000,9,   -999.0,9,   -999.0,9,-999.0000,9,  -999.00,   -999.0,9,   -999.0,  -999.00,9,  -999.00,  -999.00,9,   1.1943,2
  49NZ20031209,  I3I4,   456,  1,      5,  12029,2,20040118,1522,-20.6255, 108.8053, 5059,   4999.2,   1.2021,  34.7125,2,  34.7125,2,    188.8,1,    194.7,2,   127.53,2,    32.96,2,    -0.01,2,     2.27,2, -999.000,9, -999.000,9, -999.000,9,   -999.0,9,   -999.0,9,-999.0000,9,  -999.00,   -999.0,9,   -999.0,  -999.00,9,  -999.00,  -999.00,9,   1.2021,2
  49NZ20031209,  I3I4,   456,  1,      4,  12028,2,20040118,1522,-20.6255, 108.8053, 5059,   5134.6,   1.1995,  34.7121,2,  34.7121,2,    191.4,1,    196.2,2,   126.66,2,    32.85,2,    -0.01,2,     2.27,2, -999.000,9, -999.000,9, -999.000,9,   -999.0,9,   -999.0,9,-999.0000,9,  -999.00,   -999.0,9,   -999.0,  -999.00,9,  -999.00,  -999.00,9,   1.1995,2
  49NZ20031209,  I3I4,   456,  1,      3,  12027,9,20040118,1522,-20.6255, 108.8053, 5059,      9.9,  25.4206,  35.1773,2,-999.0000,9,    196.3,1,   -999.0,9,  -999.00,9,  -999.00,9,  -999.00,9,  -999.00,9, -999.000,9, -999.000,9, -999.000,9,   -999.0,9,   -999.0,9,-999.0000,9,  -999.00,   -999.0,9,   -999.0,  -999.00,9,  -999.00,  -999.00,9,  25.4190,2
  49NZ20031209,  I3I4,   456,  1,      2,  12026,9,20040118,1522,-20.6255, 108.8053, 5059,    501.2,   8.9166,  34.6492,2,-999.0000,9,    208.9,1,   -999.0,9,  -999.00,9,  -999.00,9,  -999.00,9,  -999.00,9, -999.000,9, -999.000,9, -999.000,9,   -999.0,9,   -999.0,9,-999.0000,9,  -999.00,   -999.0,9,   -999.0,  -999.00,9,  -999.00,  -999.00,9,   8.9199,2
  49NZ20031209,  I3I4,   456,  1,      1,  12025,9,20040118,1522,-20.6255, 108.8053, 5059,   1001.2,   5.2240,  34.6302,2,-999.0000,9,     92.5,1,   -999.0,9,  -999.00,9,  -999.00,9,  -999.00,9,  -999.00,9, -999.000,9, -999.000,9, -999.000,9,   -999.0,9,   -999.0,9,-999.0000,9,  -999.00,   -999.0,9,   -999.0,  -999.00,9,  -999.00,  -999.00,9,   5.2236,2