BOTTLE,20141204PRINUNIVRMK
EXPOCODE,SECT_ID,STNNBR,CASTNO,SAMPNO,BTLNBR,BTLNBR_FLAG_W,DATE,TIME,LATITUDE,LONGITUDE,DEPTH,CTDPRS,CTDTMP,CTDSAL,CTDSAL_FLAG_W,SALNTY,SALNTY_FLAG_W,CTDOXY,CTDOXY_FLAG_W,OXYGEN,OXYGEN_FLAG_W,SILCAT,SILCAT_FLAG_W,NITRAT,NITRAT_FLAG_W,NITRIT,NITRIT_FLAG_W,PHSPHT,PHSPHT_FLAG_W,CFC-11,CFC-11_FLAG_W,CFC-12,CFC-12_FLAG_W,CFC113,CFC113_FLAG_W,TCARBN,TCARBN_FLAG_W,ALKALI,ALKALI_FLAG_W,PH_TOT,PH_TOT_FLAG_W,PH_TMP,DELC14,DELC14_FLAG_W,C14ERR,DELC13,DELC13_FLAG_W,CS-137,CS137ER,CS-137_FLAG_W,SBE35,SBE35_FLAG_W
,,,,,,,,,,,METERS,DBAR,ITS-90,PSS-78,,PSS-78,,UMOL/KG,,UMOL/KG,,UMOL/KG,,UMOL/KG,,UMOL/KG,,UMOL/KG,,PMOL/KG,,PMOL/KG,,PMOL/KG,,UMOL/KG,,UMOL/KG,,,,DEG C,/MILLE,,/MILLE,/MILLE,,DM/.1MG,DM/.1MG,,ITS-90,
  49NZ20031209,  I3I4,   480,  1,     36,  12024,2,20040110,0857,-19.9920,  90.2878, 5421,      9.5,  25.7331,  35.1030,2,  35.1049,2,    198.5,1,    207.8,2,     1.80,2,     0.00,2,     0.00,2,     0.10,2,    1.811,2,    1.072,2,    0.377,4,   1970.8,2,   2298.5,2,   8.0757,4,    25.00,     61.4,2,      3.6,     1.09,2,  -999.00,  -999.00,9,  25.7366,2
  49NZ20031209,  I3I4,   480,  1,     35,  12023,2,20040110,0857,-19.9920,  90.2878, 5421,     49.5,  24.7228,  35.2068,2,  35.2079,2,    205.3,1,    214.9,2,     1.83,2,    -0.02,2,     0.00,2,     0.11,2,    1.922,2,    1.119,2, -999.000,5,   1979.5,6,   2305.1,2,   8.0924,2,    25.00,     66.3,2,      3.6,     1.07,2,  -999.00,  -999.00,9,  24.7205,2
  49NZ20031209,  I3I4,   480,  1,     34,  12022,2,20040110,0857,-19.9920,  90.2878, 5421,     98.4,  22.1037,  35.3907,2,  35.3997,2,    216.6,1,    226.2,2,     1.97,2,    -0.02,2,     0.00,2,     0.10,2,    2.147,2,    1.228,2, -999.000,5,   1998.5,2,   2314.7,6,   8.0728,2,    25.00,     59.8,2,      3.7,     1.08,2,  -999.00,  -999.00,9,  22.1031,2
  49NZ20031209,  I3I4,   480,  1,     33,  12015,2,20040110,0857,-19.9920,  90.2878, 5421,    151.0,  20.2478,  35.6665,2,  35.6663,2,    208.6,1,    217.6,2,     2.16,2,     0.05,2,     0.01,2,     0.15,2,    2.227,2,    1.273,2, -999.000,5,   2035.5,2,   2329.0,2,   8.0371,6,    25.00,     66.8,2,      4.8,     1.00,2,  -999.00,  -999.00,9,  20.2496,2
  49NZ20031209,  I3I4,   480,  1,     32,  12020,2,20040110,0857,-19.9920,  90.2878, 5421,    201.2,  19.0291,  35.8037,2,  35.8007,2,    198.6,1,    207.1,2,     2.31,2,     1.48,2,     0.10,2,     0.25,2,    2.300,2,    1.320,2,    0.319,4,   2066.1,2,   2338.3,2,   7.9980,2,    25.00,     66.4,6,      2.6,     0.93,6,  -999.00,  -999.00,9,  19.0301,2
  49NZ20031209,  I3I4,   480,  1,     31,  12019,2,20040110,0857,-19.9920,  90.2878, 5421,    249.8,  16.9194,  35.7604,2,  35.7597,2,    202.9,1,    211.4,2,     1.94,2,     2.48,2,     0.00,2,     0.32,2,    2.573,6,    1.453,6,    0.166,4,   2086.5,2,   2341.5,2,   7.9583,2,    25.00,     64.2,2,      3.7,     1.02,2,  -999.00,  -999.00,9,  16.9312,2
  49NZ20031209,  I3I4,   480,  1,     30,  12018,2,20040110,0857,-19.9920,  90.2878, 5421,    302.9,  15.0441,  35.5664,2,  35.5644,2,    210.7,1,    219.5,2,     1.77,2,     4.23,2,     0.01,2,     0.44,2,    2.858,2,    1.579,2,    0.143,4,   2096.8,2,   2332.8,2,   7.9238,2,    25.00,     63.3,2,      3.7,     1.14,2,  -999.00,  -999.00,9,  15.0440,2
  49NZ20031209,  I3I4,   480,  1,     29,  12017,2,20040110,0857,-19.9920,  90.2878, 5421,    400.9,  11.6746,  35.0664,2,  35.0515,3,    217.9,1,    228.6,2,     3.47,2,    10.73,2,     0.01,2,     0.83,2,    3.275,2,    1.726,2,    0.139,4,   2112.5,2,   2304.1,2,   7.8488,2,    25.00,     60.5,2,      3.6,     1.21,2,  -999.00,  -999.00,9,  11.6748,2
  49NZ20031209,  I3I4,   480,  1,     28,  12016,2,20040110,0857,-19.9920,  90.2878, 5421,    502.0,   9.8379,  34.7788,2,  34.7826,2,    226.2,1,    235.7,2,     4.02,2,    14.67,2,     0.01,2,     1.06,2,    3.512,2,    1.787,2,    0.151,4,   2120.4,2,   2287.7,2,   7.8077,2,    25.00,     44.4,2,      3.7,     1.27,2,  -999.00,  -999.00,9,   9.8454,2
  49NZ20031209,  I3I4,   480,  1,     27,  12012,2,20040110,0857,-19.9920,  90.2878, 5421,    600.5,   8.7593,  34.6311,2,  34.6300,2,    217.7,1,    226.8,2,     6.90,2,    18.67,2,     0.01,2,     1.31,2,    3.160,2,    1.582,2,    0.141,4,   2131.7,2,   2286.5,2,   7.7683,2,    25.00,     27.0,2,      3.6,     1.23,2,  -999.00,  -999.00,9,   8.7600,2
  49NZ20031209,  I3I4,   480,  1,     26,  12014,2,20040110,0857,-19.9920,  90.2878, 5421,    700.2,   7.0552,  34.4987,2,  34.4995,2,    187.0,1,    195.2,2,    18.63,2,    25.49,2,     0.00,2,     1.76,2,    1.637,2,    0.809,2,    0.064,4,   2166.9,6,   2288.6,2,   7.6900,2,    25.00,    -44.2,2,      5.2,     1.08,2,  -999.00,  -999.00,9,   7.0568,2
  49NZ20031209,  I3I4,   480,  1,     25,  12013,2,20040110,0857,-19.9920,  90.2878, 5421,    803.7,   6.0432,  34.5289,2,  34.5301,2,    140.4,1,    145.7,2,    45.21,2,    31.64,2,    -0.01,2,     2.21,2,    0.431,2,    0.212,2,    0.018,4,   2222.4,2,   2310.1,6,   7.6052,2,    25.00,   -101.7,2,      3.2,     0.72,2,  -999.00,  -999.00,9,   6.0398,2
  49NZ20031209,  I3I4,   480,  1,     24,  12048,2,20040110,0857,-19.9920,  90.2878, 5421,    900.8,   5.5480,  34.5920,2,  34.5893,2,    112.0,1,    115.7,2,    65.47,2,    34.60,2,     0.00,2,     2.46,2,    0.103,2,    0.041,2,    0.000,4,   2258.5,2,   2330.9,2,   7.5579,6,    25.00,   -139.2,2,      3.1,     0.45,2,  -999.00,  -999.00,9,   5.5486,2
  49NZ20031209,  I3I4,   480,  1,     23,  12047,2,20040110,0857,-19.9920,  90.2878, 5421,   1000.7,   4.9199,  34.5987,2,  34.5997,2,    112.2,1,    115.9,2,    73.76,2,    35.30,2,     0.01,2,     2.53,2,    0.036,6,    0.019,6,    0.000,4,   2267.7,2,   2339.0,2,   7.5504,2,    25.00,   -154.7,2,      3.2,     0.39,2,  -999.00,  -999.00,9,   4.9201,2
  49NZ20031209,  I3I4,   480,  1,     22,  12046,2,20040110,0857,-19.9920,  90.2878, 5421,   1201.3,   4.3005,  34.6453,2,  34.6451,2,    111.0,1,    115.2,2,    86.17,2,    35.82,2,     0.00,2,     2.57,2,    0.005,2,    0.000,2,    0.000,4,   2283.3,2,   2354.6,2,   7.5453,2,    25.00,   -170.6,2,      3.1,     0.30,2,  -999.00,  -999.00,9,   4.3008,2
  49NZ20031209,  I3I4,   480,  1,     21,  12045,2,20040110,0857,-19.9920,  90.2878, 5421,   1400.8,   3.6417,  34.6702,2,  34.6688,2,    120.2,1,    125.3,2,    93.12,2,    35.60,2,    -0.01,2,     2.54,2,    0.001,2,   -0.003,2,    0.000,4,   2287.4,2,   2360.0,2,   7.5523,2,    25.00,   -179.6,6,      2.2,     0.29,6,  -999.00,  -999.00,9,   3.6420,2
  49NZ20031209,  I3I4,   480,  1,     20,  12044,2,20040110,0857,-19.9920,  90.2878, 5421,   1600.4,   3.1856,  34.6964,2,  34.6964,2,    128.4,1,    134.0,2,    99.29,2,    35.19,2,     0.00,2,     2.50,2,   -0.003,2,    0.000,2,    0.000,4,   2289.9,2,   2367.0,2,   7.5612,2,    25.00,   -185.0,2,      3.2,     0.33,2,  -999.00,  -999.00,9,   3.1867,2
  49NZ20031209,  I3I4,   480,  1,     19,  12043,2,20040110,0857,-19.9920,  90.2878, 5421,   1802.0,   2.7843,  34.7102,2,  34.7101,2,    137.1,1,    143.4,2,   104.00,2,    34.78,2,    -0.01,2,     2.46,2,    0.002,2,    0.002,2,    0.000,4,   2291.7,2,   2371.2,2,   7.5728,2,    25.00,   -180.9,2,      3.0,     0.32,2,  -999.00,  -999.00,9,   2.7845,2
  49NZ20031209,  I3I4,   480,  1,     18,  12042,2,20040110,0857,-19.9920,  90.2878, 5421,   5250.2,   1.1643,  34.7124,2,  34.7123,2,    196.8,1,    202.9,2,   121.63,2,    32.31,2,     0.00,2,     2.24,2,   -0.001,2,    0.017,2,    0.000,4,   2272.9,2,   2371.1,2,   7.6253,2,    25.00,   -179.2,2,      3.2,     0.48,2,  -999.00,  -999.00,9,   1.1643,2
  49NZ20031209,  I3I4,   480,  1,     17,  12041,2,20040110,0857,-19.9920,  90.2878, 5421,   2199.8,   2.1931,  34.7255,2,  34.7257,2,    151.8,1,    159.6,2,   111.59,2,    33.88,2,     0.01,2,     2.39,2,    0.005,2,   -0.002,2,    0.000,4,   2290.0,2,   2375.4,2,   7.5919,2,    25.00,   -196.9,2,      3.2,     0.36,2,  -999.00,  -999.00,9,   2.1934,2
  49NZ20031209,  I3I4,   480,  1,     16,  12040,2,20040110,0857,-19.9920,  90.2878, 5421,   2399.3,   2.0158,  34.7278,2,  34.7277,2,    156.1,1,    164.3,2,   114.49,2,    33.69,2,     0.01,2,     2.37,2,   -0.002,2,   -0.008,2,    0.000,4,   2290.5,6,   2382.3,2,   7.5982,2,    25.00,   -193.0,2,      3.0,     0.34,2,  -999.00,  -999.00,9,   2.0157,2
  49NZ20031209,  I3I4,   480,  1,     15,  12039,2,20040110,0857,-19.9920,  90.2878, 5421,   2599.0,   1.8867,  34.7282,2,  34.7285,2,    159.7,1,    168.6,2,   116.05,2,    33.55,2,     0.00,2,     2.35,2,   -0.006,2,   -0.009,2,    0.000,4,   2289.1,2,   2383.5,6,   7.6026,2,    25.00,   -194.0,2,      3.1,     0.34,2,  -999.00,  -999.00,9,   1.8867,2
  49NZ20031209,  I3I4,   480,  1,     14,  12038,2,20040110,0857,-19.9920,  90.2878, 5421,   2800.4,   1.7768,  34.7278,2,  34.7275,2,    163.0,1,    172.1,2,   117.61,2,    33.46,2,     0.00,2,     2.33,2,    0.000,2,    0.002,2,    0.000,4,   2288.7,2,   2385.6,2,   7.6086,2,    25.00,   -188.9,2,      3.3,     0.36,2,  -999.00,  -999.00,9,   1.7767,2
  49NZ20031209,  I3I4,   480,  1,     13,  12037,2,20040110,0857,-19.9920,  90.2878, 5421,   2999.0,   1.6557,  34.7270,2,  34.7270,2,    166.8,1,    176.1,2,   119.14,2,    33.35,2,     0.00,2,     2.32,2,    0.003,2,   -0.002,2,    0.000,4,   2289.7,2,   2384.0,2,   7.6122,2,    25.00,   -189.0,2,      3.2,     0.38,2,  -999.00,  -999.00,9,   1.6556,2
  49NZ20031209,  I3I4,   480,  1,     12,  12036,2,20040110,0857,-19.9920,  90.2878, 5421,   3250.5,   1.5281,  34.7255,2,  34.7256,2,    172.0,1,    181.7,2,   119.46,2,    33.00,2,     0.00,2,     2.29,2,   -0.001,2,    0.003,2,    0.000,4,   2283.6,2,   2382.1,2,   7.6143,2,    25.00,   -186.9,2,      3.2,     0.43,2,  -999.00,  -999.00,9,   1.5283,2
  49NZ20031209,  I3I4,   480,  1,     11,  12035,2,20040110,0857,-19.9920,  90.2878, 5421,   3500.7,   1.4275,  34.7234,2,  34.7233,2,    176.1,1,    185.8,2,   120.27,2,    32.93,2,     0.00,2,     2.28,2,   -0.006,2,    0.010,2,    0.000,4,   2283.4,2,   2382.4,2,   7.6189,2,    25.00,   -183.7,2,      3.3,     0.43,2,  -999.00,  -999.00,9,   1.4277,2
  49NZ20031209,  I3I4,   480,  1,     10,  12034,2,20040110,0857,-19.9920,  90.2878, 5421,   3750.5,   1.3031,  34.7202,2,  34.7198,2,    180.8,1,    190.9,2,   121.33,2,    32.77,2,     0.00,2,     2.27,2,    0.000,2,    0.010,2,    0.000,4,   2281.0,2,   2381.3,2,   7.6211,2,    25.00,   -185.7,2,      3.3,     0.46,2,  -999.00,  -999.00,9,   1.3030,2
  49NZ20031209,  I3I4,   480,  1,      9,  12033,2,20040110,0857,-19.9920,  90.2878, 5421,   3999.3,   1.1872,  34.7172,2,  34.7171,2,    186.6,1,    196.6,2,   121.28,2,    32.57,2,     0.00,2,     2.25,2,   -0.001,2,    0.011,2,    0.000,4,   2277.6,2,   2379.8,2,   7.6263,2,    25.00,   -181.8,2,      3.3,     0.42,2,  -999.00,  -999.00,9,   1.1871,2
  49NZ20031209,  I3I4,   480,  1,      8,  12032,2,20040110,0857,-19.9920,  90.2878, 5421,   4248.7,   1.1273,  34.7151,2,  34.7141,2,    190.4,1,    200.0,2,   121.24,2,    32.47,2,    -0.01,2,     2.24,2,   -0.001,2,    0.016,2,    0.000,4,   2276.1,6,   2373.5,2,   7.6268,2,    25.00,   -174.8,2,      3.2,     0.50,2,  -999.00,  -999.00,9,   1.1272,2
  49NZ20031209,  I3I4,   480,  1,      7,  12031,2,20040110,0857,-19.9920,  90.2878, 5421,   4500.0,   1.1051,  34.7137,2,  34.7138,2,    192.5,1,    201.8,2,   121.47,2,    32.39,2,    -0.01,2,     2.24,2,   -0.001,2,    0.013,2,    0.000,4,   2273.7,2,   2372.8,6,   7.6268,2,    25.00,   -169.3,2,      3.3,     0.47,2,  -999.00,  -999.00,9,   1.1051,2
  49NZ20031209,  I3I4,   480,  1,      6,  12030,2,20040110,0857,-19.9920,  90.2878, 5421,   4750.6,   1.1165,  34.7130,2,  34.7128,3,    193.9,1,    202.6,2,   121.52,2,    32.38,2,    -0.01,2,     2.23,2,    0.004,2,    0.017,2,    0.000,4,   2274.4,2,   2371.9,2,   7.6263,6,    25.00,   -173.0,2,      3.3,     0.51,2,  -999.00,  -999.00,9,   1.1165,2
  49NZ20031209,  I3I4,   480,  1,      5,  12029,2,20040110,0857,-19.9920,  90.2878, 5421,   4999.4,   1.1372,  34.7126,2,  34.7128,2,    195.3,1,    202.9,2,   121.57,2,    32.32,2,    -0.01,2,     2.23,2,    0.004,2,    0.010,2,    0.000,4,   2273.1,2,   2371.7,2,   7.6263,2,    25.00,   -170.6,2,      3.2,     0.47,2,  -999.00,  -999.00,9,   1.1371,2
  49NZ20031209,  I3I4,   480,  1,      4,  12028,2,20040110,0857,-19.9920,  90.2878, 5421,   5250.8,   1.1643,  34.7124,2,  34.7128,3,    196.8,1,    202.9,2,   121.56,2,    32.34,2,     0.00,2,     2.23,2,   -0.002,2,    0.018,2,    0.000,4,   2272.9,2,   2372.7,2,   7.6263,2,    25.00,   -172.0,2,      3.3,     0.48,2,  -999.00,  -999.00,9,   1.1642,2
  49NZ20031209,  I3I4,   480,  1,      3,  12027,2,20040110,0857,-19.9920,  90.2878, 5421,   5515.0,   1.1985,  34.7121,2,  34.7122,2,    199.1,1,    203.0,2,   121.42,2,    32.32,2,     0.00,2,     2.23,2,    0.003,2,    0.001,2,    0.000,4,   2274.2,2,   2373.1,2,   7.6273,2,    25.00,   -168.2,2,      3.3,     0.46,2,  -999.00,  -999.00,9,   1.1984,2
  49NZ20031209,  I3I4,   480,  1,      2,  12026,2,20040110,0857,-19.9920,  90.2878, 5421,    144.4,  20.4285,  35.6496,2,-999.0000,9,    211.6,1,   -999.0,9,  -999.00,9,  -999.00,9,  -999.00,9,  -999.00,9, -999.000,9, -999.000,9, -999.000,9,   -999.0,9,   -999.0,9,-999.0000,9,  -999.00,   -999.0,9,   -999.0,  -999.00,9,  -999.00,  -999.00,9,  20.4272,2
  49NZ20031209,  I3I4,   480,  1,      1,  12025,2,20040110,0857,-19.9920,  90.2878, 5421,   2000.9,   2.4432,  34.7207,2,  34.7212,2,    144.9,1,    152.2,2,   108.46,2,    34.25,2,     0.00,2,     2.42,2,    0.000,2,    0.001,2,    0.000,4,   2292.2,2,   2375.9,2,   7.5845,6,    25.00,   -188.1,2,      3.1,     0.32,2,  -999.00,  -999.00,9,   2.4439,2