BOTTLE,20141204PRINUNIVRMK
EXPOCODE,SECT_ID,STNNBR,CASTNO,SAMPNO,BTLNBR,BTLNBR_FLAG_W,DATE,TIME,LATITUDE,LONGITUDE,DEPTH,CTDPRS,CTDTMP,CTDSAL,CTDSAL_FLAG_W,SALNTY,SALNTY_FLAG_W,CTDOXY,CTDOXY_FLAG_W,OXYGEN,OXYGEN_FLAG_W,SILCAT,SILCAT_FLAG_W,NITRAT,NITRAT_FLAG_W,NITRIT,NITRIT_FLAG_W,PHSPHT,PHSPHT_FLAG_W,CFC-11,CFC-11_FLAG_W,CFC-12,CFC-12_FLAG_W,CFC113,CFC113_FLAG_W,TCARBN,TCARBN_FLAG_W,ALKALI,ALKALI_FLAG_W,PH_TOT,PH_TOT_FLAG_W,PH_TMP,DELC14,DELC14_FLAG_W,C14ERR,DELC13,DELC13_FLAG_W,CS-137,CS137ER,CS-137_FLAG_W,SBE35,SBE35_FLAG_W
,,,,,,,,,,,METERS,DBAR,ITS-90,PSS-78,,PSS-78,,UMOL/KG,,UMOL/KG,,UMOL/KG,,UMOL/KG,,UMOL/KG,,UMOL/KG,,PMOL/KG,,PMOL/KG,,PMOL/KG,,UMOL/KG,,UMOL/KG,,,,DEG C,/MILLE,,/MILLE,/MILLE,,DM/.1MG,DM/.1MG,,ITS-90,
  49NZ20031209,  I3I4,   534,  1,     36,  12024,2,20031225,2311,-20.3722,  59.8240, 4160,      9.9,  27.1379,  35.0291,2,  35.0286,2,    193.9,1,    202.6,2,     1.53,2,    -0.01,2,     0.01,2,     0.12,2, -999.000,9, -999.000,9, -999.000,9,   -999.0,9,   -999.0,9,-999.0000,9,  -999.00,   -999.0,9,   -999.0,  -999.00,9,  -999.00,  -999.00,9,  27.1356,2
  49NZ20031209,  I3I4,   534,  1,     35,  12023,2,20031225,2311,-20.3722,  59.8240, 4160,     49.4,  26.0911,  34.9157,2,  34.9161,2,    197.4,1,    206.4,2,     1.62,2,    -0.03,2,     0.01,2,     0.12,2, -999.000,9, -999.000,9, -999.000,9,   -999.0,9,   -999.0,9,-999.0000,9,  -999.00,   -999.0,9,   -999.0,  -999.00,9,  -999.00,  -999.00,9,  26.0878,2
  49NZ20031209,  I3I4,   534,  1,     34,  12022,2,20031225,2311,-20.3722,  59.8240, 4160,    101.6,  23.2189,  34.9271,2,  34.9266,2,    160.4,1,    167.6,2,     5.50,2,     4.86,2,     0.28,2,     0.44,2, -999.000,9, -999.000,9, -999.000,9,   -999.0,9,   -999.0,9,-999.0000,9,  -999.00,   -999.0,9,   -999.0,  -999.00,9,  -999.00,  -999.00,9,  23.2100,2
  49NZ20031209,  I3I4,   534,  1,     33,  12015,2,20031225,2311,-20.3722,  59.8240, 4160,    148.8,  21.0223,  35.1277,2,  35.1252,2,    149.6,1,    155.3,2,     7.46,2,     7.46,2,     0.03,2,     0.58,2, -999.000,9, -999.000,9, -999.000,9,   -999.0,9,   -999.0,9,-999.0000,9,  -999.00,   -999.0,9,   -999.0,  -999.00,9,  -999.00,  -999.00,9,  21.0289,2
  49NZ20031209,  I3I4,   534,  1,     32,  12020,2,20031225,2311,-20.3722,  59.8240, 4160,    199.1,  18.1375,  35.0856,2,  35.0864,4,    121.0,1,    125.1,2,    14.77,2,    13.71,2,     0.01,2,     0.98,2, -999.000,9, -999.000,9, -999.000,9,   -999.0,9,   -999.0,9,-999.0000,9,  -999.00,   -999.0,9,   -999.0,  -999.00,9,  -999.00,  -999.00,9,  18.1373,2
  49NZ20031209,  I3I4,   534,  1,     31,  12019,2,20031225,2311,-20.3722,  59.8240, 4160,    250.4,  17.8789,  35.6065,2,  35.6145,2,    169.5,1,    176.5,2,     6.14,2,     6.34,2,     0.02,2,     0.54,2, -999.000,9, -999.000,9, -999.000,9,   -999.0,9,   -999.0,9,-999.0000,9,  -999.00,   -999.0,9,   -999.0,  -999.00,9,  -999.00,  -999.00,9,  17.8791,2
  49NZ20031209,  I3I4,   534,  1,     30,  12018,2,20031225,2311,-20.3722,  59.8240, 4160,    300.2,  16.4015,  35.6355,2,  35.6351,2,    188.4,1,    196.1,2,     4.46,2,     5.36,2,     0.02,2,     0.50,2, -999.000,9, -999.000,9, -999.000,9,   -999.0,9,   -999.0,9,-999.0000,9,  -999.00,   -999.0,9,   -999.0,  -999.00,9,  -999.00,  -999.00,9,  16.3981,2
  49NZ20031209,  I3I4,   534,  1,     29,  12021,2,20031225,2311,-20.3722,  59.8240, 4160,    399.8,  13.5415,  35.3364,2,  35.3220,2,    209.2,1,    218.2,2,     3.47,2,     8.09,2,     0.02,2,     0.67,2, -999.000,9, -999.000,9, -999.000,9,   -999.0,9,   -999.0,9,-999.0000,9,  -999.00,   -999.0,9,   -999.0,  -999.00,9,  -999.00,  -999.00,9,  13.5450,2
  49NZ20031209,  I3I4,   534,  1,     28,  12016,2,20031225,2311,-20.3722,  59.8240, 4160,    500.1,  11.7902,  35.0702,2,  35.0645,2,    202.8,1,    210.5,2,     6.62,2,    12.66,2,     0.01,2,     0.95,2, -999.000,9, -999.000,9, -999.000,9,   -999.0,9,   -999.0,9,-999.0000,9,  -999.00,   -999.0,9,   -999.0,  -999.00,9,  -999.00,  -999.00,9,  11.7918,2
  49NZ20031209,  I3I4,   534,  1,     27,  12012,2,20031225,2311,-20.3722,  59.8240, 4160,    598.1,  10.3583,  34.8666,2,  34.8593,2,    210.6,1,    218.8,2,     6.74,2,    15.34,2,     0.01,2,     1.10,2, -999.000,9, -999.000,9, -999.000,9,   -999.0,9,   -999.0,9,-999.0000,9,  -999.00,   -999.0,9,   -999.0,  -999.00,9,  -999.00,  -999.00,9,  10.3535,2
  49NZ20031209,  I3I4,   534,  1,     26,  12014,2,20031225,2311,-20.3722,  59.8240, 4160,    700.1,   8.8015,  34.6641,2,  34.6641,2,    203.4,1,    211.6,2,    10.33,2,    19.89,2,     0.01,2,     1.38,2, -999.000,9, -999.000,9, -999.000,9,   -999.0,9,   -999.0,9,-999.0000,9,  -999.00,   -999.0,9,   -999.0,  -999.00,9,  -999.00,  -999.00,9,   8.8021,2
  49NZ20031209,  I3I4,   534,  1,     25,  12013,2,20031225,2311,-20.3722,  59.8240, 4160,    799.4,   7.1024,  34.5223,2,  34.5221,2,    184.0,1,    191.4,2,    20.96,2,    25.83,2,     0.01,2,     1.77,2, -999.000,9, -999.000,9, -999.000,9,   -999.0,9,   -999.0,9,-999.0000,9,  -999.00,   -999.0,9,   -999.0,  -999.00,9,  -999.00,  -999.00,9,   7.1032,2
  49NZ20031209,  I3I4,   534,  1,     24,  12048,2,20031225,2311,-20.3722,  59.8240, 4160,    898.9,   5.9841,  34.4995,2,  34.5006,2,    163.8,1,    169.9,2,    36.51,2,    29.92,2,     0.01,2,     2.07,2, -999.000,9, -999.000,9, -999.000,9,   -999.0,9,   -999.0,9,-999.0000,9,  -999.00,   -999.0,9,   -999.0,  -999.00,9,  -999.00,  -999.00,9,   5.9843,2
  49NZ20031209,  I3I4,   534,  1,     23,  12047,2,20031225,2311,-20.3722,  59.8240, 4160,    999.3,   5.3796,  34.5603,2,  34.5601,2,    134.9,1,    139.9,2,    56.35,2,    33.01,2,     0.01,2,     2.33,2, -999.000,9, -999.000,9, -999.000,9,   -999.0,9,   -999.0,9,-999.0000,9,  -999.00,   -999.0,9,   -999.0,  -999.00,9,  -999.00,  -999.00,9,   5.3816,2
  49NZ20031209,  I3I4,   534,  1,     22,  12046,2,20031225,2311,-20.3722,  59.8240, 4160,   1200.6,   4.3324,  34.6306,2,  34.6308,2,    123.0,1,    127.4,2,    78.93,2,    35.15,2,     0.01,2,     2.49,2, -999.000,9, -999.000,9, -999.000,9,   -999.0,9,   -999.0,9,-999.0000,9,  -999.00,   -999.0,9,   -999.0,  -999.00,9,  -999.00,  -999.00,9,   4.3325,2
  49NZ20031209,  I3I4,   534,  1,     21,  12045,2,20031225,2311,-20.3722,  59.8240, 4160,   1401.1,   3.6770,  34.6621,2,  34.6624,2,    130.8,1,    135.7,2,    86.83,2,    34.93,2,     0.01,2,     2.47,2, -999.000,9, -999.000,9, -999.000,9,   -999.0,9,   -999.0,9,-999.0000,9,  -999.00,   -999.0,9,   -999.0,  -999.00,9,  -999.00,  -999.00,9,   3.6764,2
  49NZ20031209,  I3I4,   534,  1,     20,  12044,2,20031225,2311,-20.3722,  59.8240, 4160,   1599.2,   3.0524,  34.6900,2,  34.6907,2,    141.8,1,    147.6,2,    94.77,2,    34.41,2,     0.01,2,     2.43,2, -999.000,9, -999.000,9, -999.000,9,   -999.0,9,   -999.0,9,-999.0000,9,  -999.00,   -999.0,9,   -999.0,  -999.00,9,  -999.00,  -999.00,9,   3.0527,2
  49NZ20031209,  I3I4,   534,  1,     19,  12043,2,20031225,2311,-20.3722,  59.8240, 4160,   1802.9,   2.5467,  34.7066,2,  34.7072,2,    152.7,1,    159.4,2,   100.47,2,    33.79,2,     0.01,2,     2.38,2, -999.000,9, -999.000,9, -999.000,9,   -999.0,9,   -999.0,9,-999.0000,9,  -999.00,   -999.0,9,   -999.0,  -999.00,9,  -999.00,  -999.00,9,   2.5466,2
  49NZ20031209,  I3I4,   534,  1,     18,  12042,2,20031225,2311,-20.3722,  59.8240, 4160,   1999.9,   2.3202,  34.7171,2,  34.7171,2,    156.6,1,    163.6,2,   105.10,2,    33.72,2,     0.01,2,     2.36,2, -999.000,9, -999.000,9, -999.000,9,   -999.0,9,   -999.0,9,-999.0000,9,  -999.00,   -999.0,9,   -999.0,  -999.00,9,  -999.00,  -999.00,9,   2.3202,2
  49NZ20031209,  I3I4,   534,  1,     17,  12041,2,20031225,2311,-20.3722,  59.8240, 4160,   2200.5,   2.1222,  34.7232,2,  34.7232,2,    159.4,1,    166.3,2,   110.21,2,    33.61,2,     0.01,2,     2.36,2, -999.000,9, -999.000,9, -999.000,9,   -999.0,9,   -999.0,9,-999.0000,9,  -999.00,   -999.0,9,   -999.0,  -999.00,9,  -999.00,  -999.00,9,   2.1222,2
  49NZ20031209,  I3I4,   534,  1,     16,  12040,2,20031225,2311,-20.3722,  59.8240, 4160,   2399.4,   1.9570,  34.7263,2,  34.7262,2,    161.9,1,    169.4,2,   114.26,2,    33.63,2,     0.01,2,     2.35,2, -999.000,9, -999.000,9, -999.000,9,   -999.0,9,   -999.0,9,-999.0000,9,  -999.00,   -999.0,9,   -999.0,  -999.00,9,  -999.00,  -999.00,9,   1.9567,2
  49NZ20031209,  I3I4,   534,  1,     15,  12039,2,20031225,2311,-20.3722,  59.8240, 4160,   2601.3,   1.8782,  34.7252,2,  34.7257,2,    164.9,1,    171.9,2,   115.12,2,    33.54,2,     0.01,2,     2.34,2, -999.000,9, -999.000,9, -999.000,9,   -999.0,9,   -999.0,9,-999.0000,9,  -999.00,   -999.0,9,   -999.0,  -999.00,9,  -999.00,  -999.00,9,   1.8780,2
  49NZ20031209,  I3I4,   534,  1,     14,  12038,2,20031225,2311,-20.3722,  59.8240, 4160,   2799.6,   1.8261,  34.7275,2,  34.7273,2,    164.7,1,    171.8,2,   117.90,2,    33.64,2,     0.01,2,     2.34,2, -999.000,9, -999.000,9, -999.000,9,   -999.0,9,   -999.0,9,-999.0000,9,  -999.00,   -999.0,9,   -999.0,  -999.00,9,  -999.00,  -999.00,9,   1.8260,2
  49NZ20031209,  I3I4,   534,  1,     13,  12037,2,20031225,2311,-20.3722,  59.8240, 4160,   3003.6,   1.7238,  34.7271,2,  34.7268,2,    167.0,1,    174.1,2,   120.41,2,    33.68,2,     0.01,2,     2.34,2, -999.000,9, -999.000,9, -999.000,9,   -999.0,9,   -999.0,9,-999.0000,9,  -999.00,   -999.0,9,   -999.0,  -999.00,9,  -999.00,  -999.00,9,   1.7236,2
  49NZ20031209,  I3I4,   534,  1,     12,  12036,2,20031225,2311,-20.3722,  59.8240, 4160,   3249.7,   1.5724,  34.7240,2,  34.7243,2,    172.3,1,    179.2,2,   121.86,2,    33.51,2,     0.01,2,     2.31,2, -999.000,9, -999.000,9, -999.000,9,   -999.0,9,   -999.0,9,-999.0000,9,  -999.00,   -999.0,9,   -999.0,  -999.00,9,  -999.00,  -999.00,9,   1.5725,2
  49NZ20031209,  I3I4,   534,  1,     11,  12035,2,20031225,2311,-20.3722,  59.8240, 4160,   3501.2,   1.4984,  34.7227,2,  34.7223,2,    175.2,1,    181.8,2,   122.84,2,    33.38,2,     0.01,2,     2.31,2, -999.000,9, -999.000,9, -999.000,9,   -999.0,9,   -999.0,9,-999.0000,9,  -999.00,   -999.0,9,   -999.0,  -999.00,9,  -999.00,  -999.00,9,   1.4983,2
  49NZ20031209,  I3I4,   534,  1,     10,  12034,2,20031225,2311,-20.3722,  59.8240, 4160,   3752.2,   1.4391,  34.7205,2,  34.7205,2,    179.0,1,    185.0,2,   123.10,2,    33.32,2,     0.01,2,     2.30,2, -999.000,9, -999.000,9, -999.000,9,   -999.0,9,   -999.0,9,-999.0000,9,  -999.00,   -999.0,9,   -999.0,  -999.00,9,  -999.00,  -999.00,9,   1.4391,2
  49NZ20031209,  I3I4,   534,  1,      9,  12033,2,20031225,2311,-20.3722,  59.8240, 4160,   3998.4,   1.4334,  34.7196,2,  34.7198,2,    181.0,1,    186.2,2,   123.13,2,    33.31,2,     0.01,2,     2.30,2, -999.000,9, -999.000,9, -999.000,9,   -999.0,9,   -999.0,9,-999.0000,9,  -999.00,   -999.0,9,   -999.0,  -999.00,9,  -999.00,  -999.00,9,   1.4331,2
  49NZ20031209,  I3I4,   534,  1,      8,  12032,2,20031225,2311,-20.3722,  59.8240, 4160,   4173.7,   1.4126,  34.7187,2,  34.7187,2,    183.6,1,    187.6,2,   123.39,2,    33.24,2,     0.01,2,     2.31,2, -999.000,9, -999.000,9, -999.000,9,   -999.0,9,   -999.0,9,-999.0000,9,  -999.00,   -999.0,9,   -999.0,  -999.00,9,  -999.00,  -999.00,9,   1.4126,2
  49NZ20031209,  I3I4,   534,  1,      7,  12031,9,20031225,2311,-20.3722,  59.8240, 4160,   3851.0,   1.4386,  34.7203,2,-999.0000,9,    179.7,1,   -999.0,9,  -999.00,9,  -999.00,9,  -999.00,9,  -999.00,9, -999.000,9, -999.000,9, -999.000,9,   -999.0,9,   -999.0,9,-999.0000,9,  -999.00,   -999.0,9,   -999.0,  -999.00,9,  -999.00,  -999.00,9,   1.4386,2
  49NZ20031209,  I3I4,   534,  1,      6,  12030,9,20031225,2311,-20.3722,  59.8240, 4160,      9.9,  27.1427,  35.0293,2,-999.0000,9,    193.8,1,   -999.0,9,  -999.00,9,  -999.00,9,  -999.00,9,  -999.00,9, -999.000,9, -999.000,9, -999.000,9,   -999.0,9,   -999.0,9,-999.0000,9,  -999.00,   -999.0,9,   -999.0,  -999.00,9,  -999.00,  -999.00,9,  27.1406,2
  49NZ20031209,  I3I4,   534,  1,      5,  12029,9,20031225,2311,-20.3722,  59.8240, 4160,   4174.4,   1.4126,  34.7189,2,-999.0000,9,    183.5,1,   -999.0,9,  -999.00,9,  -999.00,9,  -999.00,9,  -999.00,9, -999.000,9, -999.000,9, -999.000,9,   -999.0,9,   -999.0,9,-999.0000,9,  -999.00,   -999.0,9,   -999.0,  -999.00,9,  -999.00,  -999.00,9,   1.4127,2
  49NZ20031209,  I3I4,   534,  1,      4,  12028,9,20031225,2311,-20.3722,  59.8240, 4160,    999.0,   5.3896,  34.5602,2,-999.0000,9,    134.9,1,   -999.0,9,  -999.00,9,  -999.00,9,  -999.00,9,  -999.00,9, -999.000,9, -999.000,9, -999.000,9,   -999.0,9,   -999.0,9,-999.0000,9,  -999.00,   -999.0,9,   -999.0,  -999.00,9,  -999.00,  -999.00,9,   5.3882,2
  49NZ20031209,  I3I4,   534,  1,      3,  12027,9,20031225,2311,-20.3722,  59.8240, 4160,    998.5,   5.3919,  34.5602,2,-999.0000,9,    134.9,1,   -999.0,9,  -999.00,9,  -999.00,9,  -999.00,9,  -999.00,9, -999.000,9, -999.000,9, -999.000,9,   -999.0,9,   -999.0,9,-999.0000,9,  -999.00,   -999.0,9,   -999.0,  -999.00,9,  -999.00,  -999.00,9,   5.3920,2
  49NZ20031209,  I3I4,   534,  1,      2,  12026,9,20031225,2311,-20.3722,  59.8240, 4160,    998.9,   5.3924,  34.5602,2,-999.0000,9,    135.0,1,   -999.0,9,  -999.00,9,  -999.00,9,  -999.00,9,  -999.00,9, -999.000,9, -999.000,9, -999.000,9,   -999.0,9,   -999.0,9,-999.0000,9,  -999.00,   -999.0,9,   -999.0,  -999.00,9,  -999.00,  -999.00,9,   5.3924,2
  49NZ20031209,  I3I4,   534,  1,      1,  12025,9,20031225,2311,-20.3722,  59.8240, 4160,    998.9,   5.3930,  34.5602,2,-999.0000,9,    135.0,1,   -999.0,9,  -999.00,9,  -999.00,9,  -999.00,9,  -999.00,9, -999.000,9, -999.000,9, -999.000,9,   -999.0,9,   -999.0,9,-999.0000,9,  -999.00,   -999.0,9,   -999.0,  -999.00,9,  -999.00,  -999.00,9,   5.3928,2