BOTTLE,20141204PRINUNIVRMK
EXPOCODE,SECT_ID,STNNBR,CASTNO,SAMPNO,BTLNBR,BTLNBR_FLAG_W,DATE,TIME,LATITUDE,LONGITUDE,DEPTH,CTDPRS,CTDTMP,CTDSAL,CTDSAL_FLAG_W,SALNTY,SALNTY_FLAG_W,CTDOXY,CTDOXY_FLAG_W,OXYGEN,OXYGEN_FLAG_W,SILCAT,SILCAT_FLAG_W,NITRAT,NITRAT_FLAG_W,NITRIT,NITRIT_FLAG_W,PHSPHT,PHSPHT_FLAG_W,CFC-11,CFC-11_FLAG_W,CFC-12,CFC-12_FLAG_W,CFC113,CFC113_FLAG_W,TCARBN,TCARBN_FLAG_W,ALKALI,ALKALI_FLAG_W,PH_TOT,PH_TOT_FLAG_W,PH_TMP,DELC14,DELC14_FLAG_W,C14ERR,DELC13,DELC13_FLAG_W,CS-137,CS137ER,CS-137_FLAG_W,SBE35,SBE35_FLAG_W
,,,,,,,,,,,METERS,DBAR,ITS-90,PSS-78,,PSS-78,,UMOL/KG,,UMOL/KG,,UMOL/KG,,UMOL/KG,,UMOL/KG,,UMOL/KG,,PMOL/KG,,PMOL/KG,,PMOL/KG,,UMOL/KG,,UMOL/KG,,,,DEG C,/MILLE,,/MILLE,/MILLE,,DM/.1MG,DM/.1MG,,ITS-90,
  49NZ20031209,  I3I4,   476,  1,     36,  12024,2,20040111,0812,-19.9967,  92.3575, 5130,     10.4,  25.4198,  35.0252,2,  35.0293,2,    199.4,1,    208.4,2,     1.84,2,     0.07,2,     0.00,2,     0.10,2, -999.000,9, -999.000,9, -999.000,9,   -999.0,9,   -999.0,9,-999.0000,9,  -999.00,   -999.0,9,   -999.0,  -999.00,9,  -999.00,  -999.00,9,  25.4190,2
  49NZ20031209,  I3I4,   476,  1,     35,  12023,2,20040111,0812,-19.9967,  92.3575, 5130,     50.2,  23.1507,  35.2630,2,  35.2666,2,    211.6,1,    221.4,2,     2.25,2,     0.04,2,     0.00,2,     0.08,2, -999.000,9, -999.000,9, -999.000,9,   -999.0,9,   -999.0,9,-999.0000,9,  -999.00,   -999.0,9,   -999.0,  -999.00,9,  -999.00,  -999.00,9,  23.1553,2
  49NZ20031209,  I3I4,   476,  1,     34,  12022,2,20040111,0812,-19.9967,  92.3575, 5130,     99.6,  21.3649,  35.3928,2,  35.3962,2,    207.5,1,    216.7,2,     2.56,2,     0.03,2,     0.00,2,     0.12,2, -999.000,9, -999.000,9, -999.000,9,   -999.0,9,   -999.0,9,-999.0000,9,  -999.00,   -999.0,9,   -999.0,  -999.00,9,  -999.00,  -999.00,9,  21.3637,2
  49NZ20031209,  I3I4,   476,  1,     33,  12015,2,20040111,0812,-19.9967,  92.3575, 5130,    151.1,  20.2951,  35.5658,2,  35.5687,2,    195.8,1,    204.1,2,     2.71,2,     1.34,2,     0.10,2,     0.20,2, -999.000,9, -999.000,9, -999.000,9,   -999.0,9,   -999.0,9,-999.0000,9,  -999.00,   -999.0,9,   -999.0,  -999.00,9,  -999.00,  -999.00,9,  20.2939,2
  49NZ20031209,  I3I4,   476,  1,     32,  12020,2,20040111,0812,-19.9967,  92.3575, 5130,    199.5,  19.4302,  35.6861,2,  35.6868,2,    191.3,1,    199.4,2,     2.94,2,     2.17,2,     0.02,2,     0.27,2, -999.000,9, -999.000,9, -999.000,9,   -999.0,9,   -999.0,9,-999.0000,9,  -999.00,   -999.0,9,   -999.0,  -999.00,9,  -999.00,  -999.00,9,  19.4296,2
  49NZ20031209,  I3I4,   476,  1,     31,  12019,2,20040111,0812,-19.9967,  92.3575, 5130,    249.5,  17.8450,  35.7740,2,  35.7734,2,    195.7,1,    203.8,2,     2.59,2,     2.65,2,     0.01,2,     0.32,2, -999.000,9, -999.000,9, -999.000,9,   -999.0,9,   -999.0,9,-999.0000,9,  -999.00,   -999.0,9,   -999.0,  -999.00,9,  -999.00,  -999.00,9,  17.8459,2
  49NZ20031209,  I3I4,   476,  1,     30,  12018,2,20040111,0812,-19.9967,  92.3575, 5130,    301.4,  15.9798,  35.6519,2,  35.6504,2,    206.4,1,    214.7,2,     2.14,2,     3.38,2,     0.01,2,     0.38,2, -999.000,9, -999.000,9, -999.000,9,   -999.0,9,   -999.0,9,-999.0000,9,  -999.00,   -999.0,9,   -999.0,  -999.00,9,  -999.00,  -999.00,9,  15.9788,2
  49NZ20031209,  I3I4,   476,  1,     29,  12017,2,20040111,0812,-19.9967,  92.3575, 5130,    400.4,  12.2846,  35.1635,2,  35.1632,2,    225.5,1,    234.5,2,     2.13,2,     8.36,2,     0.00,2,     0.69,2, -999.000,9, -999.000,9, -999.000,9,   -999.0,9,   -999.0,9,-999.0000,9,  -999.00,   -999.0,9,   -999.0,  -999.00,9,  -999.00,  -999.00,9,  12.2835,2
  49NZ20031209,  I3I4,   476,  1,     28,  12016,2,20040111,0812,-19.9967,  92.3575, 5130,    500.3,  10.3722,  34.8526,2,  34.8498,2,    230.6,1,    239.9,2,     3.18,2,    12.74,2,     0.00,2,     0.95,2, -999.000,9, -999.000,9, -999.000,9,   -999.0,9,   -999.0,9,-999.0000,9,  -999.00,   -999.0,9,   -999.0,  -999.00,9,  -999.00,  -999.00,9,  10.3751,2
  49NZ20031209,  I3I4,   476,  1,     27,  12012,2,20040111,0812,-19.9967,  92.3575, 5130,    601.0,   9.2140,  34.6856,2,  34.6885,2,    223.6,1,    232.9,2,     5.08,2,    16.82,2,     0.00,2,     1.20,2, -999.000,9, -999.000,9, -999.000,9,   -999.0,9,   -999.0,9,-999.0000,9,  -999.00,   -999.0,9,   -999.0,  -999.00,9,  -999.00,  -999.00,9,   9.2169,2
  49NZ20031209,  I3I4,   476,  1,     26,  12014,2,20040111,0812,-19.9967,  92.3575, 5130,    698.9,   7.6960,  34.5422,2,  34.5364,2,    193.4,1,    200.1,2,    15.57,2,    23.73,2,     0.00,2,     1.64,2, -999.000,9, -999.000,9, -999.000,9,   -999.0,9,   -999.0,9,-999.0000,9,  -999.00,   -999.0,9,   -999.0,  -999.00,9,  -999.00,  -999.00,9,   7.6960,2
  49NZ20031209,  I3I4,   476,  1,     25,  12013,2,20040111,0812,-19.9967,  92.3575, 5130,    800.5,   5.8197,  34.4673,2,  34.4673,2,    163.6,1,    169.8,2,    36.06,2,    30.27,2,    -0.01,2,     2.10,2, -999.000,9, -999.000,9, -999.000,9,   -999.0,9,   -999.0,9,-999.0000,9,  -999.00,   -999.0,9,   -999.0,  -999.00,9,  -999.00,  -999.00,9,   5.8201,2
  49NZ20031209,  I3I4,   476,  1,     24,  12048,2,20040111,0812,-19.9967,  92.3575, 5130,    900.3,   5.1954,  34.5590,2,  34.5582,2,    121.4,1,    125.8,2,    64.38,2,    34.30,2,     0.00,2,     2.44,2, -999.000,9, -999.000,9, -999.000,9,   -999.0,9,   -999.0,9,-999.0000,9,  -999.00,   -999.0,9,   -999.0,  -999.00,9,  -999.00,  -999.00,9,   5.1936,2
  49NZ20031209,  I3I4,   476,  1,     23,  12047,2,20040111,0812,-19.9967,  92.3575, 5130,   1000.2,   4.7890,  34.6024,2,  34.6019,2,    111.2,1,    115.0,2,    76.77,2,    35.39,2,     0.00,2,     2.54,2, -999.000,9, -999.000,9, -999.000,9,   -999.0,9,   -999.0,9,-999.0000,9,  -999.00,   -999.0,9,   -999.0,  -999.00,9,  -999.00,  -999.00,9,   4.7905,2
  49NZ20031209,  I3I4,   476,  1,     22,  12046,2,20040111,0812,-19.9967,  92.3575, 5130,   1199.3,   4.1658,  34.6413,2,  34.6413,2,    112.8,1,    116.8,2,    87.39,2,    35.76,2,     0.00,2,     2.56,2, -999.000,9, -999.000,9, -999.000,9,   -999.0,9,   -999.0,9,-999.0000,9,  -999.00,   -999.0,9,   -999.0,  -999.00,9,  -999.00,  -999.00,9,   4.1654,2
  49NZ20031209,  I3I4,   476,  1,     21,  12045,2,20040111,0812,-19.9967,  92.3575, 5130,   1399.8,   3.5289,  34.6665,2,  34.6665,2,    123.8,1,    128.6,2,    92.91,2,    35.41,2,    -0.01,2,     2.53,2, -999.000,9, -999.000,9, -999.000,9,   -999.0,9,   -999.0,9,-999.0000,9,  -999.00,   -999.0,9,   -999.0,  -999.00,9,  -999.00,  -999.00,9,   3.5288,2
  49NZ20031209,  I3I4,   476,  1,     20,  12044,2,20040111,0812,-19.9967,  92.3575, 5130,   1600.8,   3.0565,  34.6917,2,  34.6919,2,    131.6,1,    137.2,2,    99.66,2,    34.92,2,    -0.01,2,     2.49,2, -999.000,9, -999.000,9, -999.000,9,   -999.0,9,   -999.0,9,-999.0000,9,  -999.00,   -999.0,9,   -999.0,  -999.00,9,  -999.00,  -999.00,9,   3.0559,2
  49NZ20031209,  I3I4,   476,  1,     19,  12043,3,20040111,0812,-19.9967,  92.3575, 5130,   1800.4,   2.6614,  34.7109,2,  34.7110,2,    140.2,1,    146.2,2,   105.02,2,    34.41,2,     0.00,2,     2.44,2, -999.000,9, -999.000,9, -999.000,9,   -999.0,9,   -999.0,9,-999.0000,9,  -999.00,   -999.0,9,   -999.0,  -999.00,9,  -999.00,  -999.00,9,   2.6614,2
  49NZ20031209,  I3I4,   476,  1,     18,  12042,2,20040111,0812,-19.9967,  92.3575, 5130,   2001.8,   2.3725,  34.7236,2,  34.7234,2,    146.4,1,    153.2,2,   110.14,2,    34.17,2,     0.00,2,     2.42,2, -999.000,9, -999.000,9, -999.000,9,   -999.0,9,   -999.0,9,-999.0000,9,  -999.00,   -999.0,9,   -999.0,  -999.00,9,  -999.00,  -999.00,9,   2.3728,2
  49NZ20031209,  I3I4,   476,  1,     17,  12041,3,20040111,0812,-19.9967,  92.3575, 5130,   2199.9,   2.1237,  34.7269,2,  34.7269,2,    152.4,1,    159.8,2,   113.58,2,    33.85,2,    -0.01,2,     2.39,2, -999.000,9, -999.000,9, -999.000,9,   -999.0,9,   -999.0,9,-999.0000,9,  -999.00,   -999.0,9,   -999.0,  -999.00,9,  -999.00,  -999.00,9,   2.1236,2
  49NZ20031209,  I3I4,   476,  1,     16,  12040,2,20040111,0812,-19.9967,  92.3575, 5130,   2399.0,   1.9499,  34.7280,2,  34.7281,2,    157.2,1,    164.8,2,   115.98,2,    33.59,2,     0.00,2,     2.36,2, -999.000,9, -999.000,9, -999.000,9,   -999.0,9,   -999.0,9,-999.0000,9,  -999.00,   -999.0,9,   -999.0,  -999.00,9,  -999.00,  -999.00,9,   1.9495,2
  49NZ20031209,  I3I4,   476,  1,     15,  12039,2,20040111,0812,-19.9967,  92.3575, 5130,   2600.9,   1.8211,  34.7278,2,  34.7278,2,    161.0,1,    169.2,2,   117.65,2,    33.50,2,     0.00,2,     2.35,2, -999.000,9, -999.000,9, -999.000,9,   -999.0,9,   -999.0,9,-999.0000,9,  -999.00,   -999.0,9,   -999.0,  -999.00,9,  -999.00,  -999.00,9,   1.8212,2
  49NZ20031209,  I3I4,   476,  1,     14,  12038,2,20040111,0812,-19.9967,  92.3575, 5130,   2799.1,   1.7209,  34.7273,2,  34.7273,2,    162.7,1,    171.0,2,   120.39,2,    33.56,2,    -0.01,2,     2.34,2, -999.000,9, -999.000,9, -999.000,9,   -999.0,9,   -999.0,9,-999.0000,9,  -999.00,   -999.0,9,   -999.0,  -999.00,9,  -999.00,  -999.00,9,   1.7209,2
  49NZ20031209,  I3I4,   476,  1,     13,  12037,2,20040111,0812,-19.9967,  92.3575, 5130,   3000.2,   1.6359,  34.7262,2,  34.7264,2,    164.8,1,    173.2,2,   122.26,2,    33.39,2,    -0.01,2,     2.34,2, -999.000,9, -999.000,9, -999.000,9,   -999.0,9,   -999.0,9,-999.0000,9,  -999.00,   -999.0,9,   -999.0,  -999.00,9,  -999.00,  -999.00,9,   1.6360,2
  49NZ20031209,  I3I4,   476,  1,     12,  12036,2,20040111,0812,-19.9967,  92.3575, 5130,   3251.0,   1.5367,  34.7243,2,  34.7243,2,    167.5,1,    176.0,2,   123.97,2,    33.30,2,     0.00,2,     2.33,2, -999.000,9, -999.000,9, -999.000,9,   -999.0,9,   -999.0,9,-999.0000,9,  -999.00,   -999.0,9,   -999.0,  -999.00,9,  -999.00,  -999.00,9,   1.5368,2
  49NZ20031209,  I3I4,   476,  1,     11,  12035,2,20040111,0812,-19.9967,  92.3575, 5130,   3499.2,   1.4283,  34.7219,2,  34.7224,2,    172.6,1,    181.2,2,   124.41,2,    33.12,2,     0.00,2,     2.32,2, -999.000,9, -999.000,9, -999.000,9,   -999.0,9,   -999.0,9,-999.0000,9,  -999.00,   -999.0,9,   -999.0,  -999.00,9,  -999.00,  -999.00,9,   1.4284,2
  49NZ20031209,  I3I4,   476,  1,     10,  12034,2,20040111,0812,-19.9967,  92.3575, 5130,   3749.5,   1.2979,  34.7190,2,  34.7191,2,    180.5,1,    189.3,2,   122.61,2,    32.70,2,     0.00,2,     2.30,2, -999.000,9, -999.000,9, -999.000,9,   -999.0,9,   -999.0,9,-999.0000,9,  -999.00,   -999.0,9,   -999.0,  -999.00,9,  -999.00,  -999.00,9,   1.2978,2
  49NZ20031209,  I3I4,   476,  1,      9,  12033,2,20040111,0812,-19.9967,  92.3575, 5130,   3999.6,   1.2145,  34.7172,2,  34.7171,2,    186.1,1,    194.6,2,   121.70,2,    32.47,2,     0.00,2,     2.26,2, -999.000,9, -999.000,9, -999.000,9,   -999.0,9,   -999.0,9,-999.0000,9,  -999.00,   -999.0,9,   -999.0,  -999.00,9,  -999.00,  -999.00,9,   1.2146,2
  49NZ20031209,  I3I4,   476,  1,      8,  12032,2,20040111,0812,-19.9967,  92.3575, 5130,   4249.5,   1.1199,  34.7143,2,  34.7147,2,    191.6,1,    200.0,2,   121.19,2,    32.20,2,     0.00,2,     2.24,2, -999.000,9, -999.000,9, -999.000,9,   -999.0,9,   -999.0,9,-999.0000,9,  -999.00,   -999.0,9,   -999.0,  -999.00,9,  -999.00,  -999.00,9,   1.1199,2
  49NZ20031209,  I3I4,   476,  1,      7,  12031,2,20040111,0812,-19.9967,  92.3575, 5130,   4500.8,   1.0848,  34.7124,2,  34.7121,2,    194.4,1,    202.3,2,   121.24,2,    32.23,2,     0.00,2,     2.23,2, -999.000,9, -999.000,9, -999.000,9,   -999.0,9,   -999.0,9,-999.0000,9,  -999.00,   -999.0,9,   -999.0,  -999.00,9,  -999.00,  -999.00,9,   1.0849,2
  49NZ20031209,  I3I4,   476,  1,      6,  12030,2,20040111,0812,-19.9967,  92.3575, 5130,   4751.0,   1.0817,  34.7114,2,  34.7109,2,    196.4,1,    203.5,2,   121.63,2,    32.14,2,     0.00,2,     2.23,2, -999.000,9, -999.000,9, -999.000,9,   -999.0,9,   -999.0,9,-999.0000,9,  -999.00,   -999.0,9,   -999.0,  -999.00,9,  -999.00,  -999.00,9,   1.0819,2
  49NZ20031209,  I3I4,   476,  1,      5,  12029,2,20040111,0812,-19.9967,  92.3575, 5130,   4999.7,   1.1009,  34.7109,2,  34.7106,2,    198.0,1,    204.0,2,   121.73,2,    32.08,2,     0.00,2,     2.23,2, -999.000,9, -999.000,9, -999.000,9,   -999.0,9,   -999.0,9,-999.0000,9,  -999.00,   -999.0,9,   -999.0,  -999.00,9,  -999.00,  -999.00,9,   1.1009,2
  49NZ20031209,  I3I4,   476,  1,      4,  12028,2,20040111,0812,-19.9967,  92.3575, 5130,   5212.9,   1.1232,  34.7108,2,  34.7108,2,    199.8,1,    204.0,2,   121.73,2,    32.14,2,     0.00,2,     2.23,2, -999.000,9, -999.000,9, -999.000,9,   -999.0,9,   -999.0,9,-999.0000,9,  -999.00,   -999.0,9,   -999.0,  -999.00,9,  -999.00,  -999.00,9,   1.1233,2
  49NZ20031209,  I3I4,   476,  1,      1,  12025,2,20040111,0812,-19.9967,  92.3575, 5130,    123.6,  20.6698,  35.5083,2,-999.0000,9,    198.5,1,   -999.0,9,  -999.00,9,  -999.00,9,  -999.00,9,  -999.00,9, -999.000,9, -999.000,9, -999.000,9,   -999.0,9,   -999.0,9,-999.0000,9,  -999.00,   -999.0,9,   -999.0,  -999.00,9,  -999.00,  -999.00,9,  20.6699,2