BOTTLE,20141204PRINUNIVRMK
EXPOCODE,SECT_ID,STNNBR,CASTNO,SAMPNO,BTLNBR,BTLNBR_FLAG_W,DATE,TIME,LATITUDE,LONGITUDE,DEPTH,CTDPRS,CTDTMP,CTDSAL,CTDSAL_FLAG_W,SALNTY,SALNTY_FLAG_W,CTDOXY,CTDOXY_FLAG_W,OXYGEN,OXYGEN_FLAG_W,SILCAT,SILCAT_FLAG_W,NITRAT,NITRAT_FLAG_W,NITRIT,NITRIT_FLAG_W,PHSPHT,PHSPHT_FLAG_W,CFC-11,CFC-11_FLAG_W,CFC-12,CFC-12_FLAG_W,CFC113,CFC113_FLAG_W,TCARBN,TCARBN_FLAG_W,ALKALI,ALKALI_FLAG_W,PH_TOT,PH_TOT_FLAG_W,PH_TMP,DELC14,DELC14_FLAG_W,C14ERR,DELC13,DELC13_FLAG_W,CS-137,CS137ER,CS-137_FLAG_W,SBE35,SBE35_FLAG_W
,,,,,,,,,,,METERS,DBAR,ITS-90,PSS-78,,PSS-78,,UMOL/KG,,UMOL/KG,,UMOL/KG,,UMOL/KG,,UMOL/KG,,UMOL/KG,,PMOL/KG,,PMOL/KG,,PMOL/KG,,UMOL/KG,,UMOL/KG,,,,DEG C,/MILLE,,/MILLE,/MILLE,,DM/.1MG,DM/.1MG,,ITS-90,
  49NZ20031209,  I3I4,   482,  1,     36,  12024,2,20040109,2129,-19.9957,  89.4658, 5144,     10.0,  26.0616,  34.8362,2,  34.8445,2,    195.9,1,    205.3,2,     1.84,2,     0.00,2,     0.01,2,     0.09,2,    1.675,2,    1.065,2,    0.367,4,   1953.9,2,   2282.6,2,   8.1064,2,    25.00,   -999.0,9,   -999.0,  -999.00,9,  -999.00,  -999.00,9,  26.0603,2
  49NZ20031209,  I3I4,   482,  1,     35,  12023,2,20040109,2129,-19.9957,  89.4658, 5144,     50.2,  24.0589,  35.1812,2,  35.2044,2,    209.9,1,    220.4,2,     1.95,2,    -0.02,2,     0.00,2,     0.08,2,    1.974,2,    1.186,2, -999.000,5,   1982.2,6,   2302.3,2,   8.0909,2,    25.00,   -999.0,9,   -999.0,  -999.00,9,  -999.00,  -999.00,9,  24.0436,2
  49NZ20031209,  I3I4,   482,  1,     34,  12022,2,20040109,2129,-19.9957,  89.4658, 5144,     99.4,  21.4942,  35.4093,2,  35.4089,2,    208.5,1,    217.8,2,     2.27,2,     0.08,2,     0.02,2,     0.10,2,    2.022,2,    1.236,2, -999.000,5,   2007.8,2,   2317.9,6,   8.0655,2,    25.00,   -999.0,9,   -999.0,  -999.00,9,  -999.00,  -999.00,9,  21.4871,2
  49NZ20031209,  I3I4,   482,  1,     33,  12015,2,20040109,2129,-19.9957,  89.4658, 5144,    149.6,  20.5409,  35.5671,2,  35.5760,2,    192.0,1,    200.6,2,     2.69,2,     1.18,2,     0.24,2,     0.22,2,    2.096,2,    1.268,2,    0.404,4,   2041.1,2,   2328.6,2,   8.0221,6,    25.00,   -999.0,9,   -999.0,  -999.00,9,  -999.00,  -999.00,9,  20.5563,2
  49NZ20031209,  I3I4,   482,  1,     32,  12020,2,20040109,2129,-19.9957,  89.4658, 5144,    200.5,  18.9745,  35.6877,2,  35.6641,2,    180.9,1,    186.8,2,     4.56,2,     3.98,2,     0.01,2,     0.40,2,    2.156,2,    1.280,2,    0.160,4,   2075.9,2,   2333.1,2,   7.9698,2,    25.00,   -999.0,9,   -999.0,  -999.00,9,  -999.00,  -999.00,9,  18.9799,2
  49NZ20031209,  I3I4,   482,  1,     31,  12019,2,20040109,2129,-19.9957,  89.4658, 5144,    250.6,  17.5946,  35.7836,2,  35.7813,2,    195.5,1,    204.0,2,     2.60,2,     2.77,2,     0.01,2,     0.32,2,    2.409,6,    1.405,6,    0.156,4,   2084.5,2,   2342.5,2,   7.9659,2,    25.00,   -999.0,9,   -999.0,  -999.00,9,  -999.00,  -999.00,9,  17.5952,2
  49NZ20031209,  I3I4,   482,  1,     30,  12018,2,20040109,2129,-19.9957,  89.4658, 5144,    298.7,  16.0453,  35.6734,2,  35.6703,2,    203.0,1,    212.1,2,     2.29,2,     3.58,2,     0.01,2,     0.40,2,    2.589,2,    1.491,2,    0.175,4,   2093.8,2,   2339.6,2,   7.9420,2,    25.00,   -999.0,9,   -999.0,  -999.00,9,  -999.00,  -999.00,9,  16.0447,2
  49NZ20031209,  I3I4,   482,  1,     29,  12017,2,20040109,2129,-19.9957,  89.4658, 5144,    399.9,  12.3975,  35.1729,2,  35.1700,2,    212.4,1,    221.2,2,     3.77,2,     9.54,2,     0.00,2,     0.77,2,    3.004,2,    1.629,2,    0.103,4,   2113.7,2,   2311.7,2,   7.8640,2,    25.00,   -999.0,9,   -999.0,  -999.00,9,  -999.00,  -999.00,9,  12.3938,2
  49NZ20031209,  I3I4,   482,  1,     28,  12016,2,20040109,2129,-19.9957,  89.4658, 5144,    501.2,   9.8926,  34.7847,2,  34.7791,2,    227.2,1,    236.8,2,     3.95,2,    14.54,2,    -0.01,2,     1.06,2,    3.327,2,    1.753,2,    0.156,4,   2118.2,2,   2291.8,2,   7.8112,2,    25.00,   -999.0,9,   -999.0,  -999.00,9,  -999.00,  -999.00,9,   9.8932,2
  49NZ20031209,  I3I4,   482,  1,     27,  12012,2,20040109,2129,-19.9957,  89.4658, 5144,    600.2,   8.7698,  34.6313,2,  34.6284,2,    218.4,1,    227.5,2,     6.88,2,    18.62,2,     0.00,2,     1.32,2,    2.998,2,    1.548,2,    0.152,4,   2132.6,2,   2287.1,2,   7.7703,2,    25.00,   -999.0,9,   -999.0,  -999.00,9,  -999.00,  -999.00,9,   8.7702,2
  49NZ20031209,  I3I4,   482,  1,     26,  12014,2,20040109,2129,-19.9957,  89.4658, 5144,    700.9,   7.1398,  34.5214,2,  34.5199,2,    176.9,1,    183.8,2,    22.65,2,    26.25,2,     0.00,2,     1.83,2,    1.270,2,    0.696,2,    0.025,4,   2175.3,6,   2294.5,2,   7.6783,2,    25.00,   -999.0,9,   -999.0,  -999.00,9,  -999.00,  -999.00,9,   7.1433,2
  49NZ20031209,  I3I4,   482,  1,     25,  12013,2,20040109,2129,-19.9957,  89.4658, 5144,    801.5,   6.1790,  34.5665,2,  34.5696,2,    127.9,1,    131.4,2,    50.26,2,    32.38,2,    -0.01,2,     2.29,2,    0.244,2,    0.148,2,    0.000,4,   2233.3,2,   2321.8,6,   7.5915,2,    25.00,   -999.0,9,   -999.0,  -999.00,9,  -999.00,  -999.00,9,   6.1797,2
  49NZ20031209,  I3I4,   482,  1,     24,  12048,2,20040109,2129,-19.9957,  89.4658, 5144,    900.9,   5.6902,  34.6293,2,  34.6303,2,    101.0,1,    103.9,2,    70.19,2,    35.08,2,    -0.01,2,     2.53,2,    0.045,2,    0.034,2,    0.000,4,   2267.3,2,   2339.8,2,   7.5481,2,    25.00,   -999.0,9,   -999.0,  -999.00,9,  -999.00,  -999.00,9,   5.6914,2
  49NZ20031209,  I3I4,   482,  1,     23,  12047,2,20040109,2129,-19.9957,  89.4658, 5144,   1001.3,   5.3086,  34.6501,2,  34.6510,2,     97.2,1,     99.9,2,    78.62,2,    35.62,2,     0.00,2,     2.58,2,    0.024,6,    0.016,6,    0.000,4,   2277.7,2,   2347.4,2,   7.5387,2,    25.00,   -999.0,9,   -999.0,  -999.00,9,  -999.00,  -999.00,9,   5.3101,2
  49NZ20031209,  I3I4,   482,  1,     22,  12046,2,20040109,2129,-19.9957,  89.4658, 5144,   1200.0,   4.6588,  34.6688,2,  34.6688,2,    100.0,1,    103.5,2,    88.73,2,    36.09,2,     0.00,2,     2.61,2,    0.011,2,    0.004,2,    0.021,4,   2287.6,2,   2356.9,2,   7.5376,2,    25.00,   -999.0,9,   -999.0,  -999.00,9,  -999.00,  -999.00,9,   4.6588,2
  49NZ20031209,  I3I4,   482,  1,     21,  12045,2,20040109,2129,-19.9957,  89.4658, 5144,   1401.4,   3.9863,  34.6794,2,  34.6794,2,    111.2,1,    115.6,2,    94.16,2,    35.81,2,    -0.01,2,     2.58,2,    0.036,3,    0.033,3,    0.000,4,   2291.3,2,   2363.7,2,   7.5457,2,    25.00,   -999.0,9,   -999.0,  -999.00,9,  -999.00,  -999.00,9,   3.9853,2
  49NZ20031209,  I3I4,   482,  1,     20,  12044,2,20040109,2129,-19.9957,  89.4658, 5144,   1601.2,   3.2577,  34.6863,2,  34.6872,2,    128.4,1,   -999.0,4,    96.78,2,    35.10,2,    -0.01,2,     2.51,2,    0.004,2,    0.001,2,    0.000,4,   2288.3,2,   2363.7,2,   7.5628,2,    25.00,   -999.0,9,   -999.0,  -999.00,9,  -999.00,  -999.00,9,   3.2579,2
  49NZ20031209,  I3I4,   482,  1,     19,  12043,2,20040109,2129,-19.9957,  89.4658, 5144,   5002.1,   1.1982,  34.7139,2,  34.7144,3,    194.9,1,    200.6,2,   121.35,2,    32.31,2,    -0.01,2,     2.24,2,    0.001,2,    0.001,2,    0.000,4,   2273.6,2,   2375.0,2,   7.6275,2,    25.00,   -999.0,9,   -999.0,  -999.00,9,  -999.00,  -999.00,9,   1.1982,2
  49NZ20031209,  I3I4,   482,  1,     18,  12042,2,20040109,2129,-19.9957,  89.4658, 5144,   2001.2,   2.5163,  34.7227,2,  34.7217,2,    144.4,1,    151.6,2,   107.38,2,    34.13,2,    -0.01,2,     2.43,2,    0.005,2,    0.003,2,    0.000,4,   2288.3,2,   2374.5,2,   7.5830,6,    25.00,   -999.0,9,   -999.0,  -999.00,9,  -999.00,  -999.00,9,   2.5173,2
  49NZ20031209,  I3I4,   482,  1,     17,  12041,2,20040109,2129,-19.9957,  89.4658, 5144,   2199.5,   2.2216,  34.7270,2,  34.7269,2,    152.1,1,    159.4,2,   111.23,2,    33.83,2,     0.00,2,     2.39,2,   -0.012,4,   -0.001,2,    0.000,4,   2289.0,2,   2379.6,2,   7.5940,2,    25.00,   -999.0,9,   -999.0,  -999.00,9,  -999.00,  -999.00,9,   2.2218,2
  49NZ20031209,  I3I4,   482,  1,     16,  12040,2,20040109,2129,-19.9957,  89.4658, 5144,   2399.0,   2.0426,  34.7275,2,  34.7275,2,    157.6,1,    165.6,2,   112.49,2,    33.51,2,    -0.01,2,     2.36,2,   -0.010,4,    0.001,2,    0.000,4,   2286.5,6,   2377.8,2,   7.5974,2,    25.00,   -999.0,9,   -999.0,  -999.00,9,  -999.00,  -999.00,9,   2.0424,2
  49NZ20031209,  I3I4,   482,  1,     15,  12039,2,20040109,2129,-19.9957,  89.4658, 5144,   2599.3,   1.8837,  34.7281,2,  34.7282,2,    161.2,1,    169.6,2,   115.39,2,    33.40,2,    -0.01,2,     2.34,2,   -0.008,4,    0.000,2,    0.000,4,   2287.5,2,   2382.9,6,   7.6062,2,    25.00,   -999.0,9,   -999.0,  -999.00,9,  -999.00,  -999.00,9,   1.8836,2
  49NZ20031209,  I3I4,   482,  1,     14,  12038,2,20040109,2129,-19.9957,  89.4658, 5144,   2799.7,   1.7440,  34.7280,2,  34.7278,2,    166.6,1,    175.6,2,   115.71,2,    33.02,2,    -0.01,2,     2.31,2,   -0.003,4,   -0.001,2,    0.000,4,   2284.9,2,   2379.5,2,   7.6100,6,    25.00,   -999.0,9,   -999.0,  -999.00,9,  -999.00,  -999.00,9,   1.7439,2
  49NZ20031209,  I3I4,   482,  1,     13,  12037,2,20040109,2129,-19.9957,  89.4658, 5144,   2999.3,   1.5942,  34.7265,2,  34.7263,2,    169.2,1,    178.3,2,   119.68,2,    33.11,2,    -0.01,2,     2.31,2,   -0.004,4,   -0.003,2,    0.000,4,   2287.7,2,   2383.6,2,   7.6132,2,    25.00,   -999.0,9,   -999.0,  -999.00,9,  -999.00,  -999.00,9,   1.5941,2
  49NZ20031209,  I3I4,   482,  1,     12,  12036,2,20040109,2129,-19.9957,  89.4658, 5144,   3250.2,   1.5300,  34.7255,2,  34.7254,2,    173.0,1,    182.1,2,   119.16,2,    32.91,2,    -0.01,2,     2.30,2,    0.000,2,    0.001,2,    0.000,4,   2285.9,2,   2384.7,2,   7.6159,2,    25.00,   -999.0,9,   -999.0,  -999.00,9,  -999.00,  -999.00,9,   1.5299,2
  49NZ20031209,  I3I4,   482,  1,     11,  12035,2,20040109,2129,-19.9957,  89.4658, 5144,   3499.8,   1.4772,  34.7243,2,  34.7243,2,    175.7,1,    184.9,2,   119.50,2,    32.71,2,    -0.01,2,     2.29,2,    0.000,2,    0.000,2,    0.000,4,   2283.1,2,   2382.2,2,   7.6190,2,    25.00,   -999.0,9,   -999.0,  -999.00,9,  -999.00,  -999.00,9,   1.4772,2
  49NZ20031209,  I3I4,   482,  1,     10,  12034,2,20040109,2129,-19.9957,  89.4658, 5144,   3750.7,   1.3220,  34.7202,2,  34.7202,2,    179.8,1,    188.7,2,   122.50,2,    32.72,2,     0.00,2,     2.28,2,   -0.002,2,   -0.003,2,    0.000,4,   2282.5,2,   2383.6,2,   7.6211,2,    25.00,   -999.0,9,   -999.0,  -999.00,9,  -999.00,  -999.00,9,   1.3220,2
  49NZ20031209,  I3I4,   482,  1,      9,  12033,2,20040109,2129,-19.9957,  89.4658, 5144,   4000.7,   1.1597,  34.7162,2,  34.7156,2,    188.1,1,    197.2,2,   121.82,2,    32.37,2,     0.00,2,     2.26,2,   -0.002,2,   -0.001,2,    0.000,4,   2276.2,2,   2378.3,2,   7.6261,2,    25.00,   -999.0,9,   -999.0,  -999.00,9,  -999.00,  -999.00,9,   1.1596,2
  49NZ20031209,  I3I4,   482,  1,      8,  12032,2,20040109,2129,-19.9957,  89.4658, 5144,   4250.4,   1.1299,  34.7149,2,  34.7150,2,    191.2,1,    200.0,2,   121.19,2,    32.25,2,    -0.01,2,     2.25,2,    0.001,2,    0.003,2,    0.000,4,   2274.9,6,   2376.3,2,   7.6280,2,    25.00,   -999.0,9,   -999.0,  -999.00,9,  -999.00,  -999.00,9,   1.1300,2
  49NZ20031209,  I3I4,   482,  1,      7,  12031,2,20040109,2129,-19.9957,  89.4658, 5144,   4500.5,   1.1460,  34.7145,2,  34.7145,2,    192.3,1,    200.4,2,   121.38,2,    32.28,2,    -0.01,2,     2.25,2,    0.003,2,    0.004,2,    0.000,4,   2274.5,2,   2374.9,6,   7.6280,2,    25.00,   -999.0,9,   -999.0,  -999.00,9,  -999.00,  -999.00,9,   1.1462,2
  49NZ20031209,  I3I4,   482,  1,      6,  12030,2,20040109,2129,-19.9957,  89.4658, 5144,   4751.2,   1.1709,  34.7141,2,  34.7138,2,    193.4,1,    200.5,2,   121.38,2,    32.21,2,     0.00,2,     2.24,2,    0.002,2,    0.001,2,    0.000,4,   2273.8,2,   2377.9,2,   7.6285,6,    25.00,   -999.0,9,   -999.0,  -999.00,9,  -999.00,  -999.00,9,   1.1710,2
  49NZ20031209,  I3I4,   482,  1,      5,  12029,2,20040109,2129,-19.9957,  89.4658, 5144,   5002.1,   1.1981,  34.7139,2,  34.7138,2,    194.8,1,    200.6,2,   121.34,2,    32.24,2,     0.00,2,     2.24,2,   -0.003,2,   -0.001,2,    0.000,4,   2273.9,2,   2378.3,2,   7.6290,2,    25.00,   -999.0,9,   -999.0,  -999.00,9,  -999.00,  -999.00,9,   1.1981,2
  49NZ20031209,  I3I4,   482,  1,      4,  12028,2,20040109,2129,-19.9957,  89.4658, 5144,   5228.5,   1.2255,  34.7134,2,  34.7138,2,    196.8,1,    200.6,2,   121.42,2,    32.24,2,    -0.01,2,     2.24,2,    0.001,2,    0.002,2,    0.000,4,   2274.6,2,   2374.1,2,   7.6291,2,    25.00,   -999.0,9,   -999.0,  -999.00,9,  -999.00,  -999.00,9,   1.2255,2
  49NZ20031209,  I3I4,   482,  1,      3,  12027,9,20040109,2129,-19.9957,  89.4658, 5144,   1001.5,   5.3080,  34.6503,2,-999.0000,9,     97.2,1,   -999.0,9,  -999.00,9,  -999.00,9,  -999.00,9,  -999.00,9, -999.000,9, -999.000,9, -999.000,9,   -999.0,9,   -999.0,9,-999.0000,9,  -999.00,   -999.0,9,   -999.0,  -999.00,9,  -999.00,  -999.00,9,   5.3084,2
  49NZ20031209,  I3I4,   482,  1,      2,  12026,9,20040109,2129,-19.9957,  89.4658, 5144,   1001.4,   5.3096,  34.6502,2,-999.0000,9,     97.2,1,   -999.0,9,  -999.00,9,  -999.00,9,  -999.00,9,  -999.00,9, -999.000,9, -999.000,9, -999.000,9,   -999.0,9,   -999.0,9,-999.0000,9,  -999.00,   -999.0,9,   -999.0,  -999.00,9,  -999.00,  -999.00,9,   5.3097,2
  49NZ20031209,  I3I4,   482,  1,      1,  12025,2,20040109,2129,-19.9957,  89.4658, 5144,   1801.0,   2.8669,  34.7091,2,  34.7097,2,    136.2,1,    142.2,2,   102.67,2,    34.59,2,     0.00,2,     2.47,2,    0.001,2,    0.000,2,    0.000,4,   2289.8,2,   2370.2,2,   7.5730,2,    25.00,   -999.0,9,   -999.0,  -999.00,9,  -999.00,  -999.00,9,   2.8670,2