BOTTLE,20141204PRINUNIVRMK
EXPOCODE,SECT_ID,STNNBR,CASTNO,SAMPNO,BTLNBR,BTLNBR_FLAG_W,DATE,TIME,LATITUDE,LONGITUDE,DEPTH,CTDPRS,CTDTMP,CTDSAL,CTDSAL_FLAG_W,SALNTY,SALNTY_FLAG_W,CTDOXY,CTDOXY_FLAG_W,OXYGEN,OXYGEN_FLAG_W,SILCAT,SILCAT_FLAG_W,NITRAT,NITRAT_FLAG_W,NITRIT,NITRIT_FLAG_W,PHSPHT,PHSPHT_FLAG_W,CFC-11,CFC-11_FLAG_W,CFC-12,CFC-12_FLAG_W,CFC113,CFC113_FLAG_W,TCARBN,TCARBN_FLAG_W,ALKALI,ALKALI_FLAG_W,PH_TOT,PH_TOT_FLAG_W,PH_TMP,DELC14,DELC14_FLAG_W,C14ERR,DELC13,DELC13_FLAG_W,CS-137,CS137ER,CS-137_FLAG_W,SBE35,SBE35_FLAG_W
,,,,,,,,,,,METERS,DBAR,ITS-90,PSS-78,,PSS-78,,UMOL/KG,,UMOL/KG,,UMOL/KG,,UMOL/KG,,UMOL/KG,,UMOL/KG,,PMOL/KG,,PMOL/KG,,PMOL/KG,,UMOL/KG,,UMOL/KG,,,,DEG C,/MILLE,,/MILLE,/MILLE,,DM/.1MG,DM/.1MG,,ITS-90,
  49NZ20031209,  I3I4,   595,  1,     36,  12024,2,20031215,1158,-24.6612,  39.9962, 3543,     10.8,  26.0691,  35.4302,2,  35.4332,3,    200.7,1,    209.9,2,     1.62,2,    -0.01,2,     0.00,2,     0.12,2,    1.843,2,    1.121,2, -999.000,5,   1998.6,2,   2316.6,2,   8.0746,2,    25.00,     54.6,2,      3.8,     1.18,2,  -999.00,  -999.00,9,  26.0402,2
  49NZ20031209,  I3I4,   595,  1,     35,  12023,2,20031215,1158,-24.6612,  39.9962, 3543,     50.0,  21.0448,  35.5298,2,  35.5314,2,    226.4,1,    238.3,2,     1.08,2,    -0.02,2,     0.00,2,     0.10,2,    2.263,2,    1.302,2, -999.000,5,   2013.5,6,   2328.6,2,   8.0488,2,    25.00,     70.2,2,      3.7,     1.25,2,  -999.00,  -999.00,9,  21.0454,2
  49NZ20031209,  I3I4,   595,  1,     34,  12022,2,20031215,1158,-24.6612,  39.9962, 3543,    100.6,  18.6677,  35.5973,2,  35.5969,2,    187.1,1,    196.9,2,     4.46,2,     3.57,2,     0.19,2,     0.39,2,    2.337,2,    1.329,2,    0.265,4,   2068.9,2,   2334.0,2,   7.9537,2,    25.00,     63.0,2,      3.6,     0.84,2,  -999.00,  -999.00,9,  18.6669,2
  49NZ20031209,  I3I4,   595,  1,     33,  12015,2,20031215,1158,-24.6612,  39.9962, 3543,    149.6,  17.3578,  35.5990,2,  35.5989,2,    180.0,1,    189.7,2,     5.51,2,     5.67,2,     0.02,2,     0.52,2,    2.411,2,    1.350,2,    0.197,4,   2089.0,2,   2327.1,2,   7.9302,2,    25.00,     63.9,2,      3.7,     0.81,2,  -999.00,  -999.00,9,  17.3570,2
  49NZ20031209,  I3I4,   595,  1,     32,  12020,2,20031215,1158,-24.6612,  39.9962, 3543,    199.6,  16.2748,  35.4841,2,  35.4820,2,    163.6,1,    170.9,2,     7.79,2,     9.32,2,     0.01,2,     0.75,2,    2.321,2,    1.273,2,    0.098,4,   2111.6,2,   2324.8,2,   7.8702,2,    25.00,     64.9,6,      3.6,     0.63,6,  -999.00,  -999.00,9,  16.2672,2
  49NZ20031209,  I3I4,   595,  1,     31,  12019,2,20031215,1158,-24.6612,  39.9962, 3543,    250.5,  15.4332,  35.4609,2,  35.4520,2,    174.5,1,    181.5,2,     7.15,2,     9.19,2,     0.01,2,     0.75,2,    2.500,6,    1.350,6,    0.109,4,   2111.6,2,   2322.7,2,   7.8714,2,    25.00,     64.7,2,      3.8,     0.80,2,  -999.00,  -999.00,9,  15.4276,2
  49NZ20031209,  I3I4,   595,  1,     30,  12018,2,20031215,1158,-24.6612,  39.9962, 3543,    300.4,  14.7054,  35.4485,2,  35.4495,2,    199.6,1,    208.4,2,     4.28,2,     7.22,2,     0.01,2,     0.62,2,    2.832,2,    1.485,2,    0.074,4,   2102.0,2,   2321.1,2,   7.8924,2,    25.00,     46.9,3,      3.6,     0.91,2,  -999.00,  -999.00,9,  14.7054,2
  49NZ20031209,  I3I4,   595,  1,     29,  12017,2,20031215,1158,-24.6612,  39.9962, 3543,    399.9,  13.2731,  35.2701,2,  35.2656,2,    199.7,1,    208.1,2,     5.60,2,    10.07,2,     0.00,2,     0.80,2,    2.921,2,    1.522,2,    0.104,4,   2115.3,2,   2314.3,2,   7.8563,2,    25.00,     61.1,2,      3.7,     0.88,2,  -999.00,  -999.00,9,  13.2753,2
  49NZ20031209,  I3I4,   595,  1,     28,  12016,2,20031215,1158,-24.6612,  39.9962, 3543,    499.6,  11.9834,  35.0841,2,  35.0875,2,    197.4,1,    203.8,2,     7.21,2,    13.21,2,     0.01,2,     1.00,2,    2.865,2,    1.456,2,    0.099,4,   2125.5,2,   2310.5,2,   7.8205,2,    25.00,     67.8,2,      3.7,     1.01,2,  -999.00,  -999.00,9,  11.9881,2
  49NZ20031209,  I3I4,   595,  1,     27,  12012,2,20031215,1158,-24.6612,  39.9962, 3543,    599.9,  10.9064,  34.9365,2,  34.9365,2,    209.1,1,    218.2,2,     6.11,2,    14.15,2,     0.00,2,     1.06,2,    3.025,2,    1.504,2,    0.083,4,   2124.4,2,   2299.5,2,   7.8119,2,    25.00,     58.4,2,      3.8,     1.14,2,  -999.00,  -999.00,9,  10.9168,2
  49NZ20031209,  I3I4,   595,  1,     26,  12014,2,20031215,1158,-24.6612,  39.9962, 3543,    699.7,   9.6357,  34.7655,2,  34.7642,2,    208.5,1,    216.9,2,     8.21,2,    17.30,2,     0.00,2,     1.25,2,    2.777,2,    1.364,2,    0.118,4,   2131.2,6,   2295.3,2,   7.7803,2,    25.00,     -4.6,3,      3.3,     0.52,4,  -999.00,  -999.00,9,   9.6285,2
  49NZ20031209,  I3I4,   595,  1,     25,  12013,2,20031215,1158,-24.6612,  39.9962, 3543,    799.3,   8.0669,  34.6168,2,  34.6178,2,    190.0,1,    198.0,2,    16.63,2,    22.67,2,     0.00,2,     1.62,2,    1.916,2,    0.949,2,    0.101,4,   2158.1,2,   2292.7,6,   7.7235,2,    25.00,    -26.1,2,      3.6,     0.18,4,  -999.00,  -999.00,9,   8.0686,2
  49NZ20031209,  I3I4,   595,  1,     24,  12048,2,20031215,1158,-24.6612,  39.9962, 3543,    900.4,   6.4472,  34.5176,2,  34.5165,2,    176.7,1,    183.9,2,    29.12,2,    27.61,2,     0.00,2,     1.95,2,    1.206,2,    0.623,2,    0.063,4,   2187.1,2,   2299.0,2,   7.6654,6,    25.00,    -51.9,2,      3.6,     0.93,2,  -999.00,  -999.00,9,   6.4462,2
  49NZ20031209,  I3I4,   595,  1,     23,  12047,2,20031215,1158,-24.6612,  39.9962, 3543,   1000.2,   5.7833,  34.5427,2,  34.5295,4,    159.2,1,    167.8,2,    40.42,2,    30.41,2,     0.00,2,     2.16,2,    0.862,6,    0.450,6,    0.047,4,   2210.9,2,   2309.0,2,   7.6274,2,    25.00,    -80.9,2,      3.2,     0.79,2,  -999.00,  -999.00,9,   5.7716,2
  49NZ20031209,  I3I4,   595,  1,     22,  12046,2,20031215,1158,-24.6612,  39.9962, 3543,   1200.2,   4.6022,  34.5880,2,  34.5888,2,    144.4,1,    149.7,2,    60.33,2,    33.31,2,     0.00,2,     2.37,2,    0.351,2,    0.180,2,    0.022,4,   2244.4,2,   2327.7,2,   7.5935,2,    25.00,   -122.1,2,      3.3,     0.58,2,  -999.00,  -999.00,9,   4.6012,2
  49NZ20031209,  I3I4,   595,  1,     21,  12045,2,20031215,1158,-24.6612,  39.9962, 3543,   1399.9,   3.7433,  34.6328,2,  34.6333,2,    146.1,1,    151.7,2,    71.61,2,    33.66,2,    -0.01,2,     2.40,2,    0.179,2,    0.089,2,    0.013,4,   2257.9,2,   2340.6,2,   7.5852,2,    25.00,   -144.3,2,      3.2,     0.50,2,  -999.00,  -999.00,9,   3.7446,2
  49NZ20031209,  I3I4,   595,  1,     20,  12044,2,20031215,1158,-24.6612,  39.9962, 3543,   1600.1,   3.2325,  34.6901,2,  34.6897,2,    151.4,1,    157.6,2,    78.93,2,    33.02,2,     0.00,2,     2.36,2,    0.076,2,    0.043,2,    0.003,4,   2262.0,2,   2348.3,2,   7.5925,2,    25.00,   -148.7,2,      3.3,     0.46,2,  -999.00,  -999.00,9,   3.2337,2
  49NZ20031209,  I3I4,   595,  1,     19,  12043,2,20031215,1158,-24.6612,  39.9962, 3543,   1800.1,   2.9437,  34.7297,2,  34.7299,2,    157.3,1,    165.5,4,    83.00,2,    32.34,2,    -0.01,2,     2.30,2,    0.024,2,    0.013,2,    0.002,4,   2265.2,2,   2355.1,2,   7.6022,2,    25.00,   -153.0,2,      3.2,     0.47,2,  -999.00,  -999.00,9,   2.9442,2
  49NZ20031209,  I3I4,   595,  1,     18,  12042,2,20031215,1158,-24.6612,  39.9962, 3543,   3251.9,   1.7738,  34.7833,2,  34.7833,2,    207.9,1,    215.2,2,    81.78,2,    28.31,2,     0.00,2,     1.97,2,    0.002,2,    0.000,2,    0.004,4,   2236.9,2,   2349.6,2,   7.6594,2,    25.00,   -137.5,2,      3.3,     0.67,2,  -999.00,  -999.00,9,   1.7739,2
  49NZ20031209,  I3I4,   595,  1,     17,  12041,2,20031215,1158,-24.6612,  39.9962, 3543,   2199.5,   2.5105,  34.7699,2,  34.7694,2,    179.7,1,    187.4,2,    78.10,2,    30.05,2,    -0.01,2,     2.11,2,    0.006,2,    0.005,2,    0.010,4,   2247.5,2,   2354.3,2,   7.6352,2,    25.00,   -145.7,2,      3.2,     0.59,2,  -999.00,  -999.00,9,   2.5107,2
  49NZ20031209,  I3I4,   595,  1,     16,  12040,2,20031215,1158,-24.6612,  39.9962, 3543,   2400.3,   2.3982,  34.7838,2,  34.7843,2,    188.9,1,    197.0,2,    74.70,2,    28.96,2,     0.00,2,     2.04,2,    0.001,2,    0.000,2,    0.017,4,   2241.4,6,   2348.4,2,   7.6462,2,    25.00,   -138.0,2,      3.2,     0.57,2,  -999.00,  -999.00,9,   2.3985,2
  49NZ20031209,  I3I4,   595,  1,     15,  12039,2,20031215,1158,-24.6612,  39.9962, 3543,   2600.6,   2.2898,  34.7945,2,  34.7948,2,    197.0,1,    204.9,2,    72.39,2,    28.23,2,     0.00,2,     1.97,2,    0.000,2,    0.000,2,    0.021,4,   2233.8,2,   2349.0,6,   7.6570,2,    25.00,   -142.6,2,      3.2,     0.59,2,  -999.00,  -999.00,9,   2.2900,2
  49NZ20031209,  I3I4,   595,  1,     14,  12038,2,20031215,1158,-24.6612,  39.9962, 3543,   2800.9,   2.1762,  34.7985,2,  34.7984,2,    202.0,1,    210.2,2,    72.51,2,    27.80,2,    -0.01,2,     1.93,2,   -0.003,2,    0.000,2,    0.003,4,   2232.7,2,   2344.8,2,   7.6616,2,    25.00,   -139.2,2,      3.2,     0.70,2,  -999.00,  -999.00,9,   2.1764,2
  49NZ20031209,  I3I4,   595,  1,     13,  12037,2,20031215,1158,-24.6612,  39.9962, 3543,   2999.8,   2.0399,  34.7969,2,  34.7972,2,    205.6,1,    213.3,2,    74.71,2,    27.80,2,    -0.01,2,     1.95,2,    0.006,2,    0.004,2,    0.004,4,   2231.6,2,   2347.2,2,   7.6653,2,    25.00,   -144.3,6,      2.3,     0.70,6,  -999.00,  -999.00,9,   2.0401,2
  49NZ20031209,  I3I4,   595,  1,     12,  12036,2,20031215,1158,-24.6612,  39.9962, 3543,   3251.2,   1.7766,  34.7835,2,  34.7839,2,    207.9,1,    215.1,2,    81.80,2,    28.29,2,    -0.01,2,     1.97,2,    0.001,2,    0.001,2,    0.004,4,   2237.2,2,   2347.2,2,   7.6637,2,    25.00,   -147.6,2,      3.2,     0.69,2,  -999.00,  -999.00,9,   1.7768,2
  49NZ20031209,  I3I4,   595,  1,     11,  12035,2,20031215,1158,-24.6612,  39.9962, 3543,   3578.2,   1.5364,  34.7670,2,  34.7669,2,    210.0,1,    215.8,2,    89.63,2,    29.01,2,     0.00,2,     2.02,2,    0.009,2,    0.010,2,    0.004,4,   2242.3,2,   2351.9,2,   7.6569,2,    25.00,   -148.6,2,      3.3,     0.62,2,  -999.00,  -999.00,9,   1.5366,2
  49NZ20031209,  I3I4,   595,  1,     10,  12034,9,20031215,1158,-24.6612,  39.9962, 3543,   2901.0,   2.1087,  34.7974,2,-999.0000,9,    203.6,1,   -999.0,9,  -999.00,9,  -999.00,9,  -999.00,9,  -999.00,9, -999.000,9, -999.000,9, -999.000,9,   -999.0,9,   -999.0,9,-999.0000,9,  -999.00,   -999.0,9,   -999.0,  -999.00,9,  -999.00,  -999.00,9,   2.1087,2
  49NZ20031209,  I3I4,   595,  1,      9,  12033,9,20031215,1158,-24.6612,  39.9962, 3543,   3101.1,   1.9623,  34.7935,2,-999.0000,9,    206.5,1,   -999.0,9,  -999.00,9,  -999.00,9,  -999.00,9,  -999.00,9, -999.000,9, -999.000,9, -999.000,9,   -999.0,9,   -999.0,9,-999.0000,9,  -999.00,   -999.0,9,   -999.0,  -999.00,9,  -999.00,  -999.00,9,   1.9626,2
  49NZ20031209,  I3I4,   595,  1,      8,  12032,9,20031215,1158,-24.6612,  39.9962, 3543,   3350.6,   1.6796,  34.7771,2,-999.0000,9,    208.7,1,   -999.0,9,  -999.00,9,  -999.00,9,  -999.00,9,  -999.00,9, -999.000,9, -999.000,9, -999.000,9,   -999.0,9,   -999.0,9,-999.0000,9,  -999.00,   -999.0,9,   -999.0,  -999.00,9,  -999.00,  -999.00,9,   1.6795,2
  49NZ20031209,  I3I4,   595,  1,      7,  12031,9,20031215,1158,-24.6612,  39.9962, 3543,    999.6,   5.8022,  34.5464,2,-999.0000,9,    157.8,1,   -999.0,9,  -999.00,9,  -999.00,9,  -999.00,9,  -999.00,9, -999.000,9, -999.000,9, -999.000,9,   -999.0,9,   -999.0,9,-999.0000,9,  -999.00,   -999.0,9,   -999.0,  -999.00,9,  -999.00,  -999.00,9,   5.8032,2
  49NZ20031209,  I3I4,   595,  1,      6,  12030,9,20031215,1158,-24.6612,  39.9962, 3543,   1000.4,   5.7995,  34.5457,2,-999.0000,9,    157.8,1,   -999.0,9,  -999.00,9,  -999.00,9,  -999.00,9,  -999.00,9, -999.000,9, -999.000,9, -999.000,9,   -999.0,9,   -999.0,9,-999.0000,9,  -999.00,   -999.0,9,   -999.0,  -999.00,9,  -999.00,  -999.00,9,   5.8007,2
  49NZ20031209,  I3I4,   595,  1,      5,  12029,9,20031215,1158,-24.6612,  39.9962, 3543,    999.4,   5.8070,  34.5471,2,-999.0000,9,    157.3,1,   -999.0,9,  -999.00,9,  -999.00,9,  -999.00,9,  -999.00,9, -999.000,9, -999.000,9, -999.000,9,   -999.0,9,   -999.0,9,-999.0000,9,  -999.00,   -999.0,9,   -999.0,  -999.00,9,  -999.00,  -999.00,9,   5.8061,2
  49NZ20031209,  I3I4,   595,  1,      4,  12028,9,20031215,1158,-24.6612,  39.9962, 3543,    999.9,   5.8144,  34.5473,2,-999.0000,9,    157.9,1,   -999.0,9,  -999.00,9,  -999.00,9,  -999.00,9,  -999.00,9, -999.000,9, -999.000,9, -999.000,9,   -999.0,9,   -999.0,9,-999.0000,9,  -999.00,   -999.0,9,   -999.0,  -999.00,9,  -999.00,  -999.00,9,   5.8082,2
  49NZ20031209,  I3I4,   595,  1,      3,  12027,9,20031215,1158,-24.6612,  39.9962, 3543,    999.6,   5.7957,  34.5450,2,-999.0000,9,    158.1,1,   -999.0,9,  -999.00,9,  -999.00,9,  -999.00,9,  -999.00,9, -999.000,9, -999.000,9, -999.000,9,   -999.0,9,   -999.0,9,-999.0000,9,  -999.00,   -999.0,9,   -999.0,  -999.00,9,  -999.00,  -999.00,9,   5.7948,2
  49NZ20031209,  I3I4,   595,  1,      2,  12026,9,20031215,1158,-24.6612,  39.9962, 3543,     10.4,  26.0294,  35.4270,2,-999.0000,9,    201.0,1,   -999.0,9,  -999.00,9,  -999.00,9,  -999.00,9,  -999.00,9, -999.000,9, -999.000,9, -999.000,9,   -999.0,9,   -999.0,9,-999.0000,9,  -999.00,   -999.0,9,   -999.0,  -999.00,9,  -999.00,  -999.00,9,  25.9970,2
  49NZ20031209,  I3I4,   595,  1,      1,  12025,2,20031215,1158,-24.6612,  39.9962, 3543,   2000.3,   2.6759,  34.7480,2,  34.7469,2,    170.1,1,    177.1,2,    80.18,2,    31.08,2,     0.00,2,     2.20,2,    0.018,2,    0.011,2,    0.002,4,   2255.3,2,   2352.5,2,   7.6226,6,    25.00,   -153.4,2,      3.2,     0.55,2,  -999.00,  -999.00,9,   2.6762,2