BOTTLE,20141204PRINUNIVRMK
EXPOCODE,SECT_ID,STNNBR,CASTNO,SAMPNO,BTLNBR,BTLNBR_FLAG_W,DATE,TIME,LATITUDE,LONGITUDE,DEPTH,CTDPRS,CTDTMP,CTDSAL,CTDSAL_FLAG_W,SALNTY,SALNTY_FLAG_W,CTDOXY,CTDOXY_FLAG_W,OXYGEN,OXYGEN_FLAG_W,SILCAT,SILCAT_FLAG_W,NITRAT,NITRAT_FLAG_W,NITRIT,NITRIT_FLAG_W,PHSPHT,PHSPHT_FLAG_W,CFC-11,CFC-11_FLAG_W,CFC-12,CFC-12_FLAG_W,CFC113,CFC113_FLAG_W,TCARBN,TCARBN_FLAG_W,ALKALI,ALKALI_FLAG_W,PH_TOT,PH_TOT_FLAG_W,PH_TMP,DELC14,DELC14_FLAG_W,C14ERR,DELC13,DELC13_FLAG_W,CS-137,CS137ER,CS-137_FLAG_W,SBE35,SBE35_FLAG_W
,,,,,,,,,,,METERS,DBAR,ITS-90,PSS-78,,PSS-78,,UMOL/KG,,UMOL/KG,,UMOL/KG,,UMOL/KG,,UMOL/KG,,UMOL/KG,,PMOL/KG,,PMOL/KG,,PMOL/KG,,UMOL/KG,,UMOL/KG,,,,DEG C,/MILLE,,/MILLE,/MILLE,,DM/.1MG,DM/.1MG,,ITS-90,
  49NZ20031209,  I3I4,   485,  1,     36,  12024,2,20040109,0719,-19.9972,  88.1698, 2324,      9.0,  26.1058,  34.8949,2,  34.8957,2,    197.2,1,    206.1,2,     1.96,2,    -0.01,2,     0.00,2,     0.11,2,    1.753,2,    1.077,2,    0.378,4,   1953.2,2,   2286.6,2,   8.1055,2,    25.00,   -999.0,9,   -999.0,  -999.00,9,  -999.00,  -999.00,9,  26.1062,2
  49NZ20031209,  I3I4,   485,  1,     35,  12023,2,20040109,0719,-19.9972,  88.1698, 2324,     48.7,  25.6119,  34.9902,2,  34.9935,2,    199.1,1,    208.0,2,     1.95,2,    -0.01,2,     0.00,2,     0.11,2,    1.830,2,    1.109,2,    0.439,4,   1962.7,6,   2292.0,2,   8.1034,2,    25.00,   -999.0,9,   -999.0,  -999.00,9,  -999.00,  -999.00,9,  25.6115,2
  49NZ20031209,  I3I4,   485,  1,     34,  12022,2,20040109,0719,-19.9972,  88.1698, 2324,     98.6,  22.1798,  35.3799,2,  35.3796,2,    215.7,1,    225.3,2,     2.09,2,    -0.02,2,     0.00,2,     0.10,2,    2.157,2,    1.266,2, -999.000,5,   1995.0,2,   2314.1,6,   8.0795,2,    25.00,   -999.0,9,   -999.0,  -999.00,9,  -999.00,  -999.00,9,  22.1798,2
  49NZ20031209,  I3I4,   485,  1,     33,  12015,2,20040109,0719,-19.9972,  88.1698, 2324,    152.2,  20.7770,  35.5569,2,  35.5545,2,    205.2,1,    214.4,2,     2.26,2,     0.01,2,     0.01,2,     0.15,2,    2.184,2,    1.298,2,    0.573,4,   2022.6,2,   2328.8,2,   8.0478,6,    25.00,   -999.0,9,   -999.0,  -999.00,9,  -999.00,  -999.00,9,  20.7785,2
  49NZ20031209,  I3I4,   485,  1,     32,  12020,2,20040109,0719,-19.9972,  88.1698, 2324,    200.4,  19.6708,  35.7508,2,  35.7498,2,    198.6,1,    207.0,2,     2.32,2,     1.04,2,     0.17,2,     0.23,2,    2.275,2,    1.339,2,    0.339,4,   2051.6,2,   2343.5,2,   8.0176,2,    25.00,   -999.0,9,   -999.0,  -999.00,9,  -999.00,  -999.00,9,  19.6712,2
  49NZ20031209,  I3I4,   485,  1,     31,  12019,2,20040109,0719,-19.9972,  88.1698, 2324,    252.3,  17.6548,  35.7923,2,  35.7945,2,    195.2,1,    202.9,2,     2.69,2,     2.78,2,     0.01,2,     0.35,2,    2.477,6,    1.437,6,    0.096,4,   2083.2,2,   2346.8,2,   7.9676,2,    25.00,   -999.0,9,   -999.0,  -999.00,9,  -999.00,  -999.00,9,  17.6569,2
  49NZ20031209,  I3I4,   485,  1,     30,  12018,2,20040109,0719,-19.9972,  88.1698, 2324,    299.4,  15.8976,  35.6633,2,  35.6597,2,    209.4,1,    218.0,2,     1.86,2,     3.13,2,     0.01,2,     0.39,2,    2.760,2,    1.579,2,    0.190,4,   2092.0,2,   2341.3,2,   7.9435,2,    25.00,   -999.0,9,   -999.0,  -999.00,9,  -999.00,  -999.00,9,  15.9036,2
  49NZ20031209,  I3I4,   485,  1,     29,  12021,2,20040109,0719,-19.9972,  88.1698, 2324,    399.9,  12.7088,  35.2235,2,  35.2247,2,    222.0,1,    230.2,2,     2.54,2,     8.23,2,     0.00,2,     0.69,2,    3.209,2,    1.749,2,    0.143,4,   2106.4,2,   2310.4,2,   7.8785,2,    25.00,   -999.0,9,   -999.0,  -999.00,9,  -999.00,  -999.00,9,  12.7114,2
  49NZ20031209,  I3I4,   485,  1,     28,  12016,2,20040109,0719,-19.9972,  88.1698, 2324,    498.9,  10.6276,  34.8976,2,  34.9005,2,    228.4,1,    236.6,2,     3.52,2,    12.63,2,     0.00,2,     0.95,2,    3.455,2,    1.840,2,    0.160,4,   2113.0,2,   2296.7,2,   7.8325,2,    25.00,   -999.0,9,   -999.0,  -999.00,9,  -999.00,  -999.00,9,  10.6337,2
  49NZ20031209,  I3I4,   485,  1,     27,  12012,2,20040109,0719,-19.9972,  88.1698, 2324,    599.9,   9.6618,  34.7480,2,  34.7482,2,    226.8,1,    234.8,2,     4.43,2,    15.54,2,     0.00,2,     1.13,2,    3.486,2,    1.803,2,    0.165,4,   2121.8,2,   2289.9,2,   7.8028,2,    25.00,   -999.0,9,   -999.0,  -999.00,9,  -999.00,  -999.00,9,   9.6620,2
  49NZ20031209,  I3I4,   485,  1,     26,  12014,2,20040109,0719,-19.9972,  88.1698, 2324,    699.8,   8.3330,  34.5872,2,  34.5872,2,    211.1,1,    218.0,2,     9.39,2,    20.73,2,     0.00,2,     1.45,2,    2.625,2,    1.327,2,    0.106,4,   2139.0,6,   2286.6,2,   7.7491,2,    25.00,   -999.0,9,   -999.0,  -999.00,9,  -999.00,  -999.00,9,   8.3300,2
  49NZ20031209,  I3I4,   485,  1,     25,  12013,2,20040109,0719,-19.9972,  88.1698, 2324,    801.0,   6.3701,  34.4715,2,  34.4709,2,    177.9,1,    184.2,2,    26.38,2,    28.18,2,     0.00,2,     1.95,2,    1.096,2,    0.556,2,    0.035,4,   2183.6,2,   2294.8,6,   7.6586,2,    25.00,   -999.0,9,   -999.0,  -999.00,9,  -999.00,  -999.00,9,   6.3702,2
  49NZ20031209,  I3I4,   485,  1,     24,  12048,2,20040109,0719,-19.9972,  88.1698, 2324,    900.9,   5.1191,  34.4985,2,  34.4997,2,    144.2,1,    148.3,2,    53.07,2,    33.22,2,     0.00,2,     2.33,2,    0.285,2,    0.150,2,    0.000,4,   2231.5,2,   2318.6,2,   7.5882,6,    25.00,   -999.0,9,   -999.0,  -999.00,9,  -999.00,  -999.00,9,   5.1198,2
  49NZ20031209,  I3I4,   485,  1,     23,  12047,2,20040109,0719,-19.9972,  88.1698, 2324,   1001.5,   4.8547,  34.5843,2,  34.5859,2,    116.5,1,    119.2,2,    73.03,2,    35.30,2,     0.00,2,     2.53,2,    0.048,6,    0.022,6,    0.000,4,   2264.3,2,   2339.8,2,   7.5528,2,    25.00,   -999.0,9,   -999.0,  -999.00,9,  -999.00,  -999.00,9,   4.8559,2
  49NZ20031209,  I3I4,   485,  1,     22,  12046,2,20040109,0719,-19.9972,  88.1698, 2324,   1200.3,   4.1950,  34.6386,2,  34.6390,2,    113.9,1,    116.8,2,    87.02,2,    35.92,2,     0.00,2,     2.58,2,    0.006,2,    0.005,2,    0.000,4,   2283.1,2,   2356.3,2,   7.5462,2,    25.00,   -999.0,9,   -999.0,  -999.00,9,  -999.00,  -999.00,9,   4.1940,2
  49NZ20031209,  I3I4,   485,  1,     21,  12045,2,20040109,0719,-19.9972,  88.1698, 2324,   1401.5,   3.6327,  34.6667,2,  34.6665,2,    123.3,1,    126.5,2,    92.42,2,    35.57,2,     0.00,2,     2.55,2,    0.002,2,    0.002,2,    0.000,4,   2285.9,2,   2359.8,2,   7.5552,2,    25.00,   -999.0,9,   -999.0,  -999.00,9,  -999.00,  -999.00,9,   3.6320,2
  49NZ20031209,  I3I4,   485,  1,     20,  12044,2,20040109,0719,-19.9972,  88.1698, 2324,   2199.6,   2.3791,  34.7273,2,  34.7273,2,    149.0,1,    152.4,2,   111.63,2,    34.41,2,     0.00,2,     2.43,2,    0.000,2,   -0.001,2,    0.000,4,   2289.6,2,   2381.6,2,   7.5846,2,    25.00,   -999.0,9,   -999.0,  -999.00,9,  -999.00,  -999.00,9,   2.3789,2
  49NZ20031209,  I3I4,   485,  1,     19,  12043,2,20040109,0719,-19.9972,  88.1698, 2324,   1800.4,   2.9140,  34.7179,2,  34.7175,2,    134.4,1,    137.7,2,   105.65,2,    35.11,2,     0.00,2,     2.49,2,    0.000,2,    0.001,2,    0.000,4,   2292.8,2,   2372.0,2,   7.5688,2,    25.00,   -999.0,9,   -999.0,  -999.00,9,  -999.00,  -999.00,9,   2.9141,2
  49NZ20031209,  I3I4,   485,  1,     18,  12042,2,20040109,0719,-19.9972,  88.1698, 2324,   2001.1,   2.6126,  34.7255,2,  34.7254,2,    141.0,1,    144.6,2,   110.14,2,    34.81,2,     0.00,2,     2.48,2,   -0.001,2,    0.000,2,    0.000,4,   2295.1,2,   2377.7,2,   7.5762,6,    25.00,   -999.0,9,   -999.0,  -999.00,9,  -999.00,  -999.00,9,   2.6127,2
  49NZ20031209,  I3I4,   485,  1,     17,  12041,2,20040109,0719,-19.9972,  88.1698, 2324,   2199.5,   2.3799,  34.7273,2,  34.7274,2,    149.0,1,    152.5,2,   111.55,2,    34.41,2,     0.00,2,     2.44,2,   -0.003,2,   -0.001,2,    0.000,4,   2293.2,2,   2381.8,2,   7.5860,2,    25.00,   -999.0,9,   -999.0,  -999.00,9,  -999.00,  -999.00,9,   2.3799,2
  49NZ20031209,  I3I4,   485,  1,     16,  12040,2,20040109,0719,-19.9972,  88.1698, 2324,   2347.5,   2.1464,  34.7268,2,  34.7271,2,    157.8,1,    161.2,2,   112.63,2,    33.96,2,     0.00,2,     2.39,2,    0.001,2,    0.000,2,    0.000,4,   2288.3,6,   2379.8,2,   7.5932,2,    25.00,   -999.0,9,   -999.0,  -999.00,9,  -999.00,  -999.00,9,   2.1464,2
  49NZ20031209,  I3I4,   485,  1,     15,  12039,9,20040109,0719,-19.9972,  88.1698, 2324,   2241.2,   2.3581,  34.7274,2,-999.0000,9,    150.0,1,   -999.0,9,  -999.00,9,  -999.00,9,  -999.00,9,  -999.00,9, -999.000,9, -999.000,9, -999.000,9,   -999.0,9,   -999.0,9,-999.0000,9,  -999.00,   -999.0,9,   -999.0,  -999.00,9,  -999.00,  -999.00,9,   2.3578,2
  49NZ20031209,  I3I4,   485,  1,     14,  12038,9,20040109,0719,-19.9972,  88.1698, 2324,   2247.7,   2.3569,  34.7273,2,-999.0000,9,    150.1,1,   -999.0,9,  -999.00,9,  -999.00,9,  -999.00,9,  -999.00,9, -999.000,9, -999.000,9, -999.000,9,   -999.0,9,   -999.0,9,-999.0000,9,  -999.00,   -999.0,9,   -999.0,  -999.00,9,  -999.00,  -999.00,9,   2.3570,2
  49NZ20031209,  I3I4,   485,  1,     13,  12037,9,20040109,0719,-19.9972,  88.1698, 2324,   2252.0,   2.3547,  34.7272,2,-999.0000,9,    150.2,1,   -999.0,9,  -999.00,9,  -999.00,9,  -999.00,9,  -999.00,9, -999.000,9, -999.000,9, -999.000,9,   -999.0,9,   -999.0,9,-999.0000,9,  -999.00,   -999.0,9,   -999.0,  -999.00,9,  -999.00,  -999.00,9,   2.3544,2
  49NZ20031209,  I3I4,   485,  1,     12,  12036,9,20040109,0719,-19.9972,  88.1698, 2324,   2255.5,   2.3518,  34.7272,2,-999.0000,9,    150.3,1,   -999.0,9,  -999.00,9,  -999.00,9,  -999.00,9,  -999.00,9, -999.000,9, -999.000,9, -999.000,9,   -999.0,9,   -999.0,9,-999.0000,9,  -999.00,   -999.0,9,   -999.0,  -999.00,9,  -999.00,  -999.00,9,   2.3518,2
  49NZ20031209,  I3I4,   485,  1,     11,  12035,9,20040109,0719,-19.9972,  88.1698, 2324,   2258.9,   2.3536,  34.7271,2,-999.0000,9,    150.3,1,   -999.0,9,  -999.00,9,  -999.00,9,  -999.00,9,  -999.00,9, -999.000,9, -999.000,9, -999.000,9,   -999.0,9,   -999.0,9,-999.0000,9,  -999.00,   -999.0,9,   -999.0,  -999.00,9,  -999.00,  -999.00,9,   2.3535,2
  49NZ20031209,  I3I4,   485,  1,     10,  12034,9,20040109,0719,-19.9972,  88.1698, 2324,   2250.9,   2.3568,  34.7273,2,-999.0000,9,    150.2,1,   -999.0,9,  -999.00,9,  -999.00,9,  -999.00,9,  -999.00,9, -999.000,9, -999.000,9, -999.000,9,   -999.0,9,   -999.0,9,-999.0000,9,  -999.00,   -999.0,9,   -999.0,  -999.00,9,  -999.00,  -999.00,9,   2.3569,2
  49NZ20031209,  I3I4,   485,  1,      9,  12033,9,20040109,0719,-19.9972,  88.1698, 2324,   2255.7,   2.3553,  34.7272,2,-999.0000,9,    150.3,1,   -999.0,9,  -999.00,9,  -999.00,9,  -999.00,9,  -999.00,9, -999.000,9, -999.000,9, -999.000,9,   -999.0,9,   -999.0,9,-999.0000,9,  -999.00,   -999.0,9,   -999.0,  -999.00,9,  -999.00,  -999.00,9,   2.3553,2
  49NZ20031209,  I3I4,   485,  1,      8,  12032,9,20040109,0719,-19.9972,  88.1698, 2324,   2258.1,   2.3547,  34.7271,2,-999.0000,9,    150.3,1,   -999.0,9,  -999.00,9,  -999.00,9,  -999.00,9,  -999.00,9, -999.000,9, -999.000,9, -999.000,9,   -999.0,9,   -999.0,9,-999.0000,9,  -999.00,   -999.0,9,   -999.0,  -999.00,9,  -999.00,  -999.00,9,   2.3540,2
  49NZ20031209,  I3I4,   485,  1,      7,  12031,9,20040109,0719,-19.9972,  88.1698, 2324,   2259.5,   2.3532,  34.7270,2,-999.0000,9,    150.5,1,   -999.0,9,  -999.00,9,  -999.00,9,  -999.00,9,  -999.00,9, -999.000,9, -999.000,9, -999.000,9,   -999.0,9,   -999.0,9,-999.0000,9,  -999.00,   -999.0,9,   -999.0,  -999.00,9,  -999.00,  -999.00,9,   2.3530,2
  49NZ20031209,  I3I4,   485,  1,      6,  12030,9,20040109,0719,-19.9972,  88.1698, 2324,   2263.3,   2.3441,  34.7269,2,-999.0000,9,    150.8,1,   -999.0,9,  -999.00,9,  -999.00,9,  -999.00,9,  -999.00,9, -999.000,9, -999.000,9, -999.000,9,   -999.0,9,   -999.0,9,-999.0000,9,  -999.00,   -999.0,9,   -999.0,  -999.00,9,  -999.00,  -999.00,9,   2.3441,2
  49NZ20031209,  I3I4,   485,  1,      5,  12029,9,20040109,0719,-19.9972,  88.1698, 2324,   2267.5,   2.3409,  34.7268,2,-999.0000,9,    151.1,1,   -999.0,9,  -999.00,9,  -999.00,9,  -999.00,9,  -999.00,9, -999.000,9, -999.000,9, -999.000,9,   -999.0,9,   -999.0,9,-999.0000,9,  -999.00,   -999.0,9,   -999.0,  -999.00,9,  -999.00,  -999.00,9,   2.3409,2
  49NZ20031209,  I3I4,   485,  1,      4,  12028,9,20040109,0719,-19.9972,  88.1698, 2324,   2271.5,   2.3386,  34.7266,2,-999.0000,9,    151.3,1,   -999.0,9,  -999.00,9,  -999.00,9,  -999.00,9,  -999.00,9, -999.000,9, -999.000,9, -999.000,9,   -999.0,9,   -999.0,9,-999.0000,9,  -999.00,   -999.0,9,   -999.0,  -999.00,9,  -999.00,  -999.00,9,   2.3388,2
  49NZ20031209,  I3I4,   485,  1,      3,  12027,9,20040109,0719,-19.9972,  88.1698, 2324,   2281.5,   2.3340,  34.7263,2,-999.0000,9,    152.3,1,   -999.0,9,  -999.00,9,  -999.00,9,  -999.00,9,  -999.00,9, -999.000,9, -999.000,9, -999.000,9,   -999.0,9,   -999.0,9,-999.0000,9,  -999.00,   -999.0,9,   -999.0,  -999.00,9,  -999.00,  -999.00,9,   2.3347,2
  49NZ20031209,  I3I4,   485,  1,      2,  12026,9,20040109,0719,-19.9972,  88.1698, 2324,      9.0,  26.0754,  34.9012,2,-999.0000,9,    197.3,1,   -999.0,9,  -999.00,9,  -999.00,9,  -999.00,9,  -999.00,9, -999.000,9, -999.000,9, -999.000,9,   -999.0,9,   -999.0,9,-999.0000,9,  -999.00,   -999.0,9,   -999.0,  -999.00,9,  -999.00,  -999.00,9,  26.0816,2
  49NZ20031209,  I3I4,   485,  1,      1,  12025,2,20040109,0719,-19.9972,  88.1698, 2324,   1600.9,   3.3076,  34.7044,2,  34.7038,2,    127.5,1,    130.7,2,    99.36,2,    35.28,2,     0.00,2,     2.53,2,    0.003,2,    0.000,2,    0.000,4,   2285.9,2,   2366.9,2,   7.5604,2,    25.00,   -999.0,9,   -999.0,  -999.00,9,  -999.00,  -999.00,9,   3.3076,2