BOTTLE,20141204PRINUNIVRMK
EXPOCODE,SECT_ID,STNNBR,CASTNO,SAMPNO,BTLNBR,BTLNBR_FLAG_W,DATE,TIME,LATITUDE,LONGITUDE,DEPTH,CTDPRS,CTDTMP,CTDSAL,CTDSAL_FLAG_W,SALNTY,SALNTY_FLAG_W,CTDOXY,CTDOXY_FLAG_W,OXYGEN,OXYGEN_FLAG_W,SILCAT,SILCAT_FLAG_W,NITRAT,NITRAT_FLAG_W,NITRIT,NITRIT_FLAG_W,PHSPHT,PHSPHT_FLAG_W,CFC-11,CFC-11_FLAG_W,CFC-12,CFC-12_FLAG_W,CFC113,CFC113_FLAG_W,TCARBN,TCARBN_FLAG_W,ALKALI,ALKALI_FLAG_W,PH_TOT,PH_TOT_FLAG_W,PH_TMP,DELC14,DELC14_FLAG_W,C14ERR,DELC13,DELC13_FLAG_W,CS-137,CS137ER,CS-137_FLAG_W,SBE35,SBE35_FLAG_W
,,,,,,,,,,,METERS,DBAR,ITS-90,PSS-78,,PSS-78,,UMOL/KG,,UMOL/KG,,UMOL/KG,,UMOL/KG,,UMOL/KG,,UMOL/KG,,PMOL/KG,,PMOL/KG,,PMOL/KG,,UMOL/KG,,UMOL/KG,,,,DEG C,/MILLE,,/MILLE,/MILLE,,DM/.1MG,DM/.1MG,,ITS-90,
  49NZ20031209,  I3I4,   516,  1,     36,  12024,2,20031231,0225,-19.9933,  69.7998, 3598,     10.4,  26.2327,  35.0466,2,  35.0483,2,    197.0,1,    206.0,2,     1.94,2,     0.02,2,     0.00,2,     0.10,2, -999.000,9, -999.000,9, -999.000,9,   -999.0,9,   -999.0,9,-999.0000,9,  -999.00,   -999.0,9,   -999.0,  -999.00,9,  -999.00,  -999.00,9,  26.2319,2
  49NZ20031209,  I3I4,   516,  1,     35,  12023,2,20031231,0225,-19.9933,  69.7998, 3598,     49.4,  25.4627,  34.9781,2,  34.9766,2,    202.1,1,    211.1,2,     1.94,2,    -0.01,2,     0.01,2,     0.12,2, -999.000,9, -999.000,9, -999.000,9,   -999.0,9,   -999.0,9,-999.0000,9,  -999.00,   -999.0,9,   -999.0,  -999.00,9,  -999.00,  -999.00,9,  25.4611,2
  49NZ20031209,  I3I4,   516,  1,     34,  12022,2,20031231,0225,-19.9933,  69.7998, 3598,     98.0,  23.5966,  34.9907,2,  34.9870,2,    209.6,1,    219.1,2,     1.97,2,    -0.01,2,     0.00,2,     0.13,2, -999.000,9, -999.000,9, -999.000,9,   -999.0,9,   -999.0,9,-999.0000,9,  -999.00,   -999.0,9,   -999.0,  -999.00,9,  -999.00,  -999.00,9,  23.5951,2
  49NZ20031209,  I3I4,   516,  1,     33,  12015,2,20031231,0225,-19.9933,  69.7998, 3598,    148.9,  21.9881,  35.2774,2,  35.2855,2,    194.8,1,    203.0,2,     2.49,2,     0.64,2,     0.19,2,     0.21,2, -999.000,9, -999.000,9, -999.000,9,   -999.0,9,   -999.0,9,-999.0000,9,  -999.00,   -999.0,9,   -999.0,  -999.00,9,  -999.00,  -999.00,9,  21.9793,2
  49NZ20031209,  I3I4,   516,  1,     32,  12020,2,20031231,0225,-19.9933,  69.7998, 3598,    199.3,  20.9450,  35.4772,2,  35.4859,2,    181.1,1,    188.3,2,     3.49,2,     2.75,2,     0.06,2,     0.34,2, -999.000,9, -999.000,9, -999.000,9,   -999.0,9,   -999.0,9,-999.0000,9,  -999.00,   -999.0,9,   -999.0,  -999.00,9,  -999.00,  -999.00,9,  20.9431,2
  49NZ20031209,  I3I4,   516,  1,     31,  12019,2,20031231,0225,-19.9933,  69.7998, 3598,    248.8,  18.7660,  35.6994,2,  35.6986,2,    175.4,1,    182.3,2,     4.58,2,     4.61,2,     0.01,2,     0.45,2, -999.000,9, -999.000,9, -999.000,9,   -999.0,9,   -999.0,9,-999.0000,9,  -999.00,   -999.0,9,   -999.0,  -999.00,9,  -999.00,  -999.00,9,  18.7644,2
  49NZ20031209,  I3I4,   516,  1,     30,  12018,2,20031231,0225,-19.9933,  69.7998, 3598,    300.6,  17.2767,  35.7359,2,  35.7369,2,    188.4,1,    195.9,2,     3.68,2,     4.11,2,     0.01,2,     0.44,2, -999.000,9, -999.000,9, -999.000,9,   -999.0,9,   -999.0,9,-999.0000,9,  -999.00,   -999.0,9,   -999.0,  -999.00,9,  -999.00,  -999.00,9,  17.2767,2
  49NZ20031209,  I3I4,   516,  1,     29,  12021,2,20031231,0225,-19.9933,  69.7998, 3598,    400.0,  13.6847,  35.3711,2,  35.3735,2,    211.5,1,    219.6,2,     2.58,2,     7.03,2,     0.01,2,     0.62,2, -999.000,9, -999.000,9, -999.000,9,   -999.0,9,   -999.0,9,-999.0000,9,  -999.00,   -999.0,9,   -999.0,  -999.00,9,  -999.00,  -999.00,9,  13.6875,2
  49NZ20031209,  I3I4,   516,  1,     28,  12016,2,20031231,0225,-19.9933,  69.7998, 3598,    500.7,  11.6889,  35.0679,2,  35.0734,2,    221.9,1,    230.4,2,     3.23,2,    10.57,2,     0.01,2,     0.83,2, -999.000,9, -999.000,9, -999.000,9,   -999.0,9,   -999.0,9,-999.0000,9,  -999.00,   -999.0,9,   -999.0,  -999.00,9,  -999.00,  -999.00,9,  11.6874,2
  49NZ20031209,  I3I4,   516,  1,     27,  12012,2,20031231,0225,-19.9933,  69.7998, 3598,    601.5,  10.1426,  34.8276,2,  34.8280,2,    223.4,1,    232.0,2,     4.34,2,    14.35,2,     0.00,2,     1.05,2, -999.000,9, -999.000,9, -999.000,9,   -999.0,9,   -999.0,9,-999.0000,9,  -999.00,   -999.0,9,   -999.0,  -999.00,9,  -999.00,  -999.00,9,  10.1453,2
  49NZ20031209,  I3I4,   516,  1,     26,  12014,2,20031231,0225,-19.9933,  69.7998, 3598,    700.6,   8.9586,  34.6638,2,  34.6638,2,    214.8,1,    223.1,2,     7.23,2,    18.43,2,     0.01,2,     1.30,2, -999.000,9, -999.000,9, -999.000,9,   -999.0,9,   -999.0,9,-999.0000,9,  -999.00,   -999.0,9,   -999.0,  -999.00,9,  -999.00,  -999.00,9,   8.9588,2
  49NZ20031209,  I3I4,   516,  1,     25,  12013,2,20031231,0225,-19.9933,  69.7998, 3598,    801.4,   7.2443,  34.5230,2,  34.5224,2,    183.8,1,    190.7,2,    19.47,2,    25.52,2,     0.00,2,     1.76,2, -999.000,9, -999.000,9, -999.000,9,   -999.0,9,   -999.0,9,-999.0000,9,  -999.00,   -999.0,9,   -999.0,  -999.00,9,  -999.00,  -999.00,9,   7.2461,2
  49NZ20031209,  I3I4,   516,  1,     24,  12048,2,20031231,0225,-19.9933,  69.7998, 3598,    901.0,   5.9176,  34.5089,2,  34.5085,2,    150.8,1,    156.5,2,    41.23,2,    31.07,2,     0.00,2,     2.18,2, -999.000,9, -999.000,9, -999.000,9,   -999.0,9,   -999.0,9,-999.0000,9,  -999.00,   -999.0,9,   -999.0,  -999.00,9,  -999.00,  -999.00,9,   5.9182,2
  49NZ20031209,  I3I4,   516,  1,     23,  12047,2,20031231,0225,-19.9933,  69.7998, 3598,   1001.8,   5.2332,  34.5628,2,  34.5646,2,    124.6,1,    128.0,2,    62.57,2,    34.11,2,     0.00,2,     2.43,2, -999.000,9, -999.000,9, -999.000,9,   -999.0,9,   -999.0,9,-999.0000,9,  -999.00,   -999.0,9,   -999.0,  -999.00,9,  -999.00,  -999.00,9,   5.2335,2
  49NZ20031209,  I3I4,   516,  1,     22,  12046,2,20031231,0225,-19.9933,  69.7998, 3598,   1201.5,   4.5433,  34.6502,2,  34.6502,2,    111.2,1,    114.2,2,    82.88,2,    35.53,2,     0.00,2,     2.56,2, -999.000,9, -999.000,9, -999.000,9,   -999.0,9,   -999.0,9,-999.0000,9,  -999.00,   -999.0,9,   -999.0,  -999.00,9,  -999.00,  -999.00,9,   4.5439,2
  49NZ20031209,  I3I4,   516,  1,     21,  12045,2,20031231,0225,-19.9933,  69.7998, 3598,   1400.6,   4.0431,  34.6805,2,  34.6802,2,    116.1,1,    119.4,2,    90.26,2,    35.52,2,     0.00,2,     2.56,2, -999.000,9, -999.000,9, -999.000,9,   -999.0,9,   -999.0,9,-999.0000,9,  -999.00,   -999.0,9,   -999.0,  -999.00,9,  -999.00,  -999.00,9,   4.0432,2
  49NZ20031209,  I3I4,   516,  1,     20,  12044,2,20031231,0225,-19.9933,  69.7998, 3598,   1601.5,   3.4920,  34.6952,2,  34.6949,2,    125.9,1,    129.6,2,    95.52,2,    35.17,2,     0.00,2,     2.52,2, -999.000,9, -999.000,9, -999.000,9,   -999.0,9,   -999.0,9,-999.0000,9,  -999.00,   -999.0,9,   -999.0,  -999.00,9,  -999.00,  -999.00,9,   3.4921,2
  49NZ20031209,  I3I4,   516,  1,     19,  12043,2,20031231,0225,-19.9933,  69.7998, 3598,   1800.7,   3.0983,  34.7119,2,  34.7112,2,    133.7,1,    138.0,2,   100.63,2,    34.88,2,     0.00,2,     2.48,2, -999.000,9, -999.000,9, -999.000,9,   -999.0,9,   -999.0,9,-999.0000,9,  -999.00,   -999.0,9,   -999.0,  -999.00,9,  -999.00,  -999.00,9,   3.0973,2
  49NZ20031209,  I3I4,   516,  1,     18,  12042,3,20031231,0225,-19.9933,  69.7998, 3598,   2001.2,   2.5366,  34.7092,2,  34.7092,2,    153.5,1,    159.0,2,    99.33,2,    33.59,2,     0.00,2,     2.37,2, -999.000,9, -999.000,9, -999.000,9,   -999.0,9,   -999.0,9,-999.0000,9,  -999.00,   -999.0,9,   -999.0,  -999.00,9,  -999.00,  -999.00,9,   2.5362,2
  49NZ20031209,  I3I4,   516,  1,     17,  12041,2,20031231,0225,-19.9933,  69.7998, 3598,   2202.0,   2.1033,  34.7207,2,  34.7201,2,    166.3,1,    172.5,2,   102.77,2,    32.87,2,     0.00,2,     2.29,2, -999.000,9, -999.000,9, -999.000,9,   -999.0,9,   -999.0,9,-999.0000,9,  -999.00,   -999.0,9,   -999.0,  -999.00,9,  -999.00,  -999.00,9,   2.1037,2
  49NZ20031209,  I3I4,   516,  1,     16,  12040,2,20031231,0225,-19.9933,  69.7998, 3598,   2400.3,   1.8786,  34.7253,2,  34.7252,2,    172.9,1,    179.4,2,   105.78,2,    32.55,2,     0.00,2,     2.26,2, -999.000,9, -999.000,9, -999.000,9,   -999.0,9,   -999.0,9,-999.0000,9,  -999.00,   -999.0,9,   -999.0,  -999.00,9,  -999.00,  -999.00,9,   1.8786,2
  49NZ20031209,  I3I4,   516,  1,     15,  12039,2,20031231,0225,-19.9933,  69.7998, 3598,   2600.1,   1.7133,  34.7275,2,  34.7275,2,    177.5,1,    184.1,2,   108.82,2,    32.38,2,     0.00,2,     2.25,2, -999.000,9, -999.000,9, -999.000,9,   -999.0,9,   -999.0,9,-999.0000,9,  -999.00,   -999.0,9,   -999.0,  -999.00,9,  -999.00,  -999.00,9,   1.7132,2
  49NZ20031209,  I3I4,   516,  1,     14,  12038,2,20031231,0225,-19.9933,  69.7998, 3598,   2801.0,   1.6279,  34.7273,2,  34.7282,2,    179.0,1,    185.4,2,   111.86,2,    32.46,2,     0.00,2,     2.25,2, -999.000,9, -999.000,9, -999.000,9,   -999.0,9,   -999.0,9,-999.0000,9,  -999.00,   -999.0,9,   -999.0,  -999.00,9,  -999.00,  -999.00,9,   1.6280,2
  49NZ20031209,  I3I4,   516,  1,     13,  12037,2,20031231,0225,-19.9933,  69.7998, 3598,   3001.1,   1.5842,  34.7267,2,  34.7273,2,    179.5,1,    185.8,2,   114.22,2,    32.60,2,     0.00,2,     2.25,2, -999.000,9, -999.000,9, -999.000,9,   -999.0,9,   -999.0,9,-999.0000,9,  -999.00,   -999.0,9,   -999.0,  -999.00,9,  -999.00,  -999.00,9,   1.5842,2
  49NZ20031209,  I3I4,   516,  1,     12,  12036,2,20031231,0225,-19.9933,  69.7998, 3598,   3250.7,   1.5826,  34.7265,2,  34.7264,2,    180.2,1,    185.8,2,   114.99,2,    32.52,2,     0.00,2,     2.27,2, -999.000,9, -999.000,9, -999.000,9,   -999.0,9,   -999.0,9,-999.0000,9,  -999.00,   -999.0,9,   -999.0,  -999.00,9,  -999.00,  -999.00,9,   1.5827,2
  49NZ20031209,  I3I4,   516,  1,     11,  12035,2,20031231,0225,-19.9933,  69.7998, 3598,   3498.5,   1.5706,  34.7258,2,  34.7258,2,    180.8,1,    185.5,2,   116.78,2,    32.60,2,     0.00,2,     2.28,2, -999.000,9, -999.000,9, -999.000,9,   -999.0,9,   -999.0,9,-999.0000,9,  -999.00,   -999.0,9,   -999.0,  -999.00,9,  -999.00,  -999.00,9,   1.5707,2
  49NZ20031209,  I3I4,   516,  1,     10,  12034,2,20031231,0225,-19.9933,  69.7998, 3598,   3641.1,   1.5565,  34.7255,2,  34.7254,2,    181.5,1,    185.4,2,   117.85,2,    32.62,2,     0.00,2,     2.27,2, -999.000,9, -999.000,9, -999.000,9,   -999.0,9,   -999.0,9,-999.0000,9,  -999.00,   -999.0,9,   -999.0,  -999.00,9,  -999.00,  -999.00,9,   1.5566,2
  49NZ20031209,  I3I4,   516,  1,      9,  12033,9,20031231,0225,-19.9933,  69.7998, 3598,   2900.0,   1.5978,  34.7271,2,-999.0000,9,    179.2,1,   -999.0,9,  -999.00,9,  -999.00,9,  -999.00,9,  -999.00,9, -999.000,9, -999.000,9, -999.000,9,   -999.0,9,   -999.0,9,-999.0000,9,  -999.00,   -999.0,9,   -999.0,  -999.00,9,  -999.00,  -999.00,9,   1.5978,2
  49NZ20031209,  I3I4,   516,  1,      8,  12032,9,20031231,0225,-19.9933,  69.7998, 3598,   2700.0,   1.6630,  34.7277,2,-999.0000,9,    178.4,1,   -999.0,9,  -999.00,9,  -999.00,9,  -999.00,9,  -999.00,9, -999.000,9, -999.000,9, -999.000,9,   -999.0,9,   -999.0,9,-999.0000,9,  -999.00,   -999.0,9,   -999.0,  -999.00,9,  -999.00,  -999.00,9,   1.6631,2
  49NZ20031209,  I3I4,   516,  1,      7,  12031,9,20031231,0225,-19.9933,  69.7998, 3598,   2500.0,   1.7756,  34.7269,2,-999.0000,9,    175.6,1,   -999.0,9,  -999.00,9,  -999.00,9,  -999.00,9,  -999.00,9, -999.000,9, -999.000,9, -999.000,9,   -999.0,9,   -999.0,9,-999.0000,9,  -999.00,   -999.0,9,   -999.0,  -999.00,9,  -999.00,  -999.00,9,   1.7756,2
  49NZ20031209,  I3I4,   516,  1,      6,  12030,9,20031231,0225,-19.9933,  69.7998, 3598,   2301.4,   1.9851,  34.7234,2,-999.0000,9,    169.8,1,   -999.0,9,  -999.00,9,  -999.00,9,  -999.00,9,  -999.00,9, -999.000,9, -999.000,9, -999.000,9,   -999.0,9,   -999.0,9,-999.0000,9,  -999.00,   -999.0,9,   -999.0,  -999.00,9,  -999.00,  -999.00,9,   1.9852,2
  49NZ20031209,  I3I4,   516,  1,      5,  12029,9,20031231,0225,-19.9933,  69.7998, 3598,   2100.5,   2.3098,  34.7146,2,-999.0000,9,    160.5,1,   -999.0,9,  -999.00,9,  -999.00,9,  -999.00,9,  -999.00,9, -999.000,9, -999.000,9, -999.000,9,   -999.0,9,   -999.0,9,-999.0000,9,  -999.00,   -999.0,9,   -999.0,  -999.00,9,  -999.00,  -999.00,9,   2.3100,2
  49NZ20031209,  I3I4,   516,  1,      4,  12028,9,20031231,0225,-19.9933,  69.7998, 3598,   1001.8,   5.2328,  34.5630,2,-999.0000,9,    124.7,1,   -999.0,9,  -999.00,9,  -999.00,9,  -999.00,9,  -999.00,9, -999.000,9, -999.000,9, -999.000,9,   -999.0,9,   -999.0,9,-999.0000,9,  -999.00,   -999.0,9,   -999.0,  -999.00,9,  -999.00,  -999.00,9,   5.2330,2
  49NZ20031209,  I3I4,   516,  1,      3,  12027,2,20031231,0225,-19.9933,  69.7998, 3598,      4.7,  26.2346,  35.0475,2,-999.0000,9,    197.1,1,   -999.0,9,  -999.00,9,  -999.00,9,  -999.00,9,  -999.00,9, -999.000,9, -999.000,9, -999.000,9,   -999.0,9,   -999.0,9,-999.0000,9,  -999.00,   -999.0,9,   -999.0,  -999.00,9,  -999.00,  -999.00,9,  26.2332,2
  49NZ20031209,  I3I4,   516,  1,      2,  12026,2,20031231,0225,-19.9933,  69.7998, 3598,      4.3,  26.2325,  35.0474,2,-999.0000,9,    197.1,1,   -999.0,9,  -999.00,9,  -999.00,9,  -999.00,9,  -999.00,9, -999.000,9, -999.000,9, -999.000,9,   -999.0,9,   -999.0,9,-999.0000,9,  -999.00,   -999.0,9,   -999.0,  -999.00,9,  -999.00,  -999.00,9,  26.2329,2
  49NZ20031209,  I3I4,   516,  1,      1,  12025,2,20031231,0225,-19.9933,  69.7998, 3598,    130.1,  22.5289,  35.1534,2,-999.0000,9,    201.4,1,   -999.0,9,  -999.00,9,  -999.00,9,  -999.00,9,  -999.00,9, -999.000,9, -999.000,9, -999.000,9,   -999.0,9,   -999.0,9,-999.0000,9,  -999.00,   -999.0,9,   -999.0,  -999.00,9,  -999.00,  -999.00,9,  22.5296,2