BOTTLE,20141204PRINUNIVRMK
EXPOCODE,SECT_ID,STNNBR,CASTNO,SAMPNO,BTLNBR,BTLNBR_FLAG_W,DATE,TIME,LATITUDE,LONGITUDE,DEPTH,CTDPRS,CTDTMP,CTDSAL,CTDSAL_FLAG_W,SALNTY,SALNTY_FLAG_W,CTDOXY,CTDOXY_FLAG_W,OXYGEN,OXYGEN_FLAG_W,SILCAT,SILCAT_FLAG_W,NITRAT,NITRAT_FLAG_W,NITRIT,NITRIT_FLAG_W,PHSPHT,PHSPHT_FLAG_W,CFC-11,CFC-11_FLAG_W,CFC-12,CFC-12_FLAG_W,CFC113,CFC113_FLAG_W,TCARBN,TCARBN_FLAG_W,ALKALI,ALKALI_FLAG_W,PH_TOT,PH_TOT_FLAG_W,PH_TMP,DELC14,DELC14_FLAG_W,C14ERR,DELC13,DELC13_FLAG_W,CS-137,CS137ER,CS-137_FLAG_W,SBE35,SBE35_FLAG_W
,,,,,,,,,,,METERS,DBAR,ITS-90,PSS-78,,PSS-78,,UMOL/KG,,UMOL/KG,,UMOL/KG,,UMOL/KG,,UMOL/KG,,UMOL/KG,,PMOL/KG,,PMOL/KG,,PMOL/KG,,UMOL/KG,,UMOL/KG,,,,DEG C,/MILLE,,/MILLE,/MILLE,,DM/.1MG,DM/.1MG,,ITS-90,
  49NZ20031209,  I3I4,   510,  1,     36,  12024,2,20040102,0625,-19.9907,  72.7107, 4214,     10.1,  26.3006,  35.0283,2,  35.0283,2,    197.5,1,    206.2,2,     1.93,2,     0.02,2,     0.00,2,     0.11,2, -999.000,9, -999.000,9, -999.000,9,   -999.0,9,   -999.0,9,-999.0000,9,  -999.00,   -999.0,9,   -999.0,  -999.00,9,  -999.00,  -999.00,9,  26.3023,2
  49NZ20031209,  I3I4,   510,  1,     35,  12023,2,20040102,0625,-19.9907,  72.7107, 4214,     49.1,  25.3832,  34.9862,2,  34.9880,2,    203.1,1,    212.0,2,     1.99,2,     0.00,2,    -0.01,2,     0.10,2, -999.000,9, -999.000,9, -999.000,9,   -999.0,9,   -999.0,9,-999.0000,9,  -999.00,   -999.0,9,   -999.0,  -999.00,9,  -999.00,  -999.00,9,  25.3844,2
  49NZ20031209,  I3I4,   510,  1,     34,  12022,2,20040102,0625,-19.9907,  72.7107, 4214,    100.1,  22.7535,  35.1659,2,  35.1658,2,    209.8,1,    218.5,2,     2.16,2,     0.00,2,    -0.01,2,     0.13,2, -999.000,9, -999.000,9, -999.000,9,   -999.0,9,   -999.0,9,-999.0000,9,  -999.00,   -999.0,9,   -999.0,  -999.00,9,  -999.00,  -999.00,9,  22.7526,2
  49NZ20031209,  I3I4,   510,  1,     33,  12015,2,20040102,0625,-19.9907,  72.7107, 4214,    149.7,  21.5757,  35.4247,2,  35.4303,2,    196.1,1,    204.8,2,     2.48,2,     0.56,2,     0.16,2,     0.20,2, -999.000,9, -999.000,9, -999.000,9,   -999.0,9,   -999.0,9,-999.0000,9,  -999.00,   -999.0,9,   -999.0,  -999.00,9,  -999.00,  -999.00,9,  21.5768,2
  49NZ20031209,  I3I4,   510,  1,     32,  12020,2,20040102,0625,-19.9907,  72.7107, 4214,    200.2,  20.1918,  35.6191,2,  35.6247,2,    182.3,1,    189.3,2,     3.49,2,     2.85,2,     0.02,2,     0.34,2, -999.000,9, -999.000,9, -999.000,9,   -999.0,9,   -999.0,9,-999.0000,9,  -999.00,   -999.0,9,   -999.0,  -999.00,9,  -999.00,  -999.00,9,  20.1918,2
  49NZ20031209,  I3I4,   510,  1,     31,  12019,2,20040102,0625,-19.9907,  72.7107, 4214,    250.3,  18.2172,  35.7431,2,  35.7407,2,    180.7,1,    187.9,2,     4.27,2,     4.30,2,     0.01,2,     0.43,2, -999.000,9, -999.000,9, -999.000,9,   -999.0,9,   -999.0,9,-999.0000,9,  -999.00,   -999.0,9,   -999.0,  -999.00,9,  -999.00,  -999.00,9,  18.2164,2
  49NZ20031209,  I3I4,   510,  1,     30,  12018,2,20040102,0625,-19.9907,  72.7107, 4214,    300.7,  16.8882,  35.7464,2,  35.7434,2,    199.0,1,    207.1,2,     2.51,2,     3.13,2,     0.01,2,     0.37,2, -999.000,9, -999.000,9, -999.000,9,   -999.0,9,   -999.0,9,-999.0000,9,  -999.00,   -999.0,9,   -999.0,  -999.00,9,  -999.00,  -999.00,9,  16.8879,2
  49NZ20031209,  I3I4,   510,  1,     29,  12021,2,20040102,0625,-19.9907,  72.7107, 4214,    399.6,  13.5842,  35.3527,2,  35.3498,2,    215.4,1,    223.6,2,     2.38,2,     6.99,2,     0.00,2,     0.61,2, -999.000,9, -999.000,9, -999.000,9,   -999.0,9,   -999.0,9,-999.0000,9,  -999.00,   -999.0,9,   -999.0,  -999.00,9,  -999.00,  -999.00,9,  13.5847,2
  49NZ20031209,  I3I4,   510,  1,     28,  12016,2,20040102,0625,-19.9907,  72.7107, 4214,    499.1,  11.5702,  35.0475,2,  35.0418,2,    224.1,1,    232.5,2,     3.23,2,    10.86,2,     0.00,2,     0.83,2, -999.000,9, -999.000,9, -999.000,9,   -999.0,9,   -999.0,9,-999.0000,9,  -999.00,   -999.0,9,   -999.0,  -999.00,9,  -999.00,  -999.00,9,  11.5708,2
  49NZ20031209,  I3I4,   510,  1,     27,  12012,2,20040102,0625,-19.9907,  72.7107, 4214,    599.8,  10.2158,  34.8349,2,  34.8333,2,    225.8,1,    234.3,2,     3.95,2,    14.07,2,    -0.01,2,     1.04,2, -999.000,9, -999.000,9, -999.000,9,   -999.0,9,   -999.0,9,-999.0000,9,  -999.00,   -999.0,9,   -999.0,  -999.00,9,  -999.00,  -999.00,9,  10.2156,2
  49NZ20031209,  I3I4,   510,  1,     26,  12014,2,20040102,0625,-19.9907,  72.7107, 4214,    701.2,   8.8643,  34.6480,2,  34.6495,2,    216.5,1,    225.1,2,     6.90,2,    18.59,2,    -0.01,2,     1.31,2, -999.000,9, -999.000,9, -999.000,9,   -999.0,9,   -999.0,9,-999.0000,9,  -999.00,   -999.0,9,   -999.0,  -999.00,9,  -999.00,  -999.00,9,   8.8633,2
  49NZ20031209,  I3I4,   510,  1,     25,  12013,2,20040102,0625,-19.9907,  72.7107, 4214,    799.7,   7.1341,  34.5191,2,  34.5188,2,    182.9,1,    189.8,2,    20.50,2,    25.87,2,    -0.01,2,     1.80,2, -999.000,9, -999.000,9, -999.000,9,   -999.0,9,   -999.0,9,-999.0000,9,  -999.00,   -999.0,9,   -999.0,  -999.00,9,  -999.00,  -999.00,9,   7.1350,2
  49NZ20031209,  I3I4,   510,  1,     24,  12048,2,20040102,0625,-19.9907,  72.7107, 4214,    899.8,   5.8213,  34.4946,2,  34.4947,2,    155.8,1,    161.5,2,    39.91,2,    30.91,2,     0.00,2,     2.16,2, -999.000,9, -999.000,9, -999.000,9,   -999.0,9,   -999.0,9,-999.0000,9,  -999.00,   -999.0,9,   -999.0,  -999.00,9,  -999.00,  -999.00,9,   5.8168,2
  49NZ20031209,  I3I4,   510,  1,     23,  12047,2,20040102,0625,-19.9907,  72.7107, 4214,   1001.8,   5.0827,  34.5674,2,  34.5665,2,    124.4,1,    128.6,2,    64.54,2,    34.33,2,     0.00,2,     2.45,2, -999.000,9, -999.000,9, -999.000,9,   -999.0,9,   -999.0,9,-999.0000,9,  -999.00,   -999.0,9,   -999.0,  -999.00,9,  -999.00,  -999.00,9,   5.0830,2
  49NZ20031209,  I3I4,   510,  1,     22,  12046,2,20040102,0625,-19.9907,  72.7107, 4214,   1200.0,   4.5715,  34.6585,2,  34.6587,2,    108.2,1,    111.7,2,    84.72,2,    35.74,2,     0.00,2,     2.58,2, -999.000,9, -999.000,9, -999.000,9,   -999.0,9,   -999.0,9,-999.0000,9,  -999.00,   -999.0,9,   -999.0,  -999.00,9,  -999.00,  -999.00,9,   4.5719,2
  49NZ20031209,  I3I4,   510,  1,     21,  12045,2,20040102,0625,-19.9907,  72.7107, 4214,   1400.2,   4.0564,  34.6930,2,  34.6925,2,    112.3,1,    115.6,2,    93.18,2,    35.80,2,    -0.01,2,     2.58,2, -999.000,9, -999.000,9, -999.000,9,   -999.0,9,   -999.0,9,-999.0000,9,  -999.00,   -999.0,9,   -999.0,  -999.00,9,  -999.00,  -999.00,9,   4.0568,2
  49NZ20031209,  I3I4,   510,  1,     20,  12044,2,20040102,0625,-19.9907,  72.7107, 4214,   1600.4,   3.6147,  34.7089,2,  34.7089,2,    120.2,1,    123.9,2,    98.24,2,    35.51,2,     0.00,2,     2.55,2, -999.000,9, -999.000,9, -999.000,9,   -999.0,9,   -999.0,9,-999.0000,9,  -999.00,   -999.0,9,   -999.0,  -999.00,9,  -999.00,  -999.00,9,   3.6151,2
  49NZ20031209,  I3I4,   510,  1,     19,  12043,2,20040102,0625,-19.9907,  72.7107, 4214,   1800.3,   2.9855,  34.7142,2,  34.7140,2,    135.7,1,    140.2,2,   102.23,2,    34.79,2,    -0.01,2,     2.48,2, -999.000,9, -999.000,9, -999.000,9,   -999.0,9,   -999.0,9,-999.0000,9,  -999.00,   -999.0,9,   -999.0,  -999.00,9,  -999.00,  -999.00,9,   2.9854,2
  49NZ20031209,  I3I4,   510,  1,     18,  12042,2,20040102,0625,-19.9907,  72.7107, 4214,   2000.6,   2.5114,  34.7102,2,  34.7101,2,    153.3,1,    159.1,2,   100.60,2,    33.74,2,    -0.01,2,     2.37,2, -999.000,9, -999.000,9, -999.000,9,   -999.0,9,   -999.0,9,-999.0000,9,  -999.00,   -999.0,9,   -999.0,  -999.00,9,  -999.00,  -999.00,9,   2.5114,2
  49NZ20031209,  I3I4,   510,  1,     17,  12041,2,20040102,0625,-19.9907,  72.7107, 4214,   2200.5,   2.1296,  34.7187,2,  34.7186,2,    164.4,1,    171.2,2,   103.47,2,    33.05,2,     0.00,2,     2.32,2, -999.000,9, -999.000,9, -999.000,9,   -999.0,9,   -999.0,9,-999.0000,9,  -999.00,   -999.0,9,   -999.0,  -999.00,9,  -999.00,  -999.00,9,   2.1288,2
  49NZ20031209,  I3I4,   510,  1,     16,  12040,2,20040102,0625,-19.9907,  72.7107, 4214,   2400.1,   1.8568,  34.7258,2,  34.7258,2,    171.1,1,    178.4,2,   108.10,2,    32.69,2,    -0.01,2,     2.29,2, -999.000,9, -999.000,9, -999.000,9,   -999.0,9,   -999.0,9,-999.0000,9,  -999.00,   -999.0,9,   -999.0,  -999.00,9,  -999.00,  -999.00,9,   1.8571,2
  49NZ20031209,  I3I4,   510,  1,     15,  12039,2,20040102,0625,-19.9907,  72.7107, 4214,   2600.4,   1.7173,  34.7277,2,  34.7281,2,    175.8,1,    183.5,2,   109.54,2,    32.48,2,    -0.01,2,     2.26,2, -999.000,9, -999.000,9, -999.000,9,   -999.0,9,   -999.0,9,-999.0000,9,  -999.00,   -999.0,9,   -999.0,  -999.00,9,  -999.00,  -999.00,9,   1.7176,2
  49NZ20031209,  I3I4,   510,  1,     14,  12038,2,20040102,0625,-19.9907,  72.7107, 4214,   2801.6,   1.5639,  34.7283,2,  34.7283,2,    179.6,1,    187.2,2,   112.61,2,    32.47,2,    -0.01,2,     2.25,2, -999.000,9, -999.000,9, -999.000,9,   -999.0,9,   -999.0,9,-999.0000,9,  -999.00,   -999.0,9,   -999.0,  -999.00,9,  -999.00,  -999.00,9,   1.5640,2
  49NZ20031209,  I3I4,   510,  1,     13,  12037,2,20040102,0625,-19.9907,  72.7107, 4214,   3000.2,   1.4771,  34.7267,2,  34.7267,2,    179.9,1,    187.4,2,   116.97,2,    32.56,2,    -0.01,2,     2.26,2, -999.000,9, -999.000,9, -999.000,9,   -999.0,9,   -999.0,9,-999.0000,9,  -999.00,   -999.0,9,   -999.0,  -999.00,9,  -999.00,  -999.00,9,   1.4772,2
  49NZ20031209,  I3I4,   510,  1,     12,  12036,2,20040102,0625,-19.9907,  72.7107, 4214,   3251.4,   1.4390,  34.7242,2,  34.7246,2,    178.5,1,    185.4,2,   121.08,2,    32.90,2,     0.00,2,     2.28,2, -999.000,9, -999.000,9, -999.000,9,   -999.0,9,   -999.0,9,-999.0000,9,  -999.00,   -999.0,9,   -999.0,  -999.00,9,  -999.00,  -999.00,9,   1.4390,2
  49NZ20031209,  I3I4,   510,  1,     11,  12035,2,20040102,0625,-19.9907,  72.7107, 4214,   3501.6,   1.4235,  34.7233,2,  34.7233,2,    178.4,1,    184.8,2,   123.58,2,    33.04,2,     0.00,2,     2.29,2, -999.000,9, -999.000,9, -999.000,9,   -999.0,9,   -999.0,9,-999.0000,9,  -999.00,   -999.0,9,   -999.0,  -999.00,9,  -999.00,  -999.00,9,   1.4236,2
  49NZ20031209,  I3I4,   510,  1,     10,  12034,2,20040102,0625,-19.9907,  72.7107, 4214,   3752.2,   1.4268,  34.7224,2,  34.7224,2,    178.5,1,    184.2,2,   125.35,2,    33.21,2,    -0.01,2,     2.30,2, -999.000,9, -999.000,9, -999.000,9,   -999.0,9,   -999.0,9,-999.0000,9,  -999.00,   -999.0,9,   -999.0,  -999.00,9,  -999.00,  -999.00,9,   1.4267,2
  49NZ20031209,  I3I4,   510,  1,      9,  12033,2,20040102,0625,-19.9907,  72.7107, 4214,   4000.6,   1.4327,  34.7217,2,  34.7217,2,    178.9,1,    183.6,2,   126.66,2,    33.31,2,    -0.01,2,     2.31,2, -999.000,9, -999.000,9, -999.000,9,   -999.0,9,   -999.0,9,-999.0000,9,  -999.00,   -999.0,9,   -999.0,  -999.00,9,  -999.00,  -999.00,9,   1.4327,2
  49NZ20031209,  I3I4,   510,  1,      8,  12032,2,20040102,0625,-19.9907,  72.7107, 4214,   4256.7,   1.4538,  34.7214,2,  34.7215,2,    180.0,1,    183.4,2,   127.17,2,    33.33,2,    -0.01,2,     2.30,2, -999.000,9, -999.000,9, -999.000,9,   -999.0,9,   -999.0,9,-999.0000,9,  -999.00,   -999.0,9,   -999.0,  -999.00,9,  -999.00,  -999.00,9,   1.4538,2
  49NZ20031209,  I3I4,   510,  1,      7,  12031,9,20040102,0625,-19.9907,  72.7107, 4214,   1001.5,   5.0833,  34.5670,2,-999.0000,9,    124.6,1,   -999.0,9,  -999.00,9,  -999.00,9,  -999.00,9,  -999.00,9, -999.000,9, -999.000,9, -999.000,9,   -999.0,9,   -999.0,9,-999.0000,9,  -999.00,   -999.0,9,   -999.0,  -999.00,9,  -999.00,  -999.00,9,   5.0838,2
  49NZ20031209,  I3I4,   510,  1,      6,  12030,9,20040102,0625,-19.9907,  72.7107, 4214,   1001.2,   5.0839,  34.5669,2,-999.0000,9,    124.6,1,   -999.0,9,  -999.00,9,  -999.00,9,  -999.00,9,  -999.00,9, -999.000,9, -999.000,9, -999.000,9,   -999.0,9,   -999.0,9,-999.0000,9,  -999.00,   -999.0,9,   -999.0,  -999.00,9,  -999.00,  -999.00,9,   5.0844,2
  49NZ20031209,  I3I4,   510,  1,      5,  12029,9,20040102,0625,-19.9907,  72.7107, 4214,   1000.8,   5.0860,  34.5665,2,-999.0000,9,    124.7,1,   -999.0,9,  -999.00,9,  -999.00,9,  -999.00,9,  -999.00,9, -999.000,9, -999.000,9, -999.000,9,   -999.0,9,   -999.0,9,-999.0000,9,  -999.00,   -999.0,9,   -999.0,  -999.00,9,  -999.00,  -999.00,9,   5.0868,2
  49NZ20031209,  I3I4,   510,  1,      4,  12028,9,20040102,0625,-19.9907,  72.7107, 4214,      4.8,  26.3695,  35.0312,2,-999.0000,9,    197.3,1,   -999.0,9,  -999.00,9,  -999.00,9,  -999.00,9,  -999.00,9, -999.000,9, -999.000,9, -999.000,9,   -999.0,9,   -999.0,9,-999.0000,9,  -999.00,   -999.0,9,   -999.0,  -999.00,9,  -999.00,  -999.00,9,  26.3748,2
  49NZ20031209,  I3I4,   510,  1,      3,  12027,2,20040102,0625,-19.9907,  72.7107, 4214,      4.8,  26.3572,  35.0309,2,-999.0000,9,    197.2,1,   -999.0,9,  -999.00,9,  -999.00,9,  -999.00,9,  -999.00,9, -999.000,9, -999.000,9, -999.000,9,   -999.0,9,   -999.0,9,-999.0000,9,  -999.00,   -999.0,9,   -999.0,  -999.00,9,  -999.00,  -999.00,9,  26.3523,2
  49NZ20031209,  I3I4,   510,  1,      2,  12026,2,20040102,0625,-19.9907,  72.7107, 4214,      4.9,  26.3475,  35.0305,2,-999.0000,9,    197.3,1,   -999.0,9,  -999.00,9,  -999.00,9,  -999.00,9,  -999.00,9, -999.000,9, -999.000,9, -999.000,9,   -999.0,9,   -999.0,9,-999.0000,9,  -999.00,   -999.0,9,   -999.0,  -999.00,9,  -999.00,  -999.00,9,  26.3497,2
  49NZ20031209,  I3I4,   510,  1,      1,  12025,2,20040102,0625,-19.9907,  72.7107, 4214,    124.4,  22.1876,  35.2995,2,-999.0000,9,    207.3,1,   -999.0,9,  -999.00,9,  -999.00,9,  -999.00,9,  -999.00,9, -999.000,9, -999.000,9, -999.000,9,   -999.0,9,   -999.0,9,-999.0000,9,  -999.00,   -999.0,9,   -999.0,  -999.00,9,  -999.00,  -999.00,9,  22.1898,2