BOTTLE,20141204PRINUNIVRMK
EXPOCODE,SECT_ID,STNNBR,CASTNO,SAMPNO,BTLNBR,BTLNBR_FLAG_W,DATE,TIME,LATITUDE,LONGITUDE,DEPTH,CTDPRS,CTDTMP,CTDSAL,CTDSAL_FLAG_W,SALNTY,SALNTY_FLAG_W,CTDOXY,CTDOXY_FLAG_W,OXYGEN,OXYGEN_FLAG_W,SILCAT,SILCAT_FLAG_W,NITRAT,NITRAT_FLAG_W,NITRIT,NITRIT_FLAG_W,PHSPHT,PHSPHT_FLAG_W,CFC-11,CFC-11_FLAG_W,CFC-12,CFC-12_FLAG_W,CFC113,CFC113_FLAG_W,TCARBN,TCARBN_FLAG_W,ALKALI,ALKALI_FLAG_W,PH_TOT,PH_TOT_FLAG_W,PH_TMP,DELC14,DELC14_FLAG_W,C14ERR,DELC13,DELC13_FLAG_W,CS-137,CS137ER,CS-137_FLAG_W,SBE35,SBE35_FLAG_W
,,,,,,,,,,,METERS,DBAR,ITS-90,PSS-78,,PSS-78,,UMOL/KG,,UMOL/KG,,UMOL/KG,,UMOL/KG,,UMOL/KG,,UMOL/KG,,PMOL/KG,,PMOL/KG,,PMOL/KG,,UMOL/KG,,UMOL/KG,,,,DEG C,/MILLE,,/MILLE,/MILLE,,DM/.1MG,DM/.1MG,,ITS-90,
  49NZ20031209,  I3I4,   466,  2,     36,  12024,2,20040114,1700,-19.9902, 100.4658, 5985,     10.2,  24.7363,  35.0685,2,  35.0701,2,    200.9,1,    210.9,2,     2.13,2,     0.05,2,     0.01,2,     0.08,2,    1.926,2,    1.143,2, -999.000,5,   1979.1,2,   2297.5,2,   8.0872,2,    25.00,     68.1,2,      3.5,     1.00,2,  -999.00,  -999.00,9,  24.7322,2
  49NZ20031209,  I3I4,   466,  2,     35,  12023,2,20040114,1700,-19.9902, 100.4658, 5985,     50.0,  23.0003,  35.2665,2,  35.2666,2,    210.5,1,    221.1,2,     2.33,2,     0.04,2,     0.01,2,     0.09,2,    2.106,2,    1.219,2, -999.000,5,   1994.2,6,   2306.8,2,   8.0790,2,    25.00,     74.2,2,      3.5,     1.02,2,  -999.00,  -999.00,9,  22.9986,2
  49NZ20031209,  I3I4,   466,  2,     34,  12022,2,20040114,1700,-19.9902, 100.4658, 5985,     99.4,  21.3596,  35.3163,2,  35.3127,2,    201.6,1,    209.0,2,     3.27,2,     0.58,2,     0.03,2,     0.17,2,    2.126,2,    1.237,2, -999.000,5,   2018.5,2,   2320.5,6,   8.0431,2,    25.00,     54.4,2,      3.5,     0.88,2,  -999.00,  -999.00,9,  21.3608,2
  49NZ20031209,  I3I4,   466,  2,     33,  12015,2,20040114,1700,-19.9902, 100.4658, 5985,    149.4,  18.8402,  35.2985,2,  35.3022,2,    150.9,1,    157.9,2,     9.45,2,     8.40,2,     0.02,2,     0.66,2,    2.012,2,    1.167,2,    0.083,4,   2084.5,2,   2323.6,2,   7.9245,6,    25.00,     43.1,2,      3.4,     0.56,2,  -999.00,  -999.00,9,  18.8450,2
  49NZ20031209,  I3I4,   466,  2,     32,  12020,2,20040114,1700,-19.9902, 100.4658, 5985,    200.2,  17.6630,  35.6475,2,  35.6513,2,    182.0,1,    191.4,2,     4.64,2,     4.68,2,     0.01,2,     0.44,2,    2.393,2,    1.371,2,    0.112,4,   2087.2,2,   2337.0,2,   7.9488,2,    25.00,     72.6,2,      3.5,     0.78,2,  -999.00,  -999.00,9,  17.6628,2
  49NZ20031209,  I3I4,   466,  2,     31,  12019,2,20040114,1700,-19.9902, 100.4658, 5985,    248.5,  15.0884,  35.5121,2,  35.5102,2,    200.3,1,    209.7,2,     3.81,2,     5.47,2,     0.01,2,     0.52,2,    2.753,6,    1.548,6,    0.101,4,   2096.1,2,   2336.5,2,   7.9207,2,    25.00,     71.4,2,      3.6,     0.98,2,  -999.00,  -999.00,9,  15.0881,2
  49NZ20031209,  I3I4,   466,  2,     30,  12018,2,20040114,1700,-19.9902, 100.4658, 5985,    300.8,  12.9606,  35.2297,2,  35.2236,2,    210.4,1,    220.2,2,     4.10,2,     8.41,2,     0.01,2,     0.70,2,    3.026,2,    1.678,2,    0.099,4,   2109.0,2,   2315.3,2,   7.8758,2,    25.00,     72.9,2,      3.6,     1.14,2,  -999.00,  -999.00,9,  12.9556,2
  49NZ20031209,  I3I4,   466,  2,     29,  12017,2,20040114,1700,-19.9902, 100.4658, 5985,    400.9,  10.3062,  34.8382,2,  34.8347,2,    223.9,1,    234.6,2,     4.34,2,    13.54,2,     0.00,2,     1.01,2,    3.485,2,    1.866,2,    0.128,4,   2118.9,2,   2294.5,2,   7.8189,2,    25.00,     60.0,2,      3.5,     1.20,2,  -999.00,  -999.00,9,  10.3070,2
  49NZ20031209,  I3I4,   466,  2,     28,  12016,2,20040114,1700,-19.9902, 100.4658, 5985,    500.9,   8.9529,  34.6561,2,  34.6561,2,    214.3,1,    224.8,2,     7.54,2,    18.38,2,    -0.01,2,     1.31,2,    3.185,2,    1.644,2,    0.133,4,   2136.6,2,   2284.0,2,   7.7700,2,    25.00,     35.3,2,      3.4,     1.18,2,  -999.00,  -999.00,9,   8.9515,2
  49NZ20031209,  I3I4,   466,  2,     27,  12012,2,20040114,1700,-19.9902, 100.4658, 5985,    600.6,   7.4680,  34.5279,2,  34.5270,2,    186.8,1,    195.4,2,    18.42,2,    24.76,2,    -0.01,2,     1.73,2,    1.940,2,    0.978,2,    0.061,4,   2166.1,2,   2295.3,2,   7.6976,2,    25.00,     -6.1,2,      3.3,     0.99,2,  -999.00,  -999.00,9,   7.4692,2
  49NZ20031209,  I3I4,   466,  2,     26,  12014,2,20040114,1700,-19.9902, 100.4658, 5985,    699.7,   6.3593,  34.5663,2,  34.5682,2,    124.4,1,    128.4,2,    50.67,2,    32.48,2,     0.01,2,     2.29,2,    0.371,2,    0.191,2,    0.012,4,   2230.8,6,   2327.7,2,   7.5903,2,    25.00,   -100.5,2,      3.2,     0.55,2,  -999.00,  -999.00,9,   6.3621,2
  49NZ20031209,  I3I4,   466,  2,     25,  12013,2,20040114,1700,-19.9902, 100.4658, 5985,    800.9,   5.8590,  34.6166,2,  34.6148,2,     98.9,1,    103.0,2,    68.80,2,    35.18,2,    -0.01,2,     2.52,2,    0.075,2,    0.040,2,    0.000,4,   2266.1,2,   2337.8,6,   7.5484,2,    25.00,   -131.2,2,      3.0,     0.37,2,  -999.00,  -999.00,9,   5.8610,2
  49NZ20031209,  I3I4,   466,  2,     24,  12048,2,20040114,1700,-19.9902, 100.4658, 5985,    899.5,   5.4336,  34.6313,2,  34.6323,2,     93.5,1,     96.7,2,    79.26,2,    36.13,2,     0.01,2,     2.59,2,    0.025,2,    0.013,2,    0.000,4,   2279.2,2,   2346.5,2,   7.5352,6,    25.00,   -154.5,2,      3.0,     0.25,2,  -999.00,  -999.00,9,   5.4338,2
  49NZ20031209,  I3I4,   466,  2,     23,  12047,2,20040114,1700,-19.9902, 100.4658, 5985,   1000.3,   5.0616,  34.6473,2,  34.6469,2,     92.4,1,     95.8,2,    87.06,2,    36.46,2,     0.01,2,     2.63,2,    0.012,6,    0.005,6,    0.000,4,   2289.7,2,   2359.1,2,   7.5316,2,    25.00,   -162.6,2,      3.0,     0.24,2,  -999.00,  -999.00,9,   5.0616,2
  49NZ20031209,  I3I4,   466,  2,     22,  12046,2,20040114,1700,-19.9902, 100.4658, 5985,   1200.3,   4.3712,  34.6492,2,  34.6489,2,    100.5,1,    104.4,2,    94.35,2,    36.54,2,     0.00,2,     2.64,2,    0.007,2,    0.001,2,    0.000,4,   2295.0,2,   2365.4,2,   7.5342,2,    25.00,   -169.3,2,      3.2,     0.21,2,  -999.00,  -999.00,9,   4.3714,2
  49NZ20031209,  I3I4,   466,  2,     21,  12045,2,20040114,1700,-19.9902, 100.4658, 5985,   1400.0,   3.7751,  34.6701,2,  34.6700,2,    113.2,1,    118.2,2,    96.27,2,    36.20,2,     0.00,2,     2.59,2,   -0.003,2,    0.000,2,    0.000,4,   2293.0,2,   2367.8,2,   7.5452,2,    25.00,   -175.8,6,      2.6,     0.26,6,  -999.00,  -999.00,9,   3.7748,2
  49NZ20031209,  I3I4,   466,  2,     20,  12044,2,20040114,1700,-19.9902, 100.4658, 5985,   1599.6,   3.1673,  34.6924,2,  34.6932,2,    125.3,1,    131.4,2,   101.97,2,    35.51,2,     0.00,2,     2.54,2,    0.006,2,   -0.002,2,    0.000,4,   2291.3,2,   2375.8,2,   7.5591,2,    25.00,   -187.9,2,      2.9,     0.29,2,  -999.00,  -999.00,9,   3.1674,2
  49NZ20031209,  I3I4,   466,  2,     19,  12043,2,20040114,1700,-19.9902, 100.4658, 5985,   1800.8,   2.7561,  34.7081,2,  34.7086,2,    133.5,1,    140.6,2,   107.18,2,    35.15,2,     0.00,2,     2.50,2,   -0.001,2,   -0.002,2,    0.000,4,   2296.1,2,   2378.0,2,   7.5700,2,    25.00,   -184.6,2,      3.1,     0.30,2,  -999.00,  -999.00,9,   2.7560,2
  49NZ20031209,  I3I4,   466,  2,     18,  12042,2,20040114,1700,-19.9902, 100.4658, 5985,   1999.9,   2.4873,  34.7184,2,  34.7188,2,    141.2,1,    149.1,2,   109.77,2,    34.67,2,     0.00,2,     2.46,2,    0.004,2,    0.000,2,    0.000,4,   2295.2,2,   2384.8,2,   7.5796,6,    25.00,   -193.1,2,      2.9,     0.32,2,  -999.00,  -999.00,9,   2.4872,2
  49NZ20031209,  I3I4,   466,  2,     17,  12041,2,20040114,1700,-19.9902, 100.4658, 5985,   2200.7,   2.2180,  34.7261,2,  34.7262,2,    145.2,1,    153.5,2,   115.85,2,    34.62,2,     0.00,2,     2.44,2,    0.003,2,    0.003,2,    0.000,4,   2299.4,2,   2386.5,2,   7.5851,2,    25.00,   -187.0,2,      3.1,     0.31,2,  -999.00,  -999.00,9,   2.2180,2
  49NZ20031209,  I3I4,   466,  2,     16,  12040,2,20040114,1700,-19.9902, 100.4658, 5985,   2398.8,   2.0215,  34.7273,2,  34.7273,2,    151.0,1,    160.2,2,   117.53,2,    34.24,2,     0.00,2,     2.41,2,    0.000,2,    0.000,2,    0.000,4,   2298.1,6,   2388.6,2,   7.5941,2,    25.00,   -196.9,2,      3.2,     0.30,2,  -999.00,  -999.00,9,   2.0213,2
  49NZ20031209,  I3I4,   466,  2,     15,  12039,2,20040114,1700,-19.9902, 100.4658, 5985,   2600.1,   1.8883,  34.7271,2,  34.7271,2,    154.8,1,    164.4,2,   119.46,2,    34.12,2,     0.00,2,     2.40,2,    0.000,2,   -0.005,2,    0.000,4,   2294.3,2,   2390.1,6,   7.5984,2,    25.00,   -190.5,2,      3.1,     0.32,2,  -999.00,  -999.00,9,   1.8881,2
  49NZ20031209,  I3I4,   466,  2,     14,  12038,2,20040114,1700,-19.9902, 100.4658, 5985,   2800.5,   1.7642,  34.7263,2,  34.7271,2,    158.7,1,    168.8,2,   120.61,2,    33.95,2,     0.00,2,     2.38,2,    0.003,2,   -0.004,2,    0.000,4,   2295.6,2,   2393.6,2,   7.6023,6,    25.00,   -197.2,2,      3.0,     0.34,2,  -999.00,  -999.00,9,   1.7641,2
  49NZ20031209,  I3I4,   466,  2,     13,  12037,2,20040114,1700,-19.9902, 100.4658, 5985,   3000.1,   1.6545,  34.7255,2,  34.7255,2,    162.6,1,    173.1,2,   121.95,2,    33.75,2,     0.00,2,     2.37,2,   -0.002,2,    0.000,2,    0.001,4,   2293.6,2,   2392.7,2,   7.6080,2,    25.00,   -194.5,6,      3.3,     0.35,6,  -999.00,  -999.00,9,   1.6545,2
  49NZ20031209,  I3I4,   466,  2,     12,  12036,2,20040114,1700,-19.9902, 100.4658, 5985,   3250.9,   1.5262,  34.7233,2,  34.7231,2,    166.4,1,    177.3,2,   123.27,2,    33.53,2,     0.01,2,     2.34,2,   -0.005,2,   -0.002,2,    0.001,4,   2293.8,2,   2392.0,2,   7.6128,2,    25.00,   -199.3,2,      3.0,     0.38,2,  -999.00,  -999.00,9,   1.5261,2
  49NZ20031209,  I3I4,   466,  2,     11,  12035,2,20040114,1700,-19.9902, 100.4658, 5985,   3500.6,   1.4293,  34.7210,2,  34.7208,2,    169.3,1,    180.6,2,   125.06,2,    33.50,2,     0.01,2,     2.34,2,   -0.003,2,    0.001,2,    0.001,4,   2293.1,2,   2394.4,2,   7.6153,2,    25.00,   -192.6,2,      2.9,     0.36,2,  -999.00,  -999.00,9,   1.4291,2
  49NZ20031209,  I3I4,   466,  2,     10,  12034,2,20040114,1700,-19.9902, 100.4658, 5985,   3750.0,   1.3422,  34.7185,2,  34.7183,2,    172.2,1,    183.7,2,   126.77,2,    33.49,2,     0.00,2,     2.34,2,    0.001,2,   -0.001,2,    0.001,4,   2292.7,2,   2392.1,2,   7.6190,2,    25.00,   -198.5,3,      2.9,     0.10,4,  -999.00,  -999.00,9,   1.3420,2
  49NZ20031209,  I3I4,   466,  2,      9,  12033,2,20040114,1700,-19.9902, 100.4658, 5985,   4000.6,   1.2774,  34.7168,2,  34.7168,2,    176.1,1,    187.5,2,   126.73,2,    33.29,2,     0.01,2,     2.32,2,    0.001,2,    0.005,2,    0.001,4,   2288.0,2,   2393.9,2,   7.6218,2,    25.00,   -182.6,2,      3.0,     0.39,2,  -999.00,  -999.00,9,   1.2773,2
  49NZ20031209,  I3I4,   466,  2,      8,  12032,2,20040114,1700,-19.9902, 100.4658, 5985,   4250.2,   1.2376,  34.7156,2,  34.7155,2,    179.6,1,    190.9,2,   125.93,2,    33.10,2,     0.00,2,     2.31,2,   -0.001,2,    0.003,2,    0.000,4,   2288.3,6,   2388.2,2,   7.6239,2,    25.00,   -181.5,2,      2.9,     0.40,2,  -999.00,  -999.00,9,   1.2376,2
  49NZ20031209,  I3I4,   466,  2,      7,  12031,2,20040114,1700,-19.9902, 100.4658, 5985,   4499.7,   1.2047,  34.7145,2,  34.7147,2,    183.2,1,    194.3,2,   125.30,2,    32.93,2,     0.00,2,     2.29,2,   -0.001,2,    0.005,2,    0.000,4,   2284.8,2,   2388.4,6,   7.6272,2,    25.00,   -178.6,2,      3.0,     0.42,2,  -999.00,  -999.00,9,   1.2047,2
  49NZ20031209,  I3I4,   466,  2,      6,  12030,2,20040114,1700,-19.9902, 100.4658, 5985,   4749.2,   1.1822,  34.7140,2,  34.7136,2,    187.3,1,    198.2,2,   123.52,2,    32.71,2,     0.00,2,     2.27,2,    0.001,2,    0.000,2,    0.000,4,   2280.4,2,   2384.3,2,   7.6294,2,    25.00,   -179.0,2,      3.0,     0.42,2,  -999.00,  -999.00,9,   1.1823,2
  49NZ20031209,  I3I4,   466,  2,      5,  12029,2,20040114,1700,-19.9902, 100.4658, 5985,   5000.1,   1.1604,  34.7125,2,  34.7116,2,    190.1,1,    200.5,2,   123.05,2,    32.62,2,     0.00,2,     2.26,2,   -0.001,2,   -0.001,2,    0.000,4,   2278.5,2,   2383.9,2,   7.6279,2,    25.00,   -168.6,2,      3.0,     0.44,2,  -999.00,  -999.00,9,   1.1604,2
  49NZ20031209,  I3I4,   466,  2,      4,  12028,2,20040114,1700,-19.9902, 100.4658, 5985,   5249.7,   1.1509,  34.7113,2,  34.7111,2,    192.5,1,    202.2,2,   122.93,2,    32.54,2,     0.01,2,     2.26,2,    0.005,2,    0.000,2,    0.000,4,   2275.1,2,   2378.4,2,   7.6279,2,    25.00,   -167.2,2,      2.9,     0.42,3,  -999.00,  -999.00,9,   1.1508,2
  49NZ20031209,  I3I4,   466,  2,      3,  12027,2,20040114,1700,-19.9902, 100.4658, 5985,   5499.6,   1.1538,  34.7105,2,  34.7109,2,    195.1,1,    203.7,2,   122.38,2,    32.45,2,     0.00,2,     2.25,2,    0.005,2,    0.003,2,    0.000,4,   2276.0,2,   2376.1,2,   7.6262,2,    25.00,   -168.7,2,      3.0,     0.46,2,  -999.00,  -999.00,9,   1.1538,2
  49NZ20031209,  I3I4,   466,  2,      2,  12026,2,20040114,1700,-19.9902, 100.4658, 5985,   5748.4,   1.1721,  34.7101,2,  34.7101,2,    197.3,1,    204.7,2,   121.92,2,    32.47,2,     0.00,2,     2.25,2,    0.005,2,    0.005,2,    0.000,4,   2272.4,2,   2372.5,2,   7.6262,2,    25.00,   -170.6,2,      3.0,     0.45,2,  -999.00,  -999.00,9,   1.1722,2
  49NZ20031209,  I3I4,   466,  2,      1,  12025,2,20040114,1700,-19.9902, 100.4658, 5985,   6067.2,   1.2092,  34.7097,2,  34.7104,2,    200.1,1,    205.0,2,   121.80,2,    32.46,2,    -0.01,2,     2.24,2,    0.011,2,    0.003,2,    0.000,4,   2276.0,2,   2376.2,2,   7.6257,2,    25.00,   -267.0,4,      2.7,    -3.16,4,  -999.00,  -999.00,9,   1.2093,2