BOTTLE,20141204PRINUNIVRMK
EXPOCODE,SECT_ID,STNNBR,CASTNO,SAMPNO,BTLNBR,BTLNBR_FLAG_W,DATE,TIME,LATITUDE,LONGITUDE,DEPTH,CTDPRS,CTDTMP,CTDSAL,CTDSAL_FLAG_W,SALNTY,SALNTY_FLAG_W,CTDOXY,CTDOXY_FLAG_W,OXYGEN,OXYGEN_FLAG_W,SILCAT,SILCAT_FLAG_W,NITRAT,NITRAT_FLAG_W,NITRIT,NITRIT_FLAG_W,PHSPHT,PHSPHT_FLAG_W,CFC-11,CFC-11_FLAG_W,CFC-12,CFC-12_FLAG_W,CFC113,CFC113_FLAG_W,TCARBN,TCARBN_FLAG_W,ALKALI,ALKALI_FLAG_W,PH_TOT,PH_TOT_FLAG_W,PH_TMP,DELC14,DELC14_FLAG_W,C14ERR,DELC13,DELC13_FLAG_W,CS-137,CS137ER,CS-137_FLAG_W,SBE35,SBE35_FLAG_W
,,,,,,,,,,,METERS,DBAR,ITS-90,PSS-78,,PSS-78,,UMOL/KG,,UMOL/KG,,UMOL/KG,,UMOL/KG,,UMOL/KG,,UMOL/KG,,PMOL/KG,,PMOL/KG,,PMOL/KG,,UMOL/KG,,UMOL/KG,,,,DEG C,/MILLE,,/MILLE,/MILLE,,DM/.1MG,DM/.1MG,,ITS-90,
  49NZ20031209,  I3I4,   591,  1,     36,  12024,2,20031216,0718,-24.6617,  41.9897, 3766,     10.4,  27.8219,  35.2718,2,  35.2730,2,    191.6,1,    201.2,2,     1.93,2,     0.06,2,     0.00,2,     0.14,2,    1.643,2,    1.076,2, -999.000,5,   1976.2,2,   2308.9,2,   8.0903,2,    25.00,   -999.0,9,   -999.0,  -999.00,9,  -999.00,  -999.00,9,  27.8202,2
  49NZ20031209,  I3I4,   591,  1,     35,  12023,2,20031216,0718,-24.6617,  41.9897, 3766,     49.5,  24.9414,  35.2379,2,  35.2380,2,    203.2,1,    213.6,2,     2.14,2,     0.04,2,     0.00,2,     0.16,2,    1.820,2,    1.104,2, -999.000,5,   1983.9,6,   2305.1,2,   8.0754,2,    25.00,   -999.0,9,   -999.0,  -999.00,9,  -999.00,  -999.00,9,  24.9402,2
  49NZ20031209,  I3I4,   591,  1,     34,  12022,2,20031216,0718,-24.6617,  41.9897, 3766,     98.6,  21.2542,  35.3545,2,  35.3496,2,    174.8,1,    182.8,2,     4.00,2,     3.87,2,     0.06,2,     0.42,2,    2.014,2,    1.180,2,    0.186,4,   2037.2,2,   2309.6,6,   7.9924,2,    25.00,   -999.0,9,   -999.0,  -999.00,9,  -999.00,  -999.00,9,  21.2702,2
  49NZ20031209,  I3I4,   591,  1,     33,  12015,2,20031216,0718,-24.6617,  41.9897, 3766,    150.1,  18.7002,  35.5777,2,  35.5738,2,    173.4,1,    181.2,2,     5.33,2,     5.46,2,     0.02,2,     0.50,2,    2.227,2,    1.276,2,    0.136,4,   2076.0,2,   2329.6,2,   7.9471,6,    25.00,   -999.0,9,   -999.0,  -999.00,9,  -999.00,  -999.00,9,  18.7274,2
  49NZ20031209,  I3I4,   591,  1,     32,  12020,2,20031216,0718,-24.6617,  41.9897, 3766,    201.0,  17.2044,  35.6485,2,  35.6495,2,    196.1,1,    205.4,2,     4.12,2,     4.14,2,     0.01,2,     0.42,2,    2.450,2,    1.390,2,    0.200,4,   2078.6,2,   2331.9,2,   7.9507,2,    25.00,   -999.0,9,   -999.0,  -999.00,9,  -999.00,  -999.00,9,  17.2013,2
  49NZ20031209,  I3I4,   591,  1,     31,  12019,2,20031216,0718,-24.6617,  41.9897, 3766,    249.9,  15.9040,  35.5540,2,  35.5529,2,    191.8,1,    199.9,2,     4.65,2,     6.39,2,     0.01,2,     0.55,2,    2.557,6,    1.405,6,    0.103,4,   2094.4,2,   2330.8,2,   7.9120,2,    25.00,   -999.0,9,   -999.0,  -999.00,9,  -999.00,  -999.00,9,  15.9011,2
  49NZ20031209,  I3I4,   591,  1,     30,  12018,2,20031216,0718,-24.6617,  41.9897, 3766,    300.5,  14.6967,  35.4475,2,  35.4464,2,    198.5,1,    206.9,2,     4.50,2,     7.45,2,     0.01,2,     0.63,2, -999.000,5, -999.000,5, -999.000,5,   2102.1,2,   2324.2,2,   7.8931,2,    25.00,   -999.0,9,   -999.0,  -999.00,9,  -999.00,  -999.00,9,  14.6954,2
  49NZ20031209,  I3I4,   591,  1,     29,  12017,2,20031216,0718,-24.6617,  41.9897, 3766,    400.8,  13.0239,  35.2497,2,  35.2489,2,    210.2,1,    219.1,2,     4.31,2,     9.46,2,     0.00,2,     0.76,2,    2.982,2,    1.563,2,    0.111,4,   2108.5,2,   2316.1,2,   7.8661,2,    25.00,   -999.0,9,   -999.0,  -999.00,9,  -999.00,  -999.00,9,  13.0223,2
  49NZ20031209,  I3I4,   591,  1,     28,  12016,2,20031216,0718,-24.6617,  41.9897, 3766,    500.5,  11.5000,  35.0270,2,  35.0264,2,    215.8,1,    224.8,2,     4.60,2,    12.13,2,     0.00,2,     0.92,2,    3.099,2,    1.587,2,    0.093,4,   2113.5,2,   2303.4,2,   7.8361,2,    25.00,   -999.0,9,   -999.0,  -999.00,9,  -999.00,  -999.00,9,  11.4998,2
  49NZ20031209,  I3I4,   591,  1,     27,  12012,2,20031216,0718,-24.6617,  41.9897, 3766,    601.4,   9.9216,  34.8046,2,  34.8056,2,    209.8,1,    218.6,2,     7.37,2,    16.48,2,     0.00,2,     1.20,2,    2.805,2,    1.396,2,    0.091,4,   2127.5,2,   2293.7,2,   7.7915,2,    25.00,   -999.0,9,   -999.0,  -999.00,9,  -999.00,  -999.00,9,   9.9209,2
  49NZ20031209,  I3I4,   591,  1,     26,  12014,2,20031216,0718,-24.6617,  41.9897, 3766,    700.0,   8.4815,  34.6473,2,  34.6461,2,    195.9,1,    203.7,2,    13.71,2,    21.35,2,     0.00,2,     1.52,2,    2.073,2,    1.039,2,    0.061,4,   2149.4,6,   2295.0,2,   7.7386,2,    25.00,   -999.0,9,   -999.0,  -999.00,9,  -999.00,  -999.00,9,   8.4837,2
  49NZ20031209,  I3I4,   591,  1,     25,  12013,2,20031216,0718,-24.6617,  41.9897, 3766,    800.8,   6.8944,  34.5561,2,  34.5561,2,    174.6,1,    181.8,2,    26.87,2,    27.01,2,     0.00,2,     1.90,2,    1.282,2,    0.663,2,    0.025,4,   2182.3,2,   2297.7,6,   7.6771,2,    25.00,   -999.0,9,   -999.0,  -999.00,9,  -999.00,  -999.00,9,   6.8941,2
  49NZ20031209,  I3I4,   591,  1,     24,  12048,2,20031216,0718,-24.6617,  41.9897, 3766,    900.1,   5.9125,  34.5498,2,  34.5515,2,    158.2,1,    164.0,2,    40.20,2,    30.38,2,     0.00,2,     2.14,2,    0.802,2,    0.430,2,    0.031,4,   2210.2,2,   2311.5,2,   7.6295,6,    25.00,   -999.0,9,   -999.0,  -999.00,9,  -999.00,  -999.00,9,   5.9142,2
  49NZ20031209,  I3I4,   591,  1,     23,  12047,2,20031216,0718,-24.6617,  41.9897, 3766,   1001.2,   5.4589,  34.6235,2,  34.6222,2,    135.6,1,    140.7,2,    54.81,2,    32.75,2,    -0.01,2,     2.33,2,    0.436,6,    0.242,6,    0.014,4,   2236.8,2,   2324.8,2,   7.5917,2,    25.00,   -999.0,9,   -999.0,  -999.00,9,  -999.00,  -999.00,9,   5.4579,2
  49NZ20031209,  I3I4,   591,  1,     22,  12046,2,20031216,0718,-24.6617,  41.9897, 3766,   1201.3,   4.9229,  34.7343,2,  34.7338,2,    113.0,1,    116.7,2,    75.41,2,    34.79,2,     0.00,2,     2.51,2,    0.122,2,    0.067,2,    0.005,4,   2270.3,2,   2349.8,2,   7.5626,2,    25.00,   -999.0,9,   -999.0,  -999.00,9,  -999.00,  -999.00,9,   4.9217,2
  49NZ20031209,  I3I4,   591,  1,     21,  12045,2,20031216,0718,-24.6617,  41.9897, 3766,   1399.4,   4.0563,  34.7236,2,  34.7242,2,    125.7,1,    130.1,2,    82.24,2,    34.62,2,     0.00,2,     2.48,2,    0.079,2,    0.023,2,    0.000,4,   2273.6,2,   2355.3,2,   7.5666,2,    25.00,   -999.0,9,   -999.0,  -999.00,9,  -999.00,  -999.00,9,   4.0565,2
  49NZ20031209,  I3I4,   591,  1,     20,  12044,2,20031216,0718,-24.6617,  41.9897, 3766,   1598.2,   3.5080,  34.7328,2,  34.7317,2,    136.7,1,    141.8,2,    86.24,2,    34.02,2,     0.00,2,     2.43,2,    0.028,2,    0.005,2,    0.000,4,   2273.0,2,   2357.2,2,   7.5803,2,    25.00,   -999.0,9,   -999.0,  -999.00,9,  -999.00,  -999.00,9,   3.5078,2
  49NZ20031209,  I3I4,   591,  1,     19,  12043,2,20031216,0718,-24.6617,  41.9897, 3766,   1799.9,   3.1982,  34.7423,2,  34.7421,2,    142.6,1,    148.1,2,    90.25,2,    33.65,2,     0.00,2,     2.40,2,    0.013,2,    0.005,2,    0.010,4,   2276.6,3,   2362.8,2,   7.5882,2,    25.00,   -999.0,9,   -999.0,  -999.00,9,  -999.00,  -999.00,9,   3.1982,2
  49NZ20031209,  I3I4,   591,  1,     18,  12042,2,20031216,0718,-24.6617,  41.9897, 3766,   2001.1,   2.8657,  34.7435,2,  34.7438,2,    157.9,1,    164.3,2,    86.22,2,    32.30,2,     0.00,2,     2.29,2,    0.019,2,    0.013,2,   -0.001,4,   2264.0,2,   2358.8,2,   7.6079,2,    25.00,   -999.0,9,   -999.0,  -999.00,9,  -999.00,  -999.00,9,   2.8656,2
  49NZ20031209,  I3I4,   591,  1,     17,  12041,2,20031216,0718,-24.6617,  41.9897, 3766,   2200.6,   2.6046,  34.7608,2,  34.7617,2,    166.8,1,    173.6,2,    87.31,2,    31.57,2,     0.01,2,     2.22,2,    0.005,2,    0.003,2,   -0.001,4,   2260.2,2,   2364.0,2,   7.6179,2,    25.00,   -999.0,9,   -999.0,  -999.00,9,  -999.00,  -999.00,9,   2.6047,2
  49NZ20031209,  I3I4,   591,  1,     16,  12040,2,20031216,0718,-24.6617,  41.9897, 3766,   3500.8,   1.8306,  34.7837,2,  34.7845,3,    206.8,1,    213.8,2,    82.51,2,    28.54,2,     0.00,2,     1.97,2,   -0.001,2,    0.003,2,    0.005,4,   2236.8,2,   2350.8,2,   7.6573,2,    25.00,   -999.0,9,   -999.0,  -999.00,9,  -999.00,  -999.00,9,   1.8309,2
  49NZ20031209,  I3I4,   591,  1,     15,  12039,2,20031216,0718,-24.6617,  41.9897, 3766,   2600.6,   2.3530,  34.7816,2,  34.7818,2,    185.8,1,    193.6,2,    80.20,2,    29.63,2,     0.00,2,     2.06,2,    0.009,2,    0.004,2,   -0.001,4,   2243.5,2,   2354.8,6,   7.6477,2,    25.00,   -999.0,9,   -999.0,  -999.00,9,  -999.00,  -999.00,9,   2.3529,2
  49NZ20031209,  I3I4,   591,  1,     14,  12038,2,20031216,0718,-24.6617,  41.9897, 3766,   2799.3,   2.2782,  34.7907,2,  34.7909,2,    194.3,1,    202.2,2,    76.06,2,    28.67,2,     0.00,2,     2.00,2,    0.010,2,    0.005,2,    0.017,4,   2237.3,2,   2351.8,2,   7.6534,6,    25.00,   -999.0,9,   -999.0,  -999.00,9,  -999.00,  -999.00,9,   2.2781,2
  49NZ20031209,  I3I4,   591,  1,     13,  12037,2,20031216,0718,-24.6617,  41.9897, 3766,   2999.1,   2.2031,  34.7950,2,  34.7948,2,    199.4,1,    207.2,2,    74.90,2,    28.28,2,     0.00,2,     1.96,2,    0.003,2,    0.000,2,   -0.001,4,   2234.8,2,   2349.4,2,   7.6582,2,    25.00,   -999.0,9,   -999.0,  -999.00,9,  -999.00,  -999.00,9,   2.2033,2
  49NZ20031209,  I3I4,   591,  1,     12,  12036,2,20031216,0718,-24.6617,  41.9897, 3766,   3249.5,   2.0433,  34.7936,2,  34.7940,2,    204.2,1,    211.8,2,    76.78,2,    28.22,2,     0.00,2,     1.95,2,   -0.006,2,    0.005,2,   -0.001,4,   2234.2,2,   2346.1,2,   7.6616,2,    25.00,   -999.0,9,   -999.0,  -999.00,9,  -999.00,  -999.00,9,   2.0434,2
  49NZ20031209,  I3I4,   591,  1,     11,  12035,2,20031216,0718,-24.6617,  41.9897, 3766,   3501.7,   1.8271,  34.7836,2,  34.7833,2,    206.9,1,    213.8,2,    82.35,2,    28.53,2,     0.00,2,     1.98,2,    0.003,2,    0.003,2,   -0.002,4,   2237.3,2,   2348.7,2,   7.6623,2,    25.00,   -999.0,9,   -999.0,  -999.00,9,  -999.00,  -999.00,9,   1.8273,2
  49NZ20031209,  I3I4,   591,  1,     10,  12034,2,20031216,0718,-24.6617,  41.9897, 3766,   3805.1,   1.0528,  34.7344,2,  34.7336,2,    211.8,1,    217.7,2,   104.58,2,    30.49,2,     0.00,2,     2.12,2,    0.028,2,    0.013,2,   -0.002,4,   2251.2,2,   2361.1,2,   7.6438,2,    25.00,   -999.0,9,   -999.0,  -999.00,9,  -999.00,  -999.00,9,   1.0531,2
  49NZ20031209,  I3I4,   591,  1,      9,  12033,9,20031216,0718,-24.6617,  41.9897, 3766,   2899.5,   2.2520,  34.7924,2,-999.0000,9,    196.3,1,   -999.0,9,  -999.00,9,  -999.00,9,  -999.00,9,  -999.00,9, -999.000,9, -999.000,9, -999.000,9,   -999.0,9,   -999.0,9,-999.0000,9,  -999.00,   -999.0,9,   -999.0,  -999.00,9,  -999.00,  -999.00,9,   2.2521,2
  49NZ20031209,  I3I4,   591,  1,      8,  12032,9,20031216,0718,-24.6617,  41.9897, 3766,   3100.0,   2.1576,  34.7963,2,-999.0000,9,    202.0,1,   -999.0,9,  -999.00,9,  -999.00,9,  -999.00,9,  -999.00,9, -999.000,9, -999.000,9, -999.000,9,   -999.0,9,   -999.0,9,-999.0000,9,  -999.00,   -999.0,9,   -999.0,  -999.00,9,  -999.00,  -999.00,9,   2.1577,2
  49NZ20031209,  I3I4,   591,  1,      7,  12031,9,20031216,0718,-24.6617,  41.9897, 3766,   3349.7,   1.9626,  34.7906,2,-999.0000,9,    205.5,1,   -999.0,9,  -999.00,9,  -999.00,9,  -999.00,9,  -999.00,9, -999.000,9, -999.000,9, -999.000,9,   -999.0,9,   -999.0,9,-999.0000,9,  -999.00,   -999.0,9,   -999.0,  -999.00,9,  -999.00,  -999.00,9,   1.9627,2
  49NZ20031209,  I3I4,   591,  1,      6,  12030,9,20031216,0718,-24.6617,  41.9897, 3766,   1001.8,   5.4573,  34.6233,2,-999.0000,9,    135.5,1,   -999.0,9,  -999.00,9,  -999.00,9,  -999.00,9,  -999.00,9, -999.000,9, -999.000,9, -999.000,9,   -999.0,9,   -999.0,9,-999.0000,9,  -999.00,   -999.0,9,   -999.0,  -999.00,9,  -999.00,  -999.00,9,   5.4572,2
  49NZ20031209,  I3I4,   591,  1,      5,  12029,9,20031216,0718,-24.6617,  41.9897, 3766,      4.2,  27.8195,  35.2729,2,-999.0000,9,    191.5,1,   -999.0,9,  -999.00,9,  -999.00,9,  -999.00,9,  -999.00,9, -999.000,9, -999.000,9, -999.000,9,   -999.0,9,   -999.0,9,-999.0000,9,  -999.00,   -999.0,9,   -999.0,  -999.00,9,  -999.00,  -999.00,9,  27.8188,2
  49NZ20031209,  I3I4,   591,  1,      4,  12028,2,20031216,0718,-24.6617,  41.9897, 3766,      3.8,  27.8191,  35.2729,2,-999.0000,9,    191.6,1,   -999.0,9,  -999.00,9,  -999.00,9,  -999.00,9,  -999.00,9, -999.000,9, -999.000,9, -999.000,9,   -999.0,9,   -999.0,9,-999.0000,9,  -999.00,   -999.0,9,   -999.0,  -999.00,9,  -999.00,  -999.00,9,  27.8180,2
  49NZ20031209,  I3I4,   591,  1,      3,  12027,2,20031216,0718,-24.6617,  41.9897, 3766,      4.4,  27.8208,  35.2727,2,-999.0000,9,    191.8,1,   -999.0,9,  -999.00,9,  -999.00,9,  -999.00,9,  -999.00,9, -999.000,9, -999.000,9, -999.000,9,   -999.0,9,   -999.0,9,-999.0000,9,  -999.00,   -999.0,9,   -999.0,  -999.00,9,  -999.00,  -999.00,9,  27.8196,2
  49NZ20031209,  I3I4,   591,  1,      2,  12026,2,20031216,0718,-24.6617,  41.9897, 3766,     54.5,  24.4048,  35.2644,2,-999.0000,9,    202.9,1,   -999.0,9,  -999.00,9,  -999.00,9,  -999.00,9,  -999.00,9, -999.000,9, -999.000,9, -999.000,9,   -999.0,9,   -999.0,9,-999.0000,9,  -999.00,   -999.0,9,   -999.0,  -999.00,9,  -999.00,  -999.00,9,  24.3910,2
  49NZ20031209,  I3I4,   591,  1,      1,  12025,2,20031216,0718,-24.6617,  41.9897, 3766,   2401.1,   2.4588,  34.7706,2,  34.7699,2,    175.6,1,    182.6,2,    84.83,2,    30.67,2,     0.00,2,     2.15,2,    0.000,2,    0.000,2,    0.007,4,   2255.2,6,   2359.5,2,   7.6311,2,    25.00,   -999.0,9,   -999.0,  -999.00,9,  -999.00,  -999.00,9,   2.4588,2