BOTTLE,20141204PRINUNIVRMK
EXPOCODE,SECT_ID,STNNBR,CASTNO,SAMPNO,BTLNBR,BTLNBR_FLAG_W,DATE,TIME,LATITUDE,LONGITUDE,DEPTH,CTDPRS,CTDTMP,CTDSAL,CTDSAL_FLAG_W,SALNTY,SALNTY_FLAG_W,CTDOXY,CTDOXY_FLAG_W,OXYGEN,OXYGEN_FLAG_W,SILCAT,SILCAT_FLAG_W,NITRAT,NITRAT_FLAG_W,NITRIT,NITRIT_FLAG_W,PHSPHT,PHSPHT_FLAG_W,CFC-11,CFC-11_FLAG_W,CFC-12,CFC-12_FLAG_W,CFC113,CFC113_FLAG_W,TCARBN,TCARBN_FLAG_W,ALKALI,ALKALI_FLAG_W,PH_TOT,PH_TOT_FLAG_W,PH_TMP,DELC14,DELC14_FLAG_W,C14ERR,DELC13,DELC13_FLAG_W,CS-137,CS137ER,CS-137_FLAG_W,SBE35,SBE35_FLAG_W
,,,,,,,,,,,METERS,DBAR,ITS-90,PSS-78,,PSS-78,,UMOL/KG,,UMOL/KG,,UMOL/KG,,UMOL/KG,,UMOL/KG,,UMOL/KG,,PMOL/KG,,PMOL/KG,,PMOL/KG,,UMOL/KG,,UMOL/KG,,,,DEG C,/MILLE,,/MILLE,/MILLE,,DM/.1MG,DM/.1MG,,ITS-90,
  49NZ20031209,  I3I4,   537,  1,     36,  12024,2,20031225,0643,-20.3540,  58.1483, 4333,     10.5,  26.7771,  35.0503,2,  35.0518,2,    196.3,1,    205.3,2,     1.95,3,     0.01,2,     0.01,2,     0.12,2,    1.673,2,    1.046,2, -999.000,5,   1973.3,2,   2295.5,2,   7.8328,4,    25.00,   -999.0,9,   -999.0,  -999.00,9,  -999.00,  -999.00,9,  26.7734,2
  49NZ20031209,  I3I4,   537,  1,     35,  12023,2,20031225,0643,-20.3540,  58.1483, 4333,     51.6,  25.2971,  34.9750,2,  34.9751,2,    206.2,1,    215.4,2,     1.99,3,    -0.01,2,     0.00,2,     0.12,2,    1.805,2,    1.101,2, -999.000,5,   1968.2,2,   2287.7,2,   7.8312,4,    25.00,   -999.0,9,   -999.0,  -999.00,9,  -999.00,  -999.00,9,  25.2952,2
  49NZ20031209,  I3I4,   537,  1,     34,  12022,2,20031225,0643,-20.3540,  58.1483, 4333,    101.1,  22.7464,  35.1159,2,  35.1122,2,    204.5,1,    214.1,2,     2.15,3,    -0.02,2,     0.00,2,     0.15,2,    1.895,2,    1.169,2, -999.000,5,   1985.0,2,   2297.9,6,   7.8169,4,    25.00,   -999.0,9,   -999.0,  -999.00,9,  -999.00,  -999.00,9,  22.7513,2
  49NZ20031209,  I3I4,   537,  1,     33,  12015,2,20031225,0643,-20.3540,  58.1483, 4333,    151.5,  21.2354,  35.3902,2,  35.3903,2,    180.2,1,    188.4,2,     3.48,3,     2.82,2,     0.04,2,     0.33,2,    1.946,2,    1.183,2,    0.339,4,   2031.8,2,   2314.0,2,   7.7688,4,    25.00,   -999.0,9,   -999.0,  -999.00,9,  -999.00,  -999.00,9,  21.2350,2
  49NZ20031209,  I3I4,   537,  1,     32,  12020,2,20031225,0643,-20.3540,  58.1483, 4333,    202.9,  19.4184,  35.6345,2,  35.6360,2,    173.2,1,    180.4,2,     4.53,3,     4.48,2,     0.01,2,     0.44,2,    2.070,2,    1.227,2,    0.148,4,   2071.6,2,   2329.7,2,   7.7254,4,    25.00,   -999.0,9,   -999.0,  -999.00,9,  -999.00,  -999.00,9,  19.4223,2
  49NZ20031209,  I3I4,   537,  1,     31,  12019,2,20031225,0643,-20.3540,  58.1483, 4333,    249.8,  18.1176,  35.7498,2,  35.7485,2,    191.3,1,    199.2,2,     3.14,3,     3.12,2,     0.01,2,     0.37,2,    2.272,6,    1.344,6,    0.158,4,   2079.4,2,   2343.8,2,   7.7226,4,    25.00,   -999.0,9,   -999.0,  -999.00,9,  -999.00,  -999.00,9,  18.1182,2
  49NZ20031209,  I3I4,   537,  1,     30,  12018,2,20031225,0643,-20.3540,  58.1483, 4333,    301.5,  16.4198,  35.6839,2,  35.6858,2,    198.1,1,    206.2,2,     2.78,3,     3.89,2,     0.01,2,     0.43,2,    2.508,2,    1.437,2,    0.119,4,   2092.4,2,   2336.5,2,   7.7018,4,    25.00,   -999.0,9,   -999.0,  -999.00,9,  -999.00,  -999.00,9,  16.4207,2
  49NZ20031209,  I3I4,   537,  1,     29,  12021,2,20031225,0643,-20.3540,  58.1483, 4333,    401.8,  13.5836,  35.3450,2,  35.3442,2,    208.4,1,    216.5,2,     3.45,3,     7.84,2,     0.01,2,     0.66,2,    2.803,2,    1.554,2,    0.017,4,   2106.9,2,   2319.0,2,   7.6488,4,    25.00,   -999.0,9,   -999.0,  -999.00,9,  -999.00,  -999.00,9,  13.5852,2
  49NZ20031209,  I3I4,   537,  1,     28,  12016,2,20031225,0643,-20.3540,  58.1483, 4333,    502.5,  11.5125,  35.0348,2,  35.0375,2,    217.9,1,    226.4,2,     4.15,3,    11.72,2,     0.00,2,     0.89,2,    3.048,2,    1.614,2,    0.090,4,   2114.9,2,   2308.2,2,   7.6123,4,    25.00,   -999.0,9,   -999.0,  -999.00,9,  -999.00,  -999.00,9,  11.5131,2
  49NZ20031209,  I3I4,   537,  1,     27,  12012,2,20031225,0643,-20.3540,  58.1483, 4333,    601.6,  10.2620,  34.8454,2,  34.8452,2,    221.2,1,    230.0,2,     4.54,3,    14.46,2,     0.00,2,     1.06,2,    3.005,2,    1.616,2,    0.162,4,   2120.0,2,   2297.5,2,   7.5902,4,    25.00,   -999.0,9,   -999.0,  -999.00,9,  -999.00,  -999.00,9,  10.2623,2
  49NZ20031209,  I3I4,   537,  1,     26,  12014,2,20031225,0643,-20.3540,  58.1483, 4333,    702.2,   8.7820,  34.6602,2,  34.6620,2,    206.0,1,    214.9,2,     9.58,3,    19.63,2,     0.00,2,     1.38,2,    2.333,2,    1.266,2,    0.131,4,   2137.7,6,   2287.9,2,   7.5386,4,    25.00,   -999.0,9,   -999.0,  -999.00,9,  -999.00,  -999.00,9,   8.7833,2
  49NZ20031209,  I3I4,   537,  1,     25,  12013,2,20031225,0643,-20.3540,  58.1483, 4333,    803.0,   7.2806,  34.5341,2,  34.5320,2,    186.2,1,    192.8,2,    19.92,3,    25.44,2,     0.00,2,     1.76,2,    1.300,2,    0.698,2,    0.043,4,   2167.7,2,   2291.8,6,   7.4851,4,    25.00,   -999.0,9,   -999.0,  -999.00,9,  -999.00,  -999.00,9,   7.2804,2
  49NZ20031209,  I3I4,   537,  1,     24,  12048,2,20031225,0643,-20.3540,  58.1483, 4333,    902.8,   5.9535,  34.4795,2,  34.4796,2,    168.6,1,    175.4,2,    33.30,3,    29.62,2,     0.00,2,     2.05,2,    0.641,2,    0.403,2,    0.000,4,   2193.8,2,   2300.0,2,   7.4333,4,    25.00,   -999.0,9,   -999.0,  -999.00,9,  -999.00,  -999.00,9,   5.9538,2
  49NZ20031209,  I3I4,   537,  1,     23,  12047,2,20031225,0643,-20.3540,  58.1483, 4333,   4251.9,   1.2494,  34.7148,2,  34.7153,2,    188.1,1,    193.4,2,   124.37,3,    33.10,2,    -0.01,2,     2.30,2,    0.011,2,    0.006,2,    0.000,4,   2277.4,2,   2374.3,2,   7.6227,2,    25.00,   -999.0,9,   -999.0,  -999.00,9,  -999.00,  -999.00,9,   1.2492,2
  49NZ20031209,  I3I4,   537,  1,     22,  12046,2,20031225,0643,-20.3540,  58.1483, 4333,   1202.9,   4.3899,  34.5980,2,  34.5980,2,    127.9,1,    132.6,2,    74.09,3,    34.97,2,     0.01,2,     2.48,2,    0.055,2,    0.036,2,    0.000,4,   2261.1,2,   2341.9,2,   7.5699,2,    25.00,   -999.0,9,   -999.0,  -999.00,9,  -999.00,  -999.00,9,   4.3897,2
  49NZ20031209,  I3I4,   537,  1,     21,  12045,2,20031225,0643,-20.3540,  58.1483, 4333,   1403.0,   3.5242,  34.6294,2,  34.6294,2,    139.0,1,    144.2,2,    81.92,3,    34.74,2,    -0.01,2,     2.45,2,    0.020,2,    0.012,2,    0.000,4,   2268.2,2,   2348.9,2,   7.5751,2,    25.00,   -999.0,9,   -999.0,  -999.00,9,  -999.00,  -999.00,9,   3.5246,2
  49NZ20031209,  I3I4,   537,  1,     20,  12044,2,20031225,0643,-20.3540,  58.1483, 4333,   1601.2,   2.9815,  34.6572,2,  34.6572,2,    150.2,1,    156.6,2,    86.71,3,    34.06,2,     0.00,2,     2.40,2,    0.020,2,    0.009,2,    0.000,4,   2266.8,2,   2350.0,2,   7.5894,2,    25.00,   -999.0,9,   -999.0,  -999.00,9,  -999.00,  -999.00,9,   2.9816,2
  49NZ20031209,  I3I4,   537,  1,     19,  12043,2,20031225,0643,-20.3540,  58.1483, 4333,   1802.0,   2.5906,  34.6968,2,  34.6964,2,    155.9,1,    162.6,2,    94.67,3,    33.52,2,    -0.01,2,     2.36,2,    0.000,2,    0.002,2,    0.000,4,   2272.0,2,   2359.0,2,   7.5955,2,    25.00,   -999.0,9,   -999.0,  -999.00,9,  -999.00,  -999.00,9,   2.5908,2
  49NZ20031209,  I3I4,   537,  1,     18,  12042,2,20031225,0643,-20.3540,  58.1483, 4333,   2001.2,   2.3334,  34.7202,2,  34.7196,2,    157.4,1,    164.4,2,   103.68,3,    33.57,2,    -0.01,2,     2.36,2,   -0.001,2,   -0.002,2,    0.000,4,   2277.9,2,   2374.0,2,   7.6011,6,    25.00,   -999.0,9,   -999.0,  -999.00,9,  -999.00,  -999.00,9,   2.3333,2
  49NZ20031209,  I3I4,   537,  1,     17,  12041,2,20031225,0643,-20.3540,  58.1483, 4333,   2201.6,   2.1650,  34.7291,2,  34.7294,2,    157.8,1,    164.8,2,   109.91,3,    33.73,2,    -0.01,2,     2.37,2,   -0.005,2,    0.000,2,    0.000,4,   2285.6,2,   2381.3,2,   7.6025,2,    25.00,   -999.0,9,   -999.0,  -999.00,9,  -999.00,  -999.00,9,   2.1649,2
  49NZ20031209,  I3I4,   537,  1,     16,  12040,2,20031225,0643,-20.3540,  58.1483, 4333,   2401.7,   2.0627,  34.7327,2,  34.7325,2,    157.8,1,    164.8,2,   114.29,3,    33.88,2,     0.01,2,     2.38,2,   -0.002,2,    0.002,2,    0.000,4,   2288.3,6,   2386.4,2,   7.6015,2,    25.00,   -999.0,9,   -999.0,  -999.00,9,  -999.00,  -999.00,9,   2.0625,2
  49NZ20031209,  I3I4,   537,  1,     15,  12039,2,20031225,0643,-20.3540,  58.1483, 4333,   2599.6,   1.9597,  34.7348,2,  34.7351,2,    157.9,1,    164.5,2,   118.76,3,    34.07,2,     0.00,2,     2.39,2,    0.004,2,    0.005,2,    0.000,4,   2293.9,2,   2385.0,6,   7.6049,2,    25.00,   -999.0,9,   -999.0,  -999.00,9,  -999.00,  -999.00,9,   1.9596,2
  49NZ20031209,  I3I4,   537,  1,     14,  12038,2,20031225,0643,-20.3540,  58.1483, 4333,   2801.7,   1.8604,  34.7345,2,  34.7347,2,    159.3,1,    166.0,2,   121.59,3,    34.17,2,     0.00,2,     2.40,2,    0.003,2,    0.001,2,    0.006,4,   2294.2,2,   2390.3,2,   7.6046,2,    25.00,   -999.0,9,   -999.0,  -999.00,9,  -999.00,  -999.00,9,   1.8604,2
  49NZ20031209,  I3I4,   537,  1,     13,  12037,2,20031225,0643,-20.3540,  58.1483, 4333,   2999.7,   1.7961,  34.7332,2,  34.7332,2,    161.4,1,    168.0,2,   122.91,3,    34.13,2,    -0.01,2,     2.39,2,    0.005,2,   -0.001,2,    0.000,4,   2294.9,2,   2391.4,2,   7.6070,2,    25.00,   -999.0,9,   -999.0,  -999.00,9,  -999.00,  -999.00,9,   1.7960,2
  49NZ20031209,  I3I4,   537,  1,     12,  12036,2,20031225,0643,-20.3540,  58.1483, 4333,   3250.6,   1.6335,  34.7270,2,  34.7265,2,    168.9,1,    175.5,2,   122.83,3,    33.71,2,     0.01,2,     2.35,2,   -0.006,2,   -0.004,2,    0.000,4,   2290.2,2,   2388.8,2,   7.6110,2,    25.00,   -999.0,9,   -999.0,  -999.00,9,  -999.00,  -999.00,9,   1.6334,2
  49NZ20031209,  I3I4,   537,  1,     11,  12035,2,20031225,0643,-20.3540,  58.1483, 4333,   3500.8,   1.5518,  34.7244,2,  34.7244,2,    172.8,1,    179.4,2,   123.45,3,    33.67,2,    -0.01,2,     2.35,2,   -0.002,2,    0.001,2,    0.000,4,   2288.1,2,   2382.0,2,   7.6135,2,    25.00,   -999.0,9,   -999.0,  -999.00,9,  -999.00,  -999.00,9,   1.5516,2
  49NZ20031209,  I3I4,   537,  1,     10,  12034,2,20031225,0643,-20.3540,  58.1483, 4333,   3751.1,   1.4470,  34.7216,2,  34.7210,2,    177.6,1,    184.0,2,   124.44,3,    33.55,2,    -0.01,2,     2.34,2,    0.002,2,   -0.001,2,    0.000,4,   2283.0,2,   2385.6,2,   7.6158,2,    25.00,   -999.0,9,   -999.0,  -999.00,9,  -999.00,  -999.00,9,   1.4470,2
  49NZ20031209,  I3I4,   537,  1,      9,  12033,2,20031225,0643,-20.3540,  58.1483, 4333,   4001.1,   1.3252,  34.7175,2,  34.7176,2,    183.6,1,    189.6,2,   124.38,3,    33.23,2,     0.00,2,     2.32,2,    0.001,2,   -0.001,2,    0.000,4,   2278.1,2,   2381.5,2,   7.6170,2,    25.00,   -999.0,9,   -999.0,  -999.00,9,  -999.00,  -999.00,9,   1.3251,2
  49NZ20031209,  I3I4,   537,  1,      8,  12032,2,20031225,0643,-20.3540,  58.1483, 4333,   4251.3,   1.2498,  34.7149,2,  34.7149,2,    188.1,1,    193.3,2,   124.57,3,    33.14,2,    -0.01,2,     2.31,2,    0.007,2,    0.000,2,    0.000,4,   2276.6,6,   2373.7,2,   7.6164,2,    25.00,   -999.0,9,   -999.0,  -999.00,9,  -999.00,  -999.00,9,   1.2497,2
  49NZ20031209,  I3I4,   537,  1,      7,  12031,2,20031225,0643,-20.3540,  58.1483, 4333,   4398.9,   1.1933,  34.7127,2,  34.7127,2,    191.7,1,    196.2,2,   124.49,3,    33.01,2,     0.01,2,     2.30,2,    0.020,2,    0.006,2,    0.000,4,   2274.9,2,   2371.1,6,   7.6170,2,    25.00,   -999.0,9,   -999.0,  -999.00,9,  -999.00,  -999.00,9,   1.1936,2
  49NZ20031209,  I3I4,   537,  1,      6,  12030,9,20031225,0643,-20.3540,  58.1483, 4333,     10.4,  26.7652,  35.0499,2,-999.0000,9,    196.3,1,   -999.0,9,  -999.00,9,  -999.00,9,  -999.00,9,  -999.00,9, -999.000,9, -999.000,9, -999.000,9,   -999.0,9,   -999.0,9,-999.0000,9,  -999.00,   -999.0,9,   -999.0,  -999.00,9,  -999.00,  -999.00,9,  26.7660,2
  49NZ20031209,  I3I4,   537,  1,      5,  12029,9,20031225,0643,-20.3540,  58.1483, 4333,     10.4,  26.7622,  35.0502,2,-999.0000,9,    196.3,1,   -999.0,9,  -999.00,9,  -999.00,9,  -999.00,9,  -999.00,9, -999.000,9, -999.000,9, -999.000,9,   -999.0,9,   -999.0,9,-999.0000,9,  -999.00,   -999.0,9,   -999.0,  -999.00,9,  -999.00,  -999.00,9,  26.7637,2
  49NZ20031209,  I3I4,   537,  1,      4,  12028,9,20031225,0643,-20.3540,  58.1483, 4333,     10.4,  26.7639,  35.0498,2,-999.0000,9,    196.6,1,   -999.0,9,  -999.00,9,  -999.00,9,  -999.00,9,  -999.00,9, -999.000,9, -999.000,9, -999.000,9,   -999.0,9,   -999.0,9,-999.0000,9,  -999.00,   -999.0,9,   -999.0,  -999.00,9,  -999.00,  -999.00,9,  26.7623,2
  49NZ20031209,  I3I4,   537,  1,      3,  12027,9,20031225,0643,-20.3540,  58.1483, 4333,    136.0,  21.7143,  35.3124,2,-999.0000,9,    199.6,1,   -999.0,9,  -999.00,9,  -999.00,9,  -999.00,9,  -999.00,9, -999.000,9, -999.000,9, -999.000,9,   -999.0,9,   -999.0,9,-999.0000,9,  -999.00,   -999.0,9,   -999.0,  -999.00,9,  -999.00,  -999.00,9,  21.7058,2
  49NZ20031209,  I3I4,   537,  1,      2,  12026,9,20031225,0643,-20.3540,  58.1483, 4333,   4251.1,   1.2486,  34.7147,2,-999.0000,9,    188.1,1,   -999.0,9,  -999.00,9,  -999.00,9,  -999.00,9,  -999.00,9, -999.000,9, -999.000,9, -999.000,9,   -999.0,9,   -999.0,9,-999.0000,9,  -999.00,   -999.0,9,   -999.0,  -999.00,9,  -999.00,  -999.00,9,   1.2487,2
  49NZ20031209,  I3I4,   537,  1,      1,  12025,2,20031225,0643,-20.3540,  58.1483, 4333,   1003.9,   5.0065,  34.4908,2,  34.4899,2,    152.1,1,    157.8,2,    49.92,3,    32.75,2,    -0.01,2,     2.29,2,    0.306,6,    0.177,6,    0.031,4,   2224.1,2,   2313.8,2,   7.6024,2,    25.00,   -999.0,9,   -999.0,  -999.00,9,  -999.00,  -999.00,9,   5.0066,2