BOTTLE,20141204PRINUNIVRMK
EXPOCODE,SECT_ID,STNNBR,CASTNO,SAMPNO,BTLNBR,BTLNBR_FLAG_W,DATE,TIME,LATITUDE,LONGITUDE,DEPTH,CTDPRS,CTDTMP,CTDSAL,CTDSAL_FLAG_W,SALNTY,SALNTY_FLAG_W,CTDOXY,CTDOXY_FLAG_W,OXYGEN,OXYGEN_FLAG_W,SILCAT,SILCAT_FLAG_W,NITRAT,NITRAT_FLAG_W,NITRIT,NITRIT_FLAG_W,PHSPHT,PHSPHT_FLAG_W,CFC-11,CFC-11_FLAG_W,CFC-12,CFC-12_FLAG_W,CFC113,CFC113_FLAG_W,TCARBN,TCARBN_FLAG_W,ALKALI,ALKALI_FLAG_W,PH_TOT,PH_TOT_FLAG_W,PH_TMP,DELC14,DELC14_FLAG_W,C14ERR,DELC13,DELC13_FLAG_W,CS-137,CS137ER,CS-137_FLAG_W,SBE35,SBE35_FLAG_W
,,,,,,,,,,,METERS,DBAR,ITS-90,PSS-78,,PSS-78,,UMOL/KG,,UMOL/KG,,UMOL/KG,,UMOL/KG,,UMOL/KG,,UMOL/KG,,PMOL/KG,,PMOL/KG,,PMOL/KG,,UMOL/KG,,UMOL/KG,,,,DEG C,/MILLE,,/MILLE,/MILLE,,DM/.1MG,DM/.1MG,,ITS-90,
  49NZ20031209,  I3I4,   586,  1,     36,  12024,2,20031217,0836,-24.6657,  43.8025, 1963,      9.8,  28.1244,  35.2455,2,  35.2433,2,    192.2,1,    201.7,2,     1.26,2,     0.00,2,     0.00,2,     0.13,2,    1.732,2,    0.959,2, -999.000,5,   1973.9,2,   2299.9,2,   8.0909,2,    25.00,   -999.0,9,   -999.0,  -999.00,9,  -999.00,  -999.00,9,  28.1239,2
  49NZ20031209,  I3I4,   586,  1,     35,  12023,2,20031217,0836,-24.6657,  43.8025, 1963,     50.2,  26.6706,  35.1926,2,  35.1920,2,    198.6,1,    211.1,2,     1.90,2,     0.00,2,     0.00,2,     0.15,2,    1.857,2,    1.009,2, -999.000,5,   1977.0,6,   2309.4,2,   8.0821,2,    25.00,   -999.0,9,   -999.0,  -999.00,9,  -999.00,  -999.00,9,  26.6693,2
  49NZ20031209,  I3I4,   586,  1,     34,  12022,2,20031217,0836,-24.6657,  43.8025, 1963,     99.6,  24.8765,  35.2020,2,  35.2039,2,    196.4,1,    205.4,2,     2.22,2,     0.01,2,     0.11,2,     0.17,2,    1.923,2,    1.060,2, -999.000,5,   1990.5,2,   2301.3,6,   8.0626,2,    25.00,   -999.0,9,   -999.0,  -999.00,9,  -999.00,  -999.00,9,  24.8761,2
  49NZ20031209,  I3I4,   586,  1,     33,  12015,2,20031217,0836,-24.6657,  43.8025, 1963,    150.0,  20.8547,  35.4163,2,  35.4139,2,    186.7,1,    196.1,2,     3.20,2,     1.41,2,     0.29,2,     0.29,2,    2.202,2,    1.202,2,    0.205,4,   2036.6,2,   2317.8,2,   8.0043,2,    25.00,   -999.0,9,   -999.0,  -999.00,9,  -999.00,  -999.00,9,  20.8475,2
  49NZ20031209,  I3I4,   586,  1,     32,  12020,2,20031217,0836,-24.6657,  43.8025, 1963,    200.0,  18.8026,  35.5665,2,  35.5655,2,    173.2,1,    180.4,2,     5.25,2,     5.34,2,     0.02,2,     0.48,2,    2.317,2,    1.245,2,    0.179,4,   2077.9,2,   2327.5,2,   7.9484,2,    25.00,   -999.0,9,   -999.0,  -999.00,9,  -999.00,  -999.00,9,  18.8033,2
  49NZ20031209,  I3I4,   586,  1,     31,  12019,2,20031217,0836,-24.6657,  43.8025, 1963,    247.2,  17.5520,  35.5956,2,  35.5956,2,    176.4,1,    183.9,2,     5.53,2,     5.93,2,     0.01,2,     0.52,2,    2.403,2,    1.295,2,    0.130,4,   2091.8,2,   2329.7,2,   7.9280,2,    25.00,   -999.0,9,   -999.0,  -999.00,9,  -999.00,  -999.00,9,  17.5515,2
  49NZ20031209,  I3I4,   586,  1,     30,  12018,2,20031217,0836,-24.6657,  43.8025, 1963,    300.1,  15.6566,  35.5034,2,  35.5022,2,    188.1,1,    195.6,2,     5.14,2,     7.04,2,     0.01,2,     0.60,2,    2.714,2,    1.409,2,    0.065,4,   2102.4,2,   2325.4,2,   7.9007,2,    25.00,   -999.0,9,   -999.0,  -999.00,9,  -999.00,  -999.00,9,  15.6561,2
  49NZ20031209,  I3I4,   586,  1,     29,  12017,2,20031217,0836,-24.6657,  43.8025, 1963,    399.3,  13.0709,  35.2601,2,  35.2615,2,    213.8,1,    222.1,2,     3.70,2,     8.94,2,     0.01,2,     0.71,2,    3.149,2,    1.598,2,    0.067,4,   2109.0,2,   2315.6,2,   7.8719,2,    25.00,   -999.0,9,   -999.0,  -999.00,9,  -999.00,  -999.00,9,  13.0696,2
  49NZ20031209,  I3I4,   586,  1,     28,  12016,2,20031217,0836,-24.6657,  43.8025, 1963,    500.6,  11.6089,  35.0420,2,  35.0408,2,    216.7,1,    224.8,2,     4.35,2,    11.91,2,     0.01,2,     0.89,2,    3.199,2,    1.598,2,    0.091,4,   2116.2,2,   2305.2,2,   7.8401,2,    25.00,   -999.0,9,   -999.0,  -999.00,9,  -999.00,  -999.00,9,  11.6095,2
  49NZ20031209,  I3I4,   586,  1,     24,  12048,2,20031217,0836,-24.6657,  43.8025, 1963,      5.6,  28.1265,  35.2478,2,-999.0000,9,    192.2,1,   -999.0,9,  -999.00,9,  -999.00,9,  -999.00,9,  -999.00,9, -999.000,9, -999.000,9, -999.000,9,   -999.0,9,   -999.0,9,-999.0000,9,  -999.00,   -999.0,9,   -999.0,  -999.00,9,  -999.00,  -999.00,9,  28.1264,2
  49NZ20031209,  I3I4,   586,  1,     23,  12047,2,20031217,0836,-24.6657,  43.8025, 1963,      5.5,  28.1294,  35.2483,2,-999.0000,9,    192.2,1,   -999.0,9,  -999.00,9,  -999.00,9,  -999.00,9,  -999.00,9, -999.000,9, -999.000,9, -999.000,9,   -999.0,9,   -999.0,9,-999.0000,9,  -999.00,   -999.0,9,   -999.0,  -999.00,9,  -999.00,  -999.00,9,  28.1294,2
  49NZ20031209,  I3I4,   586,  1,     22,  12046,2,20031217,0836,-24.6657,  43.8025, 1963,     64.4,  26.4215,  35.1998,2,-999.0000,9,    198.3,1,   -999.0,9,  -999.00,9,  -999.00,9,  -999.00,9,  -999.00,9, -999.000,9, -999.000,9, -999.000,9,   -999.0,9,   -999.0,9,-999.0000,9,  -999.00,   -999.0,9,   -999.0,  -999.00,9,  -999.00,  -999.00,9,  26.4181,2
  49NZ20031209,  I3I4,   586,  1,     18,  12042,2,20031217,0836,-24.6657,  43.8025, 1963,    598.0,   9.6390,  34.7791,2,  34.7770,2,    208.1,1,    215.7,2,     8.63,2,    17.28,2,     0.00,2,     1.23,2,    2.729,2,    1.293,2,    0.079,4,   2133.6,2,   2297.7,2,   7.7821,2,    25.00,   -999.0,9,   -999.0,  -999.00,9,  -999.00,  -999.00,9,   9.6396,2
  49NZ20031209,  I3I4,   586,  1,     17,  12041,2,20031217,0836,-24.6657,  43.8025, 1963,    700.4,   8.2696,  34.6393,2,  34.6395,2,    193.2,1,    200.4,2,    15.43,2,    22.00,2,     0.00,2,     1.53,2,    2.010,2,    0.955,2,    0.053,4,   2154.3,6,   2296.6,2,   7.7313,2,    25.00,   -999.0,9,   -999.0,  -999.00,9,  -999.00,  -999.00,9,   8.2705,2
  49NZ20031209,  I3I4,   586,  1,     16,  12040,2,20031217,0836,-24.6657,  43.8025, 1963,    800.6,   7.1143,  34.5619,2,  34.5622,2,    179.8,1,    186.5,2,    24.18,2,    25.86,2,     0.00,2,     1.80,2,    1.473,2,    0.693,2,    0.037,4,   2178.5,2,   2299.1,6,   7.6859,2,    25.00,   -999.0,9,   -999.0,  -999.00,9,  -999.00,  -999.00,9,   7.1154,2
  49NZ20031209,  I3I4,   586,  1,     15,  12039,2,20031217,0836,-24.6657,  43.8025, 1963,    900.6,   5.9609,  34.5343,2,  34.5345,2,    167.2,1,    172.6,2,    36.99,2,    29.41,2,     0.00,2,     2.06,2,    1.054,2,    0.493,2,    0.024,4,   2204.6,2,   2310.0,2,   7.6417,6,    25.00,   -999.0,9,   -999.0,  -999.00,9,  -999.00,  -999.00,9,   5.9589,2
  49NZ20031209,  I3I4,   586,  1,     14,  12038,2,20031217,0836,-24.6657,  43.8025, 1963,   1000.3,   5.7037,  34.6633,2,  34.6633,2,    128.1,1,    131.8,2,    56.76,2,    32.84,2,     0.00,2,     2.34,2,    0.430,6,    0.188,6,    0.018,4,   2243.9,2,   2326.5,2,   7.5870,2,    25.00,   -999.0,9,   -999.0,  -999.00,9,  -999.00,  -999.00,9,   5.7038,2
  49NZ20031209,  I3I4,   586,  1,     13,  12037,2,20031217,0836,-24.6657,  43.8025, 1963,   1800.5,   3.0993,  34.7425,2,  34.7422,2,    152.5,1,    156.5,2,    85.59,2,    32.66,2,     0.00,2,     2.31,2,    0.037,2,    0.011,2,   -0.001,4,   2267.0,2,   2367.2,2,   7.5985,2,    25.00,   -999.0,9,   -999.0,  -999.00,9,  -999.00,  -999.00,9,   3.0994,2
  49NZ20031209,  I3I4,   586,  1,     12,  12036,2,20031217,0836,-24.6657,  43.8025, 1963,   1400.5,   4.5019,  34.7407,2,  34.7405,2,    118.1,1,    120.5,2,    80.47,2,    34.65,2,     0.00,2,     2.49,2,    0.093,2,    0.035,2,    0.009,4,   2277.9,2,   2354.6,2,   7.5666,2,    25.00,   -999.0,9,   -999.0,  -999.00,9,  -999.00,  -999.00,9,   4.5022,2
  49NZ20031209,  I3I4,   586,  1,     11,  12035,2,20031217,0836,-24.6657,  43.8025, 1963,   1601.0,   3.7195,  34.7357,2,  34.7361,2,    134.5,1,    137.9,2,    84.80,2,    33.88,2,     0.00,2,     2.41,2,    0.054,2,    0.021,2,   -0.001,4,   2277.1,2,   2354.4,2,   7.5783,2,    25.00,   -999.0,9,   -999.0,  -999.00,9,  -999.00,  -999.00,9,   3.7194,2
  49NZ20031209,  I3I4,   586,  1,     10,  12034,2,20031217,0836,-24.6657,  43.8025, 1963,   1800.5,   3.0989,  34.7425,2,  34.7426,2,    152.7,1,    156.8,2,    85.68,2,    32.74,2,     0.00,2,     2.30,2,    0.034,2,    0.009,2,   -0.001,4,   2269.9,2,   2359.7,2,   7.5986,2,    25.00,   -999.0,9,   -999.0,  -999.00,9,  -999.00,  -999.00,9,   3.0994,2
  49NZ20031209,  I3I4,   586,  1,      9,  12033,2,20031217,0836,-24.6657,  43.8025, 1963,   2014.3,   2.6887,  34.7569,2,  34.7575,2,    168.4,1,    172.6,2,    84.30,2,    31.32,2,     0.00,2,     2.20,2,    0.019,2,    0.006,2,   -0.001,4,   2261.6,2,   2356.3,2,   7.6188,6,    25.00,   -999.0,9,   -999.0,  -999.00,9,  -999.00,  -999.00,9,   2.6883,2
  49NZ20031209,  I3I4,   586,  1,      1,  12025,2,20031217,0836,-24.6657,  43.8025, 1963,   1201.6,   4.9928,  34.7277,2,-999.0000,9,    115.5,1,    118.4,2,    73.15,2,    34.40,2,     0.00,2,     2.47,2,    0.161,2,    0.069,2,    0.000,4,   2270.5,2,   2346.3,2,   7.5672,2,    25.00,   -999.0,9,   -999.0,  -999.00,9,  -999.00,  -999.00,9,   4.9932,2
  49NZ20031209,  I3I4,   585,  1,     36,  12024,2,20031217,1123,-24.6662,  43.8688, 1164,     10.3,  28.0887,  35.2312,2,  35.2302,2,    191.7,1,    201.0,2,     1.74,2,     0.00,2,     0.00,2,     0.14,2, -999.000,9, -999.000,9, -999.000,9,   -999.0,9,   -999.0,9,-999.0000,9,  -999.00,   -999.0,9,   -999.0,  -999.00,9,  -999.00,  -999.00,9,  28.0860,2
  49NZ20031209,  I3I4,   585,  1,     35,  12023,2,20031217,1123,-24.6662,  43.8688, 1164,     50.6,  27.3231,  35.2224,2,  35.2236,2,    197.3,1,    206.8,2,     1.82,2,    -0.02,2,     0.00,2,     0.13,2, -999.000,9, -999.000,9, -999.000,9,   -999.0,9,   -999.0,9,-999.0000,9,  -999.00,   -999.0,9,   -999.0,  -999.00,9,  -999.00,  -999.00,9,  27.3204,2
  49NZ20031209,  I3I4,   585,  1,     34,  12022,2,20031217,1123,-24.6662,  43.8688, 1164,    101.3,  25.3242,  35.1983,2,  35.2000,2,    196.9,1,    206.6,2,     2.11,2,     0.09,2,     0.05,2,     0.16,2, -999.000,9, -999.000,9, -999.000,9,   -999.0,9,   -999.0,9,-999.0000,9,  -999.00,   -999.0,9,   -999.0,  -999.00,9,  -999.00,  -999.00,9,  25.3192,2
  49NZ20031209,  I3I4,   585,  1,     33,  12015,2,20031217,1123,-24.6662,  43.8688, 1164,    150.0,  21.3101,  35.3898,2,  35.3908,2,    197.2,1,    206.6,2,     2.41,2,     0.38,2,     0.12,2,     0.22,2, -999.000,9, -999.000,9, -999.000,9,   -999.0,9,   -999.0,9,-999.0000,9,  -999.00,   -999.0,9,   -999.0,  -999.00,9,  -999.00,  -999.00,9,  21.3076,2
  49NZ20031209,  I3I4,   585,  1,     32,  12020,2,20031217,1123,-24.6662,  43.8688, 1164,    201.3,  19.0644,  35.5515,2,  35.5516,2,    170.3,1,    177.4,2,     5.19,2,     5.47,2,     0.04,2,     0.48,2, -999.000,9, -999.000,9, -999.000,9,   -999.0,9,   -999.0,9,-999.0000,9,  -999.00,   -999.0,9,   -999.0,  -999.00,9,  -999.00,  -999.00,9,  19.0597,2
  49NZ20031209,  I3I4,   585,  1,     31,  12019,2,20031217,1123,-24.6662,  43.8688, 1164,    250.5,  17.1255,  35.5927,2,  35.5933,2,    183.3,1,    191.1,2,     4.99,2,     5.68,2,     0.01,2,     0.50,2, -999.000,9, -999.000,9, -999.000,9,   -999.0,9,   -999.0,9,-999.0000,9,  -999.00,   -999.0,9,   -999.0,  -999.00,9,  -999.00,  -999.00,9,  17.1303,2
  49NZ20031209,  I3I4,   585,  1,     30,  12018,2,20031217,1123,-24.6662,  43.8688, 1164,    301.0,  15.7256,  35.5162,2,  35.5174,2,    187.9,1,    195.4,2,     5.05,2,     6.83,2,     0.02,2,     0.59,2, -999.000,9, -999.000,9, -999.000,9,   -999.0,9,   -999.0,9,-999.0000,9,  -999.00,   -999.0,9,   -999.0,  -999.00,9,  -999.00,  -999.00,9,  15.7309,2
  49NZ20031209,  I3I4,   585,  1,     18,  12042,2,20031217,1123,-24.6662,  43.8688, 1164,    401.2,  12.8208,  35.2197,2,  35.2233,2,    212.4,1,    220.6,2,     4.19,2,     9.65,2,     0.01,2,     0.76,2, -999.000,9, -999.000,9, -999.000,9,   -999.0,9,   -999.0,9,-999.0000,9,  -999.00,   -999.0,9,   -999.0,  -999.00,9,  -999.00,  -999.00,9,  12.8162,2
  49NZ20031209,  I3I4,   585,  1,     17,  12041,2,20031217,1123,-24.6662,  43.8688, 1164,    499.9,  11.0974,  34.9716,2,  34.9675,2,    214.5,1,    222.5,2,     5.31,2,    13.27,2,     0.01,2,     0.98,2, -999.000,9, -999.000,9, -999.000,9,   -999.0,9,   -999.0,9,-999.0000,9,  -999.00,   -999.0,9,   -999.0,  -999.00,9,  -999.00,  -999.00,9,  11.0992,2
  49NZ20031209,  I3I4,   585,  1,     16,  12040,2,20031217,1123,-24.6662,  43.8688, 1164,    600.3,   9.7340,  34.7854,2,  34.7858,2,    210.5,1,    217.9,2,     7.73,2,    16.87,2,     0.00,2,     1.21,2, -999.000,9, -999.000,9, -999.000,9,   -999.0,9,   -999.0,9,-999.0000,9,  -999.00,   -999.0,9,   -999.0,  -999.00,9,  -999.00,  -999.00,9,   9.7331,2
  49NZ20031209,  I3I4,   585,  1,     15,  12039,2,20031217,1123,-24.6662,  43.8688, 1164,    700.4,   8.4632,  34.6660,2,  34.6671,2,    192.6,1,    198.4,2,    15.77,2,    21.68,2,     0.00,2,     1.52,2, -999.000,9, -999.000,9, -999.000,9,   -999.0,9,   -999.0,9,-999.0000,9,  -999.00,   -999.0,9,   -999.0,  -999.00,9,  -999.00,  -999.00,9,   8.4638,2
  49NZ20031209,  I3I4,   585,  1,     14,  12038,2,20031217,1123,-24.6662,  43.8688, 1164,    799.8,   7.2926,  34.6076,2,  34.6069,2,    173.8,1,    178.9,2,    27.08,2,    26.01,2,     0.00,2,     1.83,2, -999.000,9, -999.000,9, -999.000,9,   -999.0,9,   -999.0,9,-999.0000,9,  -999.00,   -999.0,9,   -999.0,  -999.00,9,  -999.00,  -999.00,9,   7.2945,2
  49NZ20031209,  I3I4,   585,  1,     13,  12037,2,20031217,1123,-24.6662,  43.8688, 1164,    900.2,   6.2252,  34.5641,2,  34.5648,2,    163.2,1,    168.2,2,    37.08,2,    29.11,2,     0.00,2,     2.04,2, -999.000,9, -999.000,9, -999.000,9,   -999.0,9,   -999.0,9,-999.0000,9,  -999.00,   -999.0,9,   -999.0,  -999.00,9,  -999.00,  -999.00,9,   6.2260,2
  49NZ20031209,  I3I4,   585,  1,     12,  12036,2,20031217,1123,-24.6662,  43.8688, 1164,   1151.6,   5.0456,  34.6925,2,  34.6923,2,    124.3,1,    126.8,2,    68.20,2,    33.81,2,     0.01,2,     2.42,2, -999.000,9, -999.000,9, -999.000,9,   -999.0,9,   -999.0,9,-999.0000,9,  -999.00,   -999.0,9,   -999.0,  -999.00,9,  -999.00,  -999.00,9,   5.0451,2
  49NZ20031209,  I3I4,   562,  1,     36,  12024,2,20031219,0655,-20.0042,  48.9142,  233,     10.3,  26.9223,  34.5166,2,  34.5358,2,    197.0,1,    207.1,2,     2.77,2,    -0.01,2,     0.01,2,     0.13,2, -999.000,9, -999.000,9, -999.000,9,   -999.0,9,   -999.0,9,-999.0000,9,  -999.00,   -999.0,9,   -999.0,  -999.00,9,  -999.00,  -999.00,9,  26.9247,2
  49NZ20031209,  I3I4,   562,  1,     35,  12023,2,20031219,0655,-20.0042,  48.9142,  233,     50.1,  24.5288,  34.8429,2,  34.8376,2,    195.8,1,    206.0,2,     2.37,2,     0.40,2,     0.03,2,     0.18,2, -999.000,9, -999.000,9, -999.000,9,   -999.0,9,   -999.0,9,-999.0000,9,  -999.00,   -999.0,9,   -999.0,  -999.00,9,  -999.00,  -999.00,9,  24.5252,2
  49NZ20031209,  I3I4,   562,  1,     34,  12022,2,20031219,0655,-20.0042,  48.9142,  233,    102.1,  21.1327,  35.1993,2,  35.1922,2,    161.0,1,    169.1,2,     5.68,2,     5.50,2,     0.10,2,     0.51,2, -999.000,9, -999.000,9, -999.000,9,   -999.0,9,   -999.0,9,-999.0000,9,  -999.00,   -999.0,9,   -999.0,  -999.00,9,  -999.00,  -999.00,9,  21.1356,2
  49NZ20031209,  I3I4,   562,  1,     18,  12042,2,20031219,0655,-20.0042,  48.9142,  233,    152.2,  19.8877,  35.3136,2,  35.3111,2,    151.6,1,    158.1,2,     7.37,2,     7.61,2,     0.04,2,     0.64,2, -999.000,9, -999.000,9, -999.000,9,   -999.0,9,   -999.0,9,-999.0000,9,  -999.00,   -999.0,9,   -999.0,  -999.00,9,  -999.00,  -999.00,9,  19.8875,2
  49NZ20031209,  I3I4,   562,  1,     17,  12041,2,20031219,0655,-20.0042,  48.9142,  233,    201.0,  18.4857,  35.4247,2,  35.4227,2,    149.6,1,    156.1,2,     8.52,2,     8.79,2,     0.02,2,     0.72,2, -999.000,9, -999.000,9, -999.000,9,   -999.0,9,   -999.0,9,-999.0000,9,  -999.00,   -999.0,9,   -999.0,  -999.00,9,  -999.00,  -999.00,9,  18.4893,2
  49NZ20031209,  I3I4,   562,  1,     16,  12040,2,20031219,0655,-20.0042,  48.9142,  233,    222.5,  17.7762,  35.4743,2,  35.4640,2,    153.3,1,    159.2,2,     8.68,2,     8.85,2,     0.03,2,     0.72,2, -999.000,9, -999.000,9, -999.000,9,   -999.0,9,   -999.0,9,-999.0000,9,  -999.00,   -999.0,9,   -999.0,  -999.00,9,  -999.00,  -999.00,9,  17.7798,2
  49NZ20031209,  I3I4,   562,  1,      3,  12027,2,20031219,0655,-20.0042,  48.9142,  233,      4.4,  26.8326,  34.5244,2,-999.0000,9,    196.8,1,   -999.0,9,  -999.00,9,  -999.00,9,  -999.00,9,  -999.00,9, -999.000,9, -999.000,9, -999.000,9,   -999.0,9,   -999.0,9,-999.0000,9,  -999.00,   -999.0,9,   -999.0,  -999.00,9,  -999.00,  -999.00,9,  26.8275,2
  49NZ20031209,  I3I4,   562,  1,      2,  12026,2,20031219,0655,-20.0042,  48.9142,  233,      4.5,  26.8371,  34.5234,2,-999.0000,9,    196.7,1,   -999.0,9,  -999.00,9,  -999.00,9,  -999.00,9,  -999.00,9, -999.000,9, -999.000,9, -999.000,9,   -999.0,9,   -999.0,9,-999.0000,9,  -999.00,   -999.0,9,   -999.0,  -999.00,9,  -999.00,  -999.00,9,  26.8257,2
  49NZ20031209,  I3I4,   562,  1,      1,  12025,2,20031219,0655,-20.0042,  48.9142,  233,     59.7,  23.0608,  34.9634,2,-999.0000,9,    182.8,1,   -999.0,9,  -999.00,9,  -999.00,9,  -999.00,9,  -999.00,9, -999.000,9, -999.000,9, -999.000,9,   -999.0,9,   -999.0,9,-999.0000,9,  -999.00,   -999.0,9,   -999.0,  -999.00,9,  -999.00,  -999.00,9,  23.0549,2