BOTTLE,20141204PRINUNIVRMK
EXPOCODE,SECT_ID,STNNBR,CASTNO,SAMPNO,BTLNBR,BTLNBR_FLAG_W,DATE,TIME,LATITUDE,LONGITUDE,DEPTH,CTDPRS,CTDTMP,CTDSAL,CTDSAL_FLAG_W,SALNTY,SALNTY_FLAG_W,CTDOXY,CTDOXY_FLAG_W,OXYGEN,OXYGEN_FLAG_W,SILCAT,SILCAT_FLAG_W,NITRAT,NITRAT_FLAG_W,NITRIT,NITRIT_FLAG_W,PHSPHT,PHSPHT_FLAG_W,CFC-11,CFC-11_FLAG_W,CFC-12,CFC-12_FLAG_W,CFC113,CFC113_FLAG_W,TCARBN,TCARBN_FLAG_W,ALKALI,ALKALI_FLAG_W,PH_TOT,PH_TOT_FLAG_W,PH_TMP,DELC14,DELC14_FLAG_W,C14ERR,DELC13,DELC13_FLAG_W,CS-137,CS137ER,CS-137_FLAG_W,SBE35,SBE35_FLAG_W
,,,,,,,,,,,METERS,DBAR,ITS-90,PSS-78,,PSS-78,,UMOL/KG,,UMOL/KG,,UMOL/KG,,UMOL/KG,,UMOL/KG,,UMOL/KG,,PMOL/KG,,PMOL/KG,,PMOL/KG,,UMOL/KG,,UMOL/KG,,,,DEG C,/MILLE,,/MILLE,/MILLE,,DM/.1MG,DM/.1MG,,ITS-90,
  49NZ20031209,  I3I4,  1010,  1,     36,  12024,2,20040119,1240,-21.4477, 110.8420, 5058,     10.0,  24.6625,  35.3239,2,  35.3247,2,    199.9,1,    210.8,2,     2.65,2,     0.03,2,     0.00,2,     0.08,2,    1.839,2,    1.140,2, -999.000,5,   1995.6,2,   2316.1,2,   8.0777,2,    25.00,   -999.0,9,   -999.0,  -999.00,9,  -999.00,  -999.00,9,  24.6602,2
  49NZ20031209,  I3I4,  1010,  1,     35,  12023,2,20040119,1240,-21.4477, 110.8420, 5058,     49.7,  22.6770,  35.4271,2,  35.4152,2,    210.1,1,    221.1,2,     2.48,2,    -0.01,2,     0.00,2,     0.08,2,    1.995,2,    1.217,2, -999.000,5,   2006.1,6,   2318.9,2,   8.0691,2,    25.00,   -999.0,9,   -999.0,  -999.00,9,  -999.00,  -999.00,9,  22.6635,2
  49NZ20031209,  I3I4,  1010,  1,     34,  12022,2,20040119,1240,-21.4477, 110.8420, 5058,     99.4,  20.2019,  35.3803,2,  35.3818,2,    172.0,1,    181.9,2,     5.55,2,     4.27,2,     0.07,2,     0.38,2,    2.051,2,    1.245,2,    0.318,4,   2052.4,2,   2318.7,6,   7.9856,2,    25.00,   -999.0,9,   -999.0,  -999.00,9,  -999.00,  -999.00,9,  20.1867,2
  49NZ20031209,  I3I4,  1010,  1,     33,  12015,2,20040119,1240,-21.4477, 110.8420, 5058,    150.2,  19.2632,  35.5764,2,  35.5762,2,    181.2,1,    190.0,2,     4.76,2,     3.79,2,     0.02,2,     0.35,2,    2.144,2,    1.289,2,    0.293,4,   2063.4,2,   2327.4,2,   7.9837,6,    25.00,   -999.0,9,   -999.0,  -999.00,9,  -999.00,  -999.00,9,  19.2633,2
  49NZ20031209,  I3I4,  1010,  1,     32,  12020,2,20040119,1240,-21.4477, 110.8420, 5058,    199.7,  17.8378,  35.6739,2,  35.6774,2,    189.2,1,    197.8,2,     4.20,2,     3.76,2,     0.01,2,     0.37,2,    2.330,2,    1.386,2,    0.292,4,   2080.7,2,   2336.4,2,   7.9642,2,    25.00,   -999.0,9,   -999.0,  -999.00,9,  -999.00,  -999.00,9,  17.7773,2
  49NZ20031209,  I3I4,  1010,  1,     31,  12019,2,20040119,1240,-21.4477, 110.8420, 5058,    250.3,  16.2110,  35.6558,2,  35.6471,2,    205.3,1,    215.3,2,     2.42,2,     3.12,2,     0.01,2,     0.35,2,    2.593,6,    1.520,6,    0.274,4,   2086.1,2,   2336.4,2,   7.9520,2,    25.00,   -999.0,9,   -999.0,  -999.00,9,  -999.00,  -999.00,9,  16.2082,2
  49NZ20031209,  I3I4,  1010,  1,     30,  12018,3,20040119,1240,-21.4477, 110.8420, 5058,    300.4,  13.8480,  35.3780,2,  35.3752,2,    214.3,1,    224.6,2,     2.43,2,     5.77,2,     0.01,2,     0.52,2,    2.932,2,    1.665,2,    0.153,4,   2098.9,2,   2321.1,2,   7.9068,2,    25.00,   -999.0,9,   -999.0,  -999.00,9,  -999.00,  -999.00,9,  13.8466,2
  49NZ20031209,  I3I4,  1010,  1,     29,  12017,2,20040119,1240,-21.4477, 110.8420, 5058,    400.3,  11.2301,  34.9772,2,  34.9688,2,    228.3,1,    239.6,2,     2.68,2,    10.43,2,     0.00,2,     0.80,2,    3.290,2,    1.828,2,    0.195,4,   2109.2,2,   2303.4,2,   7.8517,2,    25.00,   -999.0,9,   -999.0,  -999.00,9,  -999.00,  -999.00,9,  11.2309,2
  49NZ20031209,  I3I4,  1010,  1,     28,  12016,2,20040119,1240,-21.4477, 110.8420, 5058,    499.4,   9.4899,  34.7070,2,  34.7004,2,    229.6,1,    240.7,2,     4.25,2,    15.54,2,     0.00,2,     1.11,2,    3.501,2,    1.890,2,    0.223,4,   2121.2,2,   2296.8,2,   7.8011,2,    25.00,   -999.0,9,   -999.0,  -999.00,9,  -999.00,  -999.00,9,   9.4897,2
  49NZ20031209,  I3I4,  1010,  1,     27,  12012,2,20040119,1240,-21.4477, 110.8420, 5058,    599.0,   8.1473,  34.5527,2,  34.5471,2,    209.9,1,    220.4,2,     9.46,2,    21.19,2,    -0.01,2,     1.46,2,    2.803,2,    1.454,2,    0.136,4,   2143.3,2,   2285.0,2,   7.7424,2,    25.00,   -999.0,9,   -999.0,  -999.00,9,  -999.00,  -999.00,9,   8.1480,2
  49NZ20031209,  I3I4,  1010,  1,     26,  12014,2,20040119,1240,-21.4477, 110.8420, 5058,    699.8,   6.4713,  34.5159,2,  34.5170,2,    152.7,1,    158.6,2,    38.20,2,    29.82,2,     0.00,2,     2.07,2,    0.922,2,    0.517,2,    0.025,4,   2207.4,6,   2307.5,2,   7.6306,2,    25.00,   -999.0,9,   -999.0,  -999.00,9,  -999.00,  -999.00,9,   6.4733,2
  49NZ20031209,  I3I4,  1010,  1,     25,  12013,2,20040119,1240,-21.4477, 110.8420, 5058,    800.7,   5.8790,  34.5945,2,  34.5949,2,    104.3,1,    107.7,2,    67.27,2,    34.61,2,     0.00,2,     2.46,2,    0.140,2,    0.089,2,    0.000,4,   2259.9,2,   2332.2,6,   7.5574,2,    25.00,   -999.0,9,   -999.0,  -999.00,9,  -999.00,  -999.00,9,   5.8757,2
  49NZ20031209,  I3I4,  1010,  1,     24,  12048,2,20040119,1240,-21.4477, 110.8420, 5058,    899.6,   5.4197,  34.6043,2,  34.6028,2,     99.5,1,    103.8,2,    75.86,2,    35.47,2,     0.00,2,     2.54,2,    0.082,2,    0.046,2,    0.000,4,   2274.1,2,   2340.3,2,   7.5452,2,    25.00,   -999.0,9,   -999.0,  -999.00,9,  -999.00,  -999.00,9,   5.4204,2
  49NZ20031209,  I3I4,  1010,  1,     23,  12047,2,20040119,1240,-21.4477, 110.8420, 5058,   1000.2,   5.1219,  34.6304,2,  34.6302,2,     91.8,1,     95.0,2,    87.57,2,    36.20,2,     0.00,2,     2.61,2,    0.022,6,    0.018,6,    0.000,4,   2289.9,2,   2359.8,2,   7.5330,2,    25.00,   -999.0,9,   -999.0,  -999.00,9,  -999.00,  -999.00,9,   5.1228,2
  49NZ20031209,  I3I4,  1010,  1,     22,  12046,2,20040119,1240,-21.4477, 110.8420, 5058,   1199.9,   4.4057,  34.6349,2,  34.6345,2,    100.1,1,    104.0,2,    95.02,2,    36.32,2,     0.00,2,     2.63,2,    0.004,2,    0.004,2,    0.000,4,   2295.2,2,   2365.7,2,   7.5367,2,    25.00,   -999.0,9,   -999.0,  -999.00,9,  -999.00,  -999.00,9,   4.4056,2
  49NZ20031209,  I3I4,  1010,  1,     21,  12045,2,20040119,1240,-21.4477, 110.8420, 5058,   1401.6,   3.7343,  34.6511,2,  34.6519,2,    111.5,1,    116.4,2,   100.27,2,    36.05,2,     0.00,2,     2.59,2,   -0.002,2,    0.000,2,    0.000,4,   2297.5,2,   2368.3,2,   7.5467,2,    25.00,   -999.0,9,   -999.0,  -999.00,9,  -999.00,  -999.00,9,   3.7346,2
  49NZ20031209,  I3I4,  1010,  1,     20,  12044,2,20040119,1240,-21.4477, 110.8420, 5058,   1601.8,   3.1642,  34.6766,2,  34.6770,2,    123.5,1,    129.2,2,   104.38,2,    35.59,2,     0.00,2,     2.54,2,    0.001,2,    0.000,2,    0.000,4,   2296.8,2,   2374.5,2,   7.5584,2,    25.00,   -999.0,9,   -999.0,  -999.00,9,  -999.00,  -999.00,9,   3.1641,2
  49NZ20031209,  I3I4,  1010,  1,     19,  12043,2,20040119,1240,-21.4477, 110.8420, 5058,   1799.1,   2.7140,  34.7050,2,  34.7057,2,    131.6,1,    138.1,2,   111.78,2,    35.19,2,     0.00,2,     2.51,2,   -0.002,2,    0.001,2,    0.000,4,   2299.6,2,   2385.1,2,   7.5691,2,    25.00,   -999.0,9,   -999.0,  -999.00,9,  -999.00,  -999.00,9,   2.7138,2
  49NZ20031209,  I3I4,  1010,  1,     18,  12042,2,20040119,1240,-21.4477, 110.8420, 5058,   2000.9,   2.3634,  34.7181,2,  34.7180,2,    139.6,1,    146.6,2,   116.70,2,    34.79,2,    -0.01,2,     2.47,2,   -0.001,2,    0.000,2,    0.000,4,   2300.2,2,   2386.9,2,   7.5806,6,    25.00,   -999.0,9,   -999.0,  -999.00,9,  -999.00,  -999.00,9,   2.3631,2
  49NZ20031209,  I3I4,  1010,  1,     17,  12041,2,20040119,1240,-21.4477, 110.8420, 5058,   2199.5,   2.1661,  34.7250,2,  34.7256,2,    142.6,1,    150.0,2,   121.80,2,    34.73,2,    -0.01,2,     2.46,2,    0.021,3,    0.000,2,    0.000,4,   2303.9,2,   2392.8,2,   7.5848,2,    25.00,   -999.0,9,   -999.0,  -999.00,9,  -999.00,  -999.00,9,   2.1663,2
  49NZ20031209,  I3I4,  1010,  1,     16,  12040,2,20040119,1240,-21.4477, 110.8420, 5058,   2400.3,   2.0099,  34.7265,2,  34.7262,2,    147.6,1,    155.6,2,   122.90,2,    34.41,2,    -0.01,2,     2.44,2,    0.000,2,    0.000,2,    0.000,4,   2302.8,6,   2393.1,2,   7.5908,2,    25.00,   -999.0,9,   -999.0,  -999.00,9,  -999.00,  -999.00,9,   2.0098,2
  49NZ20031209,  I3I4,  1010,  1,     15,  12039,2,20040119,1240,-21.4477, 110.8420, 5058,   2601.5,   1.8925,  34.7264,2,  34.7264,2,    152.4,1,    160.5,2,   123.47,2,    34.25,2,    -0.01,2,     2.41,2,   -0.003,2,   -0.002,2,    0.000,4,   2299.7,2,   2393.4,6,   7.5960,2,    25.00,   -999.0,9,   -999.0,  -999.00,9,  -999.00,  -999.00,9,   1.8924,2
  49NZ20031209,  I3I4,  1010,  1,     14,  12038,2,20040119,1240,-21.4477, 110.8420, 5058,   2799.4,   1.7452,  34.7257,2,  34.7266,2,    159.5,1,    168.3,2,   122.17,2,    33.76,2,     0.00,2,     2.37,2,    0.003,2,   -0.002,2,    0.000,4,   2294.9,2,   2390.6,2,   7.6059,6,    25.00,   -999.0,9,   -999.0,  -999.00,9,  -999.00,  -999.00,9,   1.7452,2
  49NZ20031209,  I3I4,  1010,  1,     13,  12037,2,20040119,1240,-21.4477, 110.8420, 5058,   3000.0,   1.6248,  34.7244,2,  34.7246,2,    164.0,1,    173.1,2,   123.08,2,    33.63,2,    -0.01,2,     2.34,2,   -0.003,2,    0.000,2,    0.000,4,   2293.6,2,   2390.9,2,   7.6104,2,    25.00,   -999.0,9,   -999.0,  -999.00,9,  -999.00,  -999.00,9,   1.6255,2
  49NZ20031209,  I3I4,  1010,  1,     12,  12036,2,20040119,1240,-21.4477, 110.8420, 5058,   3248.9,   1.4539,  34.7219,2,  34.7219,2,    170.4,1,    179.8,2,   124.06,2,    33.32,2,     0.00,2,     2.31,2,    0.003,2,   -0.002,2,    0.000,4,   2292.2,2,   2391.8,2,   7.6165,2,    25.00,   -999.0,9,   -999.0,  -999.00,9,  -999.00,  -999.00,9,   1.4543,2
  49NZ20031209,  I3I4,  1010,  1,     11,  12035,2,20040119,1240,-21.4477, 110.8420, 5058,   3499.7,   1.3447,  34.7196,2,  34.7195,2,    174.8,1,    184.4,2,   125.08,2,    33.08,2,     0.00,2,     2.30,2,   -0.002,2,   -0.001,2,    0.000,4,   2289.4,2,   2390.6,2,   7.6214,2,    25.00,   -999.0,9,   -999.0,  -999.00,9,  -999.00,  -999.00,9,   1.3447,2
  49NZ20031209,  I3I4,  1010,  1,     10,  12034,2,20040119,1240,-21.4477, 110.8420, 5058,   3749.9,   1.2535,  34.7169,2,  34.7168,2,    178.2,1,    187.8,2,   126.83,2,    33.06,2,     0.00,2,     2.30,2,    0.002,2,    0.000,2,    0.000,4,   2289.8,2,   2391.8,2,   7.6255,2,    25.00,   -999.0,9,   -999.0,  -999.00,9,  -999.00,  -999.00,9,   1.2534,2
  49NZ20031209,  I3I4,  1010,  1,      9,  12033,2,20040119,1240,-21.4477, 110.8420, 5058,   4998.9,   1.2154,  34.7131,2,  34.7132,2,    187.6,1,    193.2,2,   129.07,2,    33.02,2,     0.00,2,     2.29,2,   -0.004,2,    0.000,2,    0.011,4,   2288.1,2,   2395.3,2,   7.6358,2,    25.00,   -999.0,9,   -999.0,  -999.00,9,  -999.00,  -999.00,9,   1.2154,2
  49NZ20031209,  I3I4,  1010,  1,      8,  12032,2,20040119,1240,-21.4477, 110.8420, 5058,   4251.9,   1.1854,  34.7144,2,  34.7139,2,    182.4,1,    191.0,2,   128.76,2,    33.08,2,     0.00,2,     2.29,2,    0.002,2,    0.001,2,    0.000,4,   2289.3,6,   2395.2,2,   7.6320,2,    25.00,   -999.0,9,   -999.0,  -999.00,9,  -999.00,  -999.00,9,   1.1854,2
  49NZ20031209,  I3I4,  1010,  1,      7,  12010,2,20040119,1240,-21.4477, 110.8420, 5058,   4499.5,   1.1864,  34.7138,2,  34.7133,2,    184.2,1,    191.9,2,   129.00,2,    33.05,2,    -0.01,2,     2.29,2,    0.000,2,   -0.001,2,    0.000,4,   2291.1,2,   2397.1,2,   7.6338,2,    25.00,   -999.0,9,   -999.0,  -999.00,9,  -999.00,  -999.00,9,   1.1865,2
  49NZ20031209,  I3I4,  1010,  1,      6,  12030,2,20040119,1240,-21.4477, 110.8420, 5058,   4750.2,   1.1982,  34.7133,2,  34.7132,2,    185.7,1,    192.6,2,   129.39,2,    32.99,2,     0.00,2,     2.28,2,    0.000,2,    0.005,2,    0.000,4,   2289.8,2,   2395.3,6,   7.6345,6,    25.00,   -999.0,9,   -999.0,  -999.00,9,  -999.00,  -999.00,9,   1.1982,2
  49NZ20031209,  I3I4,  1010,  1,      5,  12029,2,20040119,1240,-21.4477, 110.8420, 5058,   4999.5,   1.2155,  34.7131,2,  34.7131,2,    187.6,1,    193.2,2,   129.36,2,    32.99,2,    -0.01,2,     2.28,2,    0.003,2,   -0.001,2,    0.000,4,   2289.1,2,   2396.9,2,   7.6363,2,    25.00,   -999.0,9,   -999.0,  -999.00,9,  -999.00,  -999.00,9,   1.2155,2
  49NZ20031209,  I3I4,  1010,  1,      4,  12028,2,20040119,1240,-21.4477, 110.8420, 5058,   5130.4,   1.2292,  34.7130,2,  34.7130,2,    188.6,1,    193.1,2,   129.66,2,    33.02,2,     0.00,2,     2.28,2,    0.002,2,    0.000,2,    0.000,4,   2288.3,2,   2397.4,2,   7.6369,2,    25.00,   -999.0,9,   -999.0,  -999.00,9,  -999.00,  -999.00,9,   1.2292,2
  49NZ20031209,  I3I4,  1010,  1,      3,  12027,9,20040119,1240,-21.4477, 110.8420, 5058,      9.8,  24.6601,  35.3241,2,-999.0000,9,    200.0,1,   -999.0,9,  -999.00,9,  -999.00,9,  -999.00,9,  -999.00,9, -999.000,9, -999.000,9, -999.000,9,   -999.0,9,   -999.0,9,-999.0000,9,  -999.00,   -999.0,9,   -999.0,  -999.00,9,  -999.00,  -999.00,9,  24.6581,2
  49NZ20031209,  I3I4,  1010,  1,      2,  12026,9,20040119,1240,-21.4477, 110.8420, 5058,   1000.1,   5.1240,  34.6304,2,-999.0000,9,     91.8,1,   -999.0,9,  -999.00,9,  -999.00,9,  -999.00,9,  -999.00,9, -999.000,9, -999.000,9, -999.000,9,   -999.0,9,   -999.0,9,-999.0000,9,  -999.00,   -999.0,9,   -999.0,  -999.00,9,  -999.00,  -999.00,9,   5.1265,2
  49NZ20031209,  I3I4,  1010,  1,      1,  12025,2,20040119,1240,-21.4477, 110.8420, 5058,   4002.3,   1.2060,  34.7153,2,  34.7153,2,    180.5,1,    189.7,2,   128.20,2,    33.13,2,     0.00,2,     2.29,2,    0.002,2,    0.003,2,    0.000,4,   2289.3,2,   2396.5,2,   7.6299,2,    25.00,   -999.0,9,   -999.0,  -999.00,9,  -999.00,  -999.00,9,   1.2059,2