BOTTLE,20141204PRINUNIVRMK
EXPOCODE,SECT_ID,STNNBR,CASTNO,SAMPNO,BTLNBR,BTLNBR_FLAG_W,DATE,TIME,LATITUDE,LONGITUDE,DEPTH,CTDPRS,CTDTMP,CTDSAL,CTDSAL_FLAG_W,SALNTY,SALNTY_FLAG_W,CTDOXY,CTDOXY_FLAG_W,OXYGEN,OXYGEN_FLAG_W,SILCAT,SILCAT_FLAG_W,NITRAT,NITRAT_FLAG_W,NITRIT,NITRIT_FLAG_W,PHSPHT,PHSPHT_FLAG_W,CFC-11,CFC-11_FLAG_W,CFC-12,CFC-12_FLAG_W,CFC113,CFC113_FLAG_W,TCARBN,TCARBN_FLAG_W,ALKALI,ALKALI_FLAG_W,PH_TOT,PH_TOT_FLAG_W,PH_TMP,DELC14,DELC14_FLAG_W,C14ERR,DELC13,DELC13_FLAG_W,CS-137,CS137ER,CS-137_FLAG_W,SBE35,SBE35_FLAG_W
,,,,,,,,,,,METERS,DBAR,ITS-90,PSS-78,,PSS-78,,UMOL/KG,,UMOL/KG,,UMOL/KG,,UMOL/KG,,UMOL/KG,,UMOL/KG,,PMOL/KG,,PMOL/KG,,PMOL/KG,,UMOL/KG,,UMOL/KG,,,,DEG C,/MILLE,,/MILLE,/MILLE,,DM/.1MG,DM/.1MG,,ITS-90,
  49NZ20031209,  I3I4,   592,  1,     36,  12024,2,20031216,0224,-24.6617,  41.4945, 3678,      9.9,  27.8308,  35.2795,2,  35.2692,4,    192.7,1,    204.0,2,     1.96,2,     0.03,2,     0.00,2,     0.12,2, -999.000,9, -999.000,9, -999.000,9,   -999.0,9,   -999.0,9,-999.0000,9,  -999.00,   -999.0,9,   -999.0,  -999.00,9,  -999.00,  -999.00,9,  27.7536,2
  49NZ20031209,  I3I4,   592,  1,     35,  12023,2,20031216,0224,-24.6617,  41.4945, 3678,     49.7,  23.9655,  35.2710,2,  35.2710,2,    205.2,1,    215.3,2,     1.89,2,     0.00,2,     0.00,2,     0.14,2, -999.000,9, -999.000,9, -999.000,9,   -999.0,9,   -999.0,9,-999.0000,9,  -999.00,   -999.0,9,   -999.0,  -999.00,9,  -999.00,  -999.00,9,  23.9971,2
  49NZ20031209,  I3I4,   592,  1,     34,  12022,2,20031216,0224,-24.6617,  41.4945, 3678,    100.6,  20.7368,  35.4129,2,  35.4151,2,    180.7,1,    188.8,2,     3.85,2,     2.27,2,     0.42,2,     0.34,2, -999.000,9, -999.000,9, -999.000,9,   -999.0,9,   -999.0,9,-999.0000,9,  -999.00,   -999.0,9,   -999.0,  -999.00,9,  -999.00,  -999.00,9,  20.7372,2
  49NZ20031209,  I3I4,   592,  1,     33,  12015,2,20031216,0224,-24.6617,  41.4945, 3678,    148.4,  18.8102,  35.5711,2,  35.5726,2,    170.6,1,    178.0,2,     5.55,2,     5.67,2,     0.03,2,     0.49,2, -999.000,9, -999.000,9, -999.000,9,   -999.0,9,   -999.0,9,-999.0000,9,  -999.00,   -999.0,9,   -999.0,  -999.00,9,  -999.00,  -999.00,9,  18.8117,2
  49NZ20031209,  I3I4,   592,  1,     32,  12020,2,20031216,0224,-24.6617,  41.4945, 3678,    200.9,  17.3470,  35.6555,2,  35.6584,2,    197.8,1,    207.0,2,     3.85,2,     3.70,2,     0.03,2,     0.38,2, -999.000,9, -999.000,9, -999.000,9,   -999.0,9,   -999.0,9,-999.0000,9,  -999.00,   -999.0,9,   -999.0,  -999.00,9,  -999.00,  -999.00,9,  17.3559,2
  49NZ20031209,  I3I4,   592,  1,     31,  12019,2,20031216,0224,-24.6617,  41.4945, 3678,    249.9,  16.1730,  35.5812,2,  35.5817,2,    193.4,1,    202.0,2,     4.32,2,     5.80,2,     0.01,2,     0.51,2, -999.000,9, -999.000,9, -999.000,9,   -999.0,9,   -999.0,9,-999.0000,9,  -999.00,   -999.0,9,   -999.0,  -999.00,9,  -999.00,  -999.00,9,  16.1721,2
  49NZ20031209,  I3I4,   592,  1,     30,  12018,2,20031216,0224,-24.6617,  41.4945, 3678,    300.5,  15.0579,  35.4782,2,  35.4783,2,    195.6,1,    204.2,2,     4.55,2,     7.11,2,     0.01,2,     0.59,2, -999.000,9, -999.000,9, -999.000,9,   -999.0,9,   -999.0,9,-999.0000,9,  -999.00,   -999.0,9,   -999.0,  -999.00,9,  -999.00,  -999.00,9,  15.0613,2
  49NZ20031209,  I3I4,   592,  1,     29,  12017,2,20031216,0224,-24.6617,  41.4945, 3678,    400.3,  13.0715,  35.2566,2,  35.2562,2,    211.9,1,    220.8,2,     4.21,2,     9.30,2,     0.01,2,     0.73,2, -999.000,9, -999.000,9, -999.000,9,   -999.0,9,   -999.0,9,-999.0000,9,  -999.00,   -999.0,9,   -999.0,  -999.00,9,  -999.00,  -999.00,9,  13.0713,2
  49NZ20031209,  I3I4,   592,  1,     28,  12016,2,20031216,0224,-24.6617,  41.4945, 3678,    500.5,  11.5443,  35.0247,2,  35.0222,2,    212.8,1,    221.9,2,     5.05,2,    12.54,2,     0.01,2,     0.94,2, -999.000,9, -999.000,9, -999.000,9,   -999.0,9,   -999.0,9,-999.0000,9,  -999.00,   -999.0,9,   -999.0,  -999.00,9,  -999.00,  -999.00,9,  11.5456,2
  49NZ20031209,  I3I4,   592,  1,     27,  12012,2,20031216,0224,-24.6617,  41.4945, 3678,    601.0,  10.1398,  34.8313,2,  34.8269,2,    211.8,1,    220.8,2,     6.66,2,    15.78,2,     0.01,2,     1.14,2, -999.000,9, -999.000,9, -999.000,9,   -999.0,9,   -999.0,9,-999.0000,9,  -999.00,   -999.0,9,   -999.0,  -999.00,9,  -999.00,  -999.00,9,  10.1392,2
  49NZ20031209,  I3I4,   592,  1,     26,  12014,2,20031216,0224,-24.6617,  41.4945, 3678,    699.7,   8.3900,  34.6436,2,  34.6455,2,    193.4,1,    200.5,2,    14.92,2,    21.86,2,     0.00,2,     1.54,2, -999.000,9, -999.000,9, -999.000,9,   -999.0,9,   -999.0,9,-999.0000,9,  -999.00,   -999.0,9,   -999.0,  -999.00,9,  -999.00,  -999.00,9,   8.3910,2
  49NZ20031209,  I3I4,   592,  1,     25,  12013,2,20031216,0224,-24.6617,  41.4945, 3678,    801.0,   6.8148,  34.5630,2,  34.5629,2,    170.5,1,    177.1,2,    29.38,2,    27.57,2,     0.01,2,     1.93,2, -999.000,9, -999.000,9, -999.000,9,   -999.0,9,   -999.0,9,-999.0000,9,  -999.00,   -999.0,9,   -999.0,  -999.00,9,  -999.00,  -999.00,9,   6.8149,2
  49NZ20031209,  I3I4,   592,  1,     24,  12048,2,20031216,0224,-24.6617,  41.4945, 3678,    900.5,   6.1152,  34.6284,2,  34.6312,2,    137.8,1,    142.7,2,    47.54,2,    31.56,2,     0.02,2,     2.23,2, -999.000,9, -999.000,9, -999.000,9,   -999.0,9,   -999.0,9,-999.0000,9,  -999.00,   -999.0,9,   -999.0,  -999.00,9,  -999.00,  -999.00,9,   6.1197,2
  49NZ20031209,  I3I4,   592,  1,     23,  12047,2,20031216,0224,-24.6617,  41.4945, 3678,   1001.6,   5.9664,  34.7276,2,  34.7281,2,    111.9,1,    115.5,2,    62.09,2,    33.74,2,     0.01,2,     2.41,2, -999.000,9, -999.000,9, -999.000,9,   -999.0,9,   -999.0,9,-999.0000,9,  -999.00,   -999.0,9,   -999.0,  -999.00,9,  -999.00,  -999.00,9,   5.9674,2
  49NZ20031209,  I3I4,   592,  1,     22,  12046,2,20031216,0224,-24.6617,  41.4945, 3678,   1200.8,   5.0797,  34.7626,2,  34.7626,2,    106.3,1,    109.4,2,    77.85,2,    35.11,2,     0.00,2,     2.52,2, -999.000,9, -999.000,9, -999.000,9,   -999.0,9,   -999.0,9,-999.0000,9,  -999.00,   -999.0,9,   -999.0,  -999.00,9,  -999.00,  -999.00,9,   5.0799,2
  49NZ20031209,  I3I4,   592,  1,     21,  12045,2,20031216,0224,-24.6617,  41.4945, 3678,   1399.6,   4.2962,  34.7454,2,  34.7452,2,    118.2,1,    122.1,2,    83.79,2,    34.96,2,     0.00,2,     2.50,2, -999.000,9, -999.000,9, -999.000,9,   -999.0,9,   -999.0,9,-999.0000,9,  -999.00,   -999.0,9,   -999.0,  -999.00,9,  -999.00,  -999.00,9,   4.2958,2
  49NZ20031209,  I3I4,   592,  1,     20,  12044,2,20031216,0224,-24.6617,  41.4945, 3678,   1601.0,   3.4955,  34.7295,2,  34.7288,2,    137.2,1,    142.3,2,    86.43,2,    34.02,2,     0.00,2,     2.41,2, -999.000,9, -999.000,9, -999.000,9,   -999.0,9,   -999.0,9,-999.0000,9,  -999.00,   -999.0,9,   -999.0,  -999.00,9,  -999.00,  -999.00,9,   3.4953,2
  49NZ20031209,  I3I4,   592,  1,     19,  12043,2,20031216,0224,-24.6617,  41.4945, 3678,   1799.1,   3.0754,  34.7394,2,  34.7390,2,    148.8,1,    154.5,2,    88.01,2,    33.16,2,     0.01,2,     2.33,2, -999.000,9, -999.000,9, -999.000,9,   -999.0,9,   -999.0,9,-999.0000,9,  -999.00,   -999.0,9,   -999.0,  -999.00,9,  -999.00,  -999.00,9,   3.0756,2
  49NZ20031209,  I3I4,   592,  1,     18,  12042,2,20031216,0224,-24.6617,  41.4945, 3678,   2000.6,   2.7979,  34.7483,2,  34.7477,2,    160.8,1,    167.1,2,    85.84,2,    32.12,2,     0.01,2,     2.25,2, -999.000,9, -999.000,9, -999.000,9,   -999.0,9,   -999.0,9,-999.0000,9,  -999.00,   -999.0,9,   -999.0,  -999.00,9,  -999.00,  -999.00,9,   2.7980,2
  49NZ20031209,  I3I4,   592,  1,     17,  12041,2,20031216,0224,-24.6617,  41.4945, 3678,   2201.7,   2.5825,  34.7625,2,  34.7614,2,    171.3,1,    178.1,2,    83.78,2,    31.08,2,     0.00,2,     2.17,2, -999.000,9, -999.000,9, -999.000,9,   -999.0,9,   -999.0,9,-999.0000,9,  -999.00,   -999.0,9,   -999.0,  -999.00,9,  -999.00,  -999.00,9,   2.5841,2
  49NZ20031209,  I3I4,   592,  1,     16,  12040,2,20031216,0224,-24.6617,  41.4945, 3678,   2401.1,   2.4355,  34.7737,2,  34.7736,2,    178.7,1,    186.0,2,    82.91,2,    30.40,2,     0.01,2,     2.11,2, -999.000,9, -999.000,9, -999.000,9,   -999.0,9,   -999.0,9,-999.0000,9,  -999.00,   -999.0,9,   -999.0,  -999.00,9,  -999.00,  -999.00,9,   2.4356,2
  49NZ20031209,  I3I4,   592,  1,     15,  12039,2,20031216,0224,-24.6617,  41.4945, 3678,   2602.8,   2.3375,  34.7843,2,  34.7846,2,    188.3,1,    195.9,2,    78.82,2,    29.43,2,     0.00,2,     2.03,2, -999.000,9, -999.000,9, -999.000,9,   -999.0,9,   -999.0,9,-999.0000,9,  -999.00,   -999.0,9,   -999.0,  -999.00,9,  -999.00,  -999.00,9,   2.3375,2
  49NZ20031209,  I3I4,   592,  1,     14,  12038,2,20031216,0224,-24.6617,  41.4945, 3678,   2800.8,   2.2494,  34.7947,2,  34.7947,2,    197.8,1,    205.8,2,    74.22,2,    28.42,2,     0.01,2,     1.96,2, -999.000,9, -999.000,9, -999.000,9,   -999.0,9,   -999.0,9,-999.0000,9,  -999.00,   -999.0,9,   -999.0,  -999.00,9,  -999.00,  -999.00,9,   2.2494,2
  49NZ20031209,  I3I4,   592,  1,     13,  12037,2,20031216,0224,-24.6617,  41.4945, 3678,   3000.0,   2.1368,  34.7989,2,  34.7991,2,    203.7,1,    211.7,2,    73.62,2,    27.88,2,     0.01,2,     1.92,2, -999.000,9, -999.000,9, -999.000,9,   -999.0,9,   -999.0,9,-999.0000,9,  -999.00,   -999.0,9,   -999.0,  -999.00,9,  -999.00,  -999.00,9,   2.1368,2
  49NZ20031209,  I3I4,   592,  1,     12,  12036,2,20031216,0224,-24.6617,  41.4945, 3678,   3250.1,   1.8912,  34.7882,2,  34.7884,2,    206.0,1,    213.5,2,    80.15,2,    28.29,2,     0.00,2,     1.96,2, -999.000,9, -999.000,9, -999.000,9,   -999.0,9,   -999.0,9,-999.0000,9,  -999.00,   -999.0,9,   -999.0,  -999.00,9,  -999.00,  -999.00,9,   1.8913,2
  49NZ20031209,  I3I4,   592,  1,     11,  12035,2,20031216,0224,-24.6617,  41.4945, 3678,   3499.8,   1.6429,  34.7741,2,  34.7738,2,    208.7,1,    215.6,2,    86.63,2,    28.89,2,    -0.01,2,     1.99,2, -999.000,9, -999.000,9, -999.000,9,   -999.0,9,   -999.0,9,-999.0000,9,  -999.00,   -999.0,9,   -999.0,  -999.00,9,  -999.00,  -999.00,9,   1.6428,2
  49NZ20031209,  I3I4,   592,  1,     10,  12034,2,20031216,0224,-24.6617,  41.4945, 3678,   3717.8,   1.2025,  34.7448,2,  34.7445,2,    211.0,1,    217.1,2,    99.77,2,    30.13,2,     0.01,2,     2.08,2, -999.000,9, -999.000,9, -999.000,9,   -999.0,9,   -999.0,9,-999.0000,9,  -999.00,   -999.0,9,   -999.0,  -999.00,9,  -999.00,  -999.00,9,   1.2025,2
  49NZ20031209,  I3I4,   592,  1,      9,  12033,9,20031216,0224,-24.6617,  41.4945, 3678,   2900.4,   2.1985,  34.7989,2,-999.0000,9,    201.8,1,   -999.0,9,  -999.00,9,  -999.00,9,  -999.00,9,  -999.00,9, -999.000,9, -999.000,9, -999.000,9,   -999.0,9,   -999.0,9,-999.0000,9,  -999.00,   -999.0,9,   -999.0,  -999.00,9,  -999.00,  -999.00,9,   2.1986,2
  49NZ20031209,  I3I4,   592,  1,      8,  12032,9,20031216,0224,-24.6617,  41.4945, 3678,   3099.3,   2.0362,  34.7948,2,-999.0000,9,    204.4,1,   -999.0,9,  -999.00,9,  -999.00,9,  -999.00,9,  -999.00,9, -999.000,9, -999.000,9, -999.000,9,   -999.0,9,   -999.0,9,-999.0000,9,  -999.00,   -999.0,9,   -999.0,  -999.00,9,  -999.00,  -999.00,9,   2.0366,2
  49NZ20031209,  I3I4,   592,  1,      7,  12031,9,20031216,0224,-24.6617,  41.4945, 3678,   3352.7,   1.7732,  34.7819,2,-999.0000,9,    207.2,1,   -999.0,9,  -999.00,9,  -999.00,9,  -999.00,9,  -999.00,9, -999.000,9, -999.000,9, -999.000,9,   -999.0,9,   -999.0,9,-999.0000,9,  -999.00,   -999.0,9,   -999.0,  -999.00,9,  -999.00,  -999.00,9,   1.7738,2
  49NZ20031209,  I3I4,   592,  1,      6,  12030,9,20031216,0224,-24.6617,  41.4945, 3678,   1001.6,   5.9652,  34.7272,2,-999.0000,9,    112.0,1,   -999.0,9,  -999.00,9,  -999.00,9,  -999.00,9,  -999.00,9, -999.000,9, -999.000,9, -999.000,9,   -999.0,9,   -999.0,9,-999.0000,9,  -999.00,   -999.0,9,   -999.0,  -999.00,9,  -999.00,  -999.00,9,   5.9655,2
  49NZ20031209,  I3I4,   592,  1,      5,  12029,9,20031216,0224,-24.6617,  41.4945, 3678,   1001.9,   5.9669,  34.7275,2,-999.0000,9,    111.9,1,   -999.0,9,  -999.00,9,  -999.00,9,  -999.00,9,  -999.00,9, -999.000,9, -999.000,9, -999.000,9,   -999.0,9,   -999.0,9,-999.0000,9,  -999.00,   -999.0,9,   -999.0,  -999.00,9,  -999.00,  -999.00,9,   5.9675,2
  49NZ20031209,  I3I4,   592,  1,      4,  12028,9,20031216,0224,-24.6617,  41.4945, 3678,      4.5,  28.0095,  35.3005,2,-999.0000,9,    190.5,1,   -999.0,9,  -999.00,9,  -999.00,9,  -999.00,9,  -999.00,9, -999.000,9, -999.000,9, -999.000,9,   -999.0,9,   -999.0,9,-999.0000,9,  -999.00,   -999.0,9,   -999.0,  -999.00,9,  -999.00,  -999.00,9,  28.0072,2
  49NZ20031209,  I3I4,   592,  1,      3,  12027,2,20031216,0224,-24.6617,  41.4945, 3678,      4.6,  28.0081,  35.3000,2,-999.0000,9,    190.7,1,   -999.0,9,  -999.00,9,  -999.00,9,  -999.00,9,  -999.00,9, -999.000,9, -999.000,9, -999.000,9,   -999.0,9,   -999.0,9,-999.0000,9,  -999.00,   -999.0,9,   -999.0,  -999.00,9,  -999.00,  -999.00,9,  28.0065,2
  49NZ20031209,  I3I4,   592,  1,      2,  12026,2,20031216,0224,-24.6617,  41.4945, 3678,      4.1,  27.9987,  35.2990,2,-999.0000,9,    190.5,1,   -999.0,9,  -999.00,9,  -999.00,9,  -999.00,9,  -999.00,9, -999.000,9, -999.000,9, -999.000,9,   -999.0,9,   -999.0,9,-999.0000,9,  -999.00,   -999.0,9,   -999.0,  -999.00,9,  -999.00,  -999.00,9,  27.9999,2
  49NZ20031209,  I3I4,   592,  1,      1,  12025,2,20031216,0224,-24.6617,  41.4945, 3678,     60.0,  23.3111,  35.2482,2,-999.0000,9,    194.8,1,   -999.0,9,  -999.00,9,  -999.00,9,  -999.00,9,  -999.00,9, -999.000,9, -999.000,9, -999.000,9,   -999.0,9,   -999.0,9,-999.0000,9,  -999.00,   -999.0,9,   -999.0,  -999.00,9,  -999.00,  -999.00,9,  23.3165,2