BOTTLE,20141204PRINUNIVRMK
EXPOCODE,SECT_ID,STNNBR,CASTNO,SAMPNO,BTLNBR,BTLNBR_FLAG_W,DATE,TIME,LATITUDE,LONGITUDE,DEPTH,CTDPRS,CTDTMP,CTDSAL,CTDSAL_FLAG_W,SALNTY,SALNTY_FLAG_W,CTDOXY,CTDOXY_FLAG_W,OXYGEN,OXYGEN_FLAG_W,SILCAT,SILCAT_FLAG_W,NITRAT,NITRAT_FLAG_W,NITRIT,NITRIT_FLAG_W,PHSPHT,PHSPHT_FLAG_W,CFC-11,CFC-11_FLAG_W,CFC-12,CFC-12_FLAG_W,CFC113,CFC113_FLAG_W,TCARBN,TCARBN_FLAG_W,ALKALI,ALKALI_FLAG_W,PH_TOT,PH_TOT_FLAG_W,PH_TMP,DELC14,DELC14_FLAG_W,C14ERR,DELC13,DELC13_FLAG_W,CS-137,CS137ER,CS-137_FLAG_W,SBE35,SBE35_FLAG_W
,,,,,,,,,,,METERS,DBAR,ITS-90,PSS-78,,PSS-78,,UMOL/KG,,UMOL/KG,,UMOL/KG,,UMOL/KG,,UMOL/KG,,UMOL/KG,,PMOL/KG,,PMOL/KG,,PMOL/KG,,UMOL/KG,,UMOL/KG,,,,DEG C,/MILLE,,/MILLE,/MILLE,,DM/.1MG,DM/.1MG,,ITS-90,
  49NZ20031209,  I3I4,   552,  1,     36,  12024,2,20031222,0455,-19.9963,  52.2608, 4950,     10.3,  27.4290,  35.0647,2,  35.0638,2,    193.8,1,    202.8,2,     1.91,2,    -0.02,2,    -0.01,2,     0.10,2, -999.000,9, -999.000,9, -999.000,9,   -999.0,9,   -999.0,9,-999.0000,9,  -999.00,   -999.0,9,   -999.0,  -999.00,9,  -999.00,  -999.00,9,  27.4315,2
  49NZ20031209,  I3I4,   552,  1,     35,  12023,2,20031222,0455,-19.9963,  52.2608, 4950,     50.0,  25.4257,  35.0510,2,  35.0501,2,    210.1,1,    220.1,2,     1.97,2,    -0.05,2,    -0.01,2,     0.11,2, -999.000,9, -999.000,9, -999.000,9,   -999.0,9,   -999.0,9,-999.0000,9,  -999.00,   -999.0,9,   -999.0,  -999.00,9,  -999.00,  -999.00,9,  25.4235,2
  49NZ20031209,  I3I4,   552,  1,     34,  12022,2,20031222,0455,-19.9963,  52.2608, 4950,     99.8,  22.8572,  35.1736,2,  35.1723,2,    204.2,1,    213.4,2,     2.08,2,    -0.04,2,    -0.01,2,     0.15,2, -999.000,9, -999.000,9, -999.000,9,   -999.0,9,   -999.0,9,-999.0000,9,  -999.00,   -999.0,9,   -999.0,  -999.00,9,  -999.00,  -999.00,9,  22.8563,2
  49NZ20031209,  I3I4,   552,  1,     33,  12015,2,20031222,0455,-19.9963,  52.2608, 4950,    151.1,  21.5195,  35.3021,2,  35.3058,2,    178.4,1,    186.7,2,     3.51,2,     2.81,2,     0.06,2,     0.32,2, -999.000,9, -999.000,9, -999.000,9,   -999.0,9,   -999.0,9,-999.0000,9,  -999.00,   -999.0,9,   -999.0,  -999.00,9,  -999.00,  -999.00,9,  21.5188,2
  49NZ20031209,  I3I4,   552,  1,     32,  12020,2,20031222,0455,-19.9963,  52.2608, 4950,    201.2,  19.7751,  35.5956,2,  35.5932,2,    179.9,1,    187.3,2,     3.93,2,     3.69,2,     0.01,2,     0.36,2, -999.000,9, -999.000,9, -999.000,9,   -999.0,9,   -999.0,9,-999.0000,9,  -999.00,   -999.0,9,   -999.0,  -999.00,9,  -999.00,  -999.00,9,  19.7773,2
  49NZ20031209,  I3I4,   552,  1,     31,  12019,2,20031222,0455,-19.9963,  52.2608, 4950,    250.7,  18.0064,  35.6149,2,  35.6146,2,    171.4,1,    179.2,2,     5.66,2,     6.03,2,     0.00,2,     0.52,2, -999.000,9, -999.000,9, -999.000,9,   -999.0,9,   -999.0,9,-999.0000,9,  -999.00,   -999.0,9,   -999.0,  -999.00,9,  -999.00,  -999.00,9,  18.0079,2
  49NZ20031209,  I3I4,   552,  1,     30,  12018,2,20031222,0455,-19.9963,  52.2608, 4950,    300.7,  15.8349,  35.5320,2,  35.5239,2,    184.2,1,    191.0,2,     5.64,2,     7.17,2,    -0.01,2,     0.61,2, -999.000,9, -999.000,9, -999.000,9,   -999.0,9,   -999.0,9,-999.0000,9,  -999.00,   -999.0,9,   -999.0,  -999.00,9,  -999.00,  -999.00,9,  15.8363,2
  49NZ20031209,  I3I4,   552,  1,     29,  12017,2,20031222,0455,-19.9963,  52.2608, 4950,    401.2,  13.2201,  35.2605,2,  35.2584,2,    195.8,1,    203.3,2,     6.21,2,    10.35,2,    -0.01,2,     0.80,2, -999.000,9, -999.000,9, -999.000,9,   -999.0,9,   -999.0,9,-999.0000,9,  -999.00,   -999.0,9,   -999.0,  -999.00,9,  -999.00,  -999.00,9,  13.2201,2
  49NZ20031209,  I3I4,   552,  1,     28,  12016,2,20031222,0455,-19.9963,  52.2608, 4950,    500.9,  11.5209,  35.0321,2,  35.0251,2,    209.6,1,    218.7,2,     5.41,2,    12.59,2,    -0.01,2,     0.93,2, -999.000,9, -999.000,9, -999.000,9,   -999.0,9,   -999.0,9,-999.0000,9,  -999.00,   -999.0,9,   -999.0,  -999.00,9,  -999.00,  -999.00,9,  11.5208,2
  49NZ20031209,  I3I4,   552,  1,     27,  12012,2,20031222,0455,-19.9963,  52.2608, 4950,    600.7,  10.0726,  34.8225,2,  34.8161,2,    212.0,1,    221.0,2,     6.49,2,    15.88,2,    -0.01,2,     1.13,2, -999.000,9, -999.000,9, -999.000,9,   -999.0,9,   -999.0,9,-999.0000,9,  -999.00,   -999.0,9,   -999.0,  -999.00,9,  -999.00,  -999.00,9,  10.0708,2
  49NZ20031209,  I3I4,   552,  1,     26,  12014,2,20031222,0455,-19.9963,  52.2608, 4950,    700.5,   8.6857,  34.6680,2,  34.6682,2,    192.0,1,    199.4,2,    13.79,2,    21.21,2,    -0.01,2,     1.48,2, -999.000,9, -999.000,9, -999.000,9,   -999.0,9,   -999.0,9,-999.0000,9,  -999.00,   -999.0,9,   -999.0,  -999.00,9,  -999.00,  -999.00,9,   8.6863,2
  49NZ20031209,  I3I4,   552,  1,     25,  12013,2,20031222,0455,-19.9963,  52.2608, 4950,    801.0,   7.1905,  34.5947,2,  34.5950,2,    156.2,1,    162.2,2,    32.00,2,    27.92,2,    -0.01,2,     1.94,2, -999.000,9, -999.000,9, -999.000,9,   -999.0,9,   -999.0,9,-999.0000,9,  -999.00,   -999.0,9,   -999.0,  -999.00,9,  -999.00,  -999.00,9,   7.1910,2
  49NZ20031209,  I3I4,   552,  1,     24,  12048,2,20031222,0455,-19.9963,  52.2608, 4950,    900.2,   6.3256,  34.6160,2,  34.6171,2,    129.6,1,    134.0,2,    50.68,2,    31.76,2,    -0.01,2,     2.24,2, -999.000,9, -999.000,9, -999.000,9,   -999.0,9,   -999.0,9,-999.0000,9,  -999.00,   -999.0,9,   -999.0,  -999.00,9,  -999.00,  -999.00,9,   6.3263,2
  49NZ20031209,  I3I4,   552,  1,     23,  12047,2,20031222,0455,-19.9963,  52.2608, 4950,   1000.7,   5.4777,  34.6170,2,  34.6130,2,    124.0,1,    129.4,2,    61.82,2,    33.50,2,    -0.01,2,     2.38,2, -999.000,9, -999.000,9, -999.000,9,   -999.0,9,   -999.0,9,-999.0000,9,  -999.00,   -999.0,9,   -999.0,  -999.00,9,  -999.00,  -999.00,9,   5.4777,2
  49NZ20031209,  I3I4,   552,  1,     22,  12046,2,20031222,0455,-19.9963,  52.2608, 4950,   1199.7,   4.2959,  34.6220,2,  34.6218,2,    129.2,1,    134.4,2,    75.34,2,    34.62,2,    -0.01,2,     2.46,2, -999.000,9, -999.000,9, -999.000,9,   -999.0,9,   -999.0,9,-999.0000,9,  -999.00,   -999.0,9,   -999.0,  -999.00,9,  -999.00,  -999.00,9,   4.2958,2
  49NZ20031209,  I3I4,   552,  1,     21,  12045,2,20031222,0455,-19.9963,  52.2608, 4950,   1400.7,   3.5205,  34.6435,2,  34.6435,2,    139.9,1,    145.9,2,    82.44,2,    34.39,2,    -0.01,2,     2.42,2, -999.000,9, -999.000,9, -999.000,9,   -999.0,9,   -999.0,9,-999.0000,9,  -999.00,   -999.0,9,   -999.0,  -999.00,9,  -999.00,  -999.00,9,   3.5219,2
  49NZ20031209,  I3I4,   552,  1,     20,  12044,2,20031222,0455,-19.9963,  52.2608, 4950,   1599.4,   2.9913,  34.6716,2,  34.6715,2,    149.5,1,    156.0,2,    88.38,2,    33.81,2,    -0.01,2,     2.38,2, -999.000,9, -999.000,9, -999.000,9,   -999.0,9,   -999.0,9,-999.0000,9,  -999.00,   -999.0,9,   -999.0,  -999.00,9,  -999.00,  -999.00,9,   2.9913,2
  49NZ20031209,  I3I4,   552,  1,     19,  12043,2,20031222,0455,-19.9963,  52.2608, 4950,   1801.1,   2.6403,  34.7003,2,  34.7004,2,    153.5,1,    160.5,2,    96.10,2,    33.59,2,    -0.01,2,     2.36,2, -999.000,9, -999.000,9, -999.000,9,   -999.0,9,   -999.0,9,-999.0000,9,  -999.00,   -999.0,9,   -999.0,  -999.00,9,  -999.00,  -999.00,9,   2.6405,2
  49NZ20031209,  I3I4,   552,  1,     18,  12042,2,20031222,0455,-19.9963,  52.2608, 4950,   2000.1,   2.4280,  34.7177,2,  34.7171,2,    154.2,1,    161.5,2,   103.46,2,    33.69,2,    -0.01,2,     2.36,2, -999.000,9, -999.000,9, -999.000,9,   -999.0,9,   -999.0,9,-999.0000,9,  -999.00,   -999.0,9,   -999.0,  -999.00,9,  -999.00,  -999.00,9,   2.4280,2
  49NZ20031209,  I3I4,   552,  1,     17,  12041,2,20031222,0455,-19.9963,  52.2608, 4950,   2201.1,   2.2415,  34.7295,2,  34.7294,2,    154.3,1,    161.8,2,   110.18,2,    33.80,2,    -0.01,2,     2.37,2, -999.000,9, -999.000,9, -999.000,9,   -999.0,9,   -999.0,9,-999.0000,9,  -999.00,   -999.0,9,   -999.0,  -999.00,9,  -999.00,  -999.00,9,   2.2416,2
  49NZ20031209,  I3I4,   552,  1,     16,  12040,2,20031222,0455,-19.9963,  52.2608, 4950,   2400.0,   2.1220,  34.7333,2,  34.7334,2,    154.7,1,    162.2,2,   114.63,2,    33.93,2,    -0.01,2,     2.38,2, -999.000,9, -999.000,9, -999.000,9,   -999.0,9,   -999.0,9,-999.0000,9,  -999.00,   -999.0,9,   -999.0,  -999.00,9,  -999.00,  -999.00,9,   2.1219,2
  49NZ20031209,  I3I4,   552,  1,     15,  12039,2,20031222,0455,-19.9963,  52.2608, 4950,   2599.5,   2.0171,  34.7365,2,  34.7366,2,    154.5,1,    162.0,2,   118.99,2,    34.14,2,    -0.01,2,     2.40,2, -999.000,9, -999.000,9, -999.000,9,   -999.0,9,   -999.0,9,-999.0000,9,  -999.00,   -999.0,9,   -999.0,  -999.00,9,  -999.00,  -999.00,9,   2.0171,2
  49NZ20031209,  I3I4,   552,  1,     14,  12038,2,20031222,0455,-19.9963,  52.2608, 4950,   2800.3,   1.9297,  34.7370,2,  34.7370,2,    155.3,1,    162.6,2,   122.08,2,    34.21,2,    -0.01,2,     2.40,2, -999.000,9, -999.000,9, -999.000,9,   -999.0,9,   -999.0,9,-999.0000,9,  -999.00,   -999.0,9,   -999.0,  -999.00,9,  -999.00,  -999.00,9,   1.9297,2
  49NZ20031209,  I3I4,   552,  1,     13,  12037,2,20031222,0455,-19.9963,  52.2608, 4950,   3000.7,   1.8611,  34.7371,2,  34.7371,2,    156.0,1,    163.4,2,   124.30,2,    34.35,2,    -0.01,2,     2.41,2, -999.000,9, -999.000,9, -999.000,9,   -999.0,9,   -999.0,9,-999.0000,9,  -999.00,   -999.0,9,   -999.0,  -999.00,9,  -999.00,  -999.00,9,   1.8610,2
  49NZ20031209,  I3I4,   552,  1,     12,  12036,2,20031222,0455,-19.9963,  52.2608, 4950,   3250.0,   1.7593,  34.7351,2,  34.7347,2,    158.8,1,    166.2,2,   126.31,2,    34.22,2,    -0.01,2,     2.39,2, -999.000,9, -999.000,9, -999.000,9,   -999.0,9,   -999.0,9,-999.0000,9,  -999.00,   -999.0,9,   -999.0,  -999.00,9,  -999.00,  -999.00,9,   1.7594,2
  49NZ20031209,  I3I4,   552,  1,     11,  12035,2,20031222,0455,-19.9963,  52.2608, 4950,   3501.7,   1.6617,  34.7318,2,  34.7314,2,    163.3,1,    170.5,2,   127.23,2,    34.10,2,    -0.01,2,     2.38,2, -999.000,9, -999.000,9, -999.000,9,   -999.0,9,   -999.0,9,-999.0000,9,  -999.00,   -999.0,9,   -999.0,  -999.00,9,  -999.00,  -999.00,9,   1.6617,2
  49NZ20031209,  I3I4,   552,  1,     10,  12034,2,20031222,0455,-19.9963,  52.2608, 4950,   3749.9,   1.5188,  34.7269,2,  34.7266,2,    170.5,1,    177.9,2,   126.99,2,    33.80,2,    -0.01,2,     2.35,2, -999.000,9, -999.000,9, -999.000,9,   -999.0,9,   -999.0,9,-999.0000,9,  -999.00,   -999.0,9,   -999.0,  -999.00,9,  -999.00,  -999.00,9,   1.5189,2
  49NZ20031209,  I3I4,   552,  1,      9,  12033,2,20031222,0455,-19.9963,  52.2608, 4950,   4000.9,   1.3616,  34.7211,2,  34.7210,2,    179.7,1,    187.3,2,   125.30,2,    33.20,2,    -0.01,2,     2.31,2, -999.000,9, -999.000,9, -999.000,9,   -999.0,9,   -999.0,9,-999.0000,9,  -999.00,   -999.0,9,   -999.0,  -999.00,9,  -999.00,  -999.00,9,   1.3615,2
  49NZ20031209,  I3I4,   552,  1,      8,  12032,2,20031222,0455,-19.9963,  52.2608, 4950,   4250.0,   1.2125,  34.7156,2,  34.7153,2,    188.2,1,    195.8,2,   123.39,2,    32.78,2,     0.00,2,     2.28,2, -999.000,9, -999.000,9, -999.000,9,   -999.0,9,   -999.0,9,-999.0000,9,  -999.00,   -999.0,9,   -999.0,  -999.00,9,  -999.00,  -999.00,9,   1.2125,2
  49NZ20031209,  I3I4,   552,  1,      7,  12031,2,20031222,0455,-19.9963,  52.2608, 4950,   4500.8,   1.0841,  34.7104,2,  34.7104,2,    195.1,1,    202.3,2,   123.54,2,    32.54,2,    -0.01,2,     2.26,2, -999.000,9, -999.000,9, -999.000,9,   -999.0,9,   -999.0,9,-999.0000,9,  -999.00,   -999.0,9,   -999.0,  -999.00,9,  -999.00,  -999.00,9,   1.0840,2
  49NZ20031209,  I3I4,   552,  1,      6,  12030,2,20031222,0455,-19.9963,  52.2608, 4950,   4751.2,   1.0283,  34.7071,2,  34.7076,2,    199.5,1,    206.0,2,   123.30,2,    32.38,2,    -0.01,2,     2.24,2, -999.000,9, -999.000,9, -999.000,9,   -999.0,9,   -999.0,9,-999.0000,9,  -999.00,   -999.0,9,   -999.0,  -999.00,9,  -999.00,  -999.00,9,   1.0281,2
  49NZ20031209,  I3I4,   552,  1,      5,  12029,2,20031222,0455,-19.9963,  52.2608, 4950,   5012.8,   1.0060,  34.7047,2,  34.7049,2,    203.1,1,    207.8,2,   123.35,2,    32.37,2,    -0.01,2,     2.23,2, -999.000,9, -999.000,9, -999.000,9,   -999.0,9,   -999.0,9,-999.0000,9,  -999.00,   -999.0,9,   -999.0,  -999.00,9,  -999.00,  -999.00,9,   1.0060,2
  49NZ20031209,  I3I4,   552,  1,      4,  12028,9,20031222,0455,-19.9963,  52.2608, 4950,      4.5,  27.4559,  35.0669,2,-999.0000,9,    194.0,1,   -999.0,9,  -999.00,9,  -999.00,9,  -999.00,9,  -999.00,9, -999.000,9, -999.000,9, -999.000,9,   -999.0,9,   -999.0,9,-999.0000,9,  -999.00,   -999.0,9,   -999.0,  -999.00,9,  -999.00,  -999.00,9,  27.4588,2
  49NZ20031209,  I3I4,   552,  1,      3,  12027,2,20031222,0455,-19.9963,  52.2608, 4950,      4.7,  27.4962,  35.0671,2,-999.0000,9,    193.9,1,   -999.0,9,  -999.00,9,  -999.00,9,  -999.00,9,  -999.00,9, -999.000,9, -999.000,9, -999.000,9,   -999.0,9,   -999.0,9,-999.0000,9,  -999.00,   -999.0,9,   -999.0,  -999.00,9,  -999.00,  -999.00,9,  27.4946,2
  49NZ20031209,  I3I4,   552,  1,      2,  12026,2,20031222,0455,-19.9963,  52.2608, 4950,      5.0,  27.4652,  35.0667,2,-999.0000,9,    194.0,1,   -999.0,9,  -999.00,9,  -999.00,9,  -999.00,9,  -999.00,9, -999.000,9, -999.000,9, -999.000,9,   -999.0,9,   -999.0,9,-999.0000,9,  -999.00,   -999.0,9,   -999.0,  -999.00,9,  -999.00,  -999.00,9,  27.4779,2
  49NZ20031209,  I3I4,   552,  1,      1,  12025,2,20031222,0455,-19.9963,  52.2608, 4950,    114.9,  22.6092,  35.2048,2,-999.0000,9,    205.5,1,   -999.0,9,  -999.00,9,  -999.00,9,  -999.00,9,  -999.00,9, -999.000,9, -999.000,9, -999.000,9,   -999.0,9,   -999.0,9,-999.0000,9,  -999.00,   -999.0,9,   -999.0,  -999.00,9,  -999.00,  -999.00,9,  22.6078,2