BOTTLE,20141204PRINUNIVRMK
EXPOCODE,SECT_ID,STNNBR,CASTNO,SAMPNO,BTLNBR,BTLNBR_FLAG_W,DATE,TIME,LATITUDE,LONGITUDE,DEPTH,CTDPRS,CTDTMP,CTDSAL,CTDSAL_FLAG_W,SALNTY,SALNTY_FLAG_W,CTDOXY,CTDOXY_FLAG_W,OXYGEN,OXYGEN_FLAG_W,SILCAT,SILCAT_FLAG_W,NITRAT,NITRAT_FLAG_W,NITRIT,NITRIT_FLAG_W,PHSPHT,PHSPHT_FLAG_W,CFC-11,CFC-11_FLAG_W,CFC-12,CFC-12_FLAG_W,CFC113,CFC113_FLAG_W,TCARBN,TCARBN_FLAG_W,ALKALI,ALKALI_FLAG_W,PH_TOT,PH_TOT_FLAG_W,PH_TMP,DELC14,DELC14_FLAG_W,C14ERR,DELC13,DELC13_FLAG_W,CS-137,CS137ER,CS-137_FLAG_W,SBE35,SBE35_FLAG_W
,,,,,,,,,,,METERS,DBAR,ITS-90,PSS-78,,PSS-78,,UMOL/KG,,UMOL/KG,,UMOL/KG,,UMOL/KG,,UMOL/KG,,UMOL/KG,,PMOL/KG,,PMOL/KG,,PMOL/KG,,UMOL/KG,,UMOL/KG,,,,DEG C,/MILLE,,/MILLE,/MILLE,,DM/.1MG,DM/.1MG,,ITS-90,
  49NZ20031209,  I3I4,   465,  1,     36,  12024,2,20040115,0108,-19.9993, 101.3443, 5687,     10.0,  25.1006,  34.9670,2,  34.9681,2,    199.0,1,    209.3,2,     1.93,2,     0.03,2,    -0.01,2,     0.08,2, -999.000,9, -999.000,9, -999.000,9,   -999.0,9,   -999.0,9,-999.0000,9,  -999.00,   -999.0,9,   -999.0,  -999.00,9,  -999.00,  -999.00,9,  25.0983,2
  49NZ20031209,  I3I4,   465,  1,     35,  12023,2,20040115,0108,-19.9993, 101.3443, 5687,     50.4,  23.6498,  35.1780,2,  35.1833,2,    211.3,1,    222.3,2,     2.32,2,     0.01,2,    -0.01,2,     0.07,2, -999.000,9, -999.000,9, -999.000,9,   -999.0,9,   -999.0,9,-999.0000,9,  -999.00,   -999.0,9,   -999.0,  -999.00,9,  -999.00,  -999.00,9,  23.6483,2
  49NZ20031209,  I3I4,   465,  1,     34,  12022,2,20040115,0108,-19.9993, 101.3443, 5687,     98.7,  20.4948,  35.4371,2,  35.4376,2,    189.7,1,    201.3,2,     3.84,2,     1.36,2,     0.08,2,     0.23,2, -999.000,9, -999.000,9, -999.000,9,   -999.0,9,   -999.0,9,-999.0000,9,  -999.00,   -999.0,9,   -999.0,  -999.00,9,  -999.00,  -999.00,9,  20.4799,2
  49NZ20031209,  I3I4,   465,  1,     33,  12015,2,20040115,0108,-19.9993, 101.3443, 5687,    151.3,  19.1901,  35.6211,2,  35.6196,2,    179.8,1,    188.4,2,     4.17,2,     3.80,2,     0.01,2,     0.36,2, -999.000,9, -999.000,9, -999.000,9,   -999.0,9,   -999.0,9,-999.0000,9,  -999.00,   -999.0,9,   -999.0,  -999.00,9,  -999.00,  -999.00,9,  19.1894,2
  49NZ20031209,  I3I4,   465,  1,     32,  12020,2,20040115,0108,-19.9993, 101.3443, 5687,    199.9,  17.7369,  35.6823,2,  35.6795,2,    185.4,1,    194.0,2,     4.28,2,     4.32,2,     0.01,2,     0.41,2, -999.000,9, -999.000,9, -999.000,9,   -999.0,9,   -999.0,9,-999.0000,9,  -999.00,   -999.0,9,   -999.0,  -999.00,9,  -999.00,  -999.00,9,  17.7190,2
  49NZ20031209,  I3I4,   465,  1,     31,  12019,2,20040115,0108,-19.9993, 101.3443, 5687,    250.6,  15.0231,  35.4750,2,  35.4746,2,    189.0,1,    197.8,2,     5.79,2,     7.10,2,     0.00,2,     0.60,2, -999.000,9, -999.000,9, -999.000,9,   -999.0,9,   -999.0,9,-999.0000,9,  -999.00,   -999.0,9,   -999.0,  -999.00,9,  -999.00,  -999.00,9,  15.0228,2
  49NZ20031209,  I3I4,   465,  1,     30,  12018,2,20040115,0108,-19.9993, 101.3443, 5687,    298.0,  13.3328,  35.2952,2,  35.2919,2,    213.8,1,    223.8,2,     2.89,2,     7.26,2,     0.00,2,     0.62,2, -999.000,9, -999.000,9, -999.000,9,   -999.0,9,   -999.0,9,-999.0000,9,  -999.00,   -999.0,9,   -999.0,  -999.00,9,  -999.00,  -999.00,9,  13.3220,2
  49NZ20031209,  I3I4,   465,  1,     29,  12017,2,20040115,0108,-19.9993, 101.3443, 5687,    399.7,  10.4103,  34.8533,2,  34.8472,2,    225.8,1,    236.6,2,     3.87,2,    13.22,2,    -0.01,2,     0.97,2, -999.000,9, -999.000,9, -999.000,9,   -999.0,9,   -999.0,9,-999.0000,9,  -999.00,   -999.0,9,   -999.0,  -999.00,9,  -999.00,  -999.00,9,  10.4021,2
  49NZ20031209,  I3I4,   465,  1,     28,  12016,2,20040115,0108,-19.9993, 101.3443, 5687,    500.3,   9.0135,  34.6592,2,  34.6571,2,    218.2,1,    228.6,2,     6.64,2,    18.13,2,    -0.01,2,     1.27,2, -999.000,9, -999.000,9, -999.000,9,   -999.0,9,   -999.0,9,-999.0000,9,  -999.00,   -999.0,9,   -999.0,  -999.00,9,  -999.00,  -999.00,9,   9.0179,2
  49NZ20031209,  I3I4,   465,  1,     27,  12012,2,20040115,0108,-19.9993, 101.3443, 5687,    598.1,   7.4961,  34.5462,2,  34.5459,2,    177.6,1,    185.8,2,    21.74,2,    25.47,2,    -0.01,2,     1.76,2, -999.000,9, -999.000,9, -999.000,9,   -999.0,9,   -999.0,9,-999.0000,9,  -999.00,   -999.0,9,   -999.0,  -999.00,9,  -999.00,  -999.00,9,   7.4934,2
  49NZ20031209,  I3I4,   465,  1,     26,  12014,2,20040115,0108,-19.9993, 101.3443, 5687,    698.4,   6.3166,  34.5632,2,  34.5627,2,    125.0,1,    130.2,2,    50.16,2,    32.36,2,    -0.01,2,     2.28,2, -999.000,9, -999.000,9, -999.000,9,   -999.0,9,   -999.0,9,-999.0000,9,  -999.00,   -999.0,9,   -999.0,  -999.00,9,  -999.00,  -999.00,9,   6.3209,2
  49NZ20031209,  I3I4,   465,  1,     25,  12013,2,20040115,0108,-19.9993, 101.3443, 5687,    799.5,   5.8204,  34.6052,2,  34.6065,2,    102.7,1,    105.7,2,    67.70,2,    35.01,2,    -0.01,2,     2.49,2, -999.000,9, -999.000,9, -999.000,9,   -999.0,9,   -999.0,9,-999.0000,9,  -999.00,   -999.0,9,   -999.0,  -999.00,9,  -999.00,  -999.00,9,   5.8216,2
  49NZ20031209,  I3I4,   465,  1,     24,  12048,2,20040115,0108,-19.9993, 101.3443, 5687,    898.8,   5.4322,  34.6317,2,  34.6317,2,     94.1,1,     97.3,2,    78.61,2,    35.97,2,    -0.01,2,     2.58,2, -999.000,9, -999.000,9, -999.000,9,   -999.0,9,   -999.0,9,-999.0000,9,  -999.00,   -999.0,9,   -999.0,  -999.00,9,  -999.00,  -999.00,9,   5.4329,2
  49NZ20031209,  I3I4,   465,  1,     23,  12047,2,20040115,0108,-19.9993, 101.3443, 5687,   1000.3,   5.1161,  34.6402,2,  34.6403,2,     94.2,1,     97.5,2,    84.34,2,    36.28,2,    -0.01,2,     2.61,2, -999.000,9, -999.000,9, -999.000,9,   -999.0,9,   -999.0,9,-999.0000,9,  -999.00,   -999.0,9,   -999.0,  -999.00,9,  -999.00,  -999.00,9,   5.1163,2
  49NZ20031209,  I3I4,   465,  1,     22,  12046,2,20040115,0108,-19.9993, 101.3443, 5687,   1198.7,   4.3593,  34.6399,2,  34.6399,2,    104.0,1,    108.2,2,    91.15,2,    36.30,2,    -0.01,2,     2.61,2, -999.000,9, -999.000,9, -999.000,9,   -999.0,9,   -999.0,9,-999.0000,9,  -999.00,   -999.0,9,   -999.0,  -999.00,9,  -999.00,  -999.00,9,   4.3596,2
  49NZ20031209,  I3I4,   465,  1,     21,  12045,2,20040115,0108,-19.9993, 101.3443, 5687,   1400.4,   3.7190,  34.6598,2,  34.6604,2,    113.8,1,    119.1,2,    97.01,2,    36.09,2,    -0.01,2,     2.58,2, -999.000,9, -999.000,9, -999.000,9,   -999.0,9,   -999.0,9,-999.0000,9,  -999.00,   -999.0,9,   -999.0,  -999.00,9,  -999.00,  -999.00,9,   3.7193,2
  49NZ20031209,  I3I4,   465,  1,     20,  12044,2,20040115,0108,-19.9993, 101.3443, 5687,   1599.0,   3.2056,  34.6810,2,  34.6802,2,    127.2,1,    133.4,2,    98.37,2,    35.51,2,    -0.01,2,     2.52,2, -999.000,9, -999.000,9, -999.000,9,   -999.0,9,   -999.0,9,-999.0000,9,  -999.00,   -999.0,9,   -999.0,  -999.00,9,  -999.00,  -999.00,9,   3.2057,2
  49NZ20031209,  I3I4,   465,  1,     19,  12043,2,20040115,0108,-19.9993, 101.3443, 5687,   1800.7,   2.7400,  34.7032,2,  34.7043,2,    137.0,1,    144.1,2,   104.24,2,    34.89,2,    -0.01,2,     2.47,2, -999.000,9, -999.000,9, -999.000,9,   -999.0,9,   -999.0,9,-999.0000,9,  -999.00,   -999.0,9,   -999.0,  -999.00,9,  -999.00,  -999.00,9,   2.7401,2
  49NZ20031209,  I3I4,   465,  1,     18,  12042,2,20040115,0108,-19.9993, 101.3443, 5687,   1999.9,   2.4527,  34.7175,2,  34.7173,2,    142.5,1,    150.2,2,   109.60,2,    34.61,2,    -0.01,2,     2.44,2, -999.000,9, -999.000,9, -999.000,9,   -999.0,9,   -999.0,9,-999.0000,9,  -999.00,   -999.0,9,   -999.0,  -999.00,9,  -999.00,  -999.00,9,   2.4530,2
  49NZ20031209,  I3I4,   465,  1,     17,  12041,2,20040115,0108,-19.9993, 101.3443, 5687,   2200.9,   2.1763,  34.7237,2,  34.7237,2,    148.3,1,    156.9,2,   114.38,2,    34.41,2,    -0.01,2,     2.42,2, -999.000,9, -999.000,9, -999.000,9,   -999.0,9,   -999.0,9,-999.0000,9,  -999.00,   -999.0,9,   -999.0,  -999.00,9,  -999.00,  -999.00,9,   2.1759,2
  49NZ20031209,  I3I4,   465,  1,     16,  12040,2,20040115,0108,-19.9993, 101.3443, 5687,   2400.2,   1.9837,  34.7266,2,  34.7263,2,    153.6,1,    162.8,2,   117.11,2,    34.15,2,    -0.01,2,     2.39,2, -999.000,9, -999.000,9, -999.000,9,   -999.0,9,   -999.0,9,-999.0000,9,  -999.00,   -999.0,9,   -999.0,  -999.00,9,  -999.00,  -999.00,9,   1.9839,2
  49NZ20031209,  I3I4,   465,  1,     15,  12039,2,20040115,0108,-19.9993, 101.3443, 5687,   2600.3,   1.8479,  34.7268,2,  34.7272,2,    158.1,1,    167.6,2,   118.22,2,    33.86,2,    -0.01,2,     2.37,2, -999.000,9, -999.000,9, -999.000,9,   -999.0,9,   -999.0,9,-999.0000,9,  -999.00,   -999.0,9,   -999.0,  -999.00,9,  -999.00,  -999.00,9,   1.8477,2
  49NZ20031209,  I3I4,   465,  1,     14,  12038,2,20040115,0108,-19.9993, 101.3443, 5687,   2799.9,   1.7095,  34.7265,2,  34.7267,2,    162.5,1,    172.4,2,   119.63,2,    33.70,2,    -0.01,2,     2.35,2, -999.000,9, -999.000,9, -999.000,9,   -999.0,9,   -999.0,9,-999.0000,9,  -999.00,   -999.0,9,   -999.0,  -999.00,9,  -999.00,  -999.00,9,   1.7094,2
  49NZ20031209,  I3I4,   465,  1,     13,  12037,2,20040115,0108,-19.9993, 101.3443, 5687,   2998.8,   1.5876,  34.7250,2,  34.7254,2,    165.7,1,    176.1,2,   121.84,2,    33.61,2,    -0.01,2,     2.34,2, -999.000,9, -999.000,9, -999.000,9,   -999.0,9,   -999.0,9,-999.0000,9,  -999.00,   -999.0,9,   -999.0,  -999.00,9,  -999.00,  -999.00,9,   1.5878,2
  49NZ20031209,  I3I4,   465,  1,     12,  12036,2,20040115,0108,-19.9993, 101.3443, 5687,   3251.7,   1.4660,  34.7226,2,  34.7232,2,    168.4,1,    179.1,2,   124.51,2,    33.43,2,    -0.01,2,     2.33,2, -999.000,9, -999.000,9, -999.000,9,   -999.0,9,   -999.0,9,-999.0000,9,  -999.00,   -999.0,9,   -999.0,  -999.00,9,  -999.00,  -999.00,9,   1.4661,2
  49NZ20031209,  I3I4,   465,  1,     11,  12035,2,20040115,0108,-19.9993, 101.3443, 5687,   3500.7,   1.3660,  34.7199,2,  34.7199,2,    171.7,1,    182.6,2,   126.12,2,    33.52,2,    -0.01,2,     2.33,2, -999.000,9, -999.000,9, -999.000,9,   -999.0,9,   -999.0,9,-999.0000,9,  -999.00,   -999.0,9,   -999.0,  -999.00,9,  -999.00,  -999.00,9,   1.3662,2
  49NZ20031209,  I3I4,   465,  1,     10,  12034,2,20040115,0108,-19.9993, 101.3443, 5687,   3751.7,   1.2966,  34.7178,2,  34.7176,2,    175.2,1,    186.0,2,   126.62,2,    33.40,2,    -0.01,2,     2.32,2, -999.000,9, -999.000,9, -999.000,9,   -999.0,9,   -999.0,9,-999.0000,9,  -999.00,   -999.0,9,   -999.0,  -999.00,9,  -999.00,  -999.00,9,   1.2963,2
  49NZ20031209,  I3I4,   465,  1,      9,  12033,2,20040115,0108,-19.9993, 101.3443, 5687,   4001.0,   1.2451,  34.7163,2,  34.7161,2,    178.5,1,    189.2,2,   126.65,2,    33.28,2,    -0.01,2,     2.31,2, -999.000,9, -999.000,9, -999.000,9,   -999.0,9,   -999.0,9,-999.0000,9,  -999.00,   -999.0,9,   -999.0,  -999.00,9,  -999.00,  -999.00,9,   1.2452,2
  49NZ20031209,  I3I4,   465,  1,      8,  12032,2,20040115,0108,-19.9993, 101.3443, 5687,   4249.0,   1.2054,  34.7149,2,  34.7147,2,    181.9,1,    192.3,2,   126.25,2,    33.19,2,    -0.01,2,     2.29,2, -999.000,9, -999.000,9, -999.000,9,   -999.0,9,   -999.0,9,-999.0000,9,  -999.00,   -999.0,9,   -999.0,  -999.00,9,  -999.00,  -999.00,9,   1.2056,2
  49NZ20031209,  I3I4,   465,  1,      7,  12031,2,20040115,0108,-19.9993, 101.3443, 5687,   4501.0,   1.1794,  34.7140,2,  34.7140,2,    185.4,1,    195.5,2,   125.34,2,    32.96,2,    -0.01,2,     2.27,2, -999.000,9, -999.000,9, -999.000,9,   -999.0,9,   -999.0,9,-999.0000,9,  -999.00,   -999.0,9,   -999.0,  -999.00,9,  -999.00,  -999.00,9,   1.1796,2
  49NZ20031209,  I3I4,   465,  1,      6,  12030,2,20040115,0108,-19.9993, 101.3443, 5687,   4748.4,   1.1531,  34.7130,2,  34.7125,2,    188.6,1,    198.2,2,   124.77,2,    32.80,2,    -0.01,2,     2.26,2, -999.000,9, -999.000,9, -999.000,9,   -999.0,9,   -999.0,9,-999.0000,9,  -999.00,   -999.0,9,   -999.0,  -999.00,9,  -999.00,  -999.00,9,   1.1532,2
  49NZ20031209,  I3I4,   465,  1,      5,  12029,2,20040115,0108,-19.9993, 101.3443, 5687,   4999.8,   1.1424,  34.7117,2,  34.7118,2,    191.4,1,    200.2,2,   124.39,2,    32.74,2,    -0.01,2,     2.25,2, -999.000,9, -999.000,9, -999.000,9,   -999.0,9,   -999.0,9,-999.0000,9,  -999.00,   -999.0,9,   -999.0,  -999.00,9,  -999.00,  -999.00,9,   1.1425,2
  49NZ20031209,  I3I4,   465,  1,      4,  12028,2,20040115,0108,-19.9993, 101.3443, 5687,   5251.2,   1.1542,  34.7110,2,  34.7109,2,    193.3,1,    201.0,2,   124.26,2,    32.74,2,    -0.01,2,     2.25,2, -999.000,9, -999.000,9, -999.000,9,   -999.0,9,   -999.0,9,-999.0000,9,  -999.00,   -999.0,9,   -999.0,  -999.00,9,  -999.00,  -999.00,9,   1.1543,2
  49NZ20031209,  I3I4,   465,  1,      3,  12027,2,20040115,0108,-19.9993, 101.3443, 5687,   5499.7,   1.1734,  34.7104,2,  34.7115,3,    195.4,1,    202.1,2,   123.79,2,    32.67,2,    -0.01,2,     2.25,2, -999.000,9, -999.000,9, -999.000,9,   -999.0,9,   -999.0,9,-999.0000,9,  -999.00,   -999.0,9,   -999.0,  -999.00,9,  -999.00,  -999.00,9,   1.1734,2
  49NZ20031209,  I3I4,   465,  1,      2,  12026,2,20040115,0108,-19.9993, 101.3443, 5687,   5774.2,   1.1892,  34.7100,2,  34.7103,2,    199.0,1,    203.5,2,   122.99,2,    32.59,2,    -0.01,2,     2.25,2, -999.000,9, -999.000,9, -999.000,9,   -999.0,9,   -999.0,9,-999.0000,9,  -999.00,   -999.0,9,   -999.0,  -999.00,9,  -999.00,  -999.00,9,   1.1894,2
  49NZ20031209,  I3I4,   465,  1,      1,  12025,9,20040115,0108,-19.9993, 101.3443, 5687,      9.8,  25.1001,  34.9674,2,-999.0000,9,    199.1,1,   -999.0,9,  -999.00,9,  -999.00,9,  -999.00,9,  -999.00,9, -999.000,9, -999.000,9, -999.000,9,   -999.0,9,   -999.0,9,-999.0000,9,  -999.00,   -999.0,9,   -999.0,  -999.00,9,  -999.00,  -999.00,9,  25.0993,2