BOTTLE,20141204PRINUNIVRMK
EXPOCODE,SECT_ID,STNNBR,CASTNO,SAMPNO,BTLNBR,BTLNBR_FLAG_W,DATE,TIME,LATITUDE,LONGITUDE,DEPTH,CTDPRS,CTDTMP,CTDSAL,CTDSAL_FLAG_W,SALNTY,SALNTY_FLAG_W,CTDOXY,CTDOXY_FLAG_W,OXYGEN,OXYGEN_FLAG_W,SILCAT,SILCAT_FLAG_W,NITRAT,NITRAT_FLAG_W,NITRIT,NITRIT_FLAG_W,PHSPHT,PHSPHT_FLAG_W,CFC-11,CFC-11_FLAG_W,CFC-12,CFC-12_FLAG_W,CFC113,CFC113_FLAG_W,TCARBN,TCARBN_FLAG_W,ALKALI,ALKALI_FLAG_W,PH_TOT,PH_TOT_FLAG_W,PH_TMP,DELC14,DELC14_FLAG_W,C14ERR,DELC13,DELC13_FLAG_W,CS-137,CS137ER,CS-137_FLAG_W,SBE35,SBE35_FLAG_W
,,,,,,,,,,,METERS,DBAR,ITS-90,PSS-78,,PSS-78,,UMOL/KG,,UMOL/KG,,UMOL/KG,,UMOL/KG,,UMOL/KG,,UMOL/KG,,PMOL/KG,,PMOL/KG,,PMOL/KG,,UMOL/KG,,UMOL/KG,,,,DEG C,/MILLE,,/MILLE,/MILLE,,DM/.1MG,DM/.1MG,,ITS-90,
  49NZ20031209,  I3I4,   525,  1,     36,  12024,2,20031229,1035,-20.0892,  64.9342, 2909,      8.5,  26.4243,  35.1570,2,  35.1578,2,    197.4,1,    206.2,2,     1.89,2,     0.01,2,    -0.01,2,     0.12,2,    1.803,2,    1.073,2,    0.427,4,   1984.0,2,   2298.9,2,   8.0765,2,    25.00,     49.9,2,      3.6,     1.02,2,  -999.00,  -999.00,9,  26.4209,2
  49NZ20031209,  I3I4,   525,  1,     35,  12023,2,20031229,1035,-20.0892,  64.9342, 2909,     49.2,  24.4865,  35.1453,2,  35.1469,2,    209.5,1,    218.8,2,     1.96,2,    -0.02,2,    -0.01,2,     0.11,2,    2.008,2,    1.165,2, -999.000,5,   1983.5,6,   2303.6,2,   8.0758,2,    25.00,     54.9,2,      3.5,     0.99,2,  -999.00,  -999.00,9,  24.4894,2
  49NZ20031209,  I3I4,   525,  1,     34,  12022,2,20031229,1035,-20.0892,  64.9342, 2909,     99.4,  21.6924,  35.4132,2,  35.4102,2,    213.2,1,    222.2,2,     2.04,2,    -0.02,2,     0.00,2,     0.12,2,    2.131,2,    1.230,2, -999.000,5,   2004.9,2,   2316.9,6,   8.0634,2,    25.00,     49.2,2,      3.4,     1.04,2,  -999.00,  -999.00,9,  21.6965,2
  49NZ20031209,  I3I4,   525,  1,     33,  12015,2,20031229,1035,-20.0892,  64.9342, 2909,    152.7,  20.1873,  35.6738,2,  35.6730,2,    194.5,1,    202.7,2,     2.35,2,     1.04,2,     0.20,2,     0.23,2,    2.216,2,    1.282,2,    0.307,4,   2048.1,2,   2330.6,2,   8.0112,6,    25.00,     61.0,2,      3.6,     0.85,2,  -999.00,  -999.00,9,  20.1936,2
  49NZ20031209,  I3I4,   525,  1,     32,  12020,2,20031229,1035,-20.0892,  64.9342, 2909,    198.9,  18.5771,  35.7877,2,  35.7881,2,    188.0,1,    195.3,2,     3.02,2,     2.96,2,     0.01,2,     0.34,2,    2.372,2,    1.353,2,    0.101,4,   2085.3,2,   2339.2,2,   7.9655,2,    25.00,     63.9,6,      6.9,     0.87,6,  -999.00,  -999.00,9,  18.5699,2
  49NZ20031209,  I3I4,   525,  1,     31,  12019,2,20031229,1035,-20.0892,  64.9342, 2909,    250.4,  17.0910,  35.7415,2,  35.7391,2,    203.4,1,    211.5,2,     2.33,2,     2.59,2,     0.00,2,     0.34,2,    2.578,6,    1.449,6,    0.232,4,   2088.9,2,   2340.1,2,   7.9534,2,    25.00,     65.9,2,      3.6,     1.02,2,  -999.00,  -999.00,9,  17.0896,2
  49NZ20031209,  I3I4,   525,  1,     30,  12018,2,20031229,1035,-20.0892,  64.9342, 2909,    302.2,  14.9654,  35.5200,2,  35.5233,2,    200.4,1,    207.9,2,     3.66,2,     5.79,2,     0.00,2,     0.54,2,    2.777,2,    1.529,2,    0.056,4,   2107.3,2,   2328.3,2,   7.9033,2,    25.00,     71.4,2,      3.7,     1.05,2,  -999.00,  -999.00,9,  14.9692,2
  49NZ20031209,  I3I4,   525,  1,     29,  12021,2,20031229,1035,-20.0892,  64.9342, 2909,    401.5,  13.1409,  35.2816,2,  35.2808,2,    212.4,1,    220.3,2,     3.47,2,     8.34,2,     0.00,2,     0.69,2,    3.057,2,    1.631,2,    0.067,4,   2110.6,2,   2317.6,2,   7.8715,2,    25.00,     73.7,2,      3.6,     0.99,3,  -999.00,  -999.00,9,  13.1416,2
  49NZ20031209,  I3I4,   525,  1,     28,  12016,2,20031229,1035,-20.0892,  64.9342, 2909,    499.4,  11.3000,  35.0083,2,  35.0091,2,    217.3,1,    225.0,2,     4.24,2,    11.88,2,     0.00,2,     0.90,2,    3.283,2,    1.687,2,    0.100,4,   2119.9,2,   2301.7,2,   7.8316,2,    25.00,     53.5,3,      3.6,     1.19,2,  -999.00,  -999.00,9,  11.3031,2
  49NZ20031209,  I3I4,   525,  1,     27,  12012,2,20031229,1035,-20.0892,  64.9342, 2909,    599.7,   9.9879,  34.8078,2,  34.8054,2,    219.6,1,    227.6,2,     5.13,2,    15.06,2,     0.00,2,     1.09,2,    3.227,2,    1.615,2,    0.087,4,   2124.9,2,   2294.2,2,   7.8000,2,    25.00,     55.7,2,      3.4,     1.23,2,  -999.00,  -999.00,9,   9.9896,2
  49NZ20031209,  I3I4,   525,  1,     26,  12014,2,20031229,1035,-20.0892,  64.9342, 2909,    699.7,   8.8111,  34.6565,2,  34.6542,2,    207.4,1,    214.3,2,     9.28,2,    19.40,2,     0.00,2,     1.36,2,    2.562,2,    1.257,2,    0.080,4,   2142.9,6,   2291.9,2,   7.7565,2,    25.00,     29.9,2,      3.5,     1.18,2,  -999.00,  -999.00,9,   8.8102,2
  49NZ20031209,  I3I4,   525,  1,     25,  12013,2,20031229,1035,-20.0892,  64.9342, 2909,    798.8,   7.3064,  34.5413,2,  34.5407,2,    183.7,1,    190.2,2,    20.36,2,    25.11,2,    -0.01,2,     1.74,2,    1.420,2,    0.691,2,    0.033,4,   2172.2,2,   2294.7,6,   7.6924,2,    25.00,    -27.5,2,      4.3,     0.92,2,  -999.00,  -999.00,9,   7.3041,2
  49NZ20031209,  I3I4,   525,  1,     24,  12048,2,20031229,1035,-20.0892,  64.9342, 2909,    899.0,   6.1966,  34.5549,2,  34.5548,2,    144.8,1,    148.7,2,    43.69,2,    30.78,2,    -0.01,2,     2.16,2,    0.509,2,    0.240,2,    0.017,4,   2220.3,2,   2312.7,2,   7.6150,2,    25.00,    -95.0,2,      3.2,     0.72,2,  -999.00,  -999.00,9,   6.1967,2
  49NZ20031209,  I3I4,   525,  1,     23,  12047,2,20031229,1035,-20.0892,  64.9342, 2909,    999.4,   5.3115,  34.5907,2,  34.5904,2,    129.0,1,    132.8,2,    61.67,2,    33.26,2,    -0.01,2,     2.36,2,    0.233,6,    0.115,6,    0.007,4,   2249.7,2,   2329.1,2,   7.5818,2,    25.00,   -134.2,2,      3.2,     0.53,2,  -999.00,  -999.00,9,   5.3116,2
  49NZ20031209,  I3I4,   525,  1,     22,  12046,2,20031229,1035,-20.0892,  64.9342, 2909,   1199.7,   4.4369,  34.6508,2,  34.6520,2,    119.8,1,    122.8,2,    80.76,2,    34.84,2,    -0.01,2,     2.49,2,    0.049,2,    0.022,2,    0.000,4,   2276.1,2,   2349.8,2,   7.5620,2,    25.00,   -153.9,2,      3.2,     0.38,2,  -999.00,  -999.00,9,   4.4374,2
  49NZ20031209,  I3I4,   525,  1,     21,  12045,2,20031229,1035,-20.0892,  64.9342, 2909,   1400.4,   3.4933,  34.6833,2,  34.6831,2,    131.9,1,    135.6,2,    91.48,2,    34.71,2,    -0.01,2,     2.46,2,    0.017,2,    0.006,2,    0.000,4,   2282.4,2,   2364.8,2,   7.5726,2,    25.00,   -177.1,2,      3.1,     0.34,2,  -999.00,  -999.00,9,   3.4932,2
  49NZ20031209,  I3I4,   525,  1,     20,  12044,2,20031229,1035,-20.0892,  64.9342, 2909,   1598.6,   2.9041,  34.6917,2,  34.6917,2,    146.0,1,    150.5,2,    94.92,2,    34.02,2,    -0.01,2,     2.40,2,   -0.001,2,    0.000,2,    0.000,4,   2281.4,2,   2369.5,2,   7.5842,2,    25.00,   -175.5,2,      3.0,     0.37,2,  -999.00,  -999.00,9,   2.9037,2
  49NZ20031209,  I3I4,   525,  1,     19,  12043,2,20031229,1035,-20.0892,  64.9342, 2909,   1799.0,   2.4464,  34.7101,2,  34.7097,2,    155.8,1,    160.6,2,   101.55,2,    33.46,2,    -0.01,2,     2.36,2,    0.002,2,    0.001,2,    0.000,4,   2281.7,2,   2379.0,2,   7.5972,2,    25.00,   -169.6,2,      3.0,     0.41,2,  -999.00,  -999.00,9,   2.4428,2
  49NZ20031209,  I3I4,   525,  1,     18,  12042,2,20031229,1035,-20.0892,  64.9342, 2909,   2000.0,   2.2369,  34.7181,2,  34.7179,2,    160.1,1,    165.4,2,   105.70,2,    33.38,2,    -0.01,2,     2.35,2,    0.002,2,    0.001,2,    0.000,4,   2284.8,2,   2382.2,2,   7.6019,6,    25.00,   -180.3,2,      3.0,     0.41,2,  -999.00,  -999.00,9,   2.2369,2
  49NZ20031209,  I3I4,   525,  1,     17,  12041,2,20031229,1035,-20.0892,  64.9342, 2909,   2802.3,   1.8185,  34.7241,2,  34.7244,2,    170.2,1,    174.3,2,   115.44,2,    33.12,2,    -0.01,2,     2.32,2,    0.002,2,    0.000,2,    0.000,4,   2288.3,2,   2390.0,2,   7.6119,2,    25.00,   -177.9,2,      3.0,     0.37,2,  -999.00,  -999.00,9,   1.8184,2
  49NZ20031209,  I3I4,   525,  1,     16,  12040,2,20031229,1035,-20.0892,  64.9342, 2909,   2399.3,   1.9269,  34.7236,2,  34.7238,2,    166.6,1,    171.7,2,   112.49,2,    33.16,2,    -0.01,2,     2.33,2,   -0.003,2,    0.000,2,    0.000,4,   2287.0,6,   2385.7,2,   7.6078,2,    25.00,   -177.4,2,      3.0,     0.38,2,  -999.00,  -999.00,9,   1.9267,2
  49NZ20031209,  I3I4,   525,  1,     15,  12039,2,20031229,1035,-20.0892,  64.9342, 2909,   2599.6,   1.8320,  34.7238,2,  34.7238,2,    169.2,1,    173.9,2,   114.76,2,    33.13,2,    -0.01,2,     2.32,2, -999.000,5, -999.000,5, -999.000,5,   2286.5,2,   2387.6,6,   7.6115,2,    25.00,   -186.3,3,      3.1,     0.39,2,  -999.00,  -999.00,9,   1.8318,2
  49NZ20031209,  I3I4,   525,  1,     14,  12038,2,20031229,1035,-20.0892,  64.9342, 2909,   2801.7,   1.8185,  34.7240,2,  34.7241,2,    170.2,1,    174.4,2,   115.61,2,    33.19,2,    -0.01,2,     2.33,2,   -0.002,2,   -0.002,2,    0.000,4,   2288.3,2,   2395.5,2,   7.6117,6,    25.00,   -175.8,2,      3.1,     0.32,3,  -999.00,  -999.00,9,   1.8184,2
  49NZ20031209,  I3I4,   525,  1,     13,  12037,2,20031229,1035,-20.0892,  64.9342, 2909,   2935.4,   1.8172,  34.7241,2,  34.7241,2,    171.1,1,    174.6,2,   115.82,2,    33.17,2,    -0.01,2,     2.32,2,    0.000,2,    0.000,2,    0.000,4,   2287.0,2,   2387.5,2,   7.6118,2,    25.00,   -175.1,2,      3.1,     0.24,3,  -999.00,  -999.00,9,   1.8170,2
  49NZ20031209,  I3I4,   525,  1,     12,  12036,9,20031229,1035,-20.0892,  64.9342, 2909,   2099.4,   2.1205,  34.7217,2,-999.0000,9,    161.9,1,   -999.0,9,  -999.00,9,  -999.00,9,  -999.00,9,  -999.00,9, -999.000,9, -999.000,9, -999.000,9,   -999.0,9,   -999.0,9,-999.0000,9,  -999.00,   -999.0,9,   -999.0,  -999.00,9,  -999.00,  -999.00,9,   2.1208,2
  49NZ20031209,  I3I4,   525,  1,     11,  12035,9,20031229,1035,-20.0892,  64.9342, 2909,   2299.5,   1.9633,  34.7216,2,-999.0000,9,    166.6,1,   -999.0,9,  -999.00,9,  -999.00,9,  -999.00,9,  -999.00,9, -999.000,9, -999.000,9, -999.000,9,   -999.0,9,   -999.0,9,-999.0000,9,  -999.00,   -999.0,9,   -999.0,  -999.00,9,  -999.00,  -999.00,9,   1.9628,2
  49NZ20031209,  I3I4,   525,  1,     10,  12034,9,20031229,1035,-20.0892,  64.9342, 2909,   2499.4,   1.8768,  34.7237,2,-999.0000,9,    167.9,1,   -999.0,9,  -999.00,9,  -999.00,9,  -999.00,9,  -999.00,9, -999.000,9, -999.000,9, -999.000,9,   -999.0,9,   -999.0,9,-999.0000,9,  -999.00,   -999.0,9,   -999.0,  -999.00,9,  -999.00,  -999.00,9,   1.8766,2
  49NZ20031209,  I3I4,   525,  1,      9,  12033,9,20031229,1035,-20.0892,  64.9342, 2909,   2700.9,   1.8214,  34.7240,2,-999.0000,9,    169.7,1,   -999.0,9,  -999.00,9,  -999.00,9,  -999.00,9,  -999.00,9, -999.000,9, -999.000,9, -999.000,9,   -999.0,9,   -999.0,9,-999.0000,9,  -999.00,   -999.0,9,   -999.0,  -999.00,9,  -999.00,  -999.00,9,   1.8214,2
  49NZ20031209,  I3I4,   525,  1,      8,  12032,9,20031229,1035,-20.0892,  64.9342, 2909,   1000.0,   5.3117,  34.5892,2,-999.0000,9,    129.0,1,   -999.0,9,  -999.00,9,  -999.00,9,  -999.00,9,  -999.00,9, -999.000,9, -999.000,9, -999.000,9,   -999.0,9,   -999.0,9,-999.0000,9,  -999.00,   -999.0,9,   -999.0,  -999.00,9,  -999.00,  -999.00,9,   5.3121,2
  49NZ20031209,  I3I4,   525,  1,      7,  12031,9,20031229,1035,-20.0892,  64.9342, 2909,   1000.3,   5.3099,  34.5891,2,-999.0000,9,    129.3,1,   -999.0,9,  -999.00,9,  -999.00,9,  -999.00,9,  -999.00,9, -999.000,9, -999.000,9, -999.000,9,   -999.0,9,   -999.0,9,-999.0000,9,  -999.00,   -999.0,9,   -999.0,  -999.00,9,  -999.00,  -999.00,9,   5.3096,2
  49NZ20031209,  I3I4,   525,  1,      6,  12030,9,20031229,1035,-20.0892,  64.9342, 2909,    999.5,   5.3085,  34.5890,2,-999.0000,9,    129.3,1,   -999.0,9,  -999.00,9,  -999.00,9,  -999.00,9,  -999.00,9, -999.000,9, -999.000,9, -999.000,9,   -999.0,9,   -999.0,9,-999.0000,9,  -999.00,   -999.0,9,   -999.0,  -999.00,9,  -999.00,  -999.00,9,   5.3082,2
  49NZ20031209,  I3I4,   525,  1,      5,  12029,9,20031229,1035,-20.0892,  64.9342, 2909,   1000.4,   5.3048,  34.5881,2,-999.0000,9,    129.4,1,   -999.0,9,  -999.00,9,  -999.00,9,  -999.00,9,  -999.00,9, -999.000,9, -999.000,9, -999.000,9,   -999.0,9,   -999.0,9,-999.0000,9,  -999.00,   -999.0,9,   -999.0,  -999.00,9,  -999.00,  -999.00,9,   5.3057,2
  49NZ20031209,  I3I4,   525,  1,      4,  12028,9,20031229,1035,-20.0892,  64.9342, 2909,    999.7,   5.3081,  34.5888,2,-999.0000,9,    129.3,1,   -999.0,9,  -999.00,9,  -999.00,9,  -999.00,9,  -999.00,9, -999.000,9, -999.000,9, -999.000,9,   -999.0,9,   -999.0,9,-999.0000,9,  -999.00,   -999.0,9,   -999.0,  -999.00,9,  -999.00,  -999.00,9,   5.3078,2
  49NZ20031209,  I3I4,   525,  1,      3,  12027,9,20031229,1035,-20.0892,  64.9342, 2909,    999.7,   5.3085,  34.5890,2,-999.0000,9,    129.3,1,   -999.0,9,  -999.00,9,  -999.00,9,  -999.00,9,  -999.00,9, -999.000,9, -999.000,9, -999.000,9,   -999.0,9,   -999.0,9,-999.0000,9,  -999.00,   -999.0,9,   -999.0,  -999.00,9,  -999.00,  -999.00,9,   5.3092,2
  49NZ20031209,  I3I4,   525,  1,      2,  12026,9,20031229,1035,-20.0892,  64.9342, 2909,    999.5,   5.3103,  34.5900,2,-999.0000,9,    129.0,1,   -999.0,9,  -999.00,9,  -999.00,9,  -999.00,9,  -999.00,9, -999.000,9, -999.000,9, -999.000,9,   -999.0,9,   -999.0,9,-999.0000,9,  -999.00,   -999.0,9,   -999.0,  -999.00,9,  -999.00,  -999.00,9,   5.3113,2
  49NZ20031209,  I3I4,   525,  1,      1,  12025,2,20031229,1035,-20.0892,  64.9342, 2909,   2199.9,   2.0270,  34.7221,2,  34.7217,2,    164.5,1,    169.9,2,   110.01,2,    33.16,2,    -0.01,2,     2.33,2,    0.010,2,    0.004,2,    0.000,4,   2286.3,2,   2391.2,3,   7.6062,2,    25.00,   -182.9,2,      3.1,     0.40,2,  -999.00,  -999.00,9,   2.0265,2