BOTTLE,20141204PRINUNIVRMK
EXPOCODE,SECT_ID,STNNBR,CASTNO,SAMPNO,BTLNBR,BTLNBR_FLAG_W,DATE,TIME,LATITUDE,LONGITUDE,DEPTH,CTDPRS,CTDTMP,CTDSAL,CTDSAL_FLAG_W,SALNTY,SALNTY_FLAG_W,CTDOXY,CTDOXY_FLAG_W,OXYGEN,OXYGEN_FLAG_W,SILCAT,SILCAT_FLAG_W,NITRAT,NITRAT_FLAG_W,NITRIT,NITRIT_FLAG_W,PHSPHT,PHSPHT_FLAG_W,CFC-11,CFC-11_FLAG_W,CFC-12,CFC-12_FLAG_W,CFC113,CFC113_FLAG_W,TCARBN,TCARBN_FLAG_W,ALKALI,ALKALI_FLAG_W,PH_TOT,PH_TOT_FLAG_W,PH_TMP,DELC14,DELC14_FLAG_W,C14ERR,DELC13,DELC13_FLAG_W,CS-137,CS137ER,CS-137_FLAG_W,SBE35,SBE35_FLAG_W
,,,,,,,,,,,METERS,DBAR,ITS-90,PSS-78,,PSS-78,,UMOL/KG,,UMOL/KG,,UMOL/KG,,UMOL/KG,,UMOL/KG,,UMOL/KG,,PMOL/KG,,PMOL/KG,,PMOL/KG,,UMOL/KG,,UMOL/KG,,,,DEG C,/MILLE,,/MILLE,/MILLE,,DM/.1MG,DM/.1MG,,ITS-90,
  49NZ20031209,  I3I4,   445,  1,     31,  12019,2,20040120,2152,-22.2143, 113.7000,  380,     10.7,  24.0218,  35.0898,2,  35.0890,2,    201.8,1,    212.4,2,     2.95,2,    -0.01,2,     0.00,2,     0.11,2, -999.000,9, -999.000,9, -999.000,9,   -999.0,9,   -999.0,9,-999.0000,9,  -999.00,   -999.0,9,   -999.0,  -999.00,9,  -999.00,  -999.00,9,  24.0212,2
  49NZ20031209,  I3I4,   445,  1,     30,  12018,2,20040120,2152,-22.2143, 113.7000,  380,     50.1,  23.7246,  35.2287,2,  35.2312,2,    206.1,1,    217.1,2,     2.70,2,    -0.01,2,     0.00,2,     0.09,2, -999.000,9, -999.000,9, -999.000,9,   -999.0,9,   -999.0,9,-999.0000,9,  -999.00,   -999.0,9,   -999.0,  -999.00,9,  -999.00,  -999.00,9,  23.7196,2
  49NZ20031209,  I3I4,   445,  1,     29,  12021,2,20040120,2152,-22.2143, 113.7000,  380,    101.3,  21.0506,  35.1950,2,  35.1950,2,    165.4,1,    173.1,2,     6.46,2,     4.89,2,     0.05,2,     0.43,2, -999.000,9, -999.000,9, -999.000,9,   -999.0,9,   -999.0,9,-999.0000,9,  -999.00,   -999.0,9,   -999.0,  -999.00,9,  -999.00,  -999.00,9,  21.0506,2
  49NZ20031209,  I3I4,   445,  1,     28,  12016,2,20040120,2152,-22.2143, 113.7000,  380,    153.8,  19.6791,  35.4114,2,  35.4103,2,    167.8,1,    175.1,2,     6.44,2,     5.49,2,     0.03,2,     0.45,2, -999.000,9, -999.000,9, -999.000,9,   -999.0,9,   -999.0,9,-999.0000,9,  -999.00,   -999.0,9,   -999.0,  -999.00,9,  -999.00,  -999.00,9,  19.6794,2
  49NZ20031209,  I3I4,   445,  1,     14,  12038,2,20040120,2152,-22.2143, 113.7000,  380,    199.0,  17.8046,  35.5098,2,  35.5153,2,    174.2,1,    183.6,2,     7.49,2,     6.08,2,     0.03,2,     0.51,2, -999.000,9, -999.000,9, -999.000,9,   -999.0,9,   -999.0,9,-999.0000,9,  -999.00,   -999.0,9,   -999.0,  -999.00,9,  -999.00,  -999.00,9,  17.8081,2
  49NZ20031209,  I3I4,   445,  1,     13,  12037,2,20040120,2152,-22.2143, 113.7000,  380,    248.9,  15.7720,  35.3965,2,  35.3933,2,    175.1,1,    182.6,2,     9.46,2,     8.61,2,     0.01,2,     0.69,2, -999.000,9, -999.000,9, -999.000,9,   -999.0,9,   -999.0,9,-999.0000,9,  -999.00,   -999.0,9,   -999.0,  -999.00,9,  -999.00,  -999.00,9,  15.7480,2
  49NZ20031209,  I3I4,   445,  1,     12,  12036,2,20040120,2152,-22.2143, 113.7000,  380,    301.2,  14.0623,  35.2631,2,  35.2632,2,    188.3,1,    196.2,2,     8.99,2,     9.65,2,     0.01,2,     0.77,2, -999.000,9, -999.000,9, -999.000,9,   -999.0,9,   -999.0,9,-999.0000,9,  -999.00,   -999.0,9,   -999.0,  -999.00,9,  -999.00,  -999.00,9,  14.0586,2
  49NZ20031209,  I3I4,   445,  1,     11,  12035,2,20040120,2152,-22.2143, 113.7000,  380,    371.2,  12.0805,  35.0643,2,  35.0680,2,    210.0,1,    218.6,2,     6.73,2,    11.05,2,     0.01,2,     0.86,2, -999.000,9, -999.000,9, -999.000,9,   -999.0,9,   -999.0,9,-999.0000,9,  -999.00,   -999.0,9,   -999.0,  -999.00,9,  -999.00,  -999.00,9,  12.0802,2
  49NZ20031209,  I3I4,   444,  1,     36,  12024,2,20040120,2307,-22.2258, 113.7590,  159,     10.1,  23.2829,  35.0663,2,  35.0646,2,    195.9,1,    206.5,2,     3.27,2,     0.35,2,     0.06,2,     0.17,2, -999.000,9, -999.000,9, -999.000,9,   -999.0,9,   -999.0,9,-999.0000,9,  -999.00,   -999.0,9,   -999.0,  -999.00,9,  -999.00,  -999.00,9,  23.2833,2
  49NZ20031209,  I3I4,   444,  1,     35,  12023,2,20040120,2307,-22.2258, 113.7590,  159,     50.3,  23.2644,  35.0654,2,  35.0650,2,    194.8,1,    205.1,2,     3.42,2,     0.44,2,     0.08,2,     0.18,2, -999.000,9, -999.000,9, -999.000,9,   -999.0,9,   -999.0,9,-999.0000,9,  -999.00,   -999.0,9,   -999.0,  -999.00,9,  -999.00,  -999.00,9,  23.2641,2
  49NZ20031209,  I3I4,   444,  1,     17,  12041,2,20040120,2307,-22.2258, 113.7590,  159,    100.3,  21.2508,  35.1513,2,  35.1581,2,    162.8,1,    171.2,2,     7.45,2,     5.05,2,     0.07,2,     0.45,2, -999.000,9, -999.000,9, -999.000,9,   -999.0,9,   -999.0,9,-999.0000,9,  -999.00,   -999.0,9,   -999.0,  -999.00,9,  -999.00,  -999.00,9,  21.2473,2
  49NZ20031209,  I3I4,   444,  1,     16,  12040,2,20040120,2307,-22.2258, 113.7590,  159,    148.6,  19.3519,  35.2979,2,  35.2987,2,    158.2,1,    165.7,2,     8.83,2,     7.13,2,     0.04,2,     0.57,2, -999.000,9, -999.000,9, -999.000,9,   -999.0,9,   -999.0,9,-999.0000,9,  -999.00,   -999.0,9,   -999.0,  -999.00,9,  -999.00,  -999.00,9,  19.3432,2
  49NZ20031209,  I3I4,   444,  1,      3,  12027,9,20040120,2307,-22.2258, 113.7590,  159,      4.8,  23.2786,  35.0666,2,-999.0000,9,    196.0,1,   -999.0,9,  -999.00,9,  -999.00,9,  -999.00,9,  -999.00,9, -999.000,9, -999.000,9, -999.000,9,   -999.0,9,   -999.0,9,-999.0000,9,  -999.00,   -999.0,9,   -999.0,  -999.00,9,  -999.00,  -999.00,9,  23.2791,2
  49NZ20031209,  I3I4,   444,  1,      2,  12026,2,20040120,2307,-22.2258, 113.7590,  159,      4.8,  23.2786,  35.0666,2,-999.0000,9,    196.1,1,   -999.0,9,  -999.00,9,  -999.00,9,  -999.00,9,  -999.00,9, -999.000,9, -999.000,9, -999.000,9,   -999.0,9,   -999.0,9,-999.0000,9,  -999.00,   -999.0,9,   -999.0,  -999.00,9,  -999.00,  -999.00,9,  23.2793,2
  49NZ20031209,  I3I4,   444,  1,      1,  12025,2,20040120,2307,-22.2258, 113.7590,  159,     45.5,  23.2649,  35.0654,2,-999.0000,9,    195.0,1,   -999.0,9,  -999.00,9,  -999.00,9,  -999.00,9,  -999.00,9, -999.000,9, -999.000,9, -999.000,9,   -999.0,9,   -999.0,9,-999.0000,9,  -999.00,   -999.0,9,   -999.0,  -999.00,9,  -999.00,  -999.00,9,  23.2652,2