BOTTLE,20141204PRINUNIVRMK
EXPOCODE,SECT_ID,STNNBR,CASTNO,SAMPNO,BTLNBR,BTLNBR_FLAG_W,DATE,TIME,LATITUDE,LONGITUDE,DEPTH,CTDPRS,CTDTMP,CTDSAL,CTDSAL_FLAG_W,SALNTY,SALNTY_FLAG_W,CTDOXY,CTDOXY_FLAG_W,OXYGEN,OXYGEN_FLAG_W,SILCAT,SILCAT_FLAG_W,NITRAT,NITRAT_FLAG_W,NITRIT,NITRIT_FLAG_W,PHSPHT,PHSPHT_FLAG_W,CFC-11,CFC-11_FLAG_W,CFC-12,CFC-12_FLAG_W,CFC113,CFC113_FLAG_W,TCARBN,TCARBN_FLAG_W,ALKALI,ALKALI_FLAG_W,PH_TOT,PH_TOT_FLAG_W,PH_TMP,DELC14,DELC14_FLAG_W,C14ERR,DELC13,DELC13_FLAG_W,CS-137,CS137ER,CS-137_FLAG_W,SBE35,SBE35_FLAG_W
,,,,,,,,,,,METERS,DBAR,ITS-90,PSS-78,,PSS-78,,UMOL/KG,,UMOL/KG,,UMOL/KG,,UMOL/KG,,UMOL/KG,,UMOL/KG,,PMOL/KG,,PMOL/KG,,PMOL/KG,,UMOL/KG,,UMOL/KG,,,,DEG C,/MILLE,,/MILLE,/MILLE,,DM/.1MG,DM/.1MG,,ITS-90,
  49NZ20031209,  I3I4,   457,  1,     36,  12024,2,20040118,0838,-20.3073, 108.1562, 5007,     10.0,  25.0243,  35.1282,2,  35.1297,2,    199.0,1,    209.3,2,     2.52,2,     0.04,2,     0.00,2,     0.07,2,    1.775,2,    1.112,2, -999.000,5,   1980.2,2,   2304.8,2,   8.0882,2,    25.00,   -999.0,9,   -999.0,  -999.00,9,  -999.00,  -999.00,9,  25.0226,2
  49NZ20031209,  I3I4,   457,  1,     35,  12023,2,20040118,0838,-20.3073, 108.1562, 5007,     50.1,  23.6088,  35.2688,2,  35.2688,2,    205.9,1,    216.7,2,     2.64,2,     0.02,2,     0.00,2,     0.07,2,    1.920,2,    1.166,2, -999.000,5,   1991.9,6,   2311.3,2,   8.0792,2,    25.00,   -999.0,9,   -999.0,  -999.00,9,  -999.00,  -999.00,9,  23.6076,2
  49NZ20031209,  I3I4,   457,  1,     34,  12022,2,20040118,0838,-20.3073, 108.1562, 5007,     99.7,  21.4474,  35.3225,2,  35.3238,2,    201.4,1,    211.1,2,     3.06,2,     0.39,2,     0.09,2,     0.13,2,    1.996,2,    1.227,2, -999.000,5,   2014.5,2,   2313.8,6,   8.0497,2,    25.00,   -999.0,9,   -999.0,  -999.00,9,  -999.00,  -999.00,9,  21.4441,2
  49NZ20031209,  I3I4,   457,  1,     33,  12015,2,20040118,0838,-20.3073, 108.1562, 5007,    150.5,  20.0129,  35.5852,2,  35.5845,2,    197.6,1,    206.5,2,     2.89,2,     1.46,2,     0.03,2,     0.19,2,    2.119,2,    1.283,2, -999.000,5,   2038.9,2,   2332.0,2,   8.0241,6,    25.00,   -999.0,9,   -999.0,  -999.00,9,  -999.00,  -999.00,9,  20.0145,2
  49NZ20031209,  I3I4,   457,  1,     32,  12020,2,20040118,0838,-20.3073, 108.1562, 5007,    200.1,  18.1451,  35.6471,2,  35.6505,2,    182.3,1,    192.0,2,     4.65,2,     4.29,2,     0.01,2,     0.40,2,    2.270,2,    1.347,2,    0.199,4,   2080.1,2,   2334.9,2,   7.9593,2,    25.00,   -999.0,9,   -999.0,  -999.00,9,  -999.00,  -999.00,9,  18.1349,2
  49NZ20031209,  I3I4,   457,  1,     31,  12019,2,20040118,0838,-20.3073, 108.1562, 5007,    249.6,  15.8542,  35.5790,2,  35.5787,2,    196.4,1,    206.1,2,     4.15,2,     4.72,2,     0.01,2,     0.44,2,    2.526,6,    1.475,6,    0.137,4,   2092.9,2,   2334.2,2,   7.9330,2,    25.00,   -999.0,9,   -999.0,  -999.00,9,  -999.00,  -999.00,9,  15.8538,2
  49NZ20031209,  I3I4,   457,  1,     30,  12018,2,20040118,0838,-20.3073, 108.1562, 5007,    299.7,  13.7181,  35.3597,2,  35.3501,2,    215.3,1,    226.1,2,     2.36,2,     6.00,2,     0.00,2,     0.53,2,    2.934,2,    1.659,2,    0.195,4,   2097.7,2,   2321.9,2,   7.9046,2,    25.00,   -999.0,9,   -999.0,  -999.00,9,  -999.00,  -999.00,9,  13.7208,2
  49NZ20031209,  I3I4,   457,  1,     29,  12017,2,20040118,0838,-20.3073, 108.1562, 5007,    399.2,  10.3927,  34.8465,2,  34.8397,2,    229.6,1,    241.0,2,     3.41,2,    12.62,2,     0.00,2,     0.93,2,    3.393,2,    1.879,2,    0.196,4,   2115.0,2,   2299.0,2,   7.8293,2,    25.00,   -999.0,9,   -999.0,  -999.00,9,  -999.00,  -999.00,9,  10.3934,2
  49NZ20031209,  I3I4,   457,  1,     28,  12016,2,20040118,0838,-20.3073, 108.1562, 5007,    499.2,   9.0329,  34.6526,2,  34.6492,2,    220.4,1,    230.6,2,     6.17,2,    17.83,2,     0.00,2,     1.24,2,    3.280,2,    1.724,2,    0.106,4,   2128.2,2,   2288.7,2,   7.7771,2,    25.00,   -999.0,9,   -999.0,  -999.00,9,  -999.00,  -999.00,9,   9.0334,2
  49NZ20031209,  I3I4,   457,  1,     27,  12012,2,20040118,0838,-20.3073, 108.1562, 5007,    599.3,   7.5532,  34.5818,2,  34.5811,2,    152.4,1,    158.4,2,    32.26,2,    27.39,2,     0.00,2,     1.90,2,    1.070,2,    0.656,2,    0.000,4,   2191.5,2,   2302.8,2,   7.6561,2,    25.00,   -999.0,9,   -999.0,  -999.00,9,  -999.00,  -999.00,9,   7.5529,2
  49NZ20031209,  I3I4,   457,  1,     26,  12014,2,20040118,0838,-20.3073, 108.1562, 5007,    700.5,   6.7083,  34.6117,2,  34.6117,2,    103.8,1,    107.6,2,    58.55,2,    33.08,2,     0.00,2,     2.34,2,    0.176,2,    0.184,2,    0.000,4,   2244.8,6,   2326.5,2,   7.5731,2,    25.00,   -999.0,9,   -999.0,  -999.00,9,  -999.00,  -999.00,9,   6.7093,2
  49NZ20031209,  I3I4,   457,  1,     25,  12013,2,20040118,0838,-20.3073, 108.1562, 5007,    800.4,   6.1840,  34.6299,2,  34.6290,2,     91.3,1,     94.4,2,    70.60,2,    35.07,2,     0.00,2,     2.50,2,    0.044,2,    0.042,2,    0.000,4,   2266.4,2,   2340.3,6,   7.5467,2,    25.00,   -999.0,9,   -999.0,  -999.00,9,  -999.00,  -999.00,9,   6.1846,2
  49NZ20031209,  I3I4,   457,  1,     24,  12048,2,20040118,0838,-20.3073, 108.1562, 5007,    900.6,   5.7080,  34.6326,2,  34.6322,2,     89.6,1,     92.7,2,    76.87,2,    35.83,2,     0.00,2,     2.56,2,    0.021,2,    0.029,2,    0.000,4,   2277.8,2,   2345.8,2,   7.5368,6,    25.00,   -999.0,9,   -999.0,  -999.00,9,  -999.00,  -999.00,9,   5.7076,2
  49NZ20031209,  I3I4,   457,  1,     23,  12047,2,20040118,0838,-20.3073, 108.1562, 5007,    999.6,   5.3367,  34.6318,2,  34.6324,2,     91.2,1,     94.1,2,    82.34,2,    36.21,2,     0.00,2,     2.59,2,    0.020,6,    0.016,6,    0.000,4,   2281.9,2,   2354.1,2,   7.5335,2,    25.00,   -999.0,9,   -999.0,  -999.00,9,  -999.00,  -999.00,9,   5.3367,2
  49NZ20031209,  I3I4,   457,  1,     22,  12046,2,20040118,0838,-20.3073, 108.1562, 5007,   1200.1,   4.5113,  34.6399,2,  34.6401,2,     97.3,1,    100.8,2,    94.09,2,    36.46,2,     0.00,2,     2.62,2,    0.008,2,    0.005,2,    0.000,4,   2294.7,2,   2362.7,2,   7.5360,2,    25.00,   -999.0,9,   -999.0,  -999.00,9,  -999.00,  -999.00,9,   4.5116,2
  49NZ20031209,  I3I4,   457,  1,     21,  12045,2,20040118,0838,-20.3073, 108.1562, 5007,   1400.2,   3.8720,  34.6516,2,  34.6523,2,    109.8,1,    114.3,2,    96.70,2,    36.24,2,     0.00,2,     2.58,2,    0.003,2,    0.001,2,    0.000,4,   2292.5,2,   2368.4,2,   7.5460,2,    25.00,   -999.0,9,   -999.0,  -999.00,9,  -999.00,  -999.00,9,   3.8718,2
  49NZ20031209,  I3I4,   457,  1,     20,  12044,2,20040118,0838,-20.3073, 108.1562, 5007,   1600.4,   3.2309,  34.6786,2,  34.6786,2,    121.8,1,    127.2,2,   103.24,2,    35.61,2,     0.00,2,     2.53,2,   -0.001,2,   -0.002,2,    0.000,4,   2294.3,2,   2379.0,2,   7.5553,2,    25.00,   -999.0,9,   -999.0,  -999.00,9,  -999.00,  -999.00,9,   3.2308,2
  49NZ20031209,  I3I4,   457,  1,     19,  12043,2,20040118,0838,-20.3073, 108.1562, 5007,   1800.4,   2.8064,  34.7012,2,  34.7013,2,    130.2,1,    136.7,2,   108.81,2,    35.22,2,     0.00,2,     2.49,2,   -0.001,2,   -0.001,2,    0.000,4,   2295.7,2,   2381.1,2,   7.5703,2,    25.00,   -999.0,9,   -999.0,  -999.00,9,  -999.00,  -999.00,9,   2.8060,2
  49NZ20031209,  I3I4,   457,  1,     18,  12042,2,20040118,0838,-20.3073, 108.1562, 5007,   2000.9,   2.4623,  34.7186,2,  34.7182,2,    136.7,1,    144.0,2,   114.91,2,    34.92,2,    -0.01,2,     2.46,2,    0.000,2,    0.001,2,    0.000,4,   2300.3,2,   2390.1,2,   7.5769,6,    25.00,   -999.0,9,   -999.0,  -999.00,9,  -999.00,  -999.00,9,   2.4625,2
  49NZ20031209,  I3I4,   457,  1,     17,  12041,3,20040118,0838,-20.3073, 108.1562, 5007,   2201.3,   2.2270,  34.7252,2,  34.7272,4,    141.3,1,    148.8,2,   120.16,2,    34.74,2,    -0.01,2,     2.44,2,    0.005,2,    0.004,2,    0.000,4,   2301.9,2,   2393.0,2,   7.5834,2,    25.00,   -999.0,9,   -999.0,  -999.00,9,  -999.00,  -999.00,9,   2.2270,2
  49NZ20031209,  I3I4,   457,  1,     16,  12040,2,20040118,0838,-20.3073, 108.1562, 5007,   2401.1,   2.0646,  34.7270,2,  34.7270,2,    145.5,1,    153.3,2,   122.84,2,    34.58,2,     0.00,2,     2.43,2, -999.000,5, -999.000,5, -999.000,5,   2300.6,6,   2395.4,2,   7.5897,2,    25.00,   -999.0,9,   -999.0,  -999.00,9,  -999.00,  -999.00,9,   2.0647,2
  49NZ20031209,  I3I4,   457,  1,     15,  12039,2,20040118,0838,-20.3073, 108.1562, 5007,   2600.4,   1.9245,  34.7268,2,  34.7267,2,    150.9,1,    158.9,2,   123.40,2,    34.34,2,     0.00,2,     2.40,2,   -0.004,2,   -0.002,2,    0.000,4,   2297.9,2,   2394.0,6,   7.5968,2,    25.00,   -999.0,9,   -999.0,  -999.00,9,  -999.00,  -999.00,9,   1.9244,2
  49NZ20031209,  I3I4,   457,  1,     14,  12038,2,20040118,0838,-20.3073, 108.1562, 5007,   2802.0,   1.7629,  34.7258,2,  34.7260,2,    158.4,1,    167.1,2,   122.61,2,    33.88,2,     0.00,2,     2.35,2,    0.000,2,   -0.001,2,    0.000,4,   2293.9,2,   2390.9,2,   7.6038,6,    25.00,   -999.0,9,   -999.0,  -999.00,9,  -999.00,  -999.00,9,   1.7628,2
  49NZ20031209,  I3I4,   457,  1,     13,  12037,2,20040118,0838,-20.3073, 108.1562, 5007,   3001.2,   1.6250,  34.7247,2,  34.7247,2,    164.2,1,    173.4,2,   122.37,2,    33.56,2,     0.00,2,     2.33,2,   -0.001,2,   -0.002,2,    0.000,4,   2290.2,2,   2393.3,2,   7.6100,2,    25.00,   -999.0,9,   -999.0,  -999.00,9,  -999.00,  -999.00,9,   1.6246,2
  49NZ20031209,  I3I4,   457,  1,     12,  12036,2,20040118,0838,-20.3073, 108.1562, 5007,   3248.9,   1.4776,  34.7225,2,  34.7225,2,    169.8,1,    179.3,2,   123.31,2,    33.24,2,     0.00,2,     2.30,2,   -0.002,2,   -0.002,2,    0.000,4,   2287.8,2,   2390.3,2,   7.6158,2,    25.00,   -999.0,9,   -999.0,  -999.00,9,  -999.00,  -999.00,9,   1.4777,2
  49NZ20031209,  I3I4,   457,  1,     11,  12035,2,20040118,0838,-20.3073, 108.1562, 5007,   4999.2,   1.1818,  34.7124,2,  34.7121,2,    190.8,1,    196.4,2,   126.03,2,    32.81,2,     0.00,2,     2.25,2,   -0.003,2,    0.005,2,    0.000,4,   2279.5,2,   2390.0,2,   7.6317,2,    25.00,   -999.0,9,   -999.0,  -999.00,9,  -999.00,  -999.00,9,   1.1818,2
  49NZ20031209,  I3I4,   457,  1,     10,  12034,2,20040118,0838,-20.3073, 108.1562, 5007,   3749.4,   1.2567,  34.7168,2,  34.7165,2,    177.5,1,    186.8,2,   126.58,2,    33.17,2,    -0.01,2,     2.28,2,    0.005,2,    0.003,2,    0.000,4,   2285.5,2,   2395.6,2,   7.6255,2,    25.00,   -999.0,9,   -999.0,  -999.00,9,  -999.00,  -999.00,9,   1.2567,2
  49NZ20031209,  I3I4,   457,  1,      9,  12033,2,20040118,0838,-20.3073, 108.1562, 5007,   3998.6,   1.2061,  34.7152,2,  34.7152,2,    180.4,1,    189.5,2,   127.56,2,    33.08,2,     0.00,2,     2.28,2,    0.000,2,    0.003,2,    0.000,4,   2284.1,2,   2395.3,2,   7.6284,2,    25.00,   -999.0,9,   -999.0,  -999.00,9,  -999.00,  -999.00,9,   1.2060,2
  49NZ20031209,  I3I4,   457,  1,      8,  12032,2,20040118,0838,-20.3073, 108.1562, 5007,   4249.6,   1.1873,  34.7143,2,  34.7139,2,    182.8,1,    191.2,2,   127.59,2,    33.04,2,    -0.01,2,     2.27,2,   -0.004,2,   -0.001,2,    0.000,4,   2285.6,6,   2395.3,2,   7.6335,2,    25.00,   -999.0,9,   -999.0,  -999.00,9,  -999.00,  -999.00,9,   1.1872,2
  49NZ20031209,  I3I4,   457,  1,      7,  12031,2,20040118,0838,-20.3073, 108.1562, 5007,   4500.1,   1.1802,  34.7136,2,  34.7147,3,    185.0,1,    192.8,2,   127.41,2,    33.04,2,    -0.01,2,     2.26,2,    0.003,2,    0.001,2,    0.000,4,   2283.8,2,   2393.3,6,   7.6324,2,    25.00,   -999.0,9,   -999.0,  -999.00,9,  -999.00,  -999.00,9,   1.1802,2
  49NZ20031209,  I3I4,   457,  1,      6,  12030,2,20040118,0838,-20.3073, 108.1562, 5007,   4747.9,   1.1747,  34.7128,2,  34.7129,2,    187.9,1,    194.7,2,   127.05,2,    32.87,2,     0.00,2,     2.26,2,   -0.001,2,   -0.001,2,    0.000,4,   2282.1,2,   2391.7,2,   7.6325,2,    25.00,   -999.0,9,   -999.0,  -999.00,9,  -999.00,  -999.00,9,   1.1747,2
  49NZ20031209,  I3I4,   457,  1,      5,  12029,2,20040118,0838,-20.3073, 108.1562, 5007,   4999.0,   1.1819,  34.7123,2,  34.7121,3,    190.8,1,    196.5,2,   126.42,2,    32.84,2,     0.00,2,     2.25,2,    0.000,2,   -0.003,2,    0.000,4,   2280.1,2,   2389.4,2,   7.6323,2,    25.00,   -999.0,9,   -999.0,  -999.00,9,  -999.00,  -999.00,9,   1.1819,2
  49NZ20031209,  I3I4,   457,  1,      4,  12028,2,20040118,0838,-20.3073, 108.1562, 5007,   5073.4,   1.1867,  34.7120,2,  34.7126,2,    191.9,1,    196.5,2,   126.50,2,    32.82,2,     0.00,2,     2.25,2,    0.002,2,    0.000,2,    0.000,4,   2278.3,2,   2391.2,2,   7.6327,2,    25.00,   -999.0,9,   -999.0,  -999.00,9,  -999.00,  -999.00,9,   1.1867,2
  49NZ20031209,  I3I4,   457,  1,      3,  12027,9,20040118,0838,-20.3073, 108.1562, 5007,     10.0,  25.0227,  35.1283,2,-999.0000,9,    198.8,1,   -999.0,9,  -999.00,9,  -999.00,9,  -999.00,9,  -999.00,9, -999.000,9, -999.000,9, -999.000,9,   -999.0,9,   -999.0,9,-999.0000,9,  -999.00,   -999.0,9,   -999.0,  -999.00,9,  -999.00,  -999.00,9,  25.0217,2
  49NZ20031209,  I3I4,   457,  1,      2,  12026,9,20040118,0838,-20.3073, 108.1562, 5007,     50.1,  23.6198,  35.2710,2,-999.0000,9,    205.9,1,   -999.0,9,  -999.00,9,  -999.00,9,  -999.00,9,  -999.00,9, -999.000,9, -999.000,9, -999.000,9,   -999.0,9,   -999.0,9,-999.0000,9,  -999.00,   -999.0,9,   -999.0,  -999.00,9,  -999.00,  -999.00,9,  23.6165,2
  49NZ20031209,  I3I4,   457,  1,      1,  12025,2,20040118,0838,-20.3073, 108.1562, 5007,   3500.2,   1.3464,  34.7197,2,  34.7198,2,    174.5,1,    184.1,2,   125.28,2,    33.29,2,     0.00,2,     2.30,2,    0.001,2,   -0.002,2,    0.000,4,   2287.1,2,   2396.6,2,   7.6227,2,    25.00,   -999.0,9,   -999.0,  -999.00,9,  -999.00,  -999.00,9,   1.3467,2