BOTTLE,20141204PRINUNIVRMK
EXPOCODE,SECT_ID,STNNBR,CASTNO,SAMPNO,BTLNBR,BTLNBR_FLAG_W,DATE,TIME,LATITUDE,LONGITUDE,DEPTH,CTDPRS,CTDTMP,CTDSAL,CTDSAL_FLAG_W,SALNTY,SALNTY_FLAG_W,CTDOXY,CTDOXY_FLAG_W,OXYGEN,OXYGEN_FLAG_W,SILCAT,SILCAT_FLAG_W,NITRAT,NITRAT_FLAG_W,NITRIT,NITRIT_FLAG_W,PHSPHT,PHSPHT_FLAG_W,CFC-11,CFC-11_FLAG_W,CFC-12,CFC-12_FLAG_W,CFC113,CFC113_FLAG_W,TCARBN,TCARBN_FLAG_W,ALKALI,ALKALI_FLAG_W,PH_TOT,PH_TOT_FLAG_W,PH_TMP,DELC14,DELC14_FLAG_W,C14ERR,DELC13,DELC13_FLAG_W,CS-137,CS137ER,CS-137_FLAG_W,SBE35,SBE35_FLAG_W
,,,,,,,,,,,METERS,DBAR,ITS-90,PSS-78,,PSS-78,,UMOL/KG,,UMOL/KG,,UMOL/KG,,UMOL/KG,,UMOL/KG,,UMOL/KG,,PMOL/KG,,PMOL/KG,,PMOL/KG,,UMOL/KG,,UMOL/KG,,,,DEG C,/MILLE,,/MILLE,/MILLE,,DM/.1MG,DM/.1MG,,ITS-90,
  49NZ20031209,  I3I4,   517,  1,     36,  12024,2,20031230,2159,-19.9963,  69.3655, 3332,     10.7,  26.4667,  34.9391,2,  34.9391,2,    195.9,1,    204.9,2,     1.98,2,    -0.11,2,     0.00,2,     0.13,2,    1.732,2,    1.072,2,    0.293,4,   1962.0,2,   2287.2,2,   8.0873,2,    25.00,   -999.0,9,   -999.0,  -999.00,9,  -999.00,  -999.00,9,  26.4653,2
  49NZ20031209,  I3I4,   517,  1,     35,  12023,2,20031230,2159,-19.9963,  69.3655, 3332,     50.2,  25.6485,  34.9977,2,  34.9993,2,    201.6,1,    210.3,2,     2.01,2,    -0.11,2,    -0.01,2,     0.10,2,    1.858,2,    1.112,2, -999.000,5,   1969.6,6,   2292.9,2,   8.0839,2,    25.00,   -999.0,9,   -999.0,  -999.00,9,  -999.00,  -999.00,9,  25.6479,2
  49NZ20031209,  I3I4,   517,  1,     34,  12022,2,20031230,2159,-19.9963,  69.3655, 3332,    100.1,  23.5135,  34.9888,2,  34.9914,2,    207.7,1,    217.1,2,     2.26,2,    -0.12,2,    -0.01,2,     0.12,2,    2.016,2,    1.186,2, -999.000,5,   1973.9,2,   2290.8,6,   8.0783,2,    25.00,   -999.0,9,   -999.0,  -999.00,9,  -999.00,  -999.00,9,  23.5220,2
  49NZ20031209,  I3I4,   517,  1,     33,  12015,2,20031230,2159,-19.9963,  69.3655, 3332,    150.1,  22.1229,  35.2665,2,  35.2731,2,    196.1,1,    205.0,2,     2.75,2,     0.47,2,     0.06,2,     0.19,2,    2.052,2,    1.226,2, -999.000,5,   2008.0,2,   2311.3,2,   8.0450,6,    25.00,   -999.0,9,   -999.0,  -999.00,9,  -999.00,  -999.00,9,  22.1213,2
  49NZ20031209,  I3I4,   517,  1,     32,  12020,2,20031230,2159,-19.9963,  69.3655, 3332,    202.0,  20.8105,  35.4873,2,  35.4877,2,    180.2,1,    188.2,2,     3.67,2,     2.64,2,     0.08,2,     0.32,2,    2.114,2,    1.263,2,    0.248,4,   2042.4,2,   2320.3,2,   8.0014,2,    25.00,   -999.0,9,   -999.0,  -999.00,9,  -999.00,  -999.00,9,  20.8203,2
  49NZ20031209,  I3I4,   517,  1,     31,  12019,2,20031230,2159,-19.9963,  69.3655, 3332,    251.7,  19.1461,  35.7490,2,  35.7476,2,    181.1,1,    188.2,2,     3.65,2,     3.34,2,     0.00,2,     0.37,2,    2.278,6,    1.321,6,    0.076,4,   2074.5,2,   2335.8,2,   7.9696,2,    25.00,   -999.0,9,   -999.0,  -999.00,9,  -999.00,  -999.00,9,  19.1441,2
  49NZ20031209,  I3I4,   517,  1,     30,  12018,2,20031230,2159,-19.9963,  69.3655, 3332,    302.4,  17.2373,  35.7736,2,  35.7767,2,    195.4,1,    203.4,2,     2.77,2,     3.01,2,     0.01,2,     0.36,2,    2.529,2,    1.436,2,    0.057,4,   2088.1,2,   2340.6,2,   7.9511,2,    25.00,   -999.0,9,   -999.0,  -999.00,9,  -999.00,  -999.00,9,  17.2484,2
  49NZ20031209,  I3I4,   517,  1,     29,  12021,2,20031230,2159,-19.9963,  69.3655, 3332,    401.2,  13.9226,  35.3967,2,  35.3936,2,    210.5,1,    218.9,2,     2.75,2,     6.71,2,     0.00,2,     0.59,2,    2.990,2,    1.635,2,    0.044,4,   2105.1,2,   2320.5,2,   7.8907,2,    25.00,   -999.0,9,   -999.0,  -999.00,9,  -999.00,  -999.00,9,  13.9220,2
  49NZ20031209,  I3I4,   517,  1,     28,  12016,2,20031230,2159,-19.9963,  69.3655, 3332,    500.2,  11.8951,  35.0976,2,  35.0904,2,    222.4,1,    230.5,2,     3.34,2,    10.16,2,     0.00,2,     0.80,2,    3.270,2,    1.779,2,    0.102,4,   2111.3,2,   2306.4,2,   7.8498,2,    25.00,   -999.0,9,   -999.0,  -999.00,9,  -999.00,  -999.00,9,  11.8953,2
  49NZ20031209,  I3I4,   517,  1,     27,  12012,2,20031230,2159,-19.9963,  69.3655, 3332,    601.6,  10.1900,  34.8359,2,  34.8357,2,    219.9,1,    228.3,2,     5.09,2,    14.37,2,     0.00,2,     1.05,2,    3.358,2,    1.691,2,    0.106,4,   2121.6,2,   2297.1,2,   7.8076,2,    25.00,   -999.0,9,   -999.0,  -999.00,9,  -999.00,  -999.00,9,  10.1905,2
  49NZ20031209,  I3I4,   517,  1,     26,  12014,2,20031230,2159,-19.9963,  69.3655, 3332,    702.3,   8.8024,  34.6453,2,  34.6443,2,    212.4,1,    220.0,2,     8.10,2,    19.01,2,     0.00,2,     1.34,2,    2.735,2,    1.361,2,    0.073,4,   2133.9,6,   2290.9,2,   7.7641,2,    25.00,   -999.0,9,   -999.0,  -999.00,9,  -999.00,  -999.00,9,   8.8027,2
  49NZ20031209,  I3I4,   517,  1,     25,  12013,2,20031230,2159,-19.9963,  69.3655, 3332,    801.7,   7.2262,  34.5239,2,  34.5238,2,    183.7,1,    190.2,2,    19.86,2,    25.41,2,    -0.01,2,     1.76,2,    1.376,2,    0.671,2,    0.039,4,   2168.4,2,   2293.3,6,   7.6905,2,    25.00,   -999.0,9,   -999.0,  -999.00,9,  -999.00,  -999.00,9,   7.2315,2
  49NZ20031209,  I3I4,   517,  1,     24,  12048,2,20031230,2159,-19.9963,  69.3655, 3332,    901.1,   6.0700,  34.5018,2,  34.5236,4,    157.1,1,    162.4,2,    19.86,4,    25.45,4,    -0.01,4,     1.76,4,    0.573,2,    0.274,2,    0.021,4,   2168.8,3,   2291.2,2,   7.6901,4,    25.00,   -999.0,9,   -999.0,  -999.00,9,  -999.00,  -999.00,9,   6.0703,2
  49NZ20031209,  I3I4,   517,  1,     23,  12047,2,20031230,2159,-19.9963,  69.3655, 3332,   1001.3,   5.5420,  34.5876,2,  34.5901,2,    117.4,1,    120.3,2,    62.58,2,    34.06,2,    -0.01,2,     2.43,2,    0.095,6,    0.048,6,    0.007,4,   2252.0,2,   2330.2,2,   7.5709,2,    25.00,   -999.0,9,   -999.0,  -999.00,9,  -999.00,  -999.00,9,   5.5435,2
  49NZ20031209,  I3I4,   517,  1,     22,  12046,2,20031230,2159,-19.9963,  69.3655, 3332,   1201.5,   4.6667,  34.6549,2,  34.6555,2,    108.1,1,    110.9,2,    82.57,2,    35.51,2,     0.00,2,     2.56,2,    0.013,2,    0.005,2,    0.000,4,   2279.6,2,   2352.6,4,   7.5506,2,    25.00,   -999.0,9,   -999.0,  -999.00,9,  -999.00,  -999.00,9,   4.6668,2
  49NZ20031209,  I3I4,   517,  1,     21,  12045,2,20031230,2159,-19.9963,  69.3655, 3332,   1400.9,   4.1788,  34.6955,2,  34.6955,2,    109.8,1,    112.8,2,    92.24,2,    35.65,2,    -0.01,2,     2.57,2,    0.003,2,    0.001,2,    0.000,4,   2289.8,2,   2364.8,2,   7.5502,2,    25.00,   -999.0,9,   -999.0,  -999.00,9,  -999.00,  -999.00,9,   4.1790,2
  49NZ20031209,  I3I4,   517,  1,     20,  12044,2,20031230,2159,-19.9963,  69.3655, 3332,   1600.1,   3.6255,  34.6892,2,  34.6894,2,    124.7,1,    128.4,2,    93.20,2,    35.10,2,    -0.01,2,     2.51,2,    0.011,2,    0.005,2,    0.000,4,   2284.4,2,   2366.3,2,   7.5647,2,    25.00,   -999.0,9,   -999.0,  -999.00,9,  -999.00,  -999.00,9,   3.6277,2
  49NZ20031209,  I3I4,   517,  1,     19,  12043,2,20031230,2159,-19.9963,  69.3655, 3332,   1800.3,   3.0286,  34.7057,2,  34.7055,2,    137.8,1,    142.1,2,    98.65,2,    34.46,2,    -0.01,2,     2.45,2,    0.002,2,    0.001,2,    0.000,4,   2286.7,2,   2366.9,2,   7.5774,2,    25.00,   -999.0,9,   -999.0,  -999.00,9,  -999.00,  -999.00,9,   3.0289,2
  49NZ20031209,  I3I4,   517,  1,     18,  12042,2,20031230,2159,-19.9963,  69.3655, 3332,   1999.6,   2.5158,  34.7100,2,  34.7097,2,    154.1,1,    159.4,2,    99.53,2,    33.48,2,    -0.01,2,     2.36,2,    0.000,2,    0.002,2,    0.000,4,   2278.0,2,   2369.2,2,   7.5959,2,    25.00,   -999.0,9,   -999.0,  -999.00,9,  -999.00,  -999.00,9,   2.5160,2
  49NZ20031209,  I3I4,   517,  1,     17,  12041,2,20031230,2159,-19.9963,  69.3655, 3332,   2198.8,   2.1650,  34.7191,2,  34.7191,2,    164.4,1,    170.0,2,   102.63,2,    32.86,2,    -0.01,2,     2.31,2,   -0.001,2,    0.000,2,    0.000,4,   2275.1,2,   2371.0,2,   7.6048,2,    25.00,   -999.0,9,   -999.0,  -999.00,9,  -999.00,  -999.00,9,   2.1651,2
  49NZ20031209,  I3I4,   517,  1,     16,  12040,2,20031230,2159,-19.9963,  69.3655, 3332,   2399.9,   1.8498,  34.7240,2,  34.7236,2,    174.5,1,    180.7,2,   105.21,2,    32.34,2,     0.00,2,     2.26,2,    0.003,2,   -0.001,2,    0.000,4,   2272.2,6,   2370.5,2,   7.6150,2,    25.00,   -999.0,9,   -999.0,  -999.00,9,  -999.00,  -999.00,9,   1.8498,2
  49NZ20031209,  I3I4,   517,  1,     15,  12039,2,20031230,2159,-19.9963,  69.3655, 3332,   2600.4,   1.7249,  34.7253,2,  34.7253,2,    176.7,1,    182.9,2,   109.38,2,    32.41,2,    -0.01,2,     2.26,2,   -0.001,2,   -0.002,2,    0.000,4,   2274.5,2,   2376.2,6,   7.6180,2,    25.00,   -999.0,9,   -999.0,  -999.00,9,  -999.00,  -999.00,9,   1.7249,2
  49NZ20031209,  I3I4,   517,  1,     14,  12038,2,20031230,2159,-19.9963,  69.3655, 3332,   2799.2,   1.6887,  34.7260,2,  34.7260,2,    178.0,1,    183.7,2,   110.81,2,    32.43,2,    -0.01,2,     2.26,2,   -0.001,2,   -0.002,2,    0.000,4,   2276.4,2,   2376.5,2,   7.6202,6,    25.00,   -999.0,9,   -999.0,  -999.00,9,  -999.00,  -999.00,9,   1.6887,2
  49NZ20031209,  I3I4,   517,  1,     13,  12037,2,20031230,2159,-19.9963,  69.3655, 3332,   3000.6,   1.6668,  34.7261,2,  34.7260,2,    179.0,1,    184.4,2,   111.89,2,    32.39,2,     0.00,2,     2.26,2,   -0.004,2,   -0.002,2,    0.000,4,   2275.5,2,   2378.4,2,   7.6199,2,    25.00,   -999.0,9,   -999.0,  -999.00,9,  -999.00,  -999.00,9,   1.6668,2
  49NZ20031209,  I3I4,   517,  1,     12,  12036,2,20031230,2159,-19.9963,  69.3655, 3332,   3371.8,   1.6698,  34.7255,2,  34.7257,2,    180.5,1,    184.4,2,   112.87,2,    32.44,2,    -0.01,2,     2.25,2,    0.002,2,    0.002,2,    0.000,4,   2278.3,2,   2381.4,2,   7.6225,2,    25.00,   -999.0,9,   -999.0,  -999.00,9,  -999.00,  -999.00,9,   1.6699,2
  49NZ20031209,  I3I4,   517,  1,     11,  12035,2,20031230,2159,-19.9963,  69.3655, 3332,   3000.5,   1.6667,  34.7260,2,  34.7259,2,    179.0,1,    184.4,2,   111.57,2,    32.23,2,     0.00,2,     2.25,2,    0.005,2,    0.004,2,    0.000,4,   2275.4,2,   2377.0,2,   7.6202,2,    25.00,   -999.0,9,   -999.0,  -999.00,9,  -999.00,  -999.00,9,   1.6668,2
  49NZ20031209,  I3I4,   517,  1,     10,  12034,9,20031230,2159,-19.9963,  69.3655, 3332,   2099.4,   2.2931,  34.7139,2,-999.0000,9,    161.8,1,   -999.0,9,  -999.00,9,  -999.00,9,  -999.00,9,  -999.00,9, -999.000,9, -999.000,9, -999.000,9,   -999.0,9,   -999.0,9,-999.0000,9,  -999.00,   -999.0,9,   -999.0,  -999.00,9,  -999.00,  -999.00,9,   2.2931,2
  49NZ20031209,  I3I4,   517,  1,      9,  12033,9,20031230,2159,-19.9963,  69.3655, 3332,   2300.6,   1.9919,  34.7227,2,-999.0000,9,    170.5,1,   -999.0,9,  -999.00,9,  -999.00,9,  -999.00,9,  -999.00,9, -999.000,9, -999.000,9, -999.000,9,   -999.0,9,   -999.0,9,-999.0000,9,  -999.00,   -999.0,9,   -999.0,  -999.00,9,  -999.00,  -999.00,9,   1.9920,2
  49NZ20031209,  I3I4,   517,  1,      8,  12032,9,20031230,2159,-19.9963,  69.3655, 3332,   2499.6,   1.7902,  34.7243,2,-999.0000,9,    175.3,1,   -999.0,9,  -999.00,9,  -999.00,9,  -999.00,9,  -999.00,9, -999.000,9, -999.000,9, -999.000,9,   -999.0,9,   -999.0,9,-999.0000,9,  -999.00,   -999.0,9,   -999.0,  -999.00,9,  -999.00,  -999.00,9,   1.7903,2
  49NZ20031209,  I3I4,   517,  1,      7,  12031,9,20031230,2159,-19.9963,  69.3655, 3332,   2700.1,   1.6945,  34.7258,2,-999.0000,9,    177.5,1,   -999.0,9,  -999.00,9,  -999.00,9,  -999.00,9,  -999.00,9, -999.000,9, -999.000,9, -999.000,9,   -999.0,9,   -999.0,9,-999.0000,9,  -999.00,   -999.0,9,   -999.0,  -999.00,9,  -999.00,  -999.00,9,   1.6946,2
  49NZ20031209,  I3I4,   517,  1,      6,  12030,9,20031230,2159,-19.9963,  69.3655, 3332,   2899.7,   1.6727,  34.7260,2,-999.0000,9,    178.6,1,   -999.0,9,  -999.00,9,  -999.00,9,  -999.00,9,  -999.00,9, -999.000,9, -999.000,9, -999.000,9,   -999.0,9,   -999.0,9,-999.0000,9,  -999.00,   -999.0,9,   -999.0,  -999.00,9,  -999.00,  -999.00,9,   1.6727,2
  49NZ20031209,  I3I4,   517,  1,      5,  12029,9,20031230,2159,-19.9963,  69.3655, 3332,   1001.9,   5.5385,  34.5875,2,-999.0000,9,    117.5,1,   -999.0,9,  -999.00,9,  -999.00,9,  -999.00,9,  -999.00,9, -999.000,9, -999.000,9, -999.000,9,   -999.0,9,   -999.0,9,-999.0000,9,  -999.00,   -999.0,9,   -999.0,  -999.00,9,  -999.00,  -999.00,9,   5.5386,2
  49NZ20031209,  I3I4,   517,  1,      4,  12028,9,20031230,2159,-19.9963,  69.3655, 3332,   1001.6,   5.5377,  34.5874,2,-999.0000,9,    117.5,1,   -999.0,9,  -999.00,9,  -999.00,9,  -999.00,9,  -999.00,9, -999.000,9, -999.000,9, -999.000,9,   -999.0,9,   -999.0,9,-999.0000,9,  -999.00,   -999.0,9,   -999.0,  -999.00,9,  -999.00,  -999.00,9,   5.5377,2
  49NZ20031209,  I3I4,   517,  1,      3,  12027,9,20031230,2159,-19.9963,  69.3655, 3332,   1001.8,   5.5370,  34.5873,2,-999.0000,9,    117.5,1,   -999.0,9,  -999.00,9,  -999.00,9,  -999.00,9,  -999.00,9, -999.000,9, -999.000,9, -999.000,9,   -999.0,9,   -999.0,9,-999.0000,9,  -999.00,   -999.0,9,   -999.0,  -999.00,9,  -999.00,  -999.00,9,   5.5374,2
  49NZ20031209,  I3I4,   517,  1,      2,  12026,9,20031230,2159,-19.9963,  69.3655, 3332,   1001.3,   5.5424,  34.5876,2,-999.0000,9,    117.5,1,   -999.0,9,  -999.00,9,  -999.00,9,  -999.00,9,  -999.00,9, -999.000,9, -999.000,9, -999.000,9,   -999.0,9,   -999.0,9,-999.0000,9,  -999.00,   -999.0,9,   -999.0,  -999.00,9,  -999.00,  -999.00,9,   5.5430,2
  49NZ20031209,  I3I4,   517,  1,      1,  12025,9,20031230,2159,-19.9963,  69.3655, 3332,     10.5,  26.4723,  34.9395,2,-999.0000,9,    196.1,1,   -999.0,9,  -999.00,9,  -999.00,9,  -999.00,9,  -999.00,9, -999.000,9, -999.000,9, -999.000,9,   -999.0,9,   -999.0,9,-999.0000,9,  -999.00,   -999.0,9,   -999.0,  -999.00,9,  -999.00,  -999.00,9,  26.4697,2