BOTTLE,20141204PRINUNIVRMK
EXPOCODE,SECT_ID,STNNBR,CASTNO,SAMPNO,BTLNBR,BTLNBR_FLAG_W,DATE,TIME,LATITUDE,LONGITUDE,DEPTH,CTDPRS,CTDTMP,CTDSAL,CTDSAL_FLAG_W,SALNTY,SALNTY_FLAG_W,CTDOXY,CTDOXY_FLAG_W,OXYGEN,OXYGEN_FLAG_W,SILCAT,SILCAT_FLAG_W,NITRAT,NITRAT_FLAG_W,NITRIT,NITRIT_FLAG_W,PHSPHT,PHSPHT_FLAG_W,CFC-11,CFC-11_FLAG_W,CFC-12,CFC-12_FLAG_W,CFC113,CFC113_FLAG_W,TCARBN,TCARBN_FLAG_W,ALKALI,ALKALI_FLAG_W,PH_TOT,PH_TOT_FLAG_W,PH_TMP,DELC14,DELC14_FLAG_W,C14ERR,DELC13,DELC13_FLAG_W,CS-137,CS137ER,CS-137_FLAG_W,SBE35,SBE35_FLAG_W
,,,,,,,,,,,METERS,DBAR,ITS-90,PSS-78,,PSS-78,,UMOL/KG,,UMOL/KG,,UMOL/KG,,UMOL/KG,,UMOL/KG,,UMOL/KG,,PMOL/KG,,PMOL/KG,,PMOL/KG,,UMOL/KG,,UMOL/KG,,,,DEG C,/MILLE,,/MILLE,/MILLE,,DM/.1MG,DM/.1MG,,ITS-90,
  49NZ20031209,  I3I4,   601,  1,     36,  12024,2,20031214,0722,-24.6733,  36.9912, 3075,      9.3,  25.8511,  35.2883,2,  35.2915,2,    200.6,1,    209.7,2,     1.79,2,     0.02,2,     0.00,2,     0.14,2,    2.017,2,    1.074,2, -999.000,5,   1986.6,2,   2310.0,2,   8.0772,2,    25.00,     51.0,2,      3.6,     1.15,2,  -999.00,  -999.00,9,  25.8370,2
  49NZ20031209,  I3I4,   601,  1,     35,  12023,2,20031214,0722,-24.6733,  36.9912, 3075,     50.1,  24.4359,  35.2329,2,  35.2338,2,    205.7,1,    216.5,2,     1.72,2,     0.00,2,     0.00,2,     0.14,2,    2.156,2,    1.133,2, -999.000,5,   1985.0,6,   2305.3,2,   8.0760,2,    25.00,     55.0,2,      3.7,     1.16,2,  -999.00,  -999.00,9,  24.4233,2
  49NZ20031209,  I3I4,   601,  1,     34,  12022,2,20031214,0722,-24.6733,  36.9912, 3075,     99.9,  22.2792,  35.3302,2,  35.3295,2,    199.5,1,    210.0,2,     2.03,2,     0.41,2,     0.18,2,     0.22,2,    2.258,2,    1.207,2,    0.208,4,   2009.2,2,   2312.0,6,   8.0435,2,    25.00,     46.1,2,      3.6,     1.01,2,  -999.00,  -999.00,9,  22.2786,2
  49NZ20031209,  I3I4,   601,  1,     33,  12015,2,20031214,0722,-24.6733,  36.9912, 3075,    149.5,  20.7877,  35.3376,2,  35.3392,2,    159.1,1,    166.8,2,     5.47,2,     6.24,2,     0.03,2,     0.54,2,    2.193,2,    1.147,2,    0.110,4,   2057.6,2,   2314.0,2,   7.9612,6,    25.00,     56.4,2,      3.6,     0.66,2,  -999.00,  -999.00,9,  20.7819,2
  49NZ20031209,  I3I4,   601,  1,     32,  12020,2,20031214,0722,-24.6733,  36.9912, 3075,    198.8,  18.5913,  35.4215,2,  35.4194,2,    141.2,1,    146.5,2,     8.88,2,    10.12,2,     0.01,2,     0.79,2,    2.250,2,    1.173,2,    0.080,4,   2101.5,2,   2321.5,2,   7.8884,2,    25.00,     55.2,2,      3.7,     0.51,2,  -999.00,  -999.00,9,  18.5935,2
  49NZ20031209,  I3I4,   601,  1,     31,  12019,2,20031214,0722,-24.6733,  36.9912, 3075,    250.1,  17.3413,  35.6323,2,  35.6419,3,    190.8,1,    203.2,2,     4.27,2,     4.27,2,     0.01,2,     0.42,2,    2.684,6,    1.393,6,    0.203,4,   2080.7,2,   2332.2,2,   7.9494,2,    25.00,     53.1,2,      3.6,     0.84,2,  -999.00,  -999.00,9,  17.3347,2
  49NZ20031209,  I3I4,   601,  1,     30,  12018,2,20031214,0722,-24.6733,  36.9912, 3075,    299.4,  16.4592,  35.5501,2,  35.5382,3,    178.6,1,    184.7,2,     6.20,2,     7.60,2,     0.01,2,     0.64,2,    2.672,2,    1.370,2,    0.086,4,   2101.9,2,   2326.8,2,   7.9015,2,    25.00,     46.7,2,      3.5,     0.75,2,  -999.00,  -999.00,9,  16.4630,2
  49NZ20031209,  I3I4,   601,  1,     29,  12017,2,20031214,0722,-24.6733,  36.9912, 3075,    399.5,  14.4709,  35.4303,2,  35.4290,2,    203.4,1,    212.9,2,     3.89,2,     7.23,2,     0.00,2,     0.61,2,    3.166,2,    1.607,2,    0.046,4,   2101.4,2,   2320.3,2,   7.8944,2,    25.00,     57.7,2,      3.5,     0.97,2,  -999.00,  -999.00,9,  14.4737,2
  49NZ20031209,  I3I4,   601,  1,     28,  12016,2,20031214,0722,-24.6733,  36.9912, 3075,    501.8,  12.8511,  35.2112,2,  35.2115,2,    200.9,1,    209.6,2,     5.57,2,    10.87,2,     0.00,2,     0.85,2,    3.221,2,    1.579,2,    0.087,4,   2115.7,2,   2319.7,3,   7.8483,2,    25.00,     61.3,2,      3.5,     1.02,2,  -999.00,  -999.00,9,  12.8519,2
  49NZ20031209,  I3I4,   601,  1,     27,  12012,2,20031214,0722,-24.6733,  36.9912, 3075,    601.6,  11.5897,  35.0328,2,  35.0343,2,    209.8,1,    217.8,2,     5.37,2,    12.68,2,     0.00,2,     0.96,2,    3.335,2,    1.589,2,    0.084,4,   2119.1,2,   2302.0,2,   7.8292,2,    25.00,     56.1,2,      3.7,     1.09,2,  -999.00,  -999.00,9,  11.5931,2
  49NZ20031209,  I3I4,   601,  1,     26,  12014,2,20031214,0722,-24.6733,  36.9912, 3075,    700.3,  10.1735,  34.8409,2,  34.8409,2,    200.2,1,    209.2,2,     8.51,2,    16.78,2,     0.00,2,     1.21,2,    2.964,2,    1.385,2,    0.074,4,   2132.7,6,   2295.1,2,   7.7844,2,    25.00,     40.3,2,      3.8,     1.13,2,  -999.00,  -999.00,9,  10.1758,2
  49NZ20031209,  I3I4,   601,  1,     25,  12013,2,20031214,0722,-24.6733,  36.9912, 3075,    800.3,   9.0050,  34.7216,2,  34.7216,2,    183.0,1,    190.4,2,    15.35,2,    21.36,2,     0.00,2,     1.52,2,    2.218,2,    1.023,2,    0.045,4,   2154.6,2,   2296.4,6,   7.7326,2,    25.00,      6.8,2,      3.7,     1.04,2,  -999.00,  -999.00,9,   9.0058,2
  49NZ20031209,  I3I4,   601,  1,     24,  12048,2,20031214,0722,-24.6733,  36.9912, 3075,    902.3,   7.6419,  34.6218,2,  34.6252,3,    171.9,1,    177.9,2,    24.02,2,    25.46,2,     0.00,2,     1.80,2,    1.572,2,    0.733,2,    0.038,4,   2177.6,2,   2299.5,2,   7.6860,2,    25.00,    -29.0,2,      3.6,     0.95,2,  -999.00,  -999.00,9,   7.6458,2
  49NZ20031209,  I3I4,   601,  1,     23,  12047,2,20031214,0722,-24.6733,  36.9912, 3075,   1003.0,   6.3745,  34.5742,2,  34.5756,2,    157.4,1,    164.0,2,    36.86,2,    29.44,2,     0.00,2,     2.08,2,    1.016,6,    0.467,6,    0.030,4,   2204.2,2,   2305.5,2,   7.6366,2,    25.00,    -71.1,2,      3.3,     0.78,2,  -999.00,  -999.00,9,   6.3748,2
  49NZ20031209,  I3I4,   601,  1,     22,  12046,2,20031214,0722,-24.6733,  36.9912, 3075,   1202.6,   5.1562,  34.6320,2,  34.6300,2,    133.8,1,    138.9,2,    59.46,2,    33.32,2,    -0.01,2,     2.38,2,    0.446,2,    0.192,2,    0.014,4,   2244.8,2,   2330.1,2,   7.5838,2,    25.00,   -119.4,2,      3.2,     0.54,2,  -999.00,  -999.00,9,   5.1563,2
  49NZ20031209,  I3I4,   601,  1,     21,  12045,2,20031214,0722,-24.6733,  36.9912, 3075,   2799.7,   2.1899,  34.7994,2,  34.7990,2,    202.5,1,    209.5,2,    72.50,2,    27.83,2,    -0.01,2,     1.94,2,    0.008,2,    0.001,2,    0.000,4,   2232.2,2,   2349.2,2,   7.6626,2,    25.00,   -141.2,6,      2.3,     0.68,6,  -999.00,  -999.00,9,   2.1901,2
  49NZ20031209,  I3I4,   601,  1,     20,  12044,2,20031214,0722,-24.6733,  36.9912, 3075,   1602.2,   3.3923,  34.6900,2,  34.6903,2,    146.8,1,    152.3,2,    79.28,2,    33.48,2,     0.00,2,     2.39,2,    0.092,2,    0.038,2,    0.000,4,   2263.1,2,   2353.3,2,   7.5863,2,    25.00,   -153.3,2,      3.3,     0.46,2,  -999.00,  -999.00,9,   3.3931,2
  49NZ20031209,  I3I4,   601,  1,     19,  12043,2,20031214,0722,-24.6733,  36.9912, 3075,   1803.0,   2.9248,  34.7191,2,  34.7193,2,    160.8,1,    166.9,2,    80.08,2,    32.19,2,     0.00,2,     2.28,2,    0.051,2,    0.021,2,    0.000,4,   2258.3,2,   2349.5,2,   7.6035,2,    25.00,   -160.7,2,      3.0,     0.51,2,  -999.00,  -999.00,9,   2.9251,2
  49NZ20031209,  I3I4,   601,  1,     18,  12042,2,20031214,0722,-24.6733,  36.9912, 3075,   2000.7,   2.6825,  34.7477,2,  34.7479,2,    171.3,1,    177.8,2,    79.23,2,    31.01,2,     0.00,2,     2.18,2,    0.029,2,    0.017,2,    0.000,4,   2252.9,2,   2349.9,2,   7.6193,6,    25.00,   -149.1,2,      3.2,     0.52,2,  -999.00,  -999.00,9,   2.6826,2
  49NZ20031209,  I3I4,   601,  1,     17,  12041,2,20031214,0722,-24.6733,  36.9912, 3075,   2200.3,   2.5002,  34.7714,2,  34.7721,2,    181.7,1,    189.1,2,    76.99,2,    29.84,2,     0.00,2,     2.09,2,    0.015,2,    0.007,2,    0.000,4,   2244.7,2,   2351.4,2,   7.6344,2,    25.00,   -151.4,2,      3.2,     0.57,2,  -999.00,  -999.00,9,   2.5005,2
  49NZ20031209,  I3I4,   601,  1,     16,  12040,2,20031214,0722,-24.6733,  36.9912, 3075,   2400.5,   2.3931,  34.7877,2,  34.7880,2,    191.7,1,    199.4,2,    73.05,2,    28.71,2,     0.00,2,     2.00,2,    0.005,2,    0.003,2,    0.000,4,   2236.4,6,   2342.2,2,   7.6472,2,    25.00,   -151.0,2,      3.2,     0.59,2,  -999.00,  -999.00,9,   2.3934,2
  49NZ20031209,  I3I4,   601,  1,     15,  12039,2,20031214,0722,-24.6733,  36.9912, 3075,   2599.7,   2.3020,  34.7960,2,  34.7963,2,    197.9,1,   -999.0,5,    71.76,2,    28.11,2,     0.01,2,     1.96,2,    0.011,2,    0.003,2,    0.000,4,   2232.5,2,   2346.2,6,   7.6561,2,    25.00,   -152.0,2,      3.3,     0.59,2,  -999.00,  -999.00,9,   2.3022,2
  49NZ20031209,  I3I4,   601,  1,     14,  12038,2,20031214,0722,-24.6733,  36.9912, 3075,   2799.6,   2.1907,  34.7993,2,  34.7993,2,    202.5,1,    209.4,2,    72.47,2,    27.90,2,     0.00,2,     1.93,2,   -0.001,2,    0.000,2,    0.000,4,   2230.9,2,   2344.6,2,   7.6612,6,    25.00,   -141.0,2,      3.2,     0.68,2,  -999.00,  -999.00,9,   2.1914,2
  49NZ20031209,  I3I4,   601,  1,     13,  12037,2,20031214,0722,-24.6733,  36.9912, 3075,   3083.8,   2.0576,  34.7981,2,  34.7983,2,    206.9,1,    213.0,2,    74.47,2,    27.81,2,     0.00,2,     1.93,2,    0.001,2,    0.000,2,    0.000,4,   2232.1,2,   2345.0,2,   7.6699,2,    25.00,   -147.0,6,      4.2,     0.70,6,  -999.00,  -999.00,9,   2.0578,2
  49NZ20031209,  I3I4,   601,  1,     12,  12036,9,20031214,0722,-24.6733,  36.9912, 3075,      9.5,  25.8558,  35.2903,2,-999.0000,9,    200.3,1,   -999.0,9,  -999.00,9,  -999.00,9,  -999.00,9,  -999.00,9, -999.000,9, -999.000,9, -999.000,9,   -999.0,9,   -999.0,9,-999.0000,9,  -999.00,   -999.0,9,   -999.0,  -999.00,9,  -999.00,  -999.00,9,  25.8459,2
  49NZ20031209,  I3I4,   601,  1,     11,  12035,9,20031214,0722,-24.6733,  36.9912, 3075,   2100.6,   2.5874,  34.7586,2,-999.0000,9,    175.6,1,   -999.0,9,  -999.00,9,  -999.00,9,  -999.00,9,  -999.00,9, -999.000,9, -999.000,9, -999.000,9,   -999.0,9,   -999.0,9,-999.0000,9,  -999.00,   -999.0,9,   -999.0,  -999.00,9,  -999.00,  -999.00,9,   2.5878,2
  49NZ20031209,  I3I4,   601,  1,     10,  12034,9,20031214,0722,-24.6733,  36.9912, 3075,   2300.9,   2.4408,  34.7792,2,-999.0000,9,    186.4,1,   -999.0,9,  -999.00,9,  -999.00,9,  -999.00,9,  -999.00,9, -999.000,9, -999.000,9, -999.000,9,   -999.0,9,   -999.0,9,-999.0000,9,  -999.00,   -999.0,9,   -999.0,  -999.00,9,  -999.00,  -999.00,9,   2.4411,2
  49NZ20031209,  I3I4,   601,  1,      9,  12033,9,20031214,0722,-24.6733,  36.9912, 3075,   2499.4,   2.3387,  34.7925,2,-999.0000,9,    195.1,1,   -999.0,9,  -999.00,9,  -999.00,9,  -999.00,9,  -999.00,9, -999.000,9, -999.000,9, -999.000,9,   -999.0,9,   -999.0,9,-999.0000,9,  -999.00,   -999.0,9,   -999.0,  -999.00,9,  -999.00,  -999.00,9,   2.3390,2
  49NZ20031209,  I3I4,   601,  1,      8,  12032,9,20031214,0722,-24.6733,  36.9912, 3075,   2700.3,   2.2456,  34.7979,2,-999.0000,9,    200.2,1,   -999.0,9,  -999.00,9,  -999.00,9,  -999.00,9,  -999.00,9, -999.000,9, -999.000,9, -999.000,9,   -999.0,9,   -999.0,9,-999.0000,9,  -999.00,   -999.0,9,   -999.0,  -999.00,9,  -999.00,  -999.00,9,   2.2458,2
  49NZ20031209,  I3I4,   601,  1,      7,  12031,9,20031214,0722,-24.6733,  36.9912, 3075,   2899.8,   2.1474,  34.8006,2,-999.0000,9,    204.8,1,   -999.0,9,  -999.00,9,  -999.00,9,  -999.00,9,  -999.00,9, -999.000,9, -999.000,9, -999.000,9,   -999.0,9,   -999.0,9,-999.0000,9,  -999.00,   -999.0,9,   -999.0,  -999.00,9,  -999.00,  -999.00,9,   2.1476,2
  49NZ20031209,  I3I4,   601,  1,      6,  12030,9,20031214,0722,-24.6733,  36.9912, 3075,   1001.9,   6.3845,  34.5747,2,-999.0000,9,    157.4,1,   -999.0,9,  -999.00,9,  -999.00,9,  -999.00,9,  -999.00,9, -999.000,9, -999.000,9, -999.000,9,   -999.0,9,   -999.0,9,-999.0000,9,  -999.00,   -999.0,9,   -999.0,  -999.00,9,  -999.00,  -999.00,9,   6.3826,2
  49NZ20031209,  I3I4,   601,  1,      5,  12029,9,20031214,0722,-24.6733,  36.9912, 3075,   1002.2,   6.3902,  34.5754,2,-999.0000,9,    157.6,1,   -999.0,9,  -999.00,9,  -999.00,9,  -999.00,9,  -999.00,9, -999.000,9, -999.000,9, -999.000,9,   -999.0,9,   -999.0,9,-999.0000,9,  -999.00,   -999.0,9,   -999.0,  -999.00,9,  -999.00,  -999.00,9,   6.3921,2
  49NZ20031209,  I3I4,   601,  1,      4,  12028,9,20031214,0722,-24.6733,  36.9912, 3075,   1001.8,   6.4037,  34.5759,2,-999.0000,9,    157.4,1,   -999.0,9,  -999.00,9,  -999.00,9,  -999.00,9,  -999.00,9, -999.000,9, -999.000,9, -999.000,9,   -999.0,9,   -999.0,9,-999.0000,9,  -999.00,   -999.0,9,   -999.0,  -999.00,9,  -999.00,  -999.00,9,   6.4082,2
  49NZ20031209,  I3I4,   601,  1,      3,  12027,9,20031214,0722,-24.6733,  36.9912, 3075,   1001.8,   6.4097,  34.5759,2,-999.0000,9,    157.6,1,   -999.0,9,  -999.00,9,  -999.00,9,  -999.00,9,  -999.00,9, -999.000,9, -999.000,9, -999.000,9,   -999.0,9,   -999.0,9,-999.0000,9,  -999.00,   -999.0,9,   -999.0,  -999.00,9,  -999.00,  -999.00,9,   6.4116,2
  49NZ20031209,  I3I4,   601,  1,      2,  12026,9,20031214,0722,-24.6733,  36.9912, 3075,   1000.8,   6.4215,  34.5761,2,-999.0000,9,    157.5,1,   -999.0,9,  -999.00,9,  -999.00,9,  -999.00,9,  -999.00,9, -999.000,9, -999.000,9, -999.000,9,   -999.0,9,   -999.0,9,-999.0000,9,  -999.00,   -999.0,9,   -999.0,  -999.00,9,  -999.00,  -999.00,9,   6.4227,2
  49NZ20031209,  I3I4,   601,  1,      1,  12025,2,20031214,0722,-24.6733,  36.9912, 3075,   1402.8,   3.8800,  34.6282,2,  34.6269,2,    144.5,1,    150.2,2,    70.64,2,    33.76,2,    -0.01,2,     2.40,2,    0.243,2,    0.104,2,    0.000,4,   2254.6,2,   -999.0,5,   7.5824,2,    25.00,   -145.5,2,      4.1,     0.51,2,  -999.00,  -999.00,9,   3.8800,2