BOTTLE,20141204PRINUNIVRMK
EXPOCODE,SECT_ID,STNNBR,CASTNO,SAMPNO,BTLNBR,BTLNBR_FLAG_W,DATE,TIME,LATITUDE,LONGITUDE,DEPTH,CTDPRS,CTDTMP,CTDSAL,CTDSAL_FLAG_W,SALNTY,SALNTY_FLAG_W,CTDOXY,CTDOXY_FLAG_W,OXYGEN,OXYGEN_FLAG_W,SILCAT,SILCAT_FLAG_W,NITRAT,NITRAT_FLAG_W,NITRIT,NITRIT_FLAG_W,PHSPHT,PHSPHT_FLAG_W,CFC-11,CFC-11_FLAG_W,CFC-12,CFC-12_FLAG_W,CFC113,CFC113_FLAG_W,TCARBN,TCARBN_FLAG_W,ALKALI,ALKALI_FLAG_W,PH_TOT,PH_TOT_FLAG_W,PH_TMP,DELC14,DELC14_FLAG_W,C14ERR,DELC13,DELC13_FLAG_W,CS-137,CS137ER,CS-137_FLAG_W,SBE35,SBE35_FLAG_W
,,,,,,,,,,,METERS,DBAR,ITS-90,PSS-78,,PSS-78,,UMOL/KG,,UMOL/KG,,UMOL/KG,,UMOL/KG,,UMOL/KG,,UMOL/KG,,PMOL/KG,,PMOL/KG,,PMOL/KG,,UMOL/KG,,UMOL/KG,,,,DEG C,/MILLE,,/MILLE,/MILLE,,DM/.1MG,DM/.1MG,,ITS-90,
  49NZ20031209,  I3I4,   450,  1,     36,  12024,2,20040120,0721,-22.0025, 112.3818, 4261,      9.7,  25.3804,  35.2089,2,  35.2110,2,    197.9,1,    208.6,2,     2.43,2,    -0.02,2,     0.00,2,     0.07,2, -999.000,9, -999.000,9, -999.000,9,   -999.0,9,   -999.0,9,-999.0000,9,  -999.00,   -999.0,9,   -999.0,  -999.00,9,  -999.00,  -999.00,9,  25.3796,2
  49NZ20031209,  I3I4,   450,  1,     35,  12023,2,20040120,0721,-22.0025, 112.3818, 4261,     49.9,  22.9779,  35.3487,2,  35.3499,2,    207.7,1,    218.8,2,     2.61,2,    -0.04,2,     0.01,2,     0.08,2, -999.000,9, -999.000,9, -999.000,9,   -999.0,9,   -999.0,9,-999.0000,9,  -999.00,   -999.0,9,   -999.0,  -999.00,9,  -999.00,  -999.00,9,  22.9701,2
  49NZ20031209,  I3I4,   450,  1,     34,  12022,2,20040120,0721,-22.0025, 112.3818, 4261,     99.6,  20.5627,  35.3671,2,  35.3684,2,    176.3,1,    185.5,2,     4.85,2,     3.57,2,     0.07,2,     0.33,2, -999.000,9, -999.000,9, -999.000,9,   -999.0,9,   -999.0,9,-999.0000,9,  -999.00,   -999.0,9,   -999.0,  -999.00,9,     1.58,     0.21,2,  20.5564,2
  49NZ20031209,  I3I4,   450,  1,     33,  12015,2,20040120,0721,-22.0025, 112.3818, 4261,    151.2,  19.5583,  35.6167,2,  35.6178,2,    191.0,1,    200.4,2,     3.25,2,     2.22,2,     0.03,2,     0.25,2, -999.000,9, -999.000,9, -999.000,9,   -999.0,9,   -999.0,9,-999.0000,9,  -999.00,   -999.0,9,   -999.0,  -999.00,9,  -999.00,  -999.00,9,  19.5563,2
  49NZ20031209,  I3I4,   450,  1,     32,  12020,2,20040120,0721,-22.0025, 112.3818, 4261,    201.5,  17.9458,  35.7083,2,  35.7001,2,    193.2,1,    202.5,2,     3.54,2,     3.09,2,     0.02,2,     0.32,2, -999.000,9, -999.000,9, -999.000,9,   -999.0,9,   -999.0,9,-999.0000,9,  -999.00,   -999.0,9,   -999.0,  -999.00,9,  -999.00,  -999.00,1,  17.9509,2
  49NZ20031209,  I3I4,   450,  1,     31,  12019,2,20040120,0721,-22.0025, 112.3818, 4261,    249.9,  16.6489,  35.7238,2,  35.7144,2,    209.8,1,    220.1,2,     1.75,2,     2.05,2,     0.01,2,     0.26,2, -999.000,9, -999.000,9, -999.000,9,   -999.0,9,   -999.0,9,-999.0000,9,  -999.00,   -999.0,9,   -999.0,  -999.00,9,  -999.00,  -999.00,9,  16.6518,2
  49NZ20031209,  I3I4,   450,  1,     30,  12018,2,20040120,0721,-22.0025, 112.3818, 4261,    300.4,  14.7797,  35.5098,2,  35.4982,2,    214.7,1,    225.7,2,     1.70,2,     3.88,2,     0.01,2,     0.40,2, -999.000,9, -999.000,9, -999.000,9,   -999.0,9,   -999.0,9,-999.0000,9,  -999.00,   -999.0,9,   -999.0,  -999.00,9,  -999.00,  -999.00,9,  14.7658,2
  49NZ20031209,  I3I4,   450,  1,     29,  12017,2,20040120,0721,-22.0025, 112.3818, 4261,    399.9,  10.3886,  34.8449,2,  34.8344,2,    229.0,1,    240.4,2,     3.46,2,    12.67,2,     0.00,2,     0.94,2, -999.000,9, -999.000,9, -999.000,9,   -999.0,9,   -999.0,9,-999.0000,9,  -999.00,   -999.0,9,   -999.0,  -999.00,9,     1.15,     0.16,2,  10.3864,2
  49NZ20031209,  I3I4,   450,  1,     28,  12016,2,20040120,0721,-22.0025, 112.3818, 4261,    501.8,   8.1930,  34.5778,2,  34.5728,2,    205.7,1,    214.6,2,    12.06,2,    21.18,2,     0.00,2,     1.48,2, -999.000,9, -999.000,9, -999.000,9,   -999.0,9,   -999.0,9,-999.0000,9,  -999.00,   -999.0,9,   -999.0,  -999.00,9,  -999.00,  -999.00,9,   8.1935,2
  49NZ20031209,  I3I4,   450,  1,     27,  12012,2,20040120,0721,-22.0025, 112.3818, 4261,    600.3,   6.5668,  34.5192,2,  34.5186,2,    155.0,1,    161.9,2,    35.85,2,    29.06,2,     0.00,2,     2.03,2, -999.000,9, -999.000,9, -999.000,9,   -999.0,9,   -999.0,9,-999.0000,9,  -999.00,   -999.0,9,   -999.0,  -999.00,9,  -999.00,  -999.00,1,   6.5671,2
  49NZ20031209,  I3I4,   450,  1,     26,  12014,2,20040120,0721,-22.0025, 112.3818, 4261,    697.6,   5.8714,  34.5592,2,  34.5608,2,    119.9,1,    123.6,2,    58.70,2,    33.29,2,     0.00,2,     2.36,2, -999.000,9, -999.000,9, -999.000,9,   -999.0,9,   -999.0,9,-999.0000,9,  -999.00,   -999.0,9,   -999.0,  -999.00,9,  -999.00,  -999.00,9,   5.8714,2
  49NZ20031209,  I3I4,   450,  1,     25,  12013,2,20040120,0721,-22.0025, 112.3818, 4261,    800.9,   5.4197,  34.5899,2,  34.5917,2,    104.7,1,    108.5,2,    72.57,2,    35.10,2,     0.00,2,     2.51,2, -999.000,9, -999.000,9, -999.000,9,   -999.0,9,   -999.0,9,-999.0000,9,  -999.00,   -999.0,9,   -999.0,  -999.00,9,     0.00,     0.00,2,   5.4199,2
  49NZ20031209,  I3I4,   450,  1,     24,  12048,2,20040120,0721,-22.0025, 112.3818, 4261,    899.1,   5.1212,  34.6242,2,  34.6236,2,     94.3,1,     97.5,2,    84.75,2,    35.90,2,     0.00,2,     2.59,2, -999.000,9, -999.000,9, -999.000,9,   -999.0,9,   -999.0,9,-999.0000,9,  -999.00,   -999.0,9,   -999.0,  -999.00,9,  -999.00,  -999.00,9,   5.1219,2
  49NZ20031209,  I3I4,   450,  1,     23,  12047,2,20040120,0721,-22.0025, 112.3818, 4261,   1001.1,   4.7703,  34.6242,2,  34.6242,2,     98.1,1,    101.6,2,    88.41,2,    36.15,2,     0.00,2,     2.60,2, -999.000,9, -999.000,9, -999.000,9,   -999.0,9,   -999.0,9,-999.0000,9,  -999.00,   -999.0,9,   -999.0,  -999.00,9,  -999.00,  -999.00,1,   4.7704,2
  49NZ20031209,  I3I4,   450,  1,     22,  12046,2,20040120,0721,-22.0025, 112.3818, 4261,   1200.5,   4.1379,  34.6331,2,  34.6333,2,    106.7,1,    111.1,2,    93.88,2,    36.20,2,     0.00,2,     2.60,2, -999.000,9, -999.000,9, -999.000,9,   -999.0,9,   -999.0,9,-999.0000,9,  -999.00,   -999.0,9,   -999.0,  -999.00,9,  -999.00,  -999.00,5,   4.1395,2
  49NZ20031209,  I3I4,   450,  1,     21,  12045,2,20040120,0721,-22.0025, 112.3818, 4261,   1400.4,   3.4893,  34.6583,2,  34.6583,2,    117.7,1,    123.0,2,    99.72,2,    35.82,2,     0.01,2,     2.56,2, -999.000,9, -999.000,9, -999.000,9,   -999.0,9,   -999.0,9,-999.0000,9,  -999.00,   -999.0,9,   -999.0,  -999.00,9,  -999.00,  -999.00,1,   3.4872,2
  49NZ20031209,  I3I4,   450,  1,     20,  12044,2,20040120,0721,-22.0025, 112.3818, 4261,   1600.7,   3.0444,  34.6893,2,  34.6895,2,    123.4,1,    128.9,2,   108.54,2,    35.62,2,    -0.01,2,     2.54,2, -999.000,9, -999.000,9, -999.000,9,   -999.0,9,   -999.0,9,-999.0000,9,  -999.00,   -999.0,9,   -999.0,  -999.00,9,  -999.00,  -999.00,9,   3.0457,2
  49NZ20031209,  I3I4,   450,  1,     19,  12043,2,20040120,0721,-22.0025, 112.3818, 4261,   1800.9,   2.6198,  34.7085,2,  34.7081,2,    134.0,1,    140.2,2,   111.87,2,    35.01,2,     0.00,2,     2.49,2, -999.000,9, -999.000,9, -999.000,9,   -999.0,9,   -999.0,9,-999.0000,9,  -999.00,   -999.0,9,   -999.0,  -999.00,9,  -999.00,  -999.00,9,   2.6198,2
  49NZ20031209,  I3I4,   450,  1,     18,  12042,2,20040120,0721,-22.0025, 112.3818, 4261,   2000.5,   2.3220,  34.7206,2,  34.7206,2,    140.7,1,    147.5,2,   116.57,2,    34.74,2,     0.00,2,     2.46,2, -999.000,9, -999.000,9, -999.000,9,   -999.0,9,   -999.0,9,-999.0000,9,  -999.00,   -999.0,9,   -999.0,  -999.00,9,  -999.00,  -999.00,1,   2.3218,2
  49NZ20031209,  I3I4,   450,  1,     17,  12041,2,20040120,0721,-22.0025, 112.3818, 4261,   2200.9,   2.1454,  34.7255,2,  34.7247,2,    144.4,1,    151.5,2,   120.11,2,    34.62,2,    -0.01,2,     2.44,2, -999.000,9, -999.000,9, -999.000,9,   -999.0,9,   -999.0,9,-999.0000,9,  -999.00,   -999.0,9,   -999.0,  -999.00,9,  -999.00,  -999.00,9,   2.1444,2
  49NZ20031209,  I3I4,   450,  1,     16,  12040,2,20040120,0721,-22.0025, 112.3818, 4261,   2401.1,   2.0061,  34.7265,2,  34.7263,2,    148.8,1,    155.8,2,   121.74,2,    34.36,2,    -0.01,2,     2.42,2, -999.000,9, -999.000,9, -999.000,9,   -999.0,9,   -999.0,9,-999.0000,9,  -999.00,   -999.0,9,   -999.0,  -999.00,9,  -999.00,  -999.00,1,   2.0063,2
  49NZ20031209,  I3I4,   450,  1,     15,  12039,2,20040120,0721,-22.0025, 112.3818, 4261,   2599.0,   1.8710,  34.7264,2,  34.7262,2,    154.4,1,    161.7,2,   121.93,2,    34.02,2,     0.00,2,     2.40,2, -999.000,9, -999.000,9, -999.000,9,   -999.0,9,   -999.0,9,-999.0000,9,  -999.00,   -999.0,9,   -999.0,  -999.00,9,  -999.00,  -999.00,9,   1.8707,2
  49NZ20031209,  I3I4,   450,  1,     14,  12038,2,20040120,0721,-22.0025, 112.3818, 4261,   2800.4,   1.7357,  34.7255,2,  34.7251,2,    160.3,1,    168.2,2,   122.08,2,    33.78,2,     0.00,2,     2.36,2, -999.000,9, -999.000,9, -999.000,9,   -999.0,9,   -999.0,9,-999.0000,9,  -999.00,   -999.0,9,   -999.0,  -999.00,9,  -999.00,  -999.00,9,   1.7355,2
  49NZ20031209,  I3I4,   450,  1,     13,  12037,2,20040120,0721,-22.0025, 112.3818, 4261,   3000.1,   1.6085,  34.7243,2,  34.7243,2,    165.7,1,    173.7,2,   122.17,2,    33.45,2,    -0.01,2,     2.33,2, -999.000,9, -999.000,9, -999.000,9,   -999.0,9,   -999.0,9,-999.0000,9,  -999.00,   -999.0,9,   -999.0,  -999.00,9,  -999.00,  -999.00,1,   1.6087,2
  49NZ20031209,  I3I4,   450,  1,     12,  12036,2,20040120,0721,-22.0025, 112.3818, 4261,   3249.3,   1.4605,  34.7222,2,  34.7219,2,    171.7,1,    179.9,2,   123.09,2,    33.12,2,     0.00,2,     2.30,2, -999.000,9, -999.000,9, -999.000,9,   -999.0,9,   -999.0,9,-999.0000,9,  -999.00,   -999.0,9,   -999.0,  -999.00,9,  -999.00,  -999.00,9,   1.4609,2
  49NZ20031209,  I3I4,   450,  1,     11,  12035,2,20040120,0721,-22.0025, 112.3818, 4261,   3500.3,   1.3314,  34.7194,2,  34.7190,2,    176.6,1,    184.4,2,   124.93,2,    33.13,2,     0.00,2,     2.29,2, -999.000,9, -999.000,9, -999.000,9,   -999.0,9,   -999.0,9,-999.0000,9,  -999.00,   -999.0,9,   -999.0,  -999.00,9,  -999.00,  -999.00,1,   1.3315,2
  49NZ20031209,  I3I4,   450,  1,     10,  12034,2,20040120,0721,-22.0025, 112.3818, 4261,   3749.3,   1.2260,  34.7164,2,  34.7162,2,    180.5,1,    188.2,2,   126.69,2,    33.09,2,     0.00,2,     2.29,2, -999.000,9, -999.000,9, -999.000,9,   -999.0,9,   -999.0,9,-999.0000,9,  -999.00,   -999.0,9,   -999.0,  -999.00,9,  -999.00,  -999.00,9,   1.2260,2
  49NZ20031209,  I3I4,   450,  1,      9,  12033,2,20040120,0721,-22.0025, 112.3818, 4261,   3999.1,   1.1859,  34.7149,2,  34.7151,2,    183.1,1,    190.1,2,   127.57,2,    33.03,2,    -0.01,2,     2.28,2, -999.000,9, -999.000,9, -999.000,9,   -999.0,9,   -999.0,9,-999.0000,9,  -999.00,   -999.0,9,   -999.0,  -999.00,9,  -999.00,  -999.00,1,   1.1859,2
  49NZ20031209,  I3I4,   450,  1,      8,  12032,2,20040120,0721,-22.0025, 112.3818, 4261,   4250.0,   1.1824,  34.7143,2,  34.7142,2,    185.4,1,    191.1,2,   128.20,2,    33.06,2,     0.00,2,     2.28,2, -999.000,9, -999.000,9, -999.000,9,   -999.0,9,   -999.0,9,-999.0000,9,  -999.00,   -999.0,9,   -999.0,  -999.00,9,  -999.00,  -999.00,9,   1.1826,2
  49NZ20031209,  I3I4,   450,  1,      7,  12010,2,20040120,0721,-22.0025, 112.3818, 4261,   4327.3,   1.1870,  34.7141,2,  34.7140,2,    186.0,1,    191.2,2,   128.09,2,    33.07,2,     0.00,2,     2.28,2, -999.000,9, -999.000,9, -999.000,9,   -999.0,9,   -999.0,9,-999.0000,9,  -999.00,   -999.0,9,   -999.0,  -999.00,9,  -999.00,  -999.00,1,   1.1871,2
  49NZ20031209,  I3I4,   450,  1,      6,  12030,2,20040120,0721,-22.0025, 112.3818, 4261,     84.4,  21.1043,  35.3178,2,-999.0000,9,    186.0,1,   -999.0,9,  -999.00,9,  -999.00,9,  -999.00,9,  -999.00,9, -999.000,9, -999.000,9, -999.000,9,   -999.0,9,   -999.0,9,-999.0000,9,  -999.00,   -999.0,9,   -999.0,  -999.00,9,  -999.00,  -999.00,9,  21.1159,2
  49NZ20031209,  I3I4,   450,  1,      5,  12029,2,20040120,0721,-22.0025, 112.3818, 4261,   2001.0,   2.3222,  34.7206,2,-999.0000,9,    140.7,1,   -999.0,9,  -999.00,9,  -999.00,9,  -999.00,9,  -999.00,9, -999.000,9, -999.000,9, -999.000,9,   -999.0,9,   -999.0,9,-999.0000,9,  -999.00,   -999.0,9,   -999.0,  -999.00,9,  -999.00,  -999.00,9,   2.3222,2
  49NZ20031209,  I3I4,   450,  1,      4,  12028,2,20040120,0721,-22.0025, 112.3818, 4261,    201.0,  17.9427,  35.7068,2,-999.0000,9,    194.4,1,   -999.0,9,  -999.00,9,  -999.00,9,  -999.00,9,  -999.00,9, -999.000,9, -999.000,9, -999.000,9,   -999.0,9,   -999.0,9,-999.0000,9,  -999.00,   -999.0,9,   -999.0,  -999.00,9,  -999.00,  -999.00,9,  17.9438,2
  49NZ20031209,  I3I4,   450,  1,      3,  12027,2,20040120,0721,-22.0025, 112.3818, 4261,   1000.3,   4.7673,  34.6242,2,-999.0000,9,     98.1,1,   -999.0,9,  -999.00,9,  -999.00,9,  -999.00,9,  -999.00,9, -999.000,9, -999.000,9, -999.000,9,   -999.0,9,   -999.0,9,-999.0000,9,  -999.00,   -999.0,9,   -999.0,  -999.00,9,  -999.00,  -999.00,9,   4.7683,2
  49NZ20031209,  I3I4,   450,  1,      2,  12026,2,20040120,0721,-22.0025, 112.3818, 4261,    600.9,   6.5671,  34.5204,2,-999.0000,9,    154.8,1,   -999.0,9,  -999.00,9,  -999.00,9,  -999.00,9,  -999.00,9, -999.000,9, -999.000,9, -999.000,9,   -999.0,9,   -999.0,9,-999.0000,9,  -999.00,   -999.0,9,   -999.0,  -999.00,9,  -999.00,  -999.00,9,   6.5674,2
  49NZ20031209,  I3I4,   450,  1,      1,  12025,2,20040120,0721,-22.0025, 112.3818, 4261,   4327.6,   1.1870,  34.7141,2,-999.0000,9,    186.0,1,   -999.0,9,  -999.00,9,  -999.00,9,  -999.00,9,  -999.00,9, -999.000,9, -999.000,9, -999.000,9,   -999.0,9,   -999.0,9,-999.0000,9,  -999.00,   -999.0,9,   -999.0,  -999.00,9,  -999.00,  -999.00,9,   1.1872,2