BOTTLE,20141204PRINUNIVRMK
EXPOCODE,SECT_ID,STNNBR,CASTNO,SAMPNO,BTLNBR,BTLNBR_FLAG_W,DATE,TIME,LATITUDE,LONGITUDE,DEPTH,CTDPRS,CTDTMP,CTDSAL,CTDSAL_FLAG_W,SALNTY,SALNTY_FLAG_W,CTDOXY,CTDOXY_FLAG_W,OXYGEN,OXYGEN_FLAG_W,SILCAT,SILCAT_FLAG_W,NITRAT,NITRAT_FLAG_W,NITRIT,NITRIT_FLAG_W,PHSPHT,PHSPHT_FLAG_W,CFC-11,CFC-11_FLAG_W,CFC-12,CFC-12_FLAG_W,CFC113,CFC113_FLAG_W,TCARBN,TCARBN_FLAG_W,ALKALI,ALKALI_FLAG_W,PH_TOT,PH_TOT_FLAG_W,PH_TMP,DELC14,DELC14_FLAG_W,C14ERR,DELC13,DELC13_FLAG_W,CS-137,CS137ER,CS-137_FLAG_W,SBE35,SBE35_FLAG_W
,,,,,,,,,,,METERS,DBAR,ITS-90,PSS-78,,PSS-78,,UMOL/KG,,UMOL/KG,,UMOL/KG,,UMOL/KG,,UMOL/KG,,UMOL/KG,,PMOL/KG,,PMOL/KG,,PMOL/KG,,UMOL/KG,,UMOL/KG,,,,DEG C,/MILLE,,/MILLE,/MILLE,,DM/.1MG,DM/.1MG,,ITS-90,
  49NZ20031209,  I3I4,   459,  1,     36,  12024,2,20040117,1805,-19.9962, 106.6247, 5527,     10.1,  24.3382,  35.2273,2,  35.2282,2,    201.0,1,    211.6,2,     2.44,2,    -0.02,2,     0.00,2,     0.08,2,    1.813,2,    1.121,2, -999.000,5,   1990.4,2,   2316.0,2,   8.0832,2,    25.00,     45.3,2,      3.5,     0.97,2,  -999.00,  -999.00,9,  24.3369,2
  49NZ20031209,  I3I4,   459,  1,     35,  12023,2,20040117,1805,-19.9962, 106.6247, 5527,     49.0,  22.6330,  35.3053,2,  35.3053,2,    208.0,1,    218.8,2,     2.66,2,    -0.02,2,     0.00,2,     0.09,2,    1.994,2,    1.214,2, -999.000,5,   2002.4,6,   2315.6,2,   8.0705,2,    25.00,     56.5,2,      3.6,     1.02,2,  -999.00,  -999.00,9,  22.6318,2
  49NZ20031209,  I3I4,   459,  1,     34,  12022,2,20040117,1805,-19.9962, 106.6247, 5527,    101.0,  20.7024,  35.4214,2,  35.4209,2,    195.6,1,    206.4,2,     3.35,2,     0.79,2,     0.05,2,     0.19,2,    2.059,2,    1.235,2, -999.000,5,   2032.0,2,   2328.9,6,   8.0300,2,    25.00,     58.7,2,      3.7,     0.87,2,  -999.00,  -999.00,9,  20.7032,2
  49NZ20031209,  I3I4,   459,  1,     33,  12015,2,20040117,1805,-19.9962, 106.6247, 5527,    150.7,  19.6339,  35.6055,2,  35.6065,2,    195.0,1,    204.7,2,     3.02,2,     1.86,2,     0.03,2,     0.22,2,    2.134,2,    1.293,2,    0.309,4,   2048.3,2,   2331.7,2,   8.0147,6,    25.00,     55.8,2,      3.7,     0.82,2,  -999.00,  -999.00,9,  19.6348,2
  49NZ20031209,  I3I4,   459,  1,     32,  12020,2,20040117,1805,-19.9962, 106.6247, 5527,    202.8,  17.8275,  35.6166,2,  35.6207,2,    179.2,1,    188.6,2,     5.37,2,     4.99,2,     0.01,2,     0.44,2,    2.198,2,    1.320,2,    0.137,4,   2083.4,2,   2335.8,2,   7.9545,2,    25.00,     62.6,6,      7.2,     0.78,6,  -999.00,  -999.00,9,  17.8272,2
  49NZ20031209,  I3I4,   459,  1,     31,  12019,2,20040117,1805,-19.9962, 106.6247, 5527,    253.7,  15.8848,  35.6000,2,  35.5999,2,    198.5,1,    207.9,2,     3.40,2,     4.46,2,     0.00,2,     0.44,2,    2.575,6,    1.506,6,    0.129,4,   2091.4,2,   2338.5,2,   7.9361,2,    25.00,     73.8,2,      3.8,     0.97,3,  -999.00,  -999.00,9,  15.8847,2
  49NZ20031209,  I3I4,   459,  1,     30,  12018,2,20040117,1805,-19.9962, 106.6247, 5527,    300.6,  13.9465,  35.3660,2,  35.3643,2,    204.3,1,    213.8,2,     4.21,2,     7.05,2,     0.00,2,     0.60,2,    2.773,2,    1.572,2,    0.104,4,   2104.6,2,   2325.5,2,   7.8951,2,    25.00,     64.6,2,      3.8,     0.76,2,  -999.00,  -999.00,9,  13.9459,2
  49NZ20031209,  I3I4,   459,  1,     29,  12021,2,20040117,1805,-19.9962, 106.6247, 5527,    400.6,  10.6598,  34.8896,2,  34.8876,2,    223.3,1,    234.3,2,     4.18,2,    12.55,2,     0.00,2,     0.94,2,    3.294,2,    1.828,2,    0.139,4,   2117.3,2,   2302.5,2,   7.8287,2,    25.00,     61.2,2,      3.7,     1.20,2,  -999.00,  -999.00,9,  10.6600,2
  49NZ20031209,  I3I4,   459,  1,     28,  12016,2,20040117,1805,-19.9962, 106.6247, 5527,    500.7,   9.2890,  34.6902,2,  34.6883,2,    220.3,1,    231.7,2,     5.88,2,    16.99,2,    -0.01,2,     1.20,2,    3.353,2,    1.762,2,    0.153,4,   2129.8,2,   2291.1,2,   7.7863,2,    25.00,     53.7,2,      3.6,     1.18,2,  -999.00,  -999.00,9,   9.2890,2
  49NZ20031209,  I3I4,   459,  1,     27,  12012,2,20040117,1805,-19.9962, 106.6247, 5527,    602.1,   7.6153,  34.5404,2,  34.5404,2,    188.3,1,    198.1,2,    17.55,2,    24.21,2,    -0.01,2,     1.66,2,    2.081,2,    1.038,2,    0.085,4,   2162.6,2,   2294.7,2,   7.7047,2,    25.00,     -8.6,2,      3.6,     0.89,2,  -999.00,  -999.00,9,   7.6138,2
  49NZ20031209,  I3I4,   459,  1,     26,  12014,2,20040117,1805,-19.9962, 106.6247, 5527,    699.5,   6.2845,  34.5461,2,  34.5464,2,    131.7,1,    137.4,2,    48.06,2,    31.90,2,    -0.01,2,     2.23,2,    0.519,2,    0.246,2,    0.022,4,   2226.8,6,   2803.8,4,   7.5995,2,    25.00,    -81.6,2,      3.4,     0.63,2,  -999.00,  -999.00,9,   6.2854,2
  49NZ20031209,  I3I4,   459,  1,     25,  12013,2,20040117,1805,-19.9962, 106.6247, 5527,    801.8,   5.6742,  34.5889,2,  34.5877,2,    105.8,1,    110.0,2,    68.10,2,    34.86,2,    -0.01,2,     2.47,2,    0.126,2,    0.067,2,    0.000,4,   2262.0,2,   2336.1,6,   7.5556,2,    25.00,   -128.7,2,      3.3,     0.36,2,  -999.00,  -999.00,9,   5.6753,2
  49NZ20031209,  I3I4,   459,  1,     24,  12048,2,20040117,1805,-19.9962, 106.6247, 5527,    901.7,   5.3101,  34.6181,2,  34.6168,2,     96.7,1,    100.4,2,    78.99,2,    35.96,2,    -0.01,2,     2.57,2,    0.036,2,    0.028,2,    0.000,4,   2278.2,2,   2348.0,2,   7.5403,6,    25.00,   -154.1,2,      3.2,     0.27,2,  -999.00,  -999.00,9,   5.3104,2
  49NZ20031209,  I3I4,   459,  1,     23,  12047,2,20040117,1805,-19.9962, 106.6247, 5527,   1001.2,   4.9116,  34.6292,2,  34.6286,2,     96.8,1,    100.5,2,    86.23,2,    36.33,2,    -0.01,2,     2.60,2,    0.012,6,    0.002,6,    0.001,4,   2285.8,2,   2356.2,2,   7.5381,2,    25.00,   -174.4,2,      3.2,     0.24,2,  -999.00,  -999.00,9,   4.9116,2
  49NZ20031209,  I3I4,   459,  1,     22,  12046,2,20040117,1805,-19.9962, 106.6247, 5527,   1200.7,   4.2502,  34.6339,2,  34.6340,2,    105.3,1,    109.8,2,    92.13,2,    36.31,2,    -0.01,2,     2.60,2,    0.003,2,   -0.003,2,    0.001,4,   2285.7,4,   2362.9,2,   7.5425,2,    25.00,   -170.5,2,      3.2,     0.10,3,  -999.00,  -999.00,9,   4.2505,2
  49NZ20031209,  I3I4,   459,  1,     21,  12045,2,20040117,1805,-19.9962, 106.6247, 5527,   1401.0,   3.6854,  34.6527,2,  34.6527,2,    114.5,1,    119.6,2,    97.04,2,    36.10,2,    -0.01,2,     2.57,2,   -0.004,2,   -0.003,2,    0.001,4,   2294.3,2,   2368.3,2,   7.5504,2,    25.00,   -180.5,6,     10.3,     0.28,6,  -999.00,  -999.00,9,   3.6868,2
  49NZ20031209,  I3I4,   459,  1,     20,  12044,2,20040117,1805,-19.9962, 106.6247, 5527,   1600.9,   3.1424,  34.6801,2,  34.6797,2,    125.8,1,    132.2,2,   101.34,2,    35.47,2,    -0.01,2,     2.52,2,   -0.004,2,    0.003,2,    0.001,4,   2293.5,2,   2374.7,2,   7.5624,2,    25.00,   -182.6,2,      3.2,     0.06,3,  -999.00,  -999.00,9,   3.1424,2
  49NZ20031209,  I3I4,   459,  1,     19,  12043,2,20040117,1805,-19.9962, 106.6247, 5527,   1799.5,   2.6799,  34.7073,2,  34.7076,2,    132.2,1,    139.2,2,   111.03,2,    35.20,2,    -0.01,2,     2.50,2,    0.000,2,    0.001,2,    0.001,4,   2300.1,2,   2384.5,2,   7.5728,2,    25.00,   -197.1,2,      3.0,     0.27,2,  -999.00,  -999.00,9,   2.6794,2
  49NZ20031209,  I3I4,   459,  1,     18,  12042,2,20040117,1805,-19.9962, 106.6247, 5527,   2000.1,   2.3992,  34.7211,2,  34.7211,2,    138.1,1,    145.7,2,   115.63,2,    34.95,2,    -0.01,2,     2.46,2,    0.000,2,   -0.003,2,    0.001,4,   2301.0,2,   2388.7,2,   7.5807,6,    25.00,   -195.0,2,      3.0,     0.26,2,  -999.00,  -999.00,9,   2.3991,2
  49NZ20031209,  I3I4,   459,  1,     17,  12041,2,20040117,1805,-19.9962, 106.6247, 5527,   2199.3,   2.1823,  34.7262,2,  34.7266,2,    142.6,1,    150.5,2,   119.69,2,    34.79,2,    -0.01,2,     2.45,2,   -0.001,2,   -0.004,2,    0.001,4,   2303.4,2,   2392.9,2,   7.5868,2,    25.00,   -194.4,2,      3.0,     0.28,2,  -999.00,  -999.00,9,   2.1822,2
  49NZ20031209,  I3I4,   459,  1,     16,  12040,2,20040117,1805,-19.9962, 106.6247, 5527,   2400.1,   2.0394,  34.7274,2,  34.7265,2,    147.2,1,    156.0,2,   120.84,2,    34.52,2,    -0.02,2,     2.43,2,   -0.003,2,   -0.006,2,    0.001,4,   2302.4,6,   2391.1,2,   7.5915,2,    25.00,   -187.8,2,      3.0,     0.20,3,  -999.00,  -999.00,9,   2.0394,2
  49NZ20031209,  I3I4,   459,  1,     15,  12039,2,20040117,1805,-19.9962, 106.6247, 5527,   2599.9,   1.8823,  34.7269,2,  34.7269,2,    152.3,1,    161.2,2,   122.19,2,    34.32,2,    -0.01,2,     2.40,2,    0.005,2,   -0.003,2,    0.001,4,   2298.5,2,   2392.6,6,   7.5976,2,    25.00,   -194.8,2,      3.0,     0.30,2,  -999.00,  -999.00,9,   1.8822,2
  49NZ20031209,  I3I4,   459,  1,     14,  12038,2,20040117,1805,-19.9962, 106.6247, 5527,   2801.0,   1.7682,  34.7261,2,  34.7262,2,    157.3,1,    167.0,2,   121.99,2,    34.04,2,    -0.01,2,     2.37,2,   -0.003,2,    0.002,2,    0.001,4,   2298.3,2,   2387.3,2,   7.6109,2,    25.00,   -188.6,2,      3.2,     0.31,2,  -999.00,  -999.00,9,   1.7684,2
  49NZ20031209,  I3I4,   459,  1,     13,  12037,2,20040117,1805,-19.9962, 106.6247, 5527,   2999.6,   1.6239,  34.7247,2,  34.7249,2,    163.3,1,    173.5,2,   122.26,2,    33.70,2,    -0.01,2,     2.35,2,   -0.001,2,   -0.003,2,    0.001,4,   2293.1,2,   2387.7,2,   7.6114,2,    25.00,   -188.8,6,      2.7,     0.37,6,  -999.00,  -999.00,9,   1.6238,2
  49NZ20031209,  I3I4,   459,  1,     12,  12036,2,20040117,1805,-19.9962, 106.6247, 5527,   5498.9,   1.1913,  34.7112,2,  34.7113,2,    194.2,1,    200.3,2,   124.70,2,    32.72,2,    -0.01,2,     2.24,2,    0.005,2,    0.006,2,    0.000,4,   2277.4,2,   2379.8,2,   7.6310,2,    25.00,   -185.1,3,      3.2,     0.38,3,  -999.00,  -999.00,9,   1.1914,2
  49NZ20031209,  I3I4,   459,  1,     11,  12035,2,20040117,1805,-19.9962, 106.6247, 5527,   3498.4,   1.3603,  34.7197,2,  34.7196,2,    172.7,1,    183.6,2,   125.14,2,    33.31,2,    -0.01,2,     2.31,2,   -0.003,2,    0.001,2,    0.001,4,   2289.7,2,   2390.4,2,-999.0000,5,  -999.00,   -192.4,2,      3.2,     0.34,3,  -999.00,  -999.00,9,   1.3602,2
  49NZ20031209,  I3I4,   459,  1,     10,  12034,2,20040117,1805,-19.9962, 106.6247, 5527,   3748.8,   1.2732,  34.7172,2,  34.7171,2,    175.7,1,    186.7,2,   126.48,2,    33.33,2,    -0.01,2,     2.30,2,   -0.003,2,    0.002,2,    0.000,4,   2288.9,2,   2389.1,2,   7.6237,2,    25.00,   -182.4,2,      4.6,     0.34,3,  -999.00,  -999.00,9,   1.2732,2
  49NZ20031209,  I3I4,   459,  1,      9,  12033,2,20040117,1805,-19.9962, 106.6247, 5527,   4000.5,   1.2211,  34.7156,2,  34.7151,2,    178.4,1,    189.2,2,   127.55,2,    33.25,2,    -0.01,2,     2.29,2,   -0.002,2,    0.001,2,    0.000,4,   2289.8,2,   2391.2,2,   7.6268,2,    25.00,   -181.6,2,      3.0,     0.39,2,  -999.00,  -999.00,9,   1.2212,2
  49NZ20031209,  I3I4,   459,  1,      8,  12032,2,20040117,1805,-19.9962, 106.6247, 5527,   4248.9,   1.1990,  34.7147,2,  34.7144,2,    180.8,1,    191.4,2,   127.49,2,    33.13,2,    -0.01,2,     2.29,2,    0.000,2,    0.004,2,    0.000,4,   2288.8,6,   2394.5,2,   7.6285,2,    25.00,   -186.7,2,      3.2,     0.40,2,  -999.00,  -999.00,9,   1.1991,2
  49NZ20031209,  I3I4,   459,  1,      7,  12031,2,20040117,1805,-19.9962, 106.6247, 5527,   4500.0,   1.1912,  34.7138,2,  34.7133,3,    182.7,1,    192.5,2,   127.79,2,    33.15,2,    -0.01,2,     2.28,2,    0.003,2,    0.002,2,    0.000,4,   2287.4,2,   2390.7,6,   7.6305,2,    25.00,   -176.8,2,      3.2,     0.41,2,  -999.00,  -999.00,9,   1.1912,2
  49NZ20031209,  I3I4,   459,  1,      6,  12030,2,20040117,1805,-19.9962, 106.6247, 5527,   4750.4,   1.1882,  34.7134,2,  34.7134,2,    185.5,1,    194.7,2,   126.76,2,    33.07,2,    -0.01,2,     2.27,2,   -0.003,2,    0.001,2,    0.000,4,   2283.9,2,   2389.2,2,   7.6310,6,    25.00,   -174.3,2,      3.2,     0.40,2,  -999.00,  -999.00,9,   1.1882,2
  49NZ20031209,  I3I4,   459,  1,      5,  12029,2,20040117,1805,-19.9962, 106.6247, 5527,   5000.8,   1.1894,  34.7128,2,  34.7126,2,    188.0,1,    196.7,2,   126.07,2,    32.96,2,    -0.01,2,     2.27,2,   -0.001,2,    0.003,2,    0.000,4,   2284.7,2,   2383.2,2,   7.6312,2,    25.00,   -178.9,2,      3.1,     0.43,2,  -999.00,  -999.00,9,   1.1894,2
  49NZ20031209,  I3I4,   459,  1,      4,  12028,2,20040117,1805,-19.9962, 106.6247, 5527,   5249.5,   1.1907,  34.7121,2,  34.7123,2,    191.1,1,    198.4,2,   125.52,2,    32.83,2,    -0.01,2,     2.26,2,    0.002,2,    0.004,2,    0.000,4,   2280.5,2,   2382.9,2,   7.6322,2,    25.00,   -169.5,2,      3.2,     0.42,2,  -999.00,  -999.00,9,   1.1907,2
  49NZ20031209,  I3I4,   459,  1,      3,  12027,2,20040117,1805,-19.9962, 106.6247, 5527,   5500.0,   1.1914,  34.7111,2,  34.7114,2,    194.2,1,    200.4,2,   124.64,2,    32.73,2,    -0.01,2,     2.25,2,    0.004,2,   -0.009,2,    0.000,4,   2277.6,2,   2383.4,2,   7.6308,2,    25.00,   -169.2,2,      3.1,     0.44,2,  -999.00,  -999.00,9,   1.1914,2
  49NZ20031209,  I3I4,   459,  1,      2,  12026,2,20040117,1805,-19.9962, 106.6247, 5527,   5616.7,   1.1879,  34.7105,2,  34.7101,2,    196.7,1,    201.8,2,   123.95,2,    32.68,2,    -0.01,2,     2.24,2,    0.009,2,    0.001,2,    0.000,4,   2277.0,2,   2381.2,2,   7.6275,2,    25.00,   -165.1,2,      3.3,     0.46,2,  -999.00,  -999.00,9,   1.1880,2
  49NZ20031209,  I3I4,   459,  1,      1,  12025,2,20040117,1805,-19.9962, 106.6247, 5527,   3248.9,   1.4733,  34.7222,2,  34.7222,2,    168.4,1,    179.2,2,   124.03,2,    33.55,2,    -0.01,2,     2.33,2,    0.000,2,    0.000,2,    0.001,4,   2292.1,2,   2391.1,2,   7.6167,2,    25.00,   -193.0,2,      3.2,     0.37,2,  -999.00,  -999.00,9,   1.4734,2