BOTTLE,20141204PRINUNIVRMK
EXPOCODE,SECT_ID,STNNBR,CASTNO,SAMPNO,BTLNBR,BTLNBR_FLAG_W,DATE,TIME,LATITUDE,LONGITUDE,DEPTH,CTDPRS,CTDTMP,CTDSAL,CTDSAL_FLAG_W,SALNTY,SALNTY_FLAG_W,CTDOXY,CTDOXY_FLAG_W,OXYGEN,OXYGEN_FLAG_W,SILCAT,SILCAT_FLAG_W,NITRAT,NITRAT_FLAG_W,NITRIT,NITRIT_FLAG_W,PHSPHT,PHSPHT_FLAG_W,CFC-11,CFC-11_FLAG_W,CFC-12,CFC-12_FLAG_W,CFC113,CFC113_FLAG_W,TCARBN,TCARBN_FLAG_W,ALKALI,ALKALI_FLAG_W,PH_TOT,PH_TOT_FLAG_W,PH_TMP,DELC14,DELC14_FLAG_W,C14ERR,DELC13,DELC13_FLAG_W,CS-137,CS137ER,CS-137_FLAG_W,SBE35,SBE35_FLAG_W
,,,,,,,,,,,METERS,DBAR,ITS-90,PSS-78,,PSS-78,,UMOL/KG,,UMOL/KG,,UMOL/KG,,UMOL/KG,,UMOL/KG,,UMOL/KG,,PMOL/KG,,PMOL/KG,,PMOL/KG,,UMOL/KG,,UMOL/KG,,,,DEG C,/MILLE,,/MILLE,/MILLE,,DM/.1MG,DM/.1MG,,ITS-90,
  49NZ20031209,  I3I4,   512,  1,     36,  12024,2,20040101,2003,-19.9967,  71.6963, 3650,      9.2,  26.1954,  35.0422,2,  35.0411,2,    197.3,1,    206.4,2,     2.05,2,     0.08,2,     0.00,2,     0.11,2, -999.000,9, -999.000,9, -999.000,9,   -999.0,9,   -999.0,9,-999.0000,9,  -999.00,   -999.0,9,   -999.0,  -999.00,9,  -999.00,  -999.00,9,  26.1951,2
  49NZ20031209,  I3I4,   512,  1,     35,  12023,2,20040101,2003,-19.9967,  71.6963, 3650,     49.6,  25.3051,  34.9753,2,  34.9757,2,    203.1,1,    212.4,2,     2.00,2,     0.04,2,    -0.01,2,     0.09,2, -999.000,9, -999.000,9, -999.000,9,   -999.0,9,   -999.0,9,-999.0000,9,  -999.00,   -999.0,9,   -999.0,  -999.00,9,  -999.00,  -999.00,9,  25.3029,2
  49NZ20031209,  I3I4,   512,  1,     34,  12022,2,20040101,2003,-19.9967,  71.6963, 3650,    100.0,  23.1022,  35.0522,2,  35.0525,2,    208.0,1,    217.5,2,     2.24,2,     0.04,2,     0.00,2,     0.12,2, -999.000,9, -999.000,9, -999.000,9,   -999.0,9,   -999.0,9,-999.0000,9,  -999.00,   -999.0,9,   -999.0,  -999.00,9,  -999.00,  -999.00,5,  23.1033,2
  49NZ20031209,  I3I4,   512,  1,     33,  12015,2,20040101,2003,-19.9967,  71.6963, 3650,    151.4,  21.7463,  35.3580,2,  35.3654,2,    188.2,1,    196.4,2,     3.08,2,     1.29,2,     0.19,2,     0.24,2, -999.000,9, -999.000,9, -999.000,9,   -999.0,9,   -999.0,9,-999.0000,9,  -999.00,   -999.0,9,   -999.0,  -999.00,9,  -999.00,  -999.00,9,  21.7452,2
  49NZ20031209,  I3I4,   512,  1,     32,  12020,2,20040101,2003,-19.9967,  71.6963, 3650,    202.1,  20.0822,  35.6498,2,  35.6463,2,    184.0,1,    191.6,2,     3.40,2,     2.64,2,     0.02,2,     0.32,2, -999.000,9, -999.000,9, -999.000,9,   -999.0,9,   -999.0,9,-999.0000,9,  -999.00,   -999.0,9,   -999.0,  -999.00,9,  -999.00,  -999.00,1,  20.0779,2
  49NZ20031209,  I3I4,   512,  1,     31,  12019,2,20040101,2003,-19.9967,  71.6963, 3650,    249.0,  18.5989,  35.7195,2,  35.7202,2,    176.8,1,    184.0,2,     4.65,2,     4.54,2,     0.00,2,     0.42,2, -999.000,9, -999.000,9, -999.000,9,   -999.0,9,   -999.0,9,-999.0000,9,  -999.00,   -999.0,9,   -999.0,  -999.00,9,  -999.00,  -999.00,9,  18.5988,2
  49NZ20031209,  I3I4,   512,  1,     30,  12018,2,20040101,2003,-19.9967,  71.6963, 3650,    301.5,  16.9363,  35.7649,2,  35.7643,2,    200.0,1,    208.1,2,     2.33,2,     2.95,2,     0.00,2,     0.35,2, -999.000,9, -999.000,9, -999.000,9,   -999.0,9,   -999.0,9,-999.0000,9,  -999.00,   -999.0,9,   -999.0,  -999.00,9,  -999.00,  -999.00,9,  16.9494,2
  49NZ20031209,  I3I4,   512,  1,     29,  12021,2,20040101,2003,-19.9967,  71.6963, 3650,    399.7,  13.1738,  35.2924,2,  35.2884,2,    217.3,1,    225.5,2,     2.67,2,     7.80,2,    -0.01,2,     0.66,2, -999.000,9, -999.000,9, -999.000,9,   -999.0,9,   -999.0,9,-999.0000,9,  -999.00,   -999.0,9,   -999.0,  -999.00,9,  -999.00,  -999.00,5,  13.1738,2
  49NZ20031209,  I3I4,   512,  1,     28,  12016,2,20040101,2003,-19.9967,  71.6963, 3650,    499.0,  11.6970,  35.0671,2,  35.0613,2,    222.5,1,    231.0,2,     3.39,2,    10.78,2,    -0.01,2,     0.84,2, -999.000,9, -999.000,9, -999.000,9,   -999.0,9,   -999.0,9,-999.0000,9,  -999.00,   -999.0,9,   -999.0,  -999.00,9,  -999.00,  -999.00,9,  11.6978,2
  49NZ20031209,  I3I4,   512,  1,     27,  12012,2,20040101,2003,-19.9967,  71.6963, 3650,    599.8,  10.0740,  34.8161,2,  34.8129,2,    224.4,1,    232.8,2,     4.34,2,    14.59,2,    -0.01,2,     1.06,2, -999.000,9, -999.000,9, -999.000,9,   -999.0,9,   -999.0,9,-999.0000,9,  -999.00,   -999.0,9,   -999.0,  -999.00,9,  -999.00,  -999.00,1,  10.0743,2
  49NZ20031209,  I3I4,   512,  1,     26,  12014,2,20040101,2003,-19.9967,  71.6963, 3650,    701.7,   8.8737,  34.6495,2,  34.6522,2,    216.4,1,    225.3,2,     7.02,2,    18.49,2,    -0.01,2,     1.30,2, -999.000,9, -999.000,9, -999.000,9,   -999.0,9,   -999.0,9,-999.0000,9,  -999.00,   -999.0,9,   -999.0,  -999.00,9,  -999.00,  -999.00,9,   8.8741,2
  49NZ20031209,  I3I4,   512,  1,     25,  12013,2,20040101,2003,-19.9967,  71.6963, 3650,    799.9,   7.2682,  34.5350,2,  34.5350,2,    176.2,1,    183.0,2,    22.15,2,    26.10,2,    -0.01,2,     1.80,2, -999.000,9, -999.000,9, -999.000,9,   -999.0,9,   -999.0,9,-999.0000,9,  -999.00,   -999.0,9,   -999.0,  -999.00,9,  -999.00,  -999.00,1,   7.2692,2
  49NZ20031209,  I3I4,   512,  1,     24,  12048,2,20040101,2003,-19.9967,  71.6963, 3650,    901.2,   5.8916,  34.5234,2,  34.5235,2,    143.1,1,    147.6,2,    45.71,2,    31.85,2,     0.00,2,     2.24,2, -999.000,9, -999.000,9, -999.000,9,   -999.0,9,   -999.0,9,-999.0000,9,  -999.00,   -999.0,9,   -999.0,  -999.00,9,  -999.00,  -999.00,9,   5.8924,2
  49NZ20031209,  I3I4,   512,  1,     23,  12047,2,20040101,2003,-19.9967,  71.6963, 3650,    999.8,   5.2224,  34.5656,2,  34.5683,2,    124.8,1,    127.9,2,    63.45,2,    34.23,2,     0.00,2,     2.44,2, -999.000,9, -999.000,9, -999.000,9,   -999.0,9,   -999.0,9,-999.0000,9,  -999.00,   -999.0,9,   -999.0,  -999.00,9,  -999.00,  -999.00,1,   5.2225,2
  49NZ20031209,  I3I4,   512,  1,     22,  12046,2,20040101,2003,-19.9967,  71.6963, 3650,   1202.3,   4.3919,  34.6363,2,  34.6358,2,    116.4,1,    120.0,2,    81.96,2,    35.39,2,     0.00,2,     2.55,2, -999.000,9, -999.000,9, -999.000,9,   -999.0,9,   -999.0,9,-999.0000,9,  -999.00,   -999.0,9,   -999.0,  -999.00,9,  -999.00,  -999.00,5,   4.3922,2
  49NZ20031209,  I3I4,   512,  1,     21,  12045,2,20040101,2003,-19.9967,  71.6963, 3650,   1400.3,   3.9721,  34.6799,2,  34.6801,2,    117.4,1,    121.1,2,    91.14,2,    35.57,2,     0.00,2,     2.55,2, -999.000,9, -999.000,9, -999.000,9,   -999.0,9,   -999.0,9,-999.0000,9,  -999.00,   -999.0,9,   -999.0,  -999.00,9,  -999.00,  -999.00,1,   3.9723,2
  49NZ20031209,  I3I4,   512,  1,     20,  12044,2,20040101,2003,-19.9967,  71.6963, 3650,   1600.2,   3.3833,  34.6935,2,  34.6935,2,    130.2,1,    134.3,2,    95.57,2,    34.95,2,     0.00,2,     2.50,2, -999.000,9, -999.000,9, -999.000,9,   -999.0,9,   -999.0,9,-999.0000,9,  -999.00,   -999.0,9,   -999.0,  -999.00,9,  -999.00,  -999.00,9,   3.3838,2
  49NZ20031209,  I3I4,   512,  1,     19,  12043,2,20040101,2003,-19.9967,  71.6963, 3650,   1799.7,   2.8953,  34.6985,2,  34.6985,2,    144.0,1,    149.3,2,    97.12,2,    34.23,2,     0.00,2,     2.42,2, -999.000,9, -999.000,9, -999.000,9,   -999.0,9,   -999.0,9,-999.0000,9,  -999.00,   -999.0,9,   -999.0,  -999.00,9,  -999.00,  -999.00,9,   2.8952,2
  49NZ20031209,  I3I4,   512,  1,     18,  12042,2,20040101,2003,-19.9967,  71.6963, 3650,   2000.3,   2.4682,  34.7084,2,  34.7088,2,    156.1,1,    161.8,2,    99.75,2,    33.50,2,     0.00,2,     2.36,2, -999.000,9, -999.000,9, -999.000,9,   -999.0,9,   -999.0,9,-999.0000,9,  -999.00,   -999.0,9,   -999.0,  -999.00,9,  -999.00,  -999.00,1,   2.4683,2
  49NZ20031209,  I3I4,   512,  1,     17,  12041,2,20040101,2003,-19.9967,  71.6963, 3650,   2200.4,   2.1480,  34.7204,2,  34.7198,2,    163.3,1,    169.5,2,   105.14,2,    33.13,2,     0.00,2,     2.32,2, -999.000,9, -999.000,9, -999.000,9,   -999.0,9,   -999.0,9,-999.0000,9,  -999.00,   -999.0,9,   -999.0,  -999.00,9,  -999.00,  -999.00,9,   2.1481,2
  49NZ20031209,  I3I4,   512,  1,     16,  12040,2,20040101,2003,-19.9967,  71.6963, 3650,   2400.7,   1.8783,  34.7249,2,  34.7246,2,    172.6,1,    179.1,2,   106.67,2,    32.58,2,     0.00,2,     2.28,2, -999.000,9, -999.000,9, -999.000,9,   -999.0,9,   -999.0,9,-999.0000,9,  -999.00,   -999.0,9,   -999.0,  -999.00,9,  -999.00,  -999.00,1,   1.8784,2
  49NZ20031209,  I3I4,   512,  1,     15,  12039,2,20040101,2003,-19.9967,  71.6963, 3650,   2600.8,   1.7498,  34.7274,2,  34.7270,2,    177.1,1,    184.1,2,   107.89,2,    32.31,2,    -0.01,2,     2.25,2, -999.000,9, -999.000,9, -999.000,9,   -999.0,9,   -999.0,9,-999.0000,9,  -999.00,   -999.0,9,   -999.0,  -999.00,9,  -999.00,  -999.00,9,   1.7500,2
  49NZ20031209,  I3I4,   512,  1,     14,  12038,2,20040101,2003,-19.9967,  71.6963, 3650,   2801.6,   1.6204,  34.7273,2,  34.7274,2,    178.8,1,    185.4,2,   112.50,2,    32.46,2,    -0.01,2,     2.26,2, -999.000,9, -999.000,9, -999.000,9,   -999.0,9,   -999.0,9,-999.0000,9,  -999.00,   -999.0,9,   -999.0,  -999.00,9,  -999.00,  -999.00,9,   1.6204,2
  49NZ20031209,  I3I4,   512,  1,     13,  12037,2,20040101,2003,-19.9967,  71.6963, 3650,   3000.5,   1.5230,  34.7259,2,  34.7259,2,    180.0,1,    186.2,2,   116.32,2,    32.60,2,    -0.01,2,     2.27,2, -999.000,9, -999.000,9, -999.000,9,   -999.0,9,   -999.0,9,-999.0000,9,  -999.00,   -999.0,9,   -999.0,  -999.00,9,  -999.00,  -999.00,1,   1.5229,2
  49NZ20031209,  I3I4,   512,  1,     12,  12036,2,20040101,2003,-19.9967,  71.6963, 3650,   3250.6,   1.4911,  34.7251,2,  34.7248,2,    180.0,1,    185.8,2,   118.87,2,    32.78,2,    -0.01,2,     2.26,2, -999.000,9, -999.000,9, -999.000,9,   -999.0,9,   -999.0,9,-999.0000,9,  -999.00,   -999.0,9,   -999.0,  -999.00,9,  -999.00,  -999.00,9,   1.4911,2
  49NZ20031209,  I3I4,   512,  1,     11,  12035,2,20040101,2003,-19.9967,  71.6963, 3650,   3500.1,   1.4798,  34.7245,2,  34.7245,2,    180.6,1,    185.6,2,   120.89,2,    32.85,2,     0.00,2,     2.29,2, -999.000,9, -999.000,9, -999.000,9,   -999.0,9,   -999.0,9,-999.0000,9,  -999.00,   -999.0,9,   -999.0,  -999.00,9,  -999.00,  -999.00,1,   1.4799,2
  49NZ20031209,  I3I4,   512,  1,     10,  12034,2,20040101,2003,-19.9967,  71.6963, 3650,   3704.1,   1.4790,  34.7237,2,  34.7239,2,    181.3,1,    185.2,2,   122.05,2,    32.91,2,     0.00,2,     2.29,2, -999.000,9, -999.000,9, -999.000,9,   -999.0,9,   -999.0,9,-999.0000,9,  -999.00,   -999.0,9,   -999.0,  -999.00,9,  -999.00,  -999.00,1,   1.4792,2
  49NZ20031209,  I3I4,   512,  1,      9,  12033,9,20040101,2003,-19.9967,  71.6963, 3650,   1000.1,   5.2230,  34.5655,2,-999.0000,9,    125.0,1,   -999.0,9,  -999.00,9,  -999.00,9,  -999.00,9,  -999.00,9, -999.000,9, -999.000,9, -999.000,9,   -999.0,9,   -999.0,9,-999.0000,9,  -999.00,   -999.0,9,   -999.0,  -999.00,9,  -999.00,  -999.00,9,   5.2231,2
  49NZ20031209,  I3I4,   512,  1,      8,  12032,9,20040101,2003,-19.9967,  71.6963, 3650,    999.6,   5.2228,  34.5657,2,-999.0000,9,    124.9,1,   -999.0,9,  -999.00,9,  -999.00,9,  -999.00,9,  -999.00,9, -999.000,9, -999.000,9, -999.000,9,   -999.0,9,   -999.0,9,-999.0000,9,  -999.00,   -999.0,9,   -999.0,  -999.00,9,  -999.00,  -999.00,9,   5.2232,2
  49NZ20031209,  I3I4,   512,  1,      7,  12031,2,20040101,2003,-19.9967,  71.6963, 3650,    800.6,   7.2552,  34.5354,2,-999.0000,9,    176.4,1,   -999.0,9,  -999.00,9,  -999.00,9,  -999.00,9,  -999.00,9, -999.000,9, -999.000,9, -999.000,9,   -999.0,9,   -999.0,9,-999.0000,9,  -999.00,   -999.0,9,   -999.0,  -999.00,9,  -999.00,  -999.00,9,   7.2585,2
  49NZ20031209,  I3I4,   512,  1,      6,  12030,2,20040101,2003,-19.9967,  71.6963, 3650,   3001.2,   1.5231,  34.7260,2,-999.0000,9,    179.9,1,   -999.0,9,  -999.00,9,  -999.00,9,  -999.00,9,  -999.00,9, -999.000,9, -999.000,9, -999.000,9,   -999.0,9,   -999.0,9,-999.0000,9,  -999.00,   -999.0,9,   -999.0,  -999.00,9,  -999.00,  -999.00,9,   1.5231,2
  49NZ20031209,  I3I4,   512,  1,      5,  12029,2,20040101,2003,-19.9967,  71.6963, 3650,   2000.6,   2.4695,  34.7083,2,-999.0000,9,    156.1,1,   -999.0,9,  -999.00,9,  -999.00,9,  -999.00,9,  -999.00,9, -999.000,9, -999.000,9, -999.000,9,   -999.0,9,   -999.0,9,-999.0000,9,  -999.00,   -999.0,9,   -999.0,  -999.00,9,  -999.00,  -999.00,9,   2.4695,2
  49NZ20031209,  I3I4,   512,  1,      4,  12028,2,20040101,2003,-19.9967,  71.6963, 3650,    202.1,  20.0873,  35.6496,2,-999.0000,9,    184.0,1,   -999.0,9,  -999.00,9,  -999.00,9,  -999.00,9,  -999.00,9, -999.000,9, -999.000,9, -999.000,9,   -999.0,9,   -999.0,9,-999.0000,9,  -999.00,   -999.0,9,   -999.0,  -999.00,9,  -999.00,  -999.00,9,  20.0857,2
  49NZ20031209,  I3I4,   512,  1,      3,  12027,2,20040101,2003,-19.9967,  71.6963, 3650,    999.5,   5.2223,  34.5658,2,-999.0000,9,    124.9,1,   -999.0,9,  -999.00,9,  -999.00,9,  -999.00,9,  -999.00,9, -999.000,9, -999.000,9, -999.000,9,   -999.0,9,   -999.0,9,-999.0000,9,  -999.00,   -999.0,9,   -999.0,  -999.00,9,  -999.00,  -999.00,9,   5.2226,2
  49NZ20031209,  I3I4,   512,  1,      2,  12026,2,20040101,2003,-19.9967,  71.6963, 3650,    599.8,  10.0755,  34.8164,2,-999.0000,9,    224.4,1,   -999.0,9,  -999.00,9,  -999.00,9,  -999.00,9,  -999.00,9, -999.000,9, -999.000,9, -999.000,9,   -999.0,9,   -999.0,9,-999.0000,9,  -999.00,   -999.0,9,   -999.0,  -999.00,9,  -999.00,  -999.00,9,  10.0762,2
  49NZ20031209,  I3I4,   512,  1,      1,  12025,2,20040101,2003,-19.9967,  71.6963, 3650,   3704.2,   1.4806,  34.7238,2,-999.0000,9,    181.4,1,   -999.0,9,  -999.00,9,  -999.00,9,  -999.00,9,  -999.00,9, -999.000,9, -999.000,9, -999.000,9,   -999.0,9,   -999.0,9,-999.0000,9,  -999.00,   -999.0,9,   -999.0,  -999.00,9,  -999.00,  -999.00,9,   1.4807,2