BOTTLE,20141204PRINUNIVRMK
EXPOCODE,SECT_ID,STNNBR,CASTNO,SAMPNO,BTLNBR,BTLNBR_FLAG_W,DATE,TIME,LATITUDE,LONGITUDE,DEPTH,CTDPRS,CTDTMP,CTDSAL,CTDSAL_FLAG_W,SALNTY,SALNTY_FLAG_W,CTDOXY,CTDOXY_FLAG_W,OXYGEN,OXYGEN_FLAG_W,SILCAT,SILCAT_FLAG_W,NITRAT,NITRAT_FLAG_W,NITRIT,NITRIT_FLAG_W,PHSPHT,PHSPHT_FLAG_W,CFC-11,CFC-11_FLAG_W,CFC-12,CFC-12_FLAG_W,CFC113,CFC113_FLAG_W,TCARBN,TCARBN_FLAG_W,ALKALI,ALKALI_FLAG_W,PH_TOT,PH_TOT_FLAG_W,PH_TMP,DELC14,DELC14_FLAG_W,C14ERR,DELC13,DELC13_FLAG_W,CS-137,CS137ER,CS-137_FLAG_W,SBE35,SBE35_FLAG_W
,,,,,,,,,,,METERS,DBAR,ITS-90,PSS-78,,PSS-78,,UMOL/KG,,UMOL/KG,,UMOL/KG,,UMOL/KG,,UMOL/KG,,UMOL/KG,,PMOL/KG,,PMOL/KG,,PMOL/KG,,UMOL/KG,,UMOL/KG,,,,DEG C,/MILLE,,/MILLE,/MILLE,,DM/.1MG,DM/.1MG,,ITS-90,
  49NZ20031209,  I3I4,   529,  1,     36,  12024,2,20031228,1603,-20.3595,  62.8512, 3334,     10.3,  26.6522,  34.9857,2,  34.9857,2,    195.8,1,    204.6,2,     1.94,2,     0.02,2,     0.01,2,     0.12,2,    1.709,2,    1.044,2,    0.332,4,   1965.3,2,   2287.8,2,   8.0846,2,    25.00,   -999.0,9,   -999.0,  -999.00,9,  -999.00,  -999.00,9,  26.6506,2
  49NZ20031209,  I3I4,   529,  1,     35,  12023,2,20031228,1603,-20.3595,  62.8512, 3334,     49.8,  26.5567,  34.9816,2,  34.9823,2,    196.2,1,    205.1,2,     1.96,2,     0.01,2,     0.01,2,     0.12,2,    1.746,2,    1.058,2,    0.312,4,   1967.5,6,   2287.5,2,   8.0847,2,    25.00,   -999.0,9,   -999.0,  -999.00,9,  -999.00,  -999.00,9,  26.5545,2
  49NZ20031209,  I3I4,   529,  1,     34,  12022,2,20031228,1603,-20.3595,  62.8512, 3334,     98.9,  23.8145,  34.9082,2,  34.9244,2,    190.8,1,    200.5,2,     3.15,2,     1.02,2,     0.13,2,     0.21,2,    1.811,2,    1.135,2,    0.367,4,   1984.9,2,   2282.4,2,   8.0535,2,    25.00,   -999.0,9,   -999.0,  -999.00,9,  -999.00,  -999.00,9,  23.8210,2
  49NZ20031209,  I3I4,   529,  1,     33,  12015,2,20031228,1603,-20.3595,  62.8512, 3334,    150.5,  21.8964,  35.2729,2,  35.2701,2,    194.2,1,    200.6,2,     2.93,2,     1.29,2,     0.18,2,     0.22,2,    2.039,2,    1.220,2,    0.445,4,   2009.1,2,   2305.4,2,   8.0371,6,    25.00,   -999.0,9,   -999.0,  -999.00,9,  -999.00,  -999.00,9,  21.8989,2
  49NZ20031209,  I3I4,   529,  1,     32,  12020,2,20031228,1603,-20.3595,  62.8512, 3334,    200.4,  20.0236,  35.2921,2,  35.3156,3,    151.1,1,    159.2,2,     7.62,2,     7.36,2,     0.03,2,     0.59,2,    1.969,2,    1.165,2,    0.117,4,   2068.6,2,   2309.9,2,   7.9399,2,    25.00,   -999.0,9,   -999.0,  -999.00,9,  -999.00,  -999.00,9,  20.0187,2
  49NZ20031209,  I3I4,   529,  1,     31,  12019,2,20031228,1603,-20.3595,  62.8512, 3334,    249.5,  18.5891,  35.5672,2,  35.5727,2,    163.6,1,    170.7,2,     6.67,2,     6.61,2,     0.02,2,     0.54,2,    2.156,6,    1.251,6,    0.072,4,   2087.7,2,   2324.3,2,   7.9317,2,    25.00,   -999.0,9,   -999.0,  -999.00,9,  -999.00,  -999.00,9,  18.5860,2
  49NZ20031209,  I3I4,   529,  1,     30,  12018,2,20031228,1603,-20.3595,  62.8512, 3334,    300.1,  17.0134,  35.6553,2,  35.6528,2,    182.7,1,    189.8,2,     4.99,2,     5.50,2,     0.01,2,     0.50,2,    2.422,2,    1.380,2,    0.047,4,   2096.9,2,   2328.3,2,   7.9232,2,    25.00,   -999.0,9,   -999.0,  -999.00,9,  -999.00,  -999.00,9,  17.0134,2
  49NZ20031209,  I3I4,   529,  1,     29,  12021,2,20031228,1603,-20.3595,  62.8512, 3334,    399.6,  13.2801,  35.2986,2,  35.2909,2,    217.7,1,    226.0,2,     2.93,2,     7.92,2,     0.01,2,     0.66,2,    3.058,2,    1.683,2,    0.075,4,   2103.9,2,   2313.1,2,   7.8788,2,    25.00,   -999.0,9,   -999.0,  -999.00,9,  -999.00,  -999.00,9,  13.2784,2
  49NZ20031209,  I3I4,   529,  1,     28,  12016,2,20031228,1603,-20.3595,  62.8512, 3334,    500.2,  11.3605,  35.0122,2,  35.0096,2,    224.1,1,    232.3,2,     3.48,2,    11.52,2,     0.01,2,     0.87,2,    3.293,2,    1.753,2,    0.098,4,   2110.6,2,   2300.8,2,   7.8401,2,    25.00,   -999.0,9,   -999.0,  -999.00,9,  -999.00,  -999.00,9,  11.3619,2
  49NZ20031209,  I3I4,   529,  1,     27,  12012,2,20031228,1603,-20.3595,  62.8512, 3334,    600.4,  10.3249,  34.8521,2,  34.8506,2,    225.6,1,    233.9,2,     3.99,2,    13.91,2,     0.01,2,     1.01,2,    3.307,2,    1.699,2,    0.110,4,   2116.3,2,   2296.7,2,   7.8159,2,    25.00,   -999.0,9,   -999.0,  -999.00,9,  -999.00,  -999.00,9,  10.3285,2
  49NZ20031209,  I3I4,   529,  1,     26,  12014,2,20031228,1603,-20.3595,  62.8512, 3334,    700.3,   9.3712,  34.7118,2,  34.7103,2,    221.6,1,    230.0,2,     5.58,2,    16.87,2,     0.01,2,     1.19,2,    3.085,2,    1.574,2,    0.097,4,   2125.6,6,   2287.8,2,   7.7881,2,    25.00,   -999.0,9,   -999.0,  -999.00,9,  -999.00,  -999.00,9,   9.3706,2
  49NZ20031209,  I3I4,   529,  1,     25,  12013,2,20031228,1603,-20.3595,  62.8512, 3334,    801.6,   8.0557,  34.5801,2,  34.5786,2,    196.4,1,    203.2,2,    13.76,2,    22.59,2,     0.02,2,     1.56,2,    1.980,2,    0.991,2,    0.000,4,   2152.8,2,   2285.4,6,   7.7248,2,    25.00,   -999.0,9,   -999.0,  -999.00,9,  -999.00,  -999.00,9,   8.0550,2
  49NZ20031209,  I3I4,   529,  1,     24,  12048,2,20031228,1603,-20.3595,  62.8512, 3334,    900.8,   6.2534,  34.5069,2,  34.5074,2,    160.4,1,    165.8,2,    35.03,2,    29.77,2,     0.01,2,     2.05,2,    0.647,2,    0.328,2,    0.000,4,   2200.0,2,   2301.3,2,   7.6341,2,    25.00,   -999.0,9,   -999.0,  -999.00,9,  -999.00,  -999.00,9,   6.2536,2
  49NZ20031209,  I3I4,   529,  1,     23,  12047,2,20031228,1603,-20.3595,  62.8512, 3334,   1000.4,   5.3979,  34.5386,2,  34.5386,2,    135.5,1,    139.7,2,    54.66,2,    33.21,2,     0.01,2,     2.33,2,    0.217,6,    0.109,6,    0.000,4,   2235.5,2,   2319.8,2,   7.5872,2,    25.00,   -999.0,9,   -999.0,  -999.00,9,  -999.00,  -999.00,9,   5.3983,2
  49NZ20031209,  I3I4,   529,  1,     22,  12046,2,20031228,1603,-20.3595,  62.8512, 3334,   1199.6,   4.3751,  34.6205,2,  34.6221,2,    121.6,1,    125.3,2,    78.94,2,    35.26,2,     0.01,2,     2.50,2,    0.035,2,    0.015,2,    0.000,4,   2270.4,2,   2346.8,2,   7.5600,2,    25.00,   -999.0,9,   -999.0,  -999.00,9,  -999.00,  -999.00,9,   4.3758,2
  49NZ20031209,  I3I4,   529,  1,     21,  12045,2,20031228,1603,-20.3595,  62.8512, 3334,   1400.6,   3.6813,  34.6714,2,  34.6715,2,    127.8,1,    131.9,2,    89.48,2,    35.12,2,     0.01,2,     2.49,2,    0.014,2,    0.006,2,    0.000,4,   2279.3,2,   2358.9,2,   7.5649,2,    25.00,   -999.0,9,   -999.0,  -999.00,9,  -999.00,  -999.00,9,   3.6812,2
  49NZ20031209,  I3I4,   529,  1,     20,  12044,2,20031228,1603,-20.3595,  62.8512, 3334,   1600.9,   3.0113,  34.6852,2,  34.6849,2,    143.8,1,    148.6,2,    93.31,2,    34.31,2,     0.00,2,     2.41,2,    0.008,2,    0.005,2,    0.000,4,   2274.8,2,   2360.2,2,   7.5812,2,    25.00,   -999.0,9,   -999.0,  -999.00,9,  -999.00,  -999.00,9,   3.0113,2
  49NZ20031209,  I3I4,   529,  1,     19,  12043,2,20031228,1603,-20.3595,  62.8512, 3334,   3250.2,   1.6848,  34.7240,2,  34.7244,2,    173.4,1,    177.6,2,   119.34,2,    33.36,2,     0.01,2,     2.32,2,    0.003,2,    0.005,2,    0.000,4,   2285.3,2,   2384.6,2,   7.6142,2,    25.00,   -999.0,9,   -999.0,  -999.00,9,  -999.00,  -999.00,9,   1.6847,2
  49NZ20031209,  I3I4,   529,  1,     18,  12042,2,20031228,1603,-20.3595,  62.8512, 3334,   1999.0,   2.2553,  34.7189,2,  34.7183,2,    158.7,1,    164.5,2,   106.36,2,    33.65,2,    -0.01,2,     2.35,2,   -0.003,2,    0.002,2,    0.000,4,   2280.8,2,   2372.4,2,   7.6017,6,    25.00,   -999.0,9,   -999.0,  -999.00,9,  -999.00,  -999.00,9,   2.2553,2
  49NZ20031209,  I3I4,   529,  1,     17,  12041,2,20031228,1603,-20.3595,  62.8512, 3334,   2200.2,   2.0879,  34.7240,2,  34.7240,2,    161.6,1,    167.3,2,   110.17,2,    33.54,2,     0.00,2,     2.34,2,    0.000,2,    0.001,2,    0.000,4,   2285.2,2,   2374.0,2,   7.6029,2,    25.00,   -999.0,9,   -999.0,  -999.00,9,  -999.00,  -999.00,9,   2.0879,2
  49NZ20031209,  I3I4,   529,  1,     16,  12040,2,20031228,1603,-20.3595,  62.8512, 3334,   2401.0,   1.9726,  34.7254,2,  34.7246,2,    164.2,1,    169.8,2,   112.76,2,    33.47,2,     0.00,2,     2.33,2,    0.006,2,   -0.002,2,    0.000,4,   2285.2,6,   2379.7,2,   7.6063,2,    25.00,   -999.0,9,   -999.0,  -999.00,9,  -999.00,  -999.00,9,   1.9725,2
  49NZ20031209,  I3I4,   529,  1,     15,  12039,2,20031228,1603,-20.3595,  62.8512, 3334,   2601.0,   1.8463,  34.7253,2,  34.7257,2,    167.3,1,    172.8,2,   115.57,2,    33.47,2,     0.00,2,     2.32,2,   -0.003,2,   -0.001,2,    0.000,4,   2283.6,2,   2381.2,6,   7.6099,2,    25.00,   -999.0,9,   -999.0,  -999.00,9,  -999.00,  -999.00,9,   1.8462,2
  49NZ20031209,  I3I4,   529,  1,     14,  12038,2,20031228,1603,-20.3595,  62.8512, 3334,   2801.5,   1.7884,  34.7249,2,  34.7252,2,    169.1,1,    174.6,2,   116.84,2,    33.49,2,     0.01,2,     2.33,2,   -0.006,2,   -0.002,2,    0.000,4,   2286.5,2,   2381.9,2,   7.6111,6,    25.00,   -999.0,9,   -999.0,  -999.00,9,  -999.00,  -999.00,9,   1.7883,2
  49NZ20031209,  I3I4,   529,  1,     13,  12037,2,20031228,1603,-20.3595,  62.8512, 3334,   2999.3,   1.7414,  34.7246,2,  34.7247,2,    170.9,1,    175.9,2,   118.03,2,    33.48,2,     0.00,2,     2.32,2,    0.003,2,    0.002,2,    0.000,4,   2285.1,2,   2381.5,2,   7.6110,2,    25.00,   -999.0,9,   -999.0,  -999.00,9,  -999.00,  -999.00,9,   1.7414,2
  49NZ20031209,  I3I4,   529,  1,     12,  12036,2,20031228,1603,-20.3595,  62.8512, 3334,   3249.8,   1.6843,  34.7241,2,  34.7241,2,    173.3,1,    177.4,2,   119.54,2,    33.34,2,     0.01,2,     2.31,2,    0.001,2,   -0.003,2,    0.000,4,   2285.8,2,   2381.9,2,   7.6138,2,    25.00,   -999.0,9,   -999.0,  -999.00,9,  -999.00,  -999.00,9,   1.6843,2
  49NZ20031209,  I3I4,   529,  1,     11,  12035,2,20031228,1603,-20.3595,  62.8512, 3334,   3373.9,   1.5220,  34.7222,2,  34.7224,2,    177.8,1,    181.6,2,   122.07,2,    33.36,2,     0.01,2,     2.32,2,    0.000,2,    0.002,2,    0.000,4,   2285.8,2,   2381.6,2,   7.6160,2,    25.00,   -999.0,9,   -999.0,  -999.00,9,  -999.00,  -999.00,9,   1.5220,2
  49NZ20031209,  I3I4,   529,  1,     10,  12034,9,20031228,1603,-20.3595,  62.8512, 3334,   3100.2,   1.7237,  34.7243,2,-999.0000,9,    171.7,1,   -999.0,9,  -999.00,9,  -999.00,9,  -999.00,9,  -999.00,9, -999.000,9, -999.000,9, -999.000,9,   -999.0,9,   -999.0,9,-999.0000,9,  -999.00,   -999.0,9,   -999.0,  -999.00,9,  -999.00,  -999.00,9,   1.7237,2
  49NZ20031209,  I3I4,   529,  1,      9,  12033,9,20031228,1603,-20.3595,  62.8512, 3334,   2900.2,   1.7710,  34.7249,2,-999.0000,9,    170.0,1,   -999.0,9,  -999.00,9,  -999.00,9,  -999.00,9,  -999.00,9, -999.000,9, -999.000,9, -999.000,9,   -999.0,9,   -999.0,9,-999.0000,9,  -999.00,   -999.0,9,   -999.0,  -999.00,9,  -999.00,  -999.00,9,   1.7709,2
  49NZ20031209,  I3I4,   529,  1,      8,  12032,9,20031228,1603,-20.3595,  62.8512, 3334,   2699.9,   1.8095,  34.7253,2,-999.0000,9,    168.4,1,   -999.0,9,  -999.00,9,  -999.00,9,  -999.00,9,  -999.00,9, -999.000,9, -999.000,9, -999.000,9,   -999.0,9,   -999.0,9,-999.0000,9,  -999.00,   -999.0,9,   -999.0,  -999.00,9,  -999.00,  -999.00,9,   1.8095,2
  49NZ20031209,  I3I4,   529,  1,      7,  12031,9,20031228,1603,-20.3595,  62.8512, 3334,   1001.0,   5.3668,  34.5421,2,-999.0000,9,    134.6,1,   -999.0,9,  -999.00,9,  -999.00,9,  -999.00,9,  -999.00,9, -999.000,9, -999.000,9, -999.000,9,   -999.0,9,   -999.0,9,-999.0000,9,  -999.00,   -999.0,9,   -999.0,  -999.00,9,  -999.00,  -999.00,9,   5.3679,2
  49NZ20031209,  I3I4,   529,  1,      6,  12030,9,20031228,1603,-20.3595,  62.8512, 3334,   1000.6,   5.3739,  34.5410,2,-999.0000,9,    134.6,1,   -999.0,9,  -999.00,9,  -999.00,9,  -999.00,9,  -999.00,9, -999.000,9, -999.000,9, -999.000,9,   -999.0,9,   -999.0,9,-999.0000,9,  -999.00,   -999.0,9,   -999.0,  -999.00,9,  -999.00,  -999.00,9,   5.3742,2
  49NZ20031209,  I3I4,   529,  1,      5,  12029,9,20031228,1603,-20.3595,  62.8512, 3334,   1000.7,   5.3752,  34.5411,2,-999.0000,9,    134.7,1,   -999.0,9,  -999.00,9,  -999.00,9,  -999.00,9,  -999.00,9, -999.000,9, -999.000,9, -999.000,9,   -999.0,9,   -999.0,9,-999.0000,9,  -999.00,   -999.0,9,   -999.0,  -999.00,9,  -999.00,  -999.00,9,   5.3788,2
  49NZ20031209,  I3I4,   529,  1,      4,  12028,9,20031228,1603,-20.3595,  62.8512, 3334,   1000.3,   5.3895,  34.5395,2,-999.0000,9,    135.2,1,   -999.0,9,  -999.00,9,  -999.00,9,  -999.00,9,  -999.00,9, -999.000,9, -999.000,9, -999.000,9,   -999.0,9,   -999.0,9,-999.0000,9,  -999.00,   -999.0,9,   -999.0,  -999.00,9,  -999.00,  -999.00,9,   5.3885,2
  49NZ20031209,  I3I4,   529,  1,      3,  12027,9,20031228,1603,-20.3595,  62.8512, 3334,   1000.3,   5.3952,  34.5390,2,-999.0000,9,    135.4,1,   -999.0,9,  -999.00,9,  -999.00,9,  -999.00,9,  -999.00,9, -999.000,9, -999.000,9, -999.000,9,   -999.0,9,   -999.0,9,-999.0000,9,  -999.00,   -999.0,9,   -999.0,  -999.00,9,  -999.00,  -999.00,9,   5.3960,2
  49NZ20031209,  I3I4,   529,  1,      2,  12026,9,20031228,1603,-20.3595,  62.8512, 3334,      9.8,  26.6520,  34.9860,2,-999.0000,9,    195.6,1,   -999.0,9,  -999.00,9,  -999.00,9,  -999.00,9,  -999.00,9, -999.000,9, -999.000,9, -999.000,9,   -999.0,9,   -999.0,9,-999.0000,9,  -999.00,   -999.0,9,   -999.0,  -999.00,9,  -999.00,  -999.00,9,  26.6512,2
  49NZ20031209,  I3I4,   529,  1,      1,  12025,2,20031228,1603,-20.3595,  62.8512, 3334,   1799.1,   2.4738,  34.7089,2,  34.7080,2,    155.2,1,    160.8,2,   100.95,2,    33.77,2,     0.00,2,     2.36,2,    0.003,2,    0.002,2,    0.000,4,   2250.4,4,   2364.1,2,   7.5968,2,    25.00,   -999.0,9,   -999.0,  -999.00,9,  -999.00,  -999.00,9,   2.4738,2