BOTTLE,20141204PRINUNIVRMK
EXPOCODE,SECT_ID,STNNBR,CASTNO,SAMPNO,BTLNBR,BTLNBR_FLAG_W,DATE,TIME,LATITUDE,LONGITUDE,DEPTH,CTDPRS,CTDTMP,CTDSAL,CTDSAL_FLAG_W,SALNTY,SALNTY_FLAG_W,CTDOXY,CTDOXY_FLAG_W,OXYGEN,OXYGEN_FLAG_W,SILCAT,SILCAT_FLAG_W,NITRAT,NITRAT_FLAG_W,NITRIT,NITRIT_FLAG_W,PHSPHT,PHSPHT_FLAG_W,CFC-11,CFC-11_FLAG_W,CFC-12,CFC-12_FLAG_W,CFC113,CFC113_FLAG_W,TCARBN,TCARBN_FLAG_W,ALKALI,ALKALI_FLAG_W,PH_TOT,PH_TOT_FLAG_W,PH_TMP,DELC14,DELC14_FLAG_W,C14ERR,DELC13,DELC13_FLAG_W,CS-137,CS137ER,CS-137_FLAG_W,SBE35,SBE35_FLAG_W
,,,,,,,,,,,METERS,DBAR,ITS-90,PSS-78,,PSS-78,,UMOL/KG,,UMOL/KG,,UMOL/KG,,UMOL/KG,,UMOL/KG,,UMOL/KG,,PMOL/KG,,PMOL/KG,,PMOL/KG,,UMOL/KG,,UMOL/KG,,,,DEG C,/MILLE,,/MILLE,/MILLE,,DM/.1MG,DM/.1MG,,ITS-90,
  49NZ20031209,  I3I4,  1009,  1,     36,  12024,2,20040112,0952,-20.1950,  95.0123, 5273,      9.7,  25.8597,  34.8992,2,  34.9021,2,    197.7,1,    206.8,2,     1.95,2,    -0.03,2,     0.00,2,     0.11,2,    1.844,2,    1.071,2,    0.385,4,   1960.5,2,   2284.7,2,   8.1025,2,    25.00,   -999.0,9,   -999.0,  -999.00,9,  -999.00,  -999.00,9,  25.8582,2
  49NZ20031209,  I3I4,  1009,  1,     35,  12023,2,20040112,0952,-20.1950,  95.0123, 5273,     49.6,  23.2771,  35.2706,2,  35.2733,2,    212.8,1,    222.9,2,     2.13,2,    -0.05,2,     0.01,2,     0.09,2,    2.165,2,    1.207,2, -999.000,5,   1989.2,6,   2307.6,2,   8.0860,2,    25.00,   -999.0,9,   -999.0,  -999.00,9,  -999.00,  -999.00,9,  23.2675,2
  49NZ20031209,  I3I4,  1009,  1,     34,  12022,2,20040112,0952,-20.1950,  95.0123, 5273,     99.4,  21.2611,  35.4726,2,  35.4737,2,    210.5,1,    219.6,2,     2.34,2,    -0.05,2,     0.00,2,     0.11,2,    2.187,2,    1.254,2, -999.000,5,   2014.0,2,   2322.0,6,   8.0619,2,    25.00,   -999.0,9,   -999.0,  -999.00,9,  -999.00,  -999.00,9,  21.2594,2
  49NZ20031209,  I3I4,  1009,  1,     33,  12015,2,20040112,0952,-20.1950,  95.0123, 5273,    150.6,  20.0688,  35.6322,2,  35.6322,2,    211.1,1,    220.6,2,     2.21,2,     0.00,2,     0.02,2,     0.12,2,    2.288,2,    1.288,2, -999.000,5,   2031.8,2,   2330.7,2,   8.0448,6,    25.00,   -999.0,9,   -999.0,  -999.00,9,  -999.00,  -999.00,9,  20.0682,2
  49NZ20031209,  I3I4,  1009,  1,     32,  12020,2,20040112,0952,-20.1950,  95.0123, 5273,    199.0,  18.0575,  35.7880,2,  35.7847,2,    196.8,1,    205.6,2,     2.57,2,     2.32,2,     0.01,2,     0.31,2,    2.498,2,    1.383,2,    0.170,4,   2078.3,2,   2342.8,2,   7.9793,2,    25.00,   -999.0,9,   -999.0,  -999.00,9,  -999.00,  -999.00,9,  18.0561,2
  49NZ20031209,  I3I4,  1009,  1,     31,  12019,2,20040112,0952,-20.1950,  95.0123, 5273,    250.0,  16.0054,  35.6455,2,  35.6380,2,    203.9,1,    211.9,2,     2.59,2,     3.70,2,     0.01,2,     0.41,2,    2.714,6,    1.474,6,    0.140,4,   2092.6,2,   2330.4,2,   7.9432,2,    25.00,   -999.0,9,   -999.0,  -999.00,9,  -999.00,  -999.00,9,  16.0049,2
  49NZ20031209,  I3I4,  1009,  1,     30,  12018,2,20040112,0952,-20.1950,  95.0123, 5273,    299.1,  14.4669,  35.4588,2,  35.4485,2,    206.8,1,    214.3,2,     3.05,2,     5.93,2,     0.00,2,     0.55,2,    2.908,2,    1.572,2,    0.074,4,   2101.6,2,   2326.1,2,   7.9093,2,    25.00,   -999.0,9,   -999.0,  -999.00,9,  -999.00,  -999.00,9,  14.4764,2
  49NZ20031209,  I3I4,  1009,  1,     29,  12017,2,20040112,0952,-20.1950,  95.0123, 5273,    400.5,  11.5699,  35.0388,2,  35.0287,2,    223.6,1,    233.0,2,     3.20,2,    10.33,2,     0.01,2,     0.82,2,    3.454,2,    1.790,2,    0.119,4,   2112.5,2,   2301.7,2,   7.8533,2,    25.00,   -999.0,9,   -999.0,  -999.00,9,  -999.00,  -999.00,9,  11.5751,2
  49NZ20031209,  I3I4,  1009,  1,     28,  12016,2,20040112,0952,-20.1950,  95.0123, 5273,    500.0,   9.8186,  34.7686,2,  34.7636,2,    228.1,1,    237.7,2,     3.98,2,    14.61,2,     0.00,2,     1.08,2,    3.587,2,    1.784,2,    0.107,4,   2119.4,2,   2291.7,2,   7.8086,2,    25.00,   -999.0,9,   -999.0,  -999.00,9,  -999.00,  -999.00,9,   9.8195,2
  49NZ20031209,  I3I4,  1009,  1,     27,  12012,2,20040112,0952,-20.1950,  95.0123, 5273,    600.4,   8.6303,  34.6125,2,  34.6096,2,    218.0,1,    227.1,2,     7.09,2,    19.08,2,     0.00,2,     1.35,2,    3.132,2,    1.516,2,    0.122,4,   2133.2,2,   2287.5,2,   7.7650,2,    25.00,   -999.0,9,   -999.0,  -999.00,9,  -999.00,  -999.00,9,   8.6303,2
  49NZ20031209,  I3I4,  1009,  1,     26,  12014,2,20040112,0952,-20.1950,  95.0123, 5273,    698.8,   7.0791,  34.5083,2,  34.5060,2,    180.2,1,    186.9,2,    21.91,2,    26.24,2,     0.00,2,     1.83,2,    1.424,2,    0.669,2,    0.041,4,   2175.6,6,   2296.0,2,   7.6780,2,    25.00,   -999.0,9,   -999.0,  -999.00,9,  -999.00,  -999.00,9,   7.0798,2
  49NZ20031209,  I3I4,  1009,  1,     25,  12013,2,20040112,0952,-20.1950,  95.0123, 5273,    799.8,   5.7231,  34.5045,2,  34.5045,2,    145.6,1,    151.2,2,    45.53,2,    31.89,2,     0.00,2,     2.25,2,    0.423,2,    0.195,2,    0.001,4,   2221.7,2,   2309.5,6,   7.6052,2,    25.00,   -999.0,9,   -999.0,  -999.00,9,  -999.00,  -999.00,9,   5.7241,2
  49NZ20031209,  I3I4,  1009,  1,     24,  12048,2,20040112,0952,-20.1950,  95.0123, 5273,    900.9,   5.2712,  34.5811,2,  34.5812,2,    114.1,1,    117.7,2,    67.86,2,    34.73,2,     0.00,2,     2.49,2,    0.091,2,    0.037,2,    0.001,4,   2261.4,2,   2342.0,2,   7.5590,2,    25.00,   -999.0,9,   -999.0,  -999.00,9,  -999.00,  -999.00,9,   5.2716,2
  49NZ20031209,  I3I4,  1009,  1,     23,  12047,2,20040112,0952,-20.1950,  95.0123, 5273,   1001.0,   4.9197,  34.6058,2,  34.6040,2,    108.4,1,    112.7,2,    76.41,2,    35.43,2,     0.01,2,     2.56,2,    0.027,6,    0.013,6,    0.000,4,   2271.8,2,   2345.2,2,   7.5472,2,    25.00,   -999.0,9,   -999.0,  -999.00,9,  -999.00,  -999.00,9,   4.9201,2
  49NZ20031209,  I3I4,  1009,  1,     22,  12046,2,20040112,0952,-20.1950,  95.0123, 5273,   1199.5,   4.2825,  34.6515,2,  34.6515,2,    107.5,1,    111.6,2,    89.80,2,    35.98,2,     0.00,2,     2.61,2,    0.005,2,    0.000,2,    0.000,4,   2288.5,2,   2358.0,2,   7.5417,2,    25.00,   -999.0,9,   -999.0,  -999.00,9,  -999.00,  -999.00,9,   4.2831,2
  49NZ20031209,  I3I4,  1009,  1,     21,  12045,2,20040112,0952,-20.1950,  95.0123, 5273,   1398.9,   3.6845,  34.6683,2,  34.6689,2,    116.7,1,    121.3,2,    95.66,2,    35.78,2,     0.00,2,     2.58,2,   -0.008,2,    0.000,2,    0.000,4,   2291.0,2,   2360.5,2,   7.5487,2,    25.00,   -999.0,9,   -999.0,  -999.00,9,  -999.00,  -999.00,9,   3.6842,2
  49NZ20031209,  I3I4,  1009,  1,     20,  12044,2,20040112,0952,-20.1950,  95.0123, 5273,   1600.7,   3.1529,  34.6950,2,  34.6954,2,    128.2,1,    133.8,2,   100.12,2,    35.19,2,     0.00,2,     2.52,2,    0.001,2,   -0.003,2,   -0.010,4,   2290.0,2,   2375.0,2,   7.5621,2,    25.00,   -999.0,9,   -999.0,  -999.00,9,  -999.00,  -999.00,9,   3.1531,2
  49NZ20031209,  I3I4,  1009,  1,     19,  12043,2,20040112,0952,-20.1950,  95.0123, 5273,   1800.5,   2.7384,  34.7065,2,  34.7068,2,    137.6,1,    143.9,2,   104.41,2,    34.68,2,     0.00,2,     2.48,2,    0.001,2,    0.001,2,   -0.010,4,   2291.5,2,   2376.6,2,   7.5721,2,    25.00,   -999.0,9,   -999.0,  -999.00,9,  -999.00,  -999.00,9,   2.7383,2
  49NZ20031209,  I3I4,  1009,  1,     18,  12042,2,20040112,0952,-20.1950,  95.0123, 5273,   1999.2,   2.4381,  34.7192,2,  34.7191,2,    143.6,1,    150.6,2,   109.76,2,    34.37,2,     0.00,2,     2.45,2,    0.004,2,    0.000,2,    0.000,4,   2292.6,2,   2380.8,2,   7.5806,6,    25.00,   -999.0,9,   -999.0,  -999.00,9,  -999.00,  -999.00,9,   2.4382,2
  49NZ20031209,  I3I4,  1009,  1,     17,  12041,2,20040112,0952,-20.1950,  95.0123, 5273,   2199.6,   2.1777,  34.7251,2,  34.7250,2,    148.8,1,    156.2,2,   114.60,2,    34.19,2,     0.00,2,     2.42,2,   -0.003,2,   -0.003,2,    0.000,4,   2294.3,2,   2383.7,2,   7.5884,2,    25.00,   -999.0,9,   -999.0,  -999.00,9,  -999.00,  -999.00,9,   2.1776,2
  49NZ20031209,  I3I4,  1009,  1,     16,  12040,2,20040112,0952,-20.1950,  95.0123, 5273,   2399.8,   1.9931,  34.7278,2,  34.7273,2,    155.4,1,    163.6,2,   115.70,2,    33.77,2,     0.00,2,     2.39,2,    0.000,2,   -0.004,2,    0.000,4,   2290.9,2,   2384.2,2,   7.5957,2,    25.00,   -999.0,9,   -999.0,  -999.00,9,  -999.00,  -999.00,9,   1.9930,2
  49NZ20031209,  I3I4,  1009,  1,     15,  12039,2,20040112,0952,-20.1950,  95.0123, 5273,   5250.0,   1.1207,  34.7105,2,  34.7113,2,    198.9,1,    204.1,2,   122.02,2,    32.27,2,    -0.01,2,     2.24,2,    0.001,2,    0.000,2,   -0.001,4,   2270.8,2,   2370.7,2,   7.6264,2,    25.00,   -999.0,9,   -999.0,  -999.00,9,  -999.00,  -999.00,9,   1.1207,2
  49NZ20031209,  I3I4,  1009,  1,     14,  12038,2,20040112,0952,-20.1950,  95.0123, 5273,   2800.7,   1.7447,  34.7278,2,  34.7276,2,    160.4,1,    168.9,2,   121.62,2,    33.81,2,    -0.01,2,     2.38,2,    0.001,2,    0.005,2,   -0.001,4,   2296.3,2,   2390.0,2,   7.6055,6,    25.00,   -999.0,9,   -999.0,  -999.00,9,  -999.00,  -999.00,9,   1.7447,2
  49NZ20031209,  I3I4,  1009,  1,     13,  12037,2,20040112,0952,-20.1950,  95.0123, 5273,   3000.7,   1.6523,  34.7265,2,  34.7260,2,    163.2,1,    171.7,2,   123.29,2,    33.72,2,     0.00,2,     2.36,2,    0.001,2,    0.001,2,   -0.001,4,   2295.7,2,   2387.9,2,   7.6063,2,    25.00,   -999.0,9,   -999.0,  -999.00,9,  -999.00,  -999.00,9,   1.6522,2
  49NZ20031209,  I3I4,  1009,  1,     12,  12036,2,20040112,0952,-20.1950,  95.0123, 5273,   3250.1,   1.5446,  34.7244,2,  34.7239,2,    165.4,1,    174.2,2,   125.70,2,    33.59,2,     0.01,2,     2.36,2,    0.003,2,    0.002,2,   -0.001,4,   2295.3,2,   2394.8,2,   7.6101,2,    25.00,   -999.0,9,   -999.0,  -999.00,9,  -999.00,  -999.00,9,   1.5447,2
  49NZ20031209,  I3I4,  1009,  1,     11,  12035,2,20040112,0952,-20.1950,  95.0123, 5273,   3500.8,   1.4583,  34.7224,2,  34.7235,3,    169.1,1,    177.9,2,   126.51,2,    33.47,2,     0.00,2,     2.35,2,    0.000,2,   -0.001,2,   -0.001,4,   2294.2,2,   2394.6,2,   7.6140,2,    25.00,   -999.0,9,   -999.0,  -999.00,9,  -999.00,  -999.00,9,   1.4583,2
  49NZ20031209,  I3I4,  1009,  1,     10,  12034,2,20040112,0952,-20.1950,  95.0123, 5273,   3750.1,   1.3740,  34.7205,2,  34.7211,2,    175.8,1,    184.7,2,   124.33,2,    33.08,2,     0.00,2,     2.32,2,   -0.003,2,    0.001,2,   -0.001,4,   2286.4,2,   2390.0,2,   7.6212,2,    25.00,   -999.0,9,   -999.0,  -999.00,9,  -999.00,  -999.00,9,   1.3739,2
  49NZ20031209,  I3I4,  1009,  1,      9,  12033,2,20040112,0952,-20.1950,  95.0123, 5273,   4000.1,   1.2665,  34.7180,2,  34.7180,2,    182.3,1,    191.3,2,   123.20,2,    32.73,2,     0.00,2,     2.29,2,    0.000,2,    0.000,2,   -0.001,4,   2282.6,2,   2384.5,2,   7.6223,2,    25.00,   -999.0,9,   -999.0,  -999.00,9,  -999.00,  -999.00,9,   1.2667,2
  49NZ20031209,  I3I4,  1009,  1,      8,  12032,2,20040112,0952,-20.1950,  95.0123, 5273,   4249.2,   1.1723,  34.7160,2,  34.7160,2,    188.8,1,    197.7,2,   121.64,2,    32.38,2,     0.00,2,     2.26,2,    0.001,2,   -0.001,2,   -0.001,4,   2276.3,6,   2374.5,2,   7.6270,2,    25.00,   -999.0,9,   -999.0,  -999.00,9,  -999.00,  -999.00,9,   1.1723,2
  49NZ20031209,  I3I4,  1009,  1,      7,  12031,2,20040112,0952,-20.1950,  95.0123, 5273,   4499.1,   1.1076,  34.7134,2,  34.7135,2,    193.1,1,    201.4,2,   121.55,2,    32.25,2,     0.00,2,     2.25,2,   -0.002,2,   -0.002,2,   -0.001,4,   2273.3,2,   2372.5,6,   7.6257,2,    25.00,   -999.0,9,   -999.0,  -999.00,9,  -999.00,  -999.00,9,   1.1075,2
  49NZ20031209,  I3I4,  1009,  1,      6,  12030,2,20040112,0952,-20.1950,  95.0123, 5273,   4750.6,   1.0787,  34.7113,2,  34.7119,2,    195.8,1,    203.5,2,   121.74,2,    32.22,2,     0.01,2,     2.25,2,    0.000,2,    0.000,2,   -0.001,4,   2274.0,2,   2371.6,2,   7.6265,6,    25.00,   -999.0,9,   -999.0,  -999.00,9,  -999.00,  -999.00,9,   1.0788,2
  49NZ20031209,  I3I4,  1009,  1,      5,  12029,2,20040112,0952,-20.1950,  95.0123, 5273,   5000.2,   1.0938,  34.7108,2,  34.7107,2,    197.4,1,    203.9,2,   121.85,2,    32.27,2,     0.00,2,     2.24,2,    0.001,2,    0.002,2,   -0.002,4,   2270.4,2,   2370.6,2,   7.6291,2,    25.00,   -999.0,9,   -999.0,  -999.00,9,  -999.00,  -999.00,9,   1.0938,2
  49NZ20031209,  I3I4,  1009,  1,      4,  12028,2,20040112,0952,-20.1950,  95.0123, 5273,   5249.7,   1.1208,  34.7104,2,  34.7111,3,    198.9,1,    204.2,2,   122.12,2,    32.29,2,    -0.01,2,     2.24,2,    0.000,2,    0.001,2,   -0.001,4,   2271.9,2,   2370.5,2,   7.6278,2,    25.00,   -999.0,9,   -999.0,  -999.00,9,  -999.00,  -999.00,9,   1.1207,2
  49NZ20031209,  I3I4,  1009,  1,      3,  12027,2,20040112,0952,-20.1950,  95.0123, 5273,   5352.6,   1.1301,  34.7102,2,  34.7102,2,    200.1,1,    204.1,2,   122.10,2,    32.28,2,    -0.01,2,     2.24,2,    0.002,2,    0.003,2,   -0.001,4,   2270.2,2,   2368.4,2,   7.6246,2,    25.00,   -999.0,9,   -999.0,  -999.00,9,  -999.00,  -999.00,9,   1.1301,2
  49NZ20031209,  I3I4,  1009,  1,      2,  12026,9,20040112,0952,-20.1950,  95.0123, 5273,      9.1,  25.8669,  34.8985,2,-999.0000,9,    197.6,1,   -999.0,9,  -999.00,9,  -999.00,9,  -999.00,9,  -999.00,9, -999.000,9, -999.000,9, -999.000,9,   -999.0,9,   -999.0,9,-999.0000,9,  -999.00,   -999.0,9,   -999.0,  -999.00,9,  -999.00,  -999.00,9,  25.8651,2
  49NZ20031209,  I3I4,  1009,  1,      1,  12025,2,20040112,0952,-20.1950,  95.0123, 5273,   2599.7,   1.8646,  34.7286,2,  34.7277,2,    157.6,1,    165.7,2,   119.28,2,    33.88,2,     0.00,2,     2.38,2,   -0.005,2,   -0.003,2,    0.000,4,   2293.8,2,   2383.7,6,   7.6023,2,    25.00,   -999.0,9,   -999.0,  -999.00,9,  -999.00,  -999.00,9,   1.8647,2