BOTTLE,20141204PRINUNIVRMK
EXPOCODE,SECT_ID,STNNBR,CASTNO,SAMPNO,BTLNBR,BTLNBR_FLAG_W,DATE,TIME,LATITUDE,LONGITUDE,DEPTH,CTDPRS,CTDTMP,CTDSAL,CTDSAL_FLAG_W,SALNTY,SALNTY_FLAG_W,CTDOXY,CTDOXY_FLAG_W,OXYGEN,OXYGEN_FLAG_W,SILCAT,SILCAT_FLAG_W,NITRAT,NITRAT_FLAG_W,NITRIT,NITRIT_FLAG_W,PHSPHT,PHSPHT_FLAG_W,CFC-11,CFC-11_FLAG_W,CFC-12,CFC-12_FLAG_W,CFC113,CFC113_FLAG_W,TCARBN,TCARBN_FLAG_W,ALKALI,ALKALI_FLAG_W,PH_TOT,PH_TOT_FLAG_W,PH_TMP,DELC14,DELC14_FLAG_W,C14ERR,DELC13,DELC13_FLAG_W,CS-137,CS137ER,CS-137_FLAG_W,SBE35,SBE35_FLAG_W
,,,,,,,,,,,METERS,DBAR,ITS-90,PSS-78,,PSS-78,,UMOL/KG,,UMOL/KG,,UMOL/KG,,UMOL/KG,,UMOL/KG,,UMOL/KG,,PMOL/KG,,PMOL/KG,,PMOL/KG,,UMOL/KG,,UMOL/KG,,,,DEG C,/MILLE,,/MILLE,/MILLE,,DM/.1MG,DM/.1MG,,ITS-90,
  49NZ20031209,  I3I4,   477,  1,     36,  12024,2,20040111,0223,-19.9967,  91.8150, 5028,     10.7,  25.5879,  34.9353,2,  34.9353,2,    198.2,1,    207.4,2,     1.96,2,     0.00,2,     0.01,2,     0.10,2,    1.700,2,    1.094,2, -999.000,5,   1962.8,2,   2287.1,2,   8.1023,2,    25.00,   -999.0,9,   -999.0,  -999.00,9,  -999.00,  -999.00,9,  25.5866,2
  49NZ20031209,  I3I4,   477,  1,     35,  12023,2,20040111,0223,-19.9967,  91.8150, 5028,     50.2,  23.6688,  35.2006,2,  35.2064,2,    209.2,1,    219.1,2,     2.21,2,    -0.01,2,     0.01,2,     0.10,2,    1.927,2,    1.176,2, -999.000,5,   1985.6,6,   2304.5,2,   8.0874,2,    25.00,   -999.0,9,   -999.0,  -999.00,9,  -999.00,  -999.00,9,  23.6696,2
  49NZ20031209,  I3I4,   477,  1,     34,  12022,2,20040111,0223,-19.9967,  91.8150, 5028,    101.5,  21.5444,  35.4779,2,  35.4713,2,    214.5,1,    224.0,2,     2.14,2,     0.00,2,     0.01,2,     0.10,2,    2.103,2,    1.284,2, -999.000,5,   2009.7,2,   2319.5,6,   8.0683,2,    25.00,   -999.0,9,   -999.0,  -999.00,9,  -999.00,  -999.00,9,  21.5426,2
  49NZ20031209,  I3I4,   477,  1,     33,  12015,2,20040111,0223,-19.9967,  91.8150, 5028,    151.8,  20.3214,  35.6138,2,  35.6112,2,    202.5,1,    212.0,2,     2.34,2,     0.44,2,     0.14,2,     0.16,2,    2.134,2,    1.291,2, -999.000,5,   2035.1,2,   2329.2,2,   8.0382,6,    25.00,   -999.0,9,   -999.0,  -999.00,9,  -999.00,  -999.00,9,  20.3182,2
  49NZ20031209,  I3I4,   477,  1,     32,  12020,2,20040111,0223,-19.9967,  91.8150, 5028,    202.4,  18.9504,  35.7832,2,  35.7896,2,    193.3,1,    202.8,2,     2.54,2,     1.90,2,     0.05,2,     0.25,2,    2.263,2,    1.334,2,    0.338,4,   2068.9,2,   2341.8,2,   7.9943,2,    25.00,   -999.0,9,   -999.0,  -999.00,9,  -999.00,  -999.00,9,  18.9438,2
  49NZ20031209,  I3I4,   477,  1,     31,  12019,2,20040111,0223,-19.9967,  91.8150, 5028,    252.3,  17.3296,  35.7875,2,  35.7869,2,    200.0,1,    208.2,2,     2.28,2,     2.45,2,     0.01,2,     0.31,2,    2.435,6,    1.424,6,    0.147,4,   2085.4,2,   2339.8,2,   7.9678,2,    25.00,   -999.0,9,   -999.0,  -999.00,9,  -999.00,  -999.00,9,  17.3390,2
  49NZ20031209,  I3I4,   477,  1,     30,  12018,2,20040111,0223,-19.9967,  91.8150, 5028,    300.8,  15.5265,  35.6246,2,  35.6257,2,    208.7,1,    217.4,2,     1.86,2,     3.60,2,     0.01,2,     0.39,2,    2.655,2,    1.519,2,    0.165,4,   2094.0,2,   2334.4,2,   7.9394,2,    25.00,   -999.0,9,   -999.0,  -999.00,9,  -999.00,  -999.00,9,  15.5305,2
  49NZ20031209,  I3I4,   477,  1,     29,  12017,2,20040111,0223,-19.9967,  91.8150, 5028,    399.9,  12.7080,  35.2248,2,  35.2257,2,    222.4,1,    231.3,2,     2.09,2,     7.68,2,     0.01,2,     0.64,2,    3.070,2,    1.706,2,    0.166,4,   2106.2,2,   2314.9,2,   7.8827,2,    25.00,   -999.0,9,   -999.0,  -999.00,9,  -999.00,  -999.00,9,  12.7149,2
  49NZ20031209,  I3I4,   477,  1,     28,  12016,2,20040111,0223,-19.9967,  91.8150, 5028,    500.8,  10.4644,  34.8671,2,  34.8664,2,    229.8,1,    239.2,2,     3.24,2,    12.58,2,     0.01,2,     0.93,2,    3.319,2,    1.782,2,    0.156,4,   2116.3,2,   2296.0,2,   7.8303,2,    25.00,   -999.0,9,   -999.0,  -999.00,9,  -999.00,  -999.00,9,  10.4709,2
  49NZ20031209,  I3I4,   477,  1,     27,  12012,2,20040111,0223,-19.9967,  91.8150, 5028,    598.9,   9.1735,  34.6757,2,  34.6757,2,    224.6,1,    233.8,2,     5.15,2,    16.99,2,     0.01,2,     1.20,2,    3.312,2,    1.720,2,    0.143,4,   2126.2,2,   2288.9,2,   7.7861,2,    25.00,   -999.0,9,   -999.0,  -999.00,9,  -999.00,  -999.00,9,   9.1745,2
  49NZ20031209,  I3I4,   477,  1,     26,  12014,2,20040111,0223,-19.9967,  91.8150, 5028,    702.6,   7.6312,  34.5309,2,  34.5322,2,    196.5,1,    205.5,2,    14.00,2,    23.33,2,     0.01,2,     1.61,2,    2.094,2,    1.084,2,    0.065,4,   2155.0,6,   2287.2,2,   7.7161,2,    25.00,   -999.0,9,   -999.0,  -999.00,9,  -999.00,  -999.00,9,   7.6329,2
  49NZ20031209,  I3I4,   477,  1,     25,  12013,2,20040111,0223,-19.9967,  91.8150, 5028,    803.2,   5.8047,  34.4597,2,  34.4596,2,    167.1,1,    174.5,2,    33.56,2,    29.92,2,     0.01,2,     2.07,2,    0.728,2,    0.414,2,    0.028,4,   2199.4,2,   2299.4,6,   7.6339,2,    25.00,   -999.0,9,   -999.0,  -999.00,9,  -999.00,  -999.00,9,   5.8036,2
  49NZ20031209,  I3I4,   477,  1,     24,  12048,2,20040111,0223,-19.9967,  91.8150, 5028,    900.9,   4.9901,  34.5000,2,  34.4976,2,    141.6,1,    147.3,2,    54.37,2,    33.28,2,     0.01,2,     2.34,2,    0.248,2,    0.146,2,    0.027,4,   2234.5,2,   2316.7,2,   7.5839,6,    25.00,   -999.0,9,   -999.0,  -999.00,9,  -999.00,  -999.00,9,   4.9919,2
  49NZ20031209,  I3I4,   477,  1,     23,  12047,2,20040111,0223,-19.9967,  91.8150, 5028,    999.3,   4.6540,  34.5772,2,  34.5772,2,    117.7,1,    121.9,2,    73.85,2,    35.28,2,     0.01,2,     2.51,2,    0.049,6,    0.033,6,    0.000,4,   2268.0,2,   2338.3,2,   7.5533,2,    25.00,   -999.0,9,   -999.0,  -999.00,9,  -999.00,  -999.00,9,   4.6543,2
  49NZ20031209,  I3I4,   477,  1,     22,  12046,2,20040111,0223,-19.9967,  91.8150, 5028,   1201.1,   4.0044,  34.6205,2,  34.6215,2,    118.7,1,    122.9,2,    84.89,2,    35.71,2,     0.00,2,     2.54,2,    0.009,2,    0.004,2,    0.000,4,   2278.8,2,   2351.1,2,   7.5484,2,    25.00,   -999.0,9,   -999.0,  -999.00,9,  -999.00,  -999.00,9,   4.0045,2
  49NZ20031209,  I3I4,   477,  1,     21,  12045,2,20040111,0223,-19.9967,  91.8150, 5028,   1401.1,   3.4361,  34.6574,2,  34.6577,2,    126.6,1,    131.6,2,    91.61,2,    35.37,2,     0.00,2,     2.51,2,    0.000,2,    0.002,2,    0.000,4,   2282.7,2,   2360.3,2,   7.5560,2,    25.00,   -999.0,9,   -999.0,  -999.00,9,  -999.00,  -999.00,9,   3.4358,2
  49NZ20031209,  I3I4,   477,  1,     20,  12044,2,20040111,0223,-19.9967,  91.8150, 5028,   1601.3,   3.0344,  34.6981,2,  34.6981,2,    132.4,1,    137.9,2,    99.58,2,    34.92,2,     0.00,2,     2.49,2,   -0.001,2,    0.002,2,    0.000,4,   2288.7,2,   2367.6,2,   7.5638,2,    25.00,   -999.0,9,   -999.0,  -999.00,9,  -999.00,  -999.00,9,   3.0346,2
  49NZ20031209,  I3I4,   477,  1,     19,  12043,2,20040111,0223,-19.9967,  91.8150, 5028,   1800.0,   2.6498,  34.7149,2,  34.7154,2,    140.3,1,    146.6,2,   105.37,2,    34.49,2,     0.00,2,     2.44,2,   -0.001,2,    0.001,2,    0.000,4,   2289.6,2,   2371.5,2,   7.5763,2,    25.00,   -999.0,9,   -999.0,  -999.00,9,  -999.00,  -999.00,9,   2.6499,2
  49NZ20031209,  I3I4,   477,  1,     18,  12042,2,20040111,0223,-19.9967,  91.8150, 5028,   2001.2,   2.3438,  34.7224,2,  34.7227,2,    148.1,1,    154.9,2,   109.28,2,    34.09,2,     0.00,2,     2.40,2,    0.001,2,    0.000,2,    0.000,4,   2290.4,2,   2377.2,2,   7.5868,6,    25.00,   -999.0,9,   -999.0,  -999.00,9,  -999.00,  -999.00,9,   2.3442,2
  49NZ20031209,  I3I4,   477,  1,     17,  12041,2,20040111,0223,-19.9967,  91.8150, 5028,   4749.6,   1.0773,  34.7110,2,  34.7120,3,    197.3,1,    203.7,2,   121.29,2,    32.28,2,     0.01,2,     2.23,2,    0.001,2,    0.000,2,    0.000,4,   2271.6,2,   2374.0,2,   7.6260,2,    25.00,   -999.0,9,   -999.0,  -999.00,9,  -999.00,  -999.00,9,   1.0774,2
  49NZ20031209,  I3I4,   477,  1,     16,  12040,2,20040111,0223,-19.9967,  91.8150, 5028,   2402.5,   1.9599,  34.7280,2,  34.7279,2,    157.4,1,    165.1,2,   115.47,2,    33.76,2,     0.01,2,     2.36,2,    0.004,2,   -0.002,2,    0.000,4,   2290.7,6,   2381.0,2,   7.5988,2,    25.00,   -999.0,9,   -999.0,  -999.00,9,  -999.00,  -999.00,9,   1.9600,2
  49NZ20031209,  I3I4,   477,  1,     15,  12039,2,20040111,0223,-19.9967,  91.8150, 5028,   2601.6,   1.8398,  34.7278,2,  34.7279,2,    160.5,1,    168.5,2,   117.66,2,    33.66,2,     0.00,2,     2.35,2,   -0.001,2,    0.000,2,    0.000,4,   2288.4,2,   2385.4,6,   7.6036,2,    25.00,   -999.0,9,   -999.0,  -999.00,9,  -999.00,  -999.00,9,   1.8396,2
  49NZ20031209,  I3I4,   477,  1,     14,  12038,2,20040111,0223,-19.9967,  91.8150, 5028,   2800.7,   1.7158,  34.7271,2,  34.7271,2,    163.0,1,    171.2,2,   120.35,2,    33.56,2,     0.00,2,     2.34,2,    0.001,2,    0.000,2,    0.000,4,   2291.4,2,   2385.8,2,   7.6068,6,    25.00,   -999.0,9,   -999.0,  -999.00,9,  -999.00,  -999.00,9,   1.7155,2
  49NZ20031209,  I3I4,   477,  1,     13,  12037,2,20040111,0223,-19.9967,  91.8150, 5028,   3001.5,   1.6076,  34.7257,2,  34.7261,2,    165.2,1,    173.5,2,   122.98,2,    33.56,2,     0.00,2,     2.35,2,   -0.005,2,   -0.004,2,    0.000,4,   2292.8,2,   2389.7,2,   7.6101,2,    25.00,   -999.0,9,   -999.0,  -999.00,9,  -999.00,  -999.00,9,   1.6077,2
  49NZ20031209,  I3I4,   477,  1,     12,  12036,2,20040111,0223,-19.9967,  91.8150, 5028,   3251.8,   1.5224,  34.7241,2,  34.7240,2,    168.0,1,    176.2,2,   124.44,2,    33.55,2,     0.00,2,     2.33,2,   -0.004,2,   -0.004,2,    0.000,4,   2293.3,2,   2389.6,2,   7.6119,2,    25.00,   -999.0,9,   -999.0,  -999.00,9,  -999.00,  -999.00,9,   1.5224,2
  49NZ20031209,  I3I4,   477,  1,     11,  12035,2,20040111,0223,-19.9967,  91.8150, 5028,   3498.3,   1.4224,  34.7218,2,  34.7213,2,    172.5,1,    180.8,2,   124.92,2,    33.41,2,     0.00,2,     2.32,2,   -0.001,2,    0.000,2,    0.000,4,   2290.6,2,   2390.6,2,   7.6158,2,    25.00,   -999.0,9,   -999.0,  -999.00,9,  -999.00,  -999.00,9,   1.4224,2
  49NZ20031209,  I3I4,   477,  1,     10,  12034,2,20040111,0223,-19.9967,  91.8150, 5028,   3749.5,   1.2998,  34.7191,2,  34.7183,2,    179.9,1,    188.3,2,   123.64,2,    32.98,2,     0.01,2,     2.28,2, -999.000,5, -999.000,5, -999.000,5,   2285.0,2,   2385.3,2,   7.6201,2,    25.00,   -999.0,9,   -999.0,  -999.00,9,  -999.00,  -999.00,9,   1.2997,2
  49NZ20031209,  I3I4,   477,  1,      9,  12033,2,20040111,0223,-19.9967,  91.8150, 5028,   3998.7,   1.1961,  34.7168,2,  34.7168,2,    187.0,1,    195.3,2,   121.65,2,    32.59,2,     0.00,2,     2.26,2,    0.003,2,   -0.001,2,    0.000,4,   2276.7,2,   2380.4,2,   7.6251,2,    25.00,   -999.0,9,   -999.0,  -999.00,9,  -999.00,  -999.00,9,   1.1964,2
  49NZ20031209,  I3I4,   477,  1,      8,  12032,2,20040111,0223,-19.9967,  91.8150, 5028,   4251.2,   1.1206,  34.7143,2,  34.7146,2,    191.9,1,    200.0,2,   120.99,2,    32.46,2,     0.01,2,     2.24,2,    0.000,2,   -0.002,2,    0.000,4,   2273.5,6,   2377.3,2,   7.6270,2,    25.00,   -999.0,9,   -999.0,  -999.00,9,  -999.00,  -999.00,9,   1.1206,2
  49NZ20031209,  I3I4,   477,  1,      7,  12031,2,20040111,0223,-19.9967,  91.8150, 5028,   4500.7,   1.0842,  34.7123,2,  34.7119,2,    195.0,1,    202.4,2,   121.19,2,    32.33,2,     0.00,2,     2.23,2,    0.000,2,    0.000,2,    0.000,4,   2272.2,2,   2375.2,6,   7.6252,2,    25.00,   -999.0,9,   -999.0,  -999.00,9,  -999.00,  -999.00,9,   1.0841,2
  49NZ20031209,  I3I4,   477,  1,      6,  12030,2,20040111,0223,-19.9967,  91.8150, 5028,   4750.1,   1.0773,  34.7111,2,  34.7111,2,    197.3,1,    203.7,2,   121.30,2,    32.31,2,     0.00,2,     2.23,2,    0.000,2,    0.007,2,    0.000,4,   2270.5,2,   2372.2,2,   7.6262,2,    25.00,   -999.0,9,   -999.0,  -999.00,9,  -999.00,  -999.00,9,   1.0774,2
  49NZ20031209,  I3I4,   477,  1,      5,  12029,2,20040111,0223,-19.9967,  91.8150, 5028,   5104.4,   1.1109,  34.7106,2,  34.7108,2,    199.7,1,    204.0,2,   121.26,2,    32.29,2,     0.00,2,     2.22,2,    0.005,2,    0.003,2,    0.000,4,   2270.9,2,   2371.2,2,   7.6260,2,    25.00,   -999.0,9,   -999.0,  -999.00,9,  -999.00,  -999.00,9,   1.1109,2
  49NZ20031209,  I3I4,   477,  1,      4,  12028,9,20040111,0223,-19.9967,  91.8150, 5028,     10.5,  25.5895,  34.9357,2,-999.0000,9,    198.3,1,   -999.0,9,  -999.00,9,  -999.00,9,  -999.00,9,  -999.00,9, -999.000,9, -999.000,9, -999.000,9,   -999.0,9,   -999.0,9,-999.0000,9,  -999.00,   -999.0,9,   -999.0,  -999.00,9,  -999.00,  -999.00,9,  25.5890,2
  49NZ20031209,  I3I4,   477,  1,      3,  12027,9,20040111,0223,-19.9967,  91.8150, 5028,     10.4,  25.5885,  34.9356,2,-999.0000,9,    198.2,1,   -999.0,9,  -999.00,9,  -999.00,9,  -999.00,9,  -999.00,9, -999.000,9, -999.000,9, -999.000,9,   -999.0,9,   -999.0,9,-999.0000,9,  -999.00,   -999.0,9,   -999.0,  -999.00,9,  -999.00,  -999.00,9,  25.5880,2
  49NZ20031209,  I3I4,   477,  1,      2,  12026,2,20040111,0223,-19.9967,  91.8150, 5028,     85.2,  21.7777,  35.3665,2,-999.0000,9,    208.2,1,   -999.0,9,  -999.00,9,  -999.00,9,  -999.00,9,  -999.00,9, -999.000,9, -999.000,9, -999.000,9,   -999.0,9,   -999.0,9,-999.0000,9,  -999.00,   -999.0,9,   -999.0,  -999.00,9,  -999.00,  -999.00,9,  21.7771,2
  49NZ20031209,  I3I4,   477,  1,      1,  12025,2,20040111,0223,-19.9967,  91.8150, 5028,   2201.6,   2.1113,  34.7269,2,  34.7269,2,    153.0,1,    160.3,2,   113.38,2,    33.98,2,     0.00,2,     2.38,2,   -0.004,2,   -0.002,2,    0.000,4,   2288.4,2,   2379.1,2,   7.5945,2,    25.00,   -999.0,9,   -999.0,  -999.00,9,  -999.00,  -999.00,9,   2.1113,2