BOTTLE,20141204PRINUNIVRMK
EXPOCODE,SECT_ID,STNNBR,CASTNO,SAMPNO,BTLNBR,BTLNBR_FLAG_W,DATE,TIME,LATITUDE,LONGITUDE,DEPTH,CTDPRS,CTDTMP,CTDSAL,CTDSAL_FLAG_W,SALNTY,SALNTY_FLAG_W,CTDOXY,CTDOXY_FLAG_W,OXYGEN,OXYGEN_FLAG_W,SILCAT,SILCAT_FLAG_W,NITRAT,NITRAT_FLAG_W,NITRIT,NITRIT_FLAG_W,PHSPHT,PHSPHT_FLAG_W,CFC-11,CFC-11_FLAG_W,CFC-12,CFC-12_FLAG_W,CFC113,CFC113_FLAG_W,TCARBN,TCARBN_FLAG_W,ALKALI,ALKALI_FLAG_W,PH_TOT,PH_TOT_FLAG_W,PH_TMP,DELC14,DELC14_FLAG_W,C14ERR,DELC13,DELC13_FLAG_W,CS-137,CS137ER,CS-137_FLAG_W,SBE35,SBE35_FLAG_W
,,,,,,,,,,,METERS,DBAR,ITS-90,PSS-78,,PSS-78,,UMOL/KG,,UMOL/KG,,UMOL/KG,,UMOL/KG,,UMOL/KG,,UMOL/KG,,PMOL/KG,,PMOL/KG,,PMOL/KG,,UMOL/KG,,UMOL/KG,,,,DEG C,/MILLE,,/MILLE,/MILLE,,DM/.1MG,DM/.1MG,,ITS-90,
  49NZ20031209,  I3I4,   530,  1,     36,  12024,2,20031228,1102,-20.3660,  62.2333, 3112,      8.7,  26.7870,  34.9364,2,  34.9366,2,    195.8,1,    204.6,2,     2.04,2,     0.02,2,     0.00,2,     0.10,2, -999.000,9, -999.000,9, -999.000,9,   -999.0,9,   -999.0,9,-999.0000,9,  -999.00,   -999.0,9,   -999.0,  -999.00,9,  -999.00,  -999.00,9,  26.7887,2
  49NZ20031209,  I3I4,   530,  1,     35,  12023,2,20031228,1102,-20.3660,  62.2333, 3112,     49.0,  25.9634,  34.9338,2,  34.9317,2,    201.1,1,    210.0,2,     1.92,2,     0.00,2,     0.00,2,     0.11,2, -999.000,9, -999.000,9, -999.000,9,   -999.0,9,   -999.0,9,-999.0000,9,  -999.00,   -999.0,9,   -999.0,  -999.00,9,  -999.00,  -999.00,9,  25.9626,2
  49NZ20031209,  I3I4,   530,  1,     34,  12022,2,20031228,1102,-20.3660,  62.2333, 3112,     99.4,  23.4571,  34.9934,2,  34.9944,2,    205.3,1,    214.2,2,     2.27,2,     0.00,2,     0.01,2,     0.13,2, -999.000,9, -999.000,9, -999.000,9,   -999.0,9,   -999.0,9,-999.0000,9,  -999.00,   -999.0,9,   -999.0,  -999.00,9,  -999.00,  -999.00,5,  23.4573,2
  49NZ20031209,  I3I4,   530,  1,     33,  12015,2,20031228,1102,-20.3660,  62.2333, 3112,    152.2,  21.6686,  35.2080,2,  35.2008,2,    175.5,1,    183.0,2,     4.25,2,     3.41,2,     0.04,2,     0.35,2, -999.000,9, -999.000,9, -999.000,9,   -999.0,9,   -999.0,9,-999.0000,9,  -999.00,   -999.0,9,   -999.0,  -999.00,9,  -999.00,  -999.00,9,  21.6633,2
  49NZ20031209,  I3I4,   530,  1,     32,  12020,2,20031228,1102,-20.3660,  62.2333, 3112,    200.1,  20.2095,  35.4986,2,  35.4998,2,    167.6,1,    174.4,2,     5.06,2,     4.84,2,     0.01,2,     0.45,2, -999.000,9, -999.000,9, -999.000,9,   -999.0,9,   -999.0,9,-999.0000,9,  -999.00,   -999.0,9,   -999.0,  -999.00,9,  -999.00,  -999.00,1,  20.2094,2
  49NZ20031209,  I3I4,   530,  1,     31,  12019,2,20031228,1102,-20.3660,  62.2333, 3112,    249.5,  19.0088,  35.6497,2,  35.6530,2,    171.3,1,    178.2,2,     5.19,2,     5.01,2,     0.01,2,     0.46,2, -999.000,9, -999.000,9, -999.000,9,   -999.0,9,   -999.0,9,-999.0000,9,  -999.00,   -999.0,9,   -999.0,  -999.00,9,  -999.00,  -999.00,9,  19.0086,2
  49NZ20031209,  I3I4,   530,  1,     30,  12018,2,20031228,1102,-20.3660,  62.2333, 3112,    300.7,  17.7457,  35.6580,2,  35.6773,2,    175.7,1,    185.3,2,     5.06,2,     5.17,2,     0.01,2,     0.48,2, -999.000,9, -999.000,9, -999.000,9,   -999.0,9,   -999.0,9,-999.0000,9,  -999.00,   -999.0,9,   -999.0,  -999.00,9,  -999.00,  -999.00,9,  17.7227,2
  49NZ20031209,  I3I4,   530,  1,     29,  12021,2,20031228,1102,-20.3660,  62.2333, 3112,    400.2,  14.3890,  35.4105,2,  35.4081,2,    192.6,1,    199.8,2,     5.67,2,     8.22,2,     0.01,2,     0.69,2, -999.000,9, -999.000,9, -999.000,9,   -999.0,9,   -999.0,9,-999.0000,9,  -999.00,   -999.0,9,   -999.0,  -999.00,9,  -999.00,  -999.00,5,  14.3881,2
  49NZ20031209,  I3I4,   530,  1,     28,  12016,2,20031228,1102,-20.3660,  62.2333, 3112,    499.8,  12.2431,  35.1433,2,  35.1364,2,    213.8,1,    221.2,2,     4.42,2,    10.52,2,     0.00,2,     0.83,2, -999.000,9, -999.000,9, -999.000,9,   -999.0,9,   -999.0,9,-999.0000,9,  -999.00,   -999.0,9,   -999.0,  -999.00,9,  -999.00,  -999.00,9,  12.2452,2
  49NZ20031209,  I3I4,   530,  1,     27,  12012,2,20031228,1102,-20.3660,  62.2333, 3112,    603.0,  10.3437,  34.8610,2,  34.8611,2,    219.1,1,    227.0,2,     5.08,2,    14.26,2,     0.01,2,     1.05,2, -999.000,9, -999.000,9, -999.000,9,   -999.0,9,   -999.0,9,-999.0000,9,  -999.00,   -999.0,9,   -999.0,  -999.00,9,  -999.00,  -999.00,1,  10.3443,2
  49NZ20031209,  I3I4,   530,  1,     26,  12014,2,20031228,1102,-20.3660,  62.2333, 3112,    699.7,   9.2364,  34.7081,2,  34.7093,2,    212.9,1,    220.3,2,     7.87,2,    17.81,2,    -0.01,2,     1.26,2, -999.000,9, -999.000,9, -999.000,9,   -999.0,9,   -999.0,9,-999.0000,9,  -999.00,   -999.0,9,   -999.0,  -999.00,9,  -999.00,  -999.00,9,   9.2378,2
  49NZ20031209,  I3I4,   530,  1,     25,  12013,2,20031228,1102,-20.3660,  62.2333, 3112,    799.2,   7.9852,  34.5999,2,  34.5988,2,    191.7,1,    198.6,2,    16.35,2,    22.84,2,     0.00,2,     1.59,2, -999.000,9, -999.000,9, -999.000,9,   -999.0,9,   -999.0,9,-999.0000,9,  -999.00,   -999.0,9,   -999.0,  -999.00,9,  -999.00,  -999.00,5,   7.9879,2
  49NZ20031209,  I3I4,   530,  1,     24,  12048,2,20031228,1102,-20.3660,  62.2333, 3112,    902.1,   6.4755,  34.5008,2,  34.5024,2,    176.1,1,    183.1,2,    27.30,2,    27.49,2,     0.00,2,     1.92,2, -999.000,9, -999.000,9, -999.000,9,   -999.0,9,   -999.0,9,-999.0000,9,  -999.00,   -999.0,9,   -999.0,  -999.00,9,  -999.00,  -999.00,9,   6.4951,2
  49NZ20031209,  I3I4,   530,  1,     23,  12047,2,20031228,1102,-20.3660,  62.2333, 3112,   1000.6,   5.3399,  34.4878,2,  34.4906,2,    157.5,1,    162.0,2,    45.15,2,    31.63,2,    -0.01,2,     2.21,2, -999.000,9, -999.000,9, -999.000,9,   -999.0,9,   -999.0,9,-999.0000,9,  -999.00,   -999.0,9,   -999.0,  -999.00,9,  -999.00,  -999.00,1,   5.3403,2
  49NZ20031209,  I3I4,   530,  1,     22,  12046,2,20031228,1102,-20.3660,  62.2333, 3112,   1199.6,   4.4067,  34.6154,2,  34.6154,2,    123.1,1,    126.6,2,    77.10,2,    35.01,2,    -0.01,2,     2.49,2, -999.000,9, -999.000,9, -999.000,9,   -999.0,9,   -999.0,9,-999.0000,9,  -999.00,   -999.0,9,   -999.0,  -999.00,9,  -999.00,  -999.00,5,   4.4066,2
  49NZ20031209,  I3I4,   530,  1,     21,  12045,2,20031228,1102,-20.3660,  62.2333, 3112,   1400.8,   3.6917,  34.6702,2,  34.6700,2,    127.9,1,    131.5,2,    89.31,2,    35.03,2,    -0.01,2,     2.49,2, -999.000,9, -999.000,9, -999.000,9,   -999.0,9,   -999.0,9,-999.0000,9,  -999.00,   -999.0,9,   -999.0,  -999.00,9,  -999.00,  -999.00,1,   3.6916,2
  49NZ20031209,  I3I4,   530,  1,     20,  12044,2,20031228,1102,-20.3660,  62.2333, 3112,   1600.6,   3.0540,  34.6806,2,  34.6803,2,    143.6,1,    148.3,2,    92.28,2,    34.29,2,    -0.01,2,     2.41,2, -999.000,9, -999.000,9, -999.000,9,   -999.0,9,   -999.0,9,-999.0000,9,  -999.00,   -999.0,9,   -999.0,  -999.00,9,  -999.00,  -999.00,9,   3.0542,2
  49NZ20031209,  I3I4,   530,  1,     19,  12043,3,20031228,1102,-20.3660,  62.2333, 3112,   1800.6,   2.6569,  34.7035,2,  34.7034,2,    151.3,1,    156.2,2,    99.22,2,    33.79,2,    -0.01,2,     2.38,2, -999.000,9, -999.000,9, -999.000,9,   -999.0,9,   -999.0,9,-999.0000,9,  -999.00,   -999.0,9,   -999.0,  -999.00,9,  -999.00,  -999.00,9,   2.6568,2
  49NZ20031209,  I3I4,   530,  1,     18,  12042,2,20031228,1102,-20.3660,  62.2333, 3112,   1999.4,   2.3750,  34.7151,2,  34.7152,2,    156.8,1,    162.2,2,   104.41,2,    33.57,2,     0.00,2,     2.36,2, -999.000,9, -999.000,9, -999.000,9,   -999.0,9,   -999.0,9,-999.0000,9,  -999.00,   -999.0,9,   -999.0,  -999.00,9,     0.01,     0.01,2,   2.3744,2
  49NZ20031209,  I3I4,   530,  1,     17,  12041,2,20031228,1102,-20.3660,  62.2333, 3112,   2201.2,   2.1785,  34.7216,2,  34.7213,2,    160.5,1,    165.9,2,   108.51,2,    33.44,2,     0.00,2,     2.35,2, -999.000,9, -999.000,9, -999.000,9,   -999.0,9,   -999.0,9,-999.0000,9,  -999.00,   -999.0,9,   -999.0,  -999.00,9,  -999.00,  -999.00,9,   2.1786,2
  49NZ20031209,  I3I4,   530,  1,     16,  12040,2,20031228,1102,-20.3660,  62.2333, 3112,   2400.6,   2.0073,  34.7250,2,  34.7257,2,    163.9,1,    169.2,2,   112.28,2,    33.42,2,    -0.01,2,     2.34,2, -999.000,9, -999.000,9, -999.000,9,   -999.0,9,   -999.0,9,-999.0000,9,  -999.00,   -999.0,9,   -999.0,  -999.00,9,  -999.00,  -999.00,1,   2.0074,2
  49NZ20031209,  I3I4,   530,  1,     15,  12039,2,20031228,1102,-20.3660,  62.2333, 3112,   2600.9,   1.8264,  34.7256,2,  34.7251,2,    167.8,1,    173.0,2,   116.06,2,    33.42,2,     0.00,2,     2.33,2, -999.000,9, -999.000,9, -999.000,9,   -999.0,9,   -999.0,9,-999.0000,9,  -999.00,   -999.0,9,   -999.0,  -999.00,9,  -999.00,  -999.00,9,   1.8264,2
  49NZ20031209,  I3I4,   530,  1,     14,  12038,2,20031228,1102,-20.3660,  62.2333, 3112,   2801.1,   1.7712,  34.7252,2,  34.7250,2,    169.9,1,    174.6,2,   117.39,2,    33.37,2,    -0.01,2,     2.33,2, -999.000,9, -999.000,9, -999.000,9,   -999.0,9,   -999.0,9,-999.0000,9,  -999.00,   -999.0,9,   -999.0,  -999.00,9,  -999.00,  -999.00,9,   1.7711,2
  49NZ20031209,  I3I4,   530,  1,     13,  12037,2,20031228,1102,-20.3660,  62.2333, 3112,   3107.7,   1.6125,  34.7235,2,  34.7238,2,    175.1,1,    178.8,2,   120.19,2,    33.31,2,     0.00,2,     2.32,2, -999.000,9, -999.000,9, -999.000,9,   -999.0,9,   -999.0,9,-999.0000,9,  -999.00,   -999.0,9,   -999.0,  -999.00,9,     0.01,     0.01,2,   1.6130,2
  49NZ20031209,  I3I4,   530,  1,     12,  12036,9,20031228,1102,-20.3660,  62.2333, 3112,   2500.6,   1.9012,  34.7253,2,-999.0000,9,    166.4,1,   -999.0,9,  -999.00,9,  -999.00,9,  -999.00,9,  -999.00,9, -999.000,9, -999.000,9, -999.000,9,   -999.0,9,   -999.0,9,-999.0000,9,  -999.00,   -999.0,9,   -999.0,  -999.00,9,  -999.00,  -999.00,9,   1.9007,2
  49NZ20031209,  I3I4,   530,  1,     11,  12035,9,20031228,1102,-20.3660,  62.2333, 3112,   2700.4,   1.7936,  34.7255,2,-999.0000,9,    169.0,1,   -999.0,9,  -999.00,9,  -999.00,9,  -999.00,9,  -999.00,9, -999.000,9, -999.000,9, -999.000,9,   -999.0,9,   -999.0,9,-999.0000,9,  -999.00,   -999.0,9,   -999.0,  -999.00,9,  -999.00,  -999.00,9,   1.7929,2
  49NZ20031209,  I3I4,   530,  1,     10,  12034,2,20031228,1102,-20.3660,  62.2333, 3112,      4.2,  26.7861,  34.9374,2,-999.0000,9,    195.9,1,   -999.0,9,  -999.00,9,  -999.00,9,  -999.00,9,  -999.00,9, -999.000,9, -999.000,9, -999.000,9,   -999.0,9,   -999.0,9,-999.0000,9,  -999.00,   -999.0,9,   -999.0,  -999.00,9,  -999.00,  -999.00,9,  26.7875,2
  49NZ20031209,  I3I4,   530,  1,      9,  12033,2,20031228,1102,-20.3660,  62.2333, 3112,      4.6,  26.7877,  34.9373,2,-999.0000,9,    195.7,1,   -999.0,9,  -999.00,9,  -999.00,9,  -999.00,9,  -999.00,9, -999.000,9, -999.000,9, -999.000,9,   -999.0,9,   -999.0,9,-999.0000,9,  -999.00,   -999.0,9,   -999.0,  -999.00,9,  -999.00,  -999.00,9,  26.7869,2
  49NZ20031209,  I3I4,   530,  1,      8,  12032,2,20031228,1102,-20.3660,  62.2333, 3112,    119.4,  22.6789,  35.1116,2,-999.0000,9,    197.6,1,   -999.0,9,  -999.00,9,  -999.00,9,  -999.00,9,  -999.00,9, -999.000,9, -999.000,9, -999.000,9,   -999.0,9,   -999.0,9,-999.0000,9,  -999.00,   -999.0,9,   -999.0,  -999.00,9,  -999.00,  -999.00,9,  22.6776,2
  49NZ20031209,  I3I4,   530,  1,      7,  12031,2,20031228,1102,-20.3660,  62.2333, 3112,   3107.5,   1.6222,  34.7234,2,-999.0000,9,    174.9,1,   -999.0,9,  -999.00,9,  -999.00,9,  -999.00,9,  -999.00,9, -999.000,9, -999.000,9, -999.000,9,   -999.0,9,   -999.0,9,-999.0000,9,  -999.00,   -999.0,9,   -999.0,  -999.00,9,  -999.00,  -999.00,9,   1.6211,2
  49NZ20031209,  I3I4,   530,  1,      6,  12030,2,20031228,1102,-20.3660,  62.2333, 3112,   3001.0,   1.7081,  34.7247,2,-999.0000,9,    172.2,1,   -999.0,9,  -999.00,9,  -999.00,9,  -999.00,9,  -999.00,9, -999.000,9, -999.000,9, -999.000,9,   -999.0,9,   -999.0,9,-999.0000,9,  -999.00,   -999.0,9,   -999.0,  -999.00,9,  -999.00,  -999.00,9,   1.7079,2
  49NZ20031209,  I3I4,   530,  1,      5,  12029,2,20031228,1102,-20.3660,  62.2333, 3112,   2000.4,   2.3738,  34.7153,2,-999.0000,9,    156.8,1,   -999.0,9,  -999.00,9,  -999.00,9,  -999.00,9,  -999.00,9, -999.000,9, -999.000,9, -999.000,9,   -999.0,9,   -999.0,9,-999.0000,9,  -999.00,   -999.0,9,   -999.0,  -999.00,9,  -999.00,  -999.00,9,   2.3736,2
  49NZ20031209,  I3I4,   530,  1,      4,  12028,2,20031228,1102,-20.3660,  62.2333, 3112,    200.7,  20.2070,  35.4995,2,-999.0000,9,    167.6,1,   -999.0,9,  -999.00,9,  -999.00,9,  -999.00,9,  -999.00,9, -999.000,9, -999.000,9, -999.000,9,   -999.0,9,   -999.0,9,-999.0000,9,  -999.00,   -999.0,9,   -999.0,  -999.00,9,  -999.00,  -999.00,9,  20.2070,2
  49NZ20031209,  I3I4,   530,  1,      3,  12027,2,20031228,1102,-20.3660,  62.2333, 3112,   1000.7,   5.3391,  34.4880,2,-999.0000,9,    157.6,1,   -999.0,9,  -999.00,9,  -999.00,9,  -999.00,9,  -999.00,9, -999.000,9, -999.000,9, -999.000,9,   -999.0,9,   -999.0,9,-999.0000,9,  -999.00,   -999.0,9,   -999.0,  -999.00,9,  -999.00,  -999.00,9,   5.3395,2
  49NZ20031209,  I3I4,   530,  1,      2,  12026,2,20031228,1102,-20.3660,  62.2333, 3112,    602.2,  10.3465,  34.8617,2,-999.0000,9,    219.1,1,   -999.0,9,  -999.00,9,  -999.00,9,  -999.00,9,  -999.00,9, -999.000,9, -999.000,9, -999.000,9,   -999.0,9,   -999.0,9,-999.0000,9,  -999.00,   -999.0,9,   -999.0,  -999.00,9,  -999.00,  -999.00,9,  10.3470,2
  49NZ20031209,  I3I4,   530,  1,      1,  12025,9,20031228,1102,-20.3660,  62.2333, 3112,   2900.9,   1.7584,  34.7250,2,-999.0000,9,    170.6,1,   -999.0,9,  -999.00,9,  -999.00,9,  -999.00,9,  -999.00,9, -999.000,9, -999.000,9, -999.000,9,   -999.0,9,   -999.0,9,-999.0000,9,  -999.00,   -999.0,9,   -999.0,  -999.00,9,  -999.00,  -999.00,9,   1.7583,2