BOTTLE,20141204PRINUNIVRMK
EXPOCODE,SECT_ID,STNNBR,CASTNO,SAMPNO,BTLNBR,BTLNBR_FLAG_W,DATE,TIME,LATITUDE,LONGITUDE,DEPTH,CTDPRS,CTDTMP,CTDSAL,CTDSAL_FLAG_W,SALNTY,SALNTY_FLAG_W,CTDOXY,CTDOXY_FLAG_W,OXYGEN,OXYGEN_FLAG_W,SILCAT,SILCAT_FLAG_W,NITRAT,NITRAT_FLAG_W,NITRIT,NITRIT_FLAG_W,PHSPHT,PHSPHT_FLAG_W,CFC-11,CFC-11_FLAG_W,CFC-12,CFC-12_FLAG_W,CFC113,CFC113_FLAG_W,TCARBN,TCARBN_FLAG_W,ALKALI,ALKALI_FLAG_W,PH_TOT,PH_TOT_FLAG_W,PH_TMP,DELC14,DELC14_FLAG_W,C14ERR,DELC13,DELC13_FLAG_W,CS-137,CS137ER,CS-137_FLAG_W,SBE35,SBE35_FLAG_W
,,,,,,,,,,,METERS,DBAR,ITS-90,PSS-78,,PSS-78,,UMOL/KG,,UMOL/KG,,UMOL/KG,,UMOL/KG,,UMOL/KG,,UMOL/KG,,PMOL/KG,,PMOL/KG,,PMOL/KG,,UMOL/KG,,UMOL/KG,,,,DEG C,/MILLE,,/MILLE,/MILLE,,DM/.1MG,DM/.1MG,,ITS-90,
  49NZ20031209,  I3I4,   497,  1,     36,  12024,2,20040105,1519,-19.9977,  81.2715, 4544,      9.4,  26.8551,  34.5767,2,  34.5767,2,    195.2,1,    203.7,2,     1.92,2,     0.05,2,     0.00,2,     0.09,2,    1.716,2,    1.064,2,    0.258,4,   1933.1,2,   2266.7,2,   8.1131,2,    25.00,   -999.0,9,   -999.0,  -999.00,9,  -999.00,  -999.00,9,  26.8544,2
  49NZ20031209,  I3I4,   497,  1,     35,  12023,2,20040105,1519,-19.9977,  81.2715, 4544,     50.3,  25.1627,  35.1735,2,  35.1764,2,    203.2,1,    212.8,2,     2.02,2,     0.04,2,     0.00,2,     0.11,2,    1.929,2,    1.148,2, -999.000,5,   1979.6,6,   2301.6,2,   8.0892,2,    25.00,   -999.0,9,   -999.0,  -999.00,9,  -999.00,  -999.00,9,  25.1574,2
  49NZ20031209,  I3I4,   497,  1,     34,  12022,2,20040105,1519,-19.9977,  81.2715, 4544,    100.2,  22.0255,  35.4069,2,  35.4054,2,    217.8,1,    227.6,2,     2.14,2,     0.04,2,     0.00,2,     0.10,2,    2.165,2,    1.269,2, -999.000,5,   1998.7,2,   2315.6,6,   8.0774,2,    25.00,   -999.0,9,   -999.0,  -999.00,9,  -999.00,  -999.00,9,  22.0275,2
  49NZ20031209,  I3I4,   497,  1,     33,  12015,2,20040105,1519,-19.9977,  81.2715, 4544,    149.5,  20.5891,  35.6146,2,  35.6257,2,    203.3,1,    209.2,2,     2.36,2,     0.25,2,     0.03,2,     0.17,2,    2.216,2,    1.291,2,    0.384,4,   2037.1,2,   2332.3,2,   8.0234,6,    25.00,   -999.0,9,   -999.0,  -999.00,9,  -999.00,  -999.00,9,  20.5849,2
  49NZ20031209,  I3I4,   497,  1,     32,  12020,2,20040105,1519,-19.9977,  81.2715, 4544,    199.4,  19.1231,  35.7776,2,  35.7801,2,    192.3,1,    200.5,2,     2.64,2,     2.18,2,     0.04,2,     0.28,2,    2.317,2,    1.345,2,    0.140,4,   2067.5,2,   2338.2,2,   7.9908,2,    25.00,   -999.0,9,   -999.0,  -999.00,9,  -999.00,  -999.00,9,  19.1196,2
  49NZ20031209,  I3I4,   497,  1,     31,  12019,2,20040105,1519,-19.9977,  81.2715, 4544,    250.7,  17.3621,  35.7833,2,  35.7731,2,    196.0,1,    203.5,2,     2.75,2,     3.16,2,     0.01,2,     0.36,2,    2.496,6,    1.432,6,    0.062,4,   2087.8,2,   2343.6,2,   7.9583,2,    25.00,   -999.0,9,   -999.0,  -999.00,9,  -999.00,  -999.00,9,  17.3618,2
  49NZ20031209,  I3I4,   497,  1,     30,  12018,2,20040105,1519,-19.9977,  81.2715, 4544,    300.2,  15.2179,  35.5623,2,  35.5585,2,    198.1,1,    205.9,2,     3.59,2,     5.73,2,     0.00,2,     0.53,2,    2.757,2,    1.528,2,    0.048,4,   2104.6,2,   2329.2,2,   7.9145,2,    25.00,   -999.0,9,   -999.0,  -999.00,9,  -999.00,  -999.00,9,  15.2233,2
  49NZ20031209,  I3I4,   497,  1,     29,  12017,2,20040105,1519,-19.9977,  81.2715, 4544,    400.6,  12.0540,  35.1271,2,  35.1215,2,    219.9,1,    228.7,2,     2.99,2,     9.71,2,     0.00,2,     0.77,2,    3.269,2,    1.747,2,    0.092,4,   2111.4,2,   2307.1,2,   7.8601,2,    25.00,   -999.0,9,   -999.0,  -999.00,9,  -999.00,  -999.00,9,  12.0528,2
  49NZ20031209,  I3I4,   497,  1,     28,  12016,2,20040105,1519,-19.9977,  81.2715, 4544,    500.8,  10.4185,  34.8704,2,  34.8623,2,    225.0,1,    233.7,2,     3.90,2,    13.41,2,     0.00,2,     0.99,2,    3.443,2,    1.808,2,    0.092,4,   2117.6,2,   2296.7,2,   7.8216,2,    25.00,   -999.0,9,   -999.0,  -999.00,9,  -999.00,  -999.00,9,  10.4183,2
  49NZ20031209,  I3I4,   497,  1,     27,  12012,2,20040105,1519,-19.9977,  81.2715, 4544,    600.4,   9.0727,  34.6730,2,  34.6687,2,    220.4,1,    229.1,2,     6.23,2,    17.64,2,     0.00,2,     1.25,2,    3.229,2,    1.635,2,    0.108,4,   2128.4,2,   2288.1,2,   7.7803,2,    25.00,   -999.0,9,   -999.0,  -999.00,9,  -999.00,  -999.00,9,   9.0733,2
  49NZ20031209,  I3I4,   497,  1,     26,  12014,2,20040105,1519,-19.9977,  81.2715, 4544,    701.1,   7.4617,  34.5293,2,  34.5281,2,    189.3,1,    196.6,2,    17.11,2,    24.47,2,     0.00,2,     1.69,2,    1.752,2,    0.866,2,    0.039,4,   2161.1,6,   2289.4,2,   7.7027,2,    25.00,   -999.0,9,   -999.0,  -999.00,9,  -999.00,  -999.00,9,   7.4624,2
  49NZ20031209,  I3I4,   497,  1,     25,  12013,2,20040105,1519,-19.9977,  81.2715, 4544,    800.9,   6.0417,  34.4961,2,  34.4964,2,    156.2,1,    161.8,2,    37.86,2,    30.36,2,     0.00,2,     2.12,2,    0.601,2,    0.294,2,    0.022,4,   2205.7,2,   2304.6,6,   7.6260,2,    25.00,   -999.0,9,   -999.0,  -999.00,9,  -999.00,  -999.00,9,   6.0416,2
  49NZ20031209,  I3I4,   497,  1,     24,  12048,2,20040105,1519,-19.9977,  81.2715, 4544,    900.3,   5.2712,  34.5592,2,  34.5587,2,    123.6,1,    128.0,2,    61.69,2,    34.14,2,     0.00,2,     2.41,2,    0.136,2,    0.066,2,    0.009,4,   2248.5,2,   2328.7,2,   7.5694,6,    25.00,   -999.0,9,   -999.0,  -999.00,9,  -999.00,  -999.00,9,   5.2697,2
  49NZ20031209,  I3I4,   497,  1,     23,  12047,2,20040105,1519,-19.9977,  81.2715, 4544,   1000.4,   4.8703,  34.6021,2,  34.6025,2,    112.1,1,    115.6,2,    75.37,2,    35.26,2,     0.00,2,     2.53,2,    0.032,6,    0.018,6,    0.000,4,   2268.5,2,   2342.3,2,   7.5506,2,    25.00,   -999.0,9,   -999.0,  -999.00,9,  -999.00,  -999.00,9,   4.8712,2
  49NZ20031209,  I3I4,   497,  1,     22,  12046,2,20040105,1519,-19.9977,  81.2715, 4544,   1200.9,   4.3799,  34.6714,2,  34.6715,2,    106.2,1,    109.6,2,    89.92,2,    35.90,2,     0.00,2,     2.58,2,    0.007,2,    0.003,2,    0.000,4,   2287.2,2,   2356.6,2,   7.5419,2,    25.00,   -999.0,9,   -999.0,  -999.00,9,  -999.00,  -999.00,9,   4.3792,2
  49NZ20031209,  I3I4,   497,  1,     21,  12045,2,20040105,1519,-19.9977,  81.2715, 4544,   1399.6,   3.7902,  34.6864,2,  34.6867,2,    116.1,1,    120.3,2,    95.46,2,    35.60,2,     0.00,2,     2.55,2,    0.002,2,   -0.001,2,    0.000,4,   2290.9,2,   2363.2,2,   7.5493,2,    25.00,   -999.0,9,   -999.0,  -999.00,9,  -999.00,  -999.00,9,   3.7900,2
  49NZ20031209,  I3I4,   497,  1,     20,  12044,2,20040105,1519,-19.9977,  81.2715, 4544,   1600.0,   3.3416,  34.7077,2,  34.7084,2,    124.6,1,    129.2,2,   100.56,2,    35.22,2,     0.00,2,     2.52,2,   -0.003,2,   -0.002,2,    0.000,4,   2292.8,2,   2369.2,2,   7.5594,2,    25.00,   -999.0,9,   -999.0,  -999.00,9,  -999.00,  -999.00,9,   3.3416,2
  49NZ20031209,  I3I4,   497,  1,     19,  12043,2,20040105,1519,-19.9977,  81.2715, 4544,   1799.9,   2.8978,  34.7215,2,  34.7211,2,    135.2,1,    140.5,2,   105.14,2,    34.65,2,     0.00,2,     2.47,2,    0.004,2,   -0.001,2,    0.000,4,   2291.4,2,   2373.4,2,   7.5734,2,    25.00,   -999.0,9,   -999.0,  -999.00,9,  -999.00,  -999.00,9,   2.8978,2
  49NZ20031209,  I3I4,   497,  1,     18,  12042,2,20040105,1519,-19.9977,  81.2715, 4544,   1999.6,   2.5513,  34.7268,2,  34.7266,2,    142.9,1,    149.0,2,   109.33,2,    34.43,2,     0.00,2,     2.43,2,   -0.001,2,   -0.001,2,    0.000,4,   2292.1,2,   2377.4,2,   7.5809,6,    25.00,   -999.0,9,   -999.0,  -999.00,9,  -999.00,  -999.00,9,   2.5513,2
  49NZ20031209,  I3I4,   497,  1,     17,  12041,2,20040105,1519,-19.9977,  81.2715, 4544,   2200.5,   2.2972,  34.7275,2,  34.7275,2,    150.9,1,    157.5,2,   110.91,2,    33.92,2,    -0.01,2,     2.39,2,    0.000,2,    0.000,2,    0.000,4,   2288.9,2,   2376.6,2,   7.5906,2,    25.00,   -999.0,9,   -999.0,  -999.00,9,  -999.00,  -999.00,9,   2.2970,2
  49NZ20031209,  I3I4,   497,  1,     16,  12040,2,20040105,1519,-19.9977,  81.2715, 4544,   2401.2,   2.0546,  34.7245,2,  34.7244,2,    162.3,1,    169.8,2,   109.16,2,    33.17,2,     0.00,2,     2.32,2,    0.003,2,   -0.001,2,    0.000,4,   2280.8,6,   2375.6,2,   7.6030,2,    25.00,   -999.0,9,   -999.0,  -999.00,9,  -999.00,  -999.00,9,   2.0545,2
  49NZ20031209,  I3I4,   497,  1,     15,  12039,2,20040105,1519,-19.9977,  81.2715, 4544,   2601.0,   1.8724,  34.7257,2,  34.7257,2,    169.1,1,    177.3,2,   109.68,2,    32.75,2,    -0.01,2,     2.29,2,   -0.003,2,    0.002,2,    0.000,4,   2276.9,2,   2375.9,6,   7.6109,2,    25.00,   -999.0,9,   -999.0,  -999.00,9,  -999.00,  -999.00,9,   1.8724,2
  49NZ20031209,  I3I4,   497,  1,     14,  12038,2,20040105,1519,-19.9977,  81.2715, 4544,   2800.1,   1.7333,  34.7272,2,  34.7270,2,    173.3,1,    181.6,2,   111.68,2,    32.51,2,     0.00,2,     2.27,2,   -0.001,2,    0.000,2,    0.000,4,   2277.4,2,   2377.4,2,   7.6253,2,    25.00,   -999.0,9,   -999.0,  -999.00,9,  -999.00,  -999.00,9,   1.7333,2
  49NZ20031209,  I3I4,   497,  1,     13,  12037,2,20040105,1519,-19.9977,  81.2715, 4544,   2999.8,   1.6062,  34.7273,2,  34.7276,2,    175.3,1,    183.6,2,   115.03,2,    32.62,2,     0.00,2,     2.26,2,   -0.002,2,   -0.003,2,    0.000,4,   2279.6,2,   2378.3,2,   7.6186,2,    25.00,   -999.0,9,   -999.0,  -999.00,9,  -999.00,  -999.00,9,   1.6061,2
  49NZ20031209,  I3I4,   497,  1,     12,  12036,2,20040105,1519,-19.9977,  81.2715, 4544,   3248.5,   1.4891,  34.7262,2,  34.7264,2,    175.9,1,    184.0,2,   119.89,2,    32.78,2,     0.00,2,     2.27,2,    0.000,2,    0.002,2,    0.000,4,   2284.1,2,   2386.0,2,   7.6221,2,    25.00,   -999.0,9,   -999.0,  -999.00,9,  -999.00,  -999.00,9,   1.4889,2
  49NZ20031209,  I3I4,   497,  1,     11,  12035,2,20040105,1519,-19.9977,  81.2715, 4544,   3500.6,   1.4128,  34.7236,2,  34.7233,2,    176.4,1,    183.9,2,   123.94,2,    33.00,2,     0.00,2,     2.28,2,   -0.002,2,    0.000,2,    0.000,4,   2289.0,2,   2389.6,2,   7.6236,2,    25.00,   -999.0,9,   -999.0,  -999.00,9,  -999.00,  -999.00,9,   1.4129,2
  49NZ20031209,  I3I4,   497,  1,     10,  12034,2,20040105,1519,-19.9977,  81.2715, 4544,   3749.2,   1.3730,  34.7213,2,  34.7213,2,    176.9,1,    184.1,2,   126.71,2,    33.11,2,     0.00,2,     2.30,2,    0.002,2,    0.000,2,    0.000,4,   2291.4,2,   2395.4,2,   7.6247,2,    25.00,   -999.0,9,   -999.0,  -999.00,9,  -999.00,  -999.00,9,   1.3729,2
  49NZ20031209,  I3I4,   497,  1,      9,  12033,2,20040105,1519,-19.9977,  81.2715, 4544,   3999.4,   1.3704,  34.7205,2,  34.7209,2,    178.8,1,    185.7,2,   126.60,2,    33.03,2,    -0.01,2,     2.29,2,    0.001,2,    0.001,2,    0.000,4,   2290.1,2,   2396.6,2,   7.6274,2,    25.00,   -999.0,9,   -999.0,  -999.00,9,  -999.00,  -999.00,9,   1.3703,2
  49NZ20031209,  I3I4,   497,  1,      8,  12032,2,20040105,1519,-19.9977,  81.2715, 4544,   4248.9,   1.3553,  34.7185,2,  34.7187,2,    178.6,1,    184.4,2,   129.43,2,    33.35,2,     0.00,2,     2.31,2,   -0.003,2,   -0.001,2,    0.000,4,   2294.2,6,   2397.9,2,   7.6258,2,    25.00,   -999.0,9,   -999.0,  -999.00,9,  -999.00,  -999.00,9,   1.3552,2
  49NZ20031209,  I3I4,   497,  1,      7,  12031,2,20040105,1519,-19.9977,  81.2715, 4544,   4498.8,   1.3746,  34.7181,2,  34.7178,2,    179.7,1,    184.3,2,   130.15,2,    33.28,2,     0.00,2,     2.31,2,    0.000,2,    0.003,2,    0.000,4,   2294.5,2,   2399.4,2,   7.6258,2,    25.00,   -999.0,9,   -999.0,  -999.00,9,  -999.00,  -999.00,9,   1.3746,2
  49NZ20031209,  I3I4,   497,  1,      6,  12030,2,20040105,1519,-19.9977,  81.2715, 4544,   4605.2,   1.3875,  34.7180,2,  34.7180,2,    180.4,1,    184.3,2,   130.13,2,    33.33,2,     0.00,2,     2.31,2,   -0.002,2,    0.000,2,    0.000,4,   2295.1,2,   2399.4,2,   7.6273,6,    25.00,   -999.0,9,   -999.0,  -999.00,9,  -999.00,  -999.00,9,   1.3876,2
  49NZ20031209,  I3I4,   497,  1,      5,  12029,9,20040105,1519,-19.9977,  81.2715, 4544,     10.1,  26.8587,  34.5768,2,-999.0000,9,    195.0,1,   -999.0,9,  -999.00,9,  -999.00,9,  -999.00,9,  -999.00,9, -999.000,9, -999.000,9, -999.000,9,   -999.0,9,   -999.0,9,-999.0000,9,  -999.00,   -999.0,9,   -999.0,  -999.00,9,  -999.00,  -999.00,9,  26.8562,2
  49NZ20031209,  I3I4,   497,  1,      4,  12028,9,20040105,1519,-19.9977,  81.2715, 4544,   1000.7,   4.8611,  34.6024,2,-999.0000,9,    112.2,1,   -999.0,9,  -999.00,9,  -999.00,9,  -999.00,9,  -999.00,9, -999.000,9, -999.000,9, -999.000,9,   -999.0,9,   -999.0,9,-999.0000,9,  -999.00,   -999.0,9,   -999.0,  -999.00,9,  -999.00,  -999.00,9,   4.8617,2
  49NZ20031209,  I3I4,   497,  1,      3,  12027,2,20040105,1519,-19.9977,  81.2715, 4544,   4499.0,   1.3745,  34.7182,2,  34.7179,2,    179.7,1,    184.3,2,   130.03,2,    33.25,2,     0.00,2,     2.31,2,    0.003,2,    0.003,2,    0.000,4,   2297.1,2,   2398.3,6,   7.6275,2,    25.00,   -999.0,9,   -999.0,  -999.00,9,  -999.00,  -999.00,9,   1.3745,2
  49NZ20031209,  I3I4,   497,  1,      2,  12026,9,20040105,1519,-19.9977,  81.2715, 4544,   1000.6,   4.8626,  34.6023,2,-999.0000,9,    112.2,1,   -999.0,9,  -999.00,9,  -999.00,9,  -999.00,9,  -999.00,9, -999.000,9, -999.000,9, -999.000,9,   -999.0,9,   -999.0,9,-999.0000,9,  -999.00,   -999.0,9,   -999.0,  -999.00,9,  -999.00,  -999.00,9,   4.8631,2
  49NZ20031209,  I3I4,   497,  1,      1,  12025,9,20040105,1519,-19.9977,  81.2715, 4544,   1000.2,   4.8647,  34.6022,2,-999.0000,9,    112.0,1,   -999.0,9,  -999.00,9,  -999.00,9,  -999.00,9,  -999.00,9, -999.000,9, -999.000,9, -999.000,9,   -999.0,9,   -999.0,9,-999.0000,9,  -999.00,   -999.0,9,   -999.0,  -999.00,9,  -999.00,  -999.00,9,   4.8652,2