BOTTLE,20141204PRINUNIVRMK
EXPOCODE,SECT_ID,STNNBR,CASTNO,SAMPNO,BTLNBR,BTLNBR_FLAG_W,DATE,TIME,LATITUDE,LONGITUDE,DEPTH,CTDPRS,CTDTMP,CTDSAL,CTDSAL_FLAG_W,SALNTY,SALNTY_FLAG_W,CTDOXY,CTDOXY_FLAG_W,OXYGEN,OXYGEN_FLAG_W,SILCAT,SILCAT_FLAG_W,NITRAT,NITRAT_FLAG_W,NITRIT,NITRIT_FLAG_W,PHSPHT,PHSPHT_FLAG_W,CFC-11,CFC-11_FLAG_W,CFC-12,CFC-12_FLAG_W,CFC113,CFC113_FLAG_W,TCARBN,TCARBN_FLAG_W,ALKALI,ALKALI_FLAG_W,PH_TOT,PH_TOT_FLAG_W,PH_TMP,DELC14,DELC14_FLAG_W,C14ERR,DELC13,DELC13_FLAG_W,CS-137,CS137ER,CS-137_FLAG_W,SBE35,SBE35_FLAG_W
,,,,,,,,,,,METERS,DBAR,ITS-90,PSS-78,,PSS-78,,UMOL/KG,,UMOL/KG,,UMOL/KG,,UMOL/KG,,UMOL/KG,,UMOL/KG,,PMOL/KG,,PMOL/KG,,PMOL/KG,,UMOL/KG,,UMOL/KG,,,,DEG C,/MILLE,,/MILLE,/MILLE,,DM/.1MG,DM/.1MG,,ITS-90,
  49NZ20031209,  I3I4,   594,  1,     36,  12024,2,20031215,1639,-24.6622,  40.4982, 3563,      8.8,  26.4885,  35.2952,2,  35.3150,2,    198.9,1,    207.3,2,     1.78,2,     0.02,2,     0.01,2,     0.12,2, -999.000,9, -999.000,9, -999.000,9,   -999.0,9,   -999.0,9,-999.0000,9,  -999.00,   -999.0,9,   -999.0,  -999.00,9,  -999.00,  -999.00,9,  26.5394,2
  49NZ20031209,  I3I4,   594,  1,     35,  12023,2,20031215,1639,-24.6622,  40.4982, 3563,     50.0,  23.5582,  35.3460,2,  35.3384,2,    210.8,1,    221.9,2,     1.64,2,     0.02,2,     0.01,2,     0.13,2, -999.000,9, -999.000,9, -999.000,9,   -999.0,9,   -999.0,9,-999.0000,9,  -999.00,   -999.0,9,   -999.0,  -999.00,9,  -999.00,  -999.00,9,  23.5464,2
  49NZ20031209,  I3I4,   594,  1,     34,  12022,2,20031215,1639,-24.6622,  40.4982, 3563,    100.2,  20.6150,  35.4681,2,  35.4711,2,    189.8,1,    199.1,2,     3.02,2,     1.83,2,     0.27,2,     0.30,2, -999.000,9, -999.000,9, -999.000,9,   -999.0,9,   -999.0,9,-999.0000,9,  -999.00,   -999.0,9,   -999.0,  -999.00,9,  -999.00,  -999.00,1,  20.6133,2
  49NZ20031209,  I3I4,   594,  1,     33,  12015,2,20031215,1639,-24.6622,  40.4982, 3563,    151.0,  17.7935,  35.5600,2,  35.5646,2,    170.7,1,    178.9,2,     6.39,2,     6.59,2,     0.03,2,     0.57,2, -999.000,9, -999.000,9, -999.000,9,   -999.0,9,   -999.0,9,-999.0000,9,  -999.00,   -999.0,9,   -999.0,  -999.00,9,  -999.00,  -999.00,9,  17.7636,2
  49NZ20031209,  I3I4,   594,  1,     32,  12020,2,20031215,1639,-24.6622,  40.4982, 3563,    198.9,  16.9527,  35.5676,2,  35.5684,2,    176.9,1,    185.0,2,     6.12,2,     6.80,2,     0.01,2,     0.59,2, -999.000,9, -999.000,9, -999.000,9,   -999.0,9,   -999.0,9,-999.0000,9,  -999.00,   -999.0,9,   -999.0,  -999.00,9,  -999.00,  -999.00,1,  16.9679,2
  49NZ20031209,  I3I4,   594,  1,     31,  12019,2,20031215,1639,-24.6622,  40.4982, 3563,    248.1,  16.1115,  35.5716,2,  35.5725,2,    192.9,1,    201.5,2,     4.49,2,     5.92,2,     0.02,2,     0.53,2, -999.000,9, -999.000,9, -999.000,9,   -999.0,9,   -999.0,9,-999.0000,9,  -999.00,   -999.0,9,   -999.0,  -999.00,9,  -999.00,  -999.00,9,  16.1136,2
  49NZ20031209,  I3I4,   594,  1,     30,  12018,2,20031215,1639,-24.6622,  40.4982, 3563,    300.5,  15.0107,  35.4761,2,  35.4786,2,    196.4,1,    205.1,2,     4.45,2,     7.02,2,     0.02,2,     0.61,2, -999.000,9, -999.000,9, -999.000,9,   -999.0,9,   -999.0,9,-999.0000,9,  -999.00,   -999.0,9,   -999.0,  -999.00,9,  -999.00,  -999.00,9,  15.0100,2
  49NZ20031209,  I3I4,   594,  1,     29,  12017,2,20031215,1639,-24.6622,  40.4982, 3563,    400.5,  13.2324,  35.2771,2,  35.2762,2,    210.4,1,    219.5,2,     4.25,2,     9.11,2,    -0.01,2,     0.73,2, -999.000,9, -999.000,9, -999.000,9,   -999.0,9,   -999.0,9,-999.0000,9,  -999.00,   -999.0,9,   -999.0,  -999.00,9,  -999.00,  -999.00,1,  13.2307,2
  49NZ20031209,  I3I4,   594,  1,     28,  12016,2,20031215,1639,-24.6622,  40.4982, 3563,    499.9,  12.0103,  35.0938,2,  35.0918,2,    212.0,1,    220.8,2,     4.82,2,    11.62,2,     0.00,2,     0.89,2, -999.000,9, -999.000,9, -999.000,9,   -999.0,9,   -999.0,9,-999.0000,9,  -999.00,   -999.0,9,   -999.0,  -999.00,9,  -999.00,  -999.00,9,  12.0082,2
  49NZ20031209,  I3I4,   594,  1,     27,  12012,2,20031215,1639,-24.6622,  40.4982, 3563,    598.3,  10.7347,  34.9110,2,  34.9057,2,    211.4,1,    220.6,2,     5.94,2,    14.43,2,     0.01,2,     1.07,2, -999.000,9, -999.000,9, -999.000,9,   -999.0,9,   -999.0,9,-999.0000,9,  -999.00,   -999.0,9,   -999.0,  -999.00,9,  -999.00,  -999.00,1,  10.7282,2
  49NZ20031209,  I3I4,   594,  1,     26,  12014,2,20031215,1639,-24.6622,  40.4982, 3563,    699.4,   9.3511,  34.7365,2,  34.7315,2,    200.4,1,    207.7,2,    10.71,2,    19.06,2,     0.01,2,     1.36,2, -999.000,9, -999.000,9, -999.000,9,   -999.0,9,   -999.0,9,-999.0000,9,  -999.00,   -999.0,9,   -999.0,  -999.00,9,  -999.00,  -999.00,9,   9.3343,2
  49NZ20031209,  I3I4,   594,  1,     25,  12013,2,20031215,1639,-24.6622,  40.4982, 3563,    801.7,   7.8946,  34.5925,2,  34.5928,2,    192.9,1,    200.6,2,    16.41,2,    23.22,2,     0.00,2,     1.63,2, -999.000,9, -999.000,9, -999.000,9,   -999.0,9,   -999.0,9,-999.0000,9,  -999.00,   -999.0,9,   -999.0,  -999.00,9,  -999.00,  -999.00,1,   7.8940,2
  49NZ20031209,  I3I4,   594,  1,     24,  12048,2,20031215,1639,-24.6622,  40.4982, 3563,    899.2,   6.3012,  34.4934,2,  34.4931,2,    182.5,1,    189.9,2,    27.56,2,    27.67,2,     0.00,2,     1.93,2, -999.000,9, -999.000,9, -999.000,9,   -999.0,9,   -999.0,9,-999.0000,9,  -999.00,   -999.0,9,   -999.0,  -999.00,9,  -999.00,  -999.00,9,   6.2973,2
  49NZ20031209,  I3I4,   594,  1,     23,  12047,3,20031215,1639,-24.6622,  40.4982, 3563,   1000.9,   5.9364,  34.5923,2,  34.5919,2,    146.1,1,    152.1,2,    45.65,2,    31.23,2,    -0.01,2,     2.22,2, -999.000,9, -999.000,9, -999.000,9,   -999.0,9,   -999.0,9,-999.0000,9,  -999.00,   -999.0,9,   -999.0,  -999.00,9,  -999.00,  -999.00,1,   5.9349,2
  49NZ20031209,  I3I4,   594,  1,     22,  12046,2,20031215,1639,-24.6622,  40.4982, 3563,   1200.8,   4.3166,  34.5765,2,  34.5769,2,    148.4,1,    154.4,2,    61.73,2,    33.45,2,     0.01,2,     2.38,2, -999.000,9, -999.000,9, -999.000,9,   -999.0,9,   -999.0,9,-999.0000,9,  -999.00,   -999.0,9,   -999.0,  -999.00,9,  -999.00,  -999.00,1,   4.3146,2
  49NZ20031209,  I3I4,   594,  1,     21,  12045,2,20031215,1639,-24.6622,  40.4982, 3563,   1400.0,   4.1256,  34.7009,2,  34.7005,2,    128.6,1,    133.4,2,    78.62,2,    34.54,2,     0.01,2,     2.47,2, -999.000,9, -999.000,9, -999.000,9,   -999.0,9,   -999.0,9,-999.0000,9,  -999.00,   -999.0,9,   -999.0,  -999.00,9,  -999.00,  -999.00,1,   4.1243,2
  49NZ20031209,  I3I4,   594,  1,     20,  12044,2,20031215,1639,-24.6622,  40.4982, 3563,   1599.7,   3.2383,  34.6925,2,  34.6937,2,    150.9,1,    156.9,2,    79.75,2,    33.36,2,     0.01,2,     2.36,2, -999.000,9, -999.000,9, -999.000,9,   -999.0,9,   -999.0,9,-999.0000,9,  -999.00,   -999.0,9,   -999.0,  -999.00,9,  -999.00,  -999.00,9,   3.2378,2
  49NZ20031209,  I3I4,   594,  1,     19,  12043,2,20031215,1639,-24.6622,  40.4982, 3563,   1799.7,   2.8563,  34.7254,2,  34.7261,2,    162.6,1,    169.2,2,    81.01,2,    32.08,2,    -0.01,2,     2.26,2, -999.000,9, -999.000,9, -999.000,9,   -999.0,9,   -999.0,9,-999.0000,9,  -999.00,   -999.0,9,   -999.0,  -999.00,9,  -999.00,  -999.00,9,   2.8564,2
  49NZ20031209,  I3I4,   594,  1,     18,  12042,2,20031215,1639,-24.6622,  40.4982, 3563,   1999.7,   2.6445,  34.7518,2,  34.7524,2,    171.9,1,    179.0,2,    80.12,2,    31.02,2,     0.01,2,     2.18,2, -999.000,9, -999.000,9, -999.000,9,   -999.0,9,   -999.0,9,-999.0000,9,  -999.00,   -999.0,9,   -999.0,  -999.00,9,     0.00,     0.01,2,   2.6445,2
  49NZ20031209,  I3I4,   594,  1,     17,  12041,2,20031215,1639,-24.6622,  40.4982, 3563,   2200.1,   2.4909,  34.7716,2,  34.7713,2,    181.2,1,    188.6,2,    77.98,2,    30.02,2,     0.00,2,     2.09,2, -999.000,9, -999.000,9, -999.000,9,   -999.0,9,   -999.0,9,-999.0000,9,  -999.00,   -999.0,9,   -999.0,  -999.00,9,  -999.00,  -999.00,9,   2.4909,2
  49NZ20031209,  I3I4,   594,  1,     16,  12040,2,20031215,1639,-24.6622,  40.4982, 3563,   2399.8,   2.3637,  34.7855,2,  34.7859,2,    189.8,1,    198.0,2,    75.54,2,    29.11,2,    -0.01,2,     2.02,2, -999.000,9, -999.000,9, -999.000,9,   -999.0,9,   -999.0,9,-999.0000,9,  -999.00,   -999.0,9,   -999.0,  -999.00,9,  -999.00,  -999.00,1,   2.3639,2
  49NZ20031209,  I3I4,   594,  1,     15,  12039,2,20031215,1639,-24.6622,  40.4982, 3563,   2600.2,   2.2495,  34.7951,2,  34.7959,2,    197.6,1,    205.7,2,    73.60,2,    28.25,2,     0.01,2,     1.96,2, -999.000,9, -999.000,9, -999.000,9,   -999.0,9,   -999.0,9,-999.0000,9,  -999.00,   -999.0,9,   -999.0,  -999.00,9,  -999.00,  -999.00,9,   2.2491,2
  49NZ20031209,  I3I4,   594,  1,     14,  12038,2,20031215,1639,-24.6622,  40.4982, 3563,   2798.5,   2.1421,  34.7976,2,  34.7983,2,    202.1,1,    210.2,2,    73.85,2,    28.03,2,     0.00,2,     1.94,2, -999.000,9, -999.000,9, -999.000,9,   -999.0,9,   -999.0,9,-999.0000,9,  -999.00,   -999.0,9,   -999.0,  -999.00,9,  -999.00,  -999.00,9,   2.1418,2
  49NZ20031209,  I3I4,   594,  1,     13,  12037,2,20031215,1639,-24.6622,  40.4982, 3563,   3001.0,   1.9946,  34.7945,2,  34.7951,2,    205.4,1,    213.1,2,    76.63,2,    28.05,2,    -0.01,2,     1.94,2, -999.000,9, -999.000,9, -999.000,9,   -999.0,9,   -999.0,9,-999.0000,9,  -999.00,   -999.0,9,   -999.0,  -999.00,9,     0.00,     0.01,2,   1.9945,2
  49NZ20031209,  I3I4,   594,  1,     12,  12036,2,20031215,1639,-24.6622,  40.4982, 3563,   3250.5,   1.7531,  34.7823,2,  34.7823,2,    207.9,1,    215.2,2,    83.06,2,    28.49,2,    -0.01,2,     1.97,2, -999.000,9, -999.000,9, -999.000,9,   -999.0,9,   -999.0,9,-999.0000,9,  -999.00,   -999.0,9,   -999.0,  -999.00,9,  -999.00,  -999.00,9,   1.7532,2
  49NZ20031209,  I3I4,   594,  1,     11,  12035,2,20031215,1639,-24.6622,  40.4982, 3563,   3604.3,   1.3211,  34.7532,2,  34.7532,2,    210.6,1,    216.4,2,    96.59,2,    29.79,2,     0.01,2,     2.07,2, -999.000,9, -999.000,9, -999.000,9,   -999.0,9,   -999.0,9,-999.0000,9,  -999.00,   -999.0,9,   -999.0,  -999.00,9,     0.01,     0.01,2,   1.3210,2
  49NZ20031209,  I3I4,   594,  1,     10,  12034,9,20031215,1639,-24.6622,  40.4982, 3563,   2899.5,   2.0712,  34.7972,2,-999.0000,9,    204.2,1,   -999.0,9,  -999.00,9,  -999.00,9,  -999.00,9,  -999.00,9, -999.000,9, -999.000,9, -999.000,9,   -999.0,9,   -999.0,9,-999.0000,9,  -999.00,   -999.0,9,   -999.0,  -999.00,9,  -999.00,  -999.00,9,   2.0712,2
  49NZ20031209,  I3I4,   594,  1,      9,  12033,9,20031215,1639,-24.6622,  40.4982, 3563,   3100.1,   1.9253,  34.7911,2,-999.0000,9,    206.0,1,   -999.0,9,  -999.00,9,  -999.00,9,  -999.00,9,  -999.00,9, -999.000,9, -999.000,9, -999.000,9,   -999.0,9,   -999.0,9,-999.0000,9,  -999.00,   -999.0,9,   -999.0,  -999.00,9,  -999.00,  -999.00,9,   1.9254,2
  49NZ20031209,  I3I4,   594,  1,      8,  12032,9,20031215,1639,-24.6622,  40.4982, 3563,   3351.8,   1.6358,  34.7749,2,-999.0000,9,    208.9,1,   -999.0,9,  -999.00,9,  -999.00,9,  -999.00,9,  -999.00,9, -999.000,9, -999.000,9, -999.000,9,   -999.0,9,   -999.0,9,-999.0000,9,  -999.00,   -999.0,9,   -999.0,  -999.00,9,  -999.00,  -999.00,9,   1.6362,2
  49NZ20031209,  I3I4,   594,  1,      7,  12031,2,20031215,1639,-24.6622,  40.4982, 3563,    801.2,   7.8926,  34.5929,2,-999.0000,9,    193.3,1,   -999.0,9,  -999.00,9,  -999.00,9,  -999.00,9,  -999.00,9, -999.000,9, -999.000,9, -999.000,9,   -999.0,9,   -999.0,9,-999.0000,9,  -999.00,   -999.0,9,   -999.0,  -999.00,9,  -999.00,  -999.00,9,   7.8924,2
  49NZ20031209,  I3I4,   594,  1,      6,  12030,2,20031215,1639,-24.6622,  40.4982, 3563,   3000.7,   1.9954,  34.7945,2,-999.0000,9,    205.4,1,   -999.0,9,  -999.00,9,  -999.00,9,  -999.00,9,  -999.00,9, -999.000,9, -999.000,9, -999.000,9,   -999.0,9,   -999.0,9,-999.0000,9,  -999.00,   -999.0,9,   -999.0,  -999.00,9,  -999.00,  -999.00,9,   1.9953,2
  49NZ20031209,  I3I4,   594,  1,      5,  12029,2,20031215,1639,-24.6622,  40.4982, 3563,   2000.2,   2.6453,  34.7516,2,-999.0000,9,    171.9,1,   -999.0,9,  -999.00,9,  -999.00,9,  -999.00,9,  -999.00,9, -999.000,9, -999.000,9, -999.000,9,   -999.0,9,   -999.0,9,-999.0000,9,  -999.00,   -999.0,9,   -999.0,  -999.00,9,  -999.00,  -999.00,9,   2.6454,2
  49NZ20031209,  I3I4,   594,  1,      4,  12028,2,20031215,1639,-24.6622,  40.4982, 3563,    199.8,  17.0064,  35.5682,2,-999.0000,9,    176.8,1,   -999.0,9,  -999.00,9,  -999.00,9,  -999.00,9,  -999.00,9, -999.000,9, -999.000,9, -999.000,9,   -999.0,9,   -999.0,9,-999.0000,9,  -999.00,   -999.0,9,   -999.0,  -999.00,9,  -999.00,  -999.00,9,  17.0011,2
  49NZ20031209,  I3I4,   594,  1,      3,  12027,2,20031215,1639,-24.6622,  40.4982, 3563,    999.9,   5.9333,  34.5917,2,-999.0000,9,    146.2,1,   -999.0,9,  -999.00,9,  -999.00,9,  -999.00,9,  -999.00,9, -999.000,9, -999.000,9, -999.000,9,   -999.0,9,   -999.0,9,-999.0000,9,  -999.00,   -999.0,9,   -999.0,  -999.00,9,  -999.00,  -999.00,9,   5.9338,2
  49NZ20031209,  I3I4,   594,  1,      2,  12026,2,20031215,1639,-24.6622,  40.4982, 3563,    598.6,  10.7349,  34.9113,2,-999.0000,9,    211.5,1,   -999.0,9,  -999.00,9,  -999.00,9,  -999.00,9,  -999.00,9, -999.000,9, -999.000,9, -999.000,9,   -999.0,9,   -999.0,9,-999.0000,9,  -999.00,   -999.0,9,   -999.0,  -999.00,9,  -999.00,  -999.00,9,  10.7387,2
  49NZ20031209,  I3I4,   594,  1,      1,  12025,2,20031215,1639,-24.6622,  40.4982, 3563,   3605.3,   1.3206,  34.7530,2,-999.0000,9,    210.6,1,   -999.0,9,  -999.00,9,  -999.00,9,  -999.00,9,  -999.00,9, -999.000,9, -999.000,9, -999.000,9,   -999.0,9,   -999.0,9,-999.0000,9,  -999.00,   -999.0,9,   -999.0,  -999.00,9,  -999.00,  -999.00,9,   1.3207,2