BOTTLE,20141204PRINUNIVRMK
EXPOCODE,SECT_ID,STNNBR,CASTNO,SAMPNO,BTLNBR,BTLNBR_FLAG_W,DATE,TIME,LATITUDE,LONGITUDE,DEPTH,CTDPRS,CTDTMP,CTDSAL,CTDSAL_FLAG_W,SALNTY,SALNTY_FLAG_W,CTDOXY,CTDOXY_FLAG_W,OXYGEN,OXYGEN_FLAG_W,SILCAT,SILCAT_FLAG_W,NITRAT,NITRAT_FLAG_W,NITRIT,NITRIT_FLAG_W,PHSPHT,PHSPHT_FLAG_W,CFC-11,CFC-11_FLAG_W,CFC-12,CFC-12_FLAG_W,CFC113,CFC113_FLAG_W,TCARBN,TCARBN_FLAG_W,ALKALI,ALKALI_FLAG_W,PH_TOT,PH_TOT_FLAG_W,PH_TMP,DELC14,DELC14_FLAG_W,C14ERR,DELC13,DELC13_FLAG_W,CS-137,CS137ER,CS-137_FLAG_W,SBE35,SBE35_FLAG_W
,,,,,,,,,,,METERS,DBAR,ITS-90,PSS-78,,PSS-78,,UMOL/KG,,UMOL/KG,,UMOL/KG,,UMOL/KG,,UMOL/KG,,UMOL/KG,,PMOL/KG,,PMOL/KG,,PMOL/KG,,UMOL/KG,,UMOL/KG,,,,DEG C,/MILLE,,/MILLE,/MILLE,,DM/.1MG,DM/.1MG,,ITS-90,
  49NZ20031209,  I3I4,   452,  1,     36,  12024,2,20040119,1902,-21.6622, 111.3705, 5058,     10.2,  24.9788,  35.2443,2,  35.2602,2,    198.5,1,    209.0,2,     2.70,2,     0.02,2,     0.01,2,     0.07,2, -999.000,9, -999.000,9, -999.000,9,   -999.0,9,   -999.0,9,-999.0000,9,  -999.00,   -999.0,9,   -999.0,  -999.00,9,  -999.00,  -999.00,9,  24.9773,2
  49NZ20031209,  I3I4,   452,  1,     35,  12023,2,20040119,1902,-21.6622, 111.3705, 5058,     49.9,  22.0416,  35.2568,2,  35.2453,2,    203.7,1,    214.2,2,     3.26,2,     0.01,2,     0.01,2,     0.11,2, -999.000,9, -999.000,9, -999.000,9,   -999.0,9,   -999.0,9,-999.0000,9,  -999.00,   -999.0,9,   -999.0,  -999.00,9,  -999.00,  -999.00,9,  22.0419,2
  49NZ20031209,  I3I4,   452,  1,     34,  12022,2,20040119,1902,-21.6622, 111.3705, 5058,     99.7,  20.2937,  35.4577,2,  35.4658,2,    185.3,1,    196.5,2,     3.98,2,     2.27,2,     0.12,2,     0.27,2, -999.000,9, -999.000,9, -999.000,9,   -999.0,9,   -999.0,9,-999.0000,9,  -999.00,   -999.0,9,   -999.0,  -999.00,9,  -999.00,  -999.00,9,  20.2918,2
  49NZ20031209,  I3I4,   452,  1,     33,  12015,2,20040119,1902,-21.6622, 111.3705, 5058,    149.5,  18.9367,  35.6543,2,  35.6544,2,    182.8,1,    192.2,2,     4.05,2,     3.54,2,     0.03,2,     0.35,2, -999.000,9, -999.000,9, -999.000,9,   -999.0,9,   -999.0,9,-999.0000,9,  -999.00,   -999.0,9,   -999.0,  -999.00,9,  -999.00,  -999.00,9,  18.9434,2
  49NZ20031209,  I3I4,   452,  1,     32,  12020,2,20040119,1902,-21.6622, 111.3705, 5058,    199.4,  17.5542,  35.6999,2,  35.7071,2,    194.3,1,    205.4,2,     3.32,2,     3.07,2,     0.02,2,     0.33,2, -999.000,9, -999.000,9, -999.000,9,   -999.0,9,   -999.0,9,-999.0000,9,  -999.00,   -999.0,9,   -999.0,  -999.00,9,  -999.00,  -999.00,9,  17.5538,2
  49NZ20031209,  I3I4,   452,  1,     31,  12019,2,20040119,1902,-21.6622, 111.3705, 5058,    250.4,  16.3337,  35.7304,2,  35.7238,2,    214.2,1,    225.2,2,     1.62,2,     1.77,2,     0.02,2,     0.26,2, -999.000,9, -999.000,9, -999.000,9,   -999.0,9,   -999.0,9,-999.0000,9,  -999.00,   -999.0,9,   -999.0,  -999.00,9,  -999.00,  -999.00,9,  16.3342,2
  49NZ20031209,  I3I4,   452,  1,     30,  12018,2,20040119,1902,-21.6622, 111.3705, 5058,    300.5,  14.5759,  35.5029,2,  35.4850,2,    218.6,1,    229.7,2,     1.53,2,     3.84,2,     0.01,2,     0.40,2, -999.000,9, -999.000,9, -999.000,9,   -999.0,9,   -999.0,9,-999.0000,9,  -999.00,   -999.0,9,   -999.0,  -999.00,9,  -999.00,  -999.00,9,  14.5985,2
  49NZ20031209,  I3I4,   452,  1,     29,  12017,2,20040119,1902,-21.6622, 111.3705, 5058,    400.5,  11.0875,  34.9531,2,  34.9495,2,    226.9,1,    238.0,2,     3.02,2,    10.89,2,     0.01,2,     0.84,2, -999.000,9, -999.000,9, -999.000,9,   -999.0,9,   -999.0,9,-999.0000,9,  -999.00,   -999.0,9,   -999.0,  -999.00,9,  -999.00,  -999.00,9,  11.0887,2
  49NZ20031209,  I3I4,   452,  1,     28,  12016,2,20040119,1902,-21.6622, 111.3705, 5058,    499.7,   9.2741,  34.6825,2,  34.6798,2,    224.9,1,    235.4,2,     5.22,2,    16.64,2,     0.01,2,     1.19,2, -999.000,9, -999.000,9, -999.000,9,   -999.0,9,   -999.0,9,-999.0000,9,  -999.00,   -999.0,9,   -999.0,  -999.00,9,  -999.00,  -999.00,9,   9.2752,2
  49NZ20031209,  I3I4,   452,  1,     27,  12012,2,20040119,1902,-21.6622, 111.3705, 5058,    600.0,   7.7994,  34.5387,2,  34.5375,2,    199.6,1,    208.4,2,    13.71,2,    22.81,2,     0.00,2,     1.59,2, -999.000,9, -999.000,9, -999.000,9,   -999.0,9,   -999.0,9,-999.0000,9,  -999.00,   -999.0,9,   -999.0,  -999.00,9,  -999.00,  -999.00,9,   7.8002,2
  49NZ20031209,  I3I4,   452,  1,     26,  12014,2,20040119,1902,-21.6622, 111.3705, 5058,    700.8,   6.2029,  34.4933,2,  34.4939,2,    156.6,1,    163.5,2,    36.71,2,    29.96,2,     0.00,2,     2.09,2, -999.000,9, -999.000,9, -999.000,9,   -999.0,9,   -999.0,9,-999.0000,9,  -999.00,   -999.0,9,   -999.0,  -999.00,9,  -999.00,  -999.00,9,   6.2031,2
  49NZ20031209,  I3I4,   452,  1,     25,  12013,2,20040119,1902,-21.6622, 111.3705, 5058,    801.0,   5.8400,  34.6041,2,  34.6041,2,    100.3,1,    103.9,2,    69.73,2,    34.86,2,     0.00,2,     2.51,2, -999.000,9, -999.000,9, -999.000,9,   -999.0,9,   -999.0,9,-999.0000,9,  -999.00,   -999.0,9,   -999.0,  -999.00,9,  -999.00,  -999.00,9,   5.8400,2
  49NZ20031209,  I3I4,   452,  1,     24,  12048,2,20040119,1902,-21.6622, 111.3705, 5058,    900.6,   5.4322,  34.6186,2,  34.6185,2,     94.8,1,     98.1,2,    79.08,2,    35.69,2,     0.01,2,     2.58,2, -999.000,9, -999.000,9, -999.000,9,   -999.0,9,   -999.0,9,-999.0000,9,  -999.00,   -999.0,9,   -999.0,  -999.00,9,  -999.00,  -999.00,9,   5.4318,2
  49NZ20031209,  I3I4,   452,  1,     23,  12047,2,20040119,1902,-21.6622, 111.3705, 5058,   1000.4,   5.0556,  34.6340,2,  34.6339,2,     91.5,1,     94.8,2,    88.46,2,    36.25,2,     0.01,2,     2.63,2, -999.000,9, -999.000,9, -999.000,9,   -999.0,9,   -999.0,9,-999.0000,9,  -999.00,   -999.0,9,   -999.0,  -999.00,9,  -999.00,  -999.00,9,   5.0562,2
  49NZ20031209,  I3I4,   452,  1,     22,  12046,2,20040119,1902,-21.6622, 111.3705, 5058,   1200.3,   4.3152,  34.6370,2,  34.6370,2,    101.3,1,    105.3,2,    95.38,2,    36.37,2,     0.01,2,     2.62,2, -999.000,9, -999.000,9, -999.000,9,   -999.0,9,   -999.0,9,-999.0000,9,  -999.00,   -999.0,9,   -999.0,  -999.00,9,  -999.00,  -999.00,9,   4.3152,2
  49NZ20031209,  I3I4,   452,  1,     21,  12045,2,20040119,1902,-21.6622, 111.3705, 5058,   1401.2,   3.5986,  34.6539,2,  34.6539,2,    114.7,1,    119.7,2,    99.74,2,    36.01,2,     0.01,2,     2.59,2, -999.000,9, -999.000,9, -999.000,9,   -999.0,9,   -999.0,9,-999.0000,9,  -999.00,   -999.0,9,   -999.0,  -999.00,9,  -999.00,  -999.00,9,   3.5987,2
  49NZ20031209,  I3I4,   452,  1,     20,  12044,2,20040119,1902,-21.6622, 111.3705, 5058,   1600.4,   3.0833,  34.6785,2,  34.6783,2,    125.9,1,    131.9,2,   103.31,2,    35.49,2,     0.01,2,     2.53,2, -999.000,9, -999.000,9, -999.000,9,   -999.0,9,   -999.0,9,-999.0000,9,  -999.00,   -999.0,9,   -999.0,  -999.00,9,  -999.00,  -999.00,9,   3.0840,2
  49NZ20031209,  I3I4,   452,  1,     19,  12043,2,20040119,1902,-21.6622, 111.3705, 5058,   1799.2,   2.6383,  34.7042,2,  34.7053,2,    135.2,1,    141.9,2,   109.47,2,    35.03,2,     0.01,2,     2.49,2, -999.000,9, -999.000,9, -999.000,9,   -999.0,9,   -999.0,9,-999.0000,9,  -999.00,   -999.0,9,   -999.0,  -999.00,9,  -999.00,  -999.00,9,   2.6385,2
  49NZ20031209,  I3I4,   452,  1,     18,  12042,2,20040119,1902,-21.6622, 111.3705, 5058,   2001.2,   2.3395,  34.7188,2,  34.7192,2,    140.4,1,    147.7,2,   115.67,2,    34.75,2,     0.01,2,     2.47,2, -999.000,9, -999.000,9, -999.000,9,   -999.0,9,   -999.0,9,-999.0000,9,  -999.00,   -999.0,9,   -999.0,  -999.00,9,  -999.00,  -999.00,9,   2.3395,2
  49NZ20031209,  I3I4,   452,  1,     17,  12041,2,20040119,1902,-21.6622, 111.3705, 5058,   2199.8,   2.1407,  34.7246,2,  34.7246,2,    144.5,1,    152.3,2,   119.59,2,    34.57,2,     0.01,2,     2.45,2, -999.000,9, -999.000,9, -999.000,9,   -999.0,9,   -999.0,9,-999.0000,9,  -999.00,   -999.0,9,   -999.0,  -999.00,9,  -999.00,  -999.00,9,   2.1407,2
  49NZ20031209,  I3I4,   452,  1,     16,  12040,2,20040119,1902,-21.6622, 111.3705, 5058,   2400.5,   1.9982,  34.7262,2,  34.7266,2,    148.6,1,    156.8,2,   121.21,2,    34.41,2,     0.01,2,     2.43,2, -999.000,9, -999.000,9, -999.000,9,   -999.0,9,   -999.0,9,-999.0000,9,  -999.00,   -999.0,9,   -999.0,  -999.00,9,  -999.00,  -999.00,9,   1.9983,2
  49NZ20031209,  I3I4,   452,  1,     15,  12039,2,20040119,1902,-21.6622, 111.3705, 5058,   2601.3,   1.8581,  34.7259,2,  34.7258,2,    153.7,1,    162.3,2,   122.28,2,    34.18,2,     0.01,2,     2.41,2, -999.000,9, -999.000,9, -999.000,9,   -999.0,9,   -999.0,9,-999.0000,9,  -999.00,   -999.0,9,   -999.0,  -999.00,9,  -999.00,  -999.00,9,   1.8579,2
  49NZ20031209,  I3I4,   452,  1,     14,  12038,2,20040119,1902,-21.6622, 111.3705, 5058,   2800.7,   1.7280,  34.7251,2,  34.7255,2,    159.0,1,    168.1,2,   122.40,2,    33.89,2,     0.01,2,     2.39,2, -999.000,9, -999.000,9, -999.000,9,   -999.0,9,   -999.0,9,-999.0000,9,  -999.00,   -999.0,9,   -999.0,  -999.00,9,  -999.00,  -999.00,9,   1.7279,2
  49NZ20031209,  I3I4,   452,  1,     13,  12037,2,20040119,1902,-21.6622, 111.3705, 5058,   2999.7,   1.6123,  34.7240,2,  34.7238,2,    164.0,1,    173.4,2,   122.73,2,    33.63,2,     0.01,2,     2.36,2, -999.000,9, -999.000,9, -999.000,9,   -999.0,9,   -999.0,9,-999.0000,9,  -999.00,   -999.0,9,   -999.0,  -999.00,9,  -999.00,  -999.00,9,   1.6124,2
  49NZ20031209,  I3I4,   452,  1,     12,  12036,2,20040119,1902,-21.6622, 111.3705, 5058,   3250.5,   1.4718,  34.7220,2,  34.7222,2,    169.8,1,    179.7,2,   123.40,2,    33.25,2,     0.01,2,     2.33,2, -999.000,9, -999.000,9, -999.000,9,   -999.0,9,   -999.0,9,-999.0000,9,  -999.00,   -999.0,9,   -999.0,  -999.00,9,  -999.00,  -999.00,9,   1.4719,2
  49NZ20031209,  I3I4,   452,  1,     11,  12035,2,20040119,1902,-21.6622, 111.3705, 5058,   3500.6,   1.3545,  34.7196,2,  34.7196,2,    174.5,1,    184.4,2,   124.19,2,    33.14,2,     0.01,2,     2.31,2, -999.000,9, -999.000,9, -999.000,9,   -999.0,9,   -999.0,9,-999.0000,9,  -999.00,   -999.0,9,   -999.0,  -999.00,9,  -999.00,  -999.00,9,   1.3546,2
  49NZ20031209,  I3I4,   452,  1,     10,  12034,2,20040119,1902,-21.6622, 111.3705, 5058,   3750.4,   1.2651,  34.7170,2,  34.7174,2,    177.8,1,    187.6,2,   125.85,2,    33.16,2,     0.01,2,     2.31,2, -999.000,9, -999.000,9, -999.000,9,   -999.0,9,   -999.0,9,-999.0000,9,  -999.00,   -999.0,9,   -999.0,  -999.00,9,  -999.00,  -999.00,9,   1.2651,2
  49NZ20031209,  I3I4,   452,  1,      9,  12033,2,20040119,1902,-21.6622, 111.3705, 5058,   4000.2,   1.2118,  34.7152,2,  34.7146,2,    180.3,1,    189.8,2,   127.10,2,    33.10,2,     0.01,2,     2.30,2, -999.000,9, -999.000,9, -999.000,9,   -999.0,9,   -999.0,9,-999.0000,9,  -999.00,   -999.0,9,   -999.0,  -999.00,9,  -999.00,  -999.00,9,   1.2118,2
  49NZ20031209,  I3I4,   452,  1,      8,  12032,2,20040119,1902,-21.6622, 111.3705, 5058,   4251.1,   1.1911,  34.7141,2,  34.7136,2,    182.2,1,    191.1,2,   127.86,2,    33.08,2,     0.01,2,     2.30,2, -999.000,9, -999.000,9, -999.000,9,   -999.0,9,   -999.0,9,-999.0000,9,  -999.00,   -999.0,9,   -999.0,  -999.00,9,  -999.00,  -999.00,9,   1.1911,2
  49NZ20031209,  I3I4,   452,  1,      7,  12010,2,20040119,1902,-21.6622, 111.3705, 5058,   4499.9,   1.1851,  34.7134,2,  34.7133,2,    184.1,1,    192.2,2,   128.22,2,    33.12,2,     0.01,2,     2.30,2, -999.000,9, -999.000,9, -999.000,9,   -999.0,9,   -999.0,9,-999.0000,9,  -999.00,   -999.0,9,   -999.0,  -999.00,9,  -999.00,  -999.00,9,   1.1851,2
  49NZ20031209,  I3I4,   452,  1,      6,  12030,2,20040119,1902,-21.6622, 111.3705, 5058,   4750.2,   1.1920,  34.7131,2,  34.7131,2,    185.9,1,    193.2,2,   128.25,2,    33.03,2,     0.01,2,     2.30,2, -999.000,9, -999.000,9, -999.000,9,   -999.0,9,   -999.0,9,-999.0000,9,  -999.00,   -999.0,9,   -999.0,  -999.00,9,  -999.00,  -999.00,9,   1.1920,2
  49NZ20031209,  I3I4,   452,  1,      5,  12029,2,20040119,1902,-21.6622, 111.3705, 5058,   4999.3,   1.2103,  34.7129,2,  34.7115,4,    187.6,1,    193.5,2,   128.40,2,    33.06,2,     0.01,2,     2.29,2, -999.000,9, -999.000,9, -999.000,9,   -999.0,9,   -999.0,9,-999.0000,9,  -999.00,   -999.0,9,   -999.0,  -999.00,9,  -999.00,  -999.00,9,   1.2103,2
  49NZ20031209,  I3I4,   452,  1,      4,  12028,2,20040119,1902,-21.6622, 111.3705, 5058,   5130.4,   1.2254,  34.7129,2,  34.7131,2,    188.8,1,    193.4,2,   128.50,2,    33.02,2,     0.01,2,     2.29,2, -999.000,9, -999.000,9, -999.000,9,   -999.0,9,   -999.0,9,-999.0000,9,  -999.00,   -999.0,9,   -999.0,  -999.00,9,  -999.00,  -999.00,9,   1.2254,2
  49NZ20031209,  I3I4,   452,  1,      3,  12027,9,20040119,1902,-21.6622, 111.3705, 5058,    400.1,  11.0863,  34.9528,2,-999.0000,9,    226.9,1,   -999.0,9,  -999.00,9,  -999.00,9,  -999.00,9,  -999.00,9, -999.000,9, -999.000,9, -999.000,9,   -999.0,9,   -999.0,9,-999.0000,9,  -999.00,   -999.0,9,   -999.0,  -999.00,9,  -999.00,  -999.00,9,  11.0888,2
  49NZ20031209,  I3I4,   452,  1,      2,  12026,9,20040119,1902,-21.6622, 111.3705, 5058,   4999.4,   1.2103,  34.7129,2,-999.0000,9,    187.6,1,   -999.0,9,  -999.00,9,  -999.00,9,  -999.00,9,  -999.00,9, -999.000,9, -999.000,9, -999.000,9,   -999.0,9,   -999.0,9,-999.0000,9,  -999.00,   -999.0,9,   -999.0,  -999.00,9,  -999.00,  -999.00,9,   1.2102,2
  49NZ20031209,  I3I4,   452,  1,      1,  12025,9,20040119,1902,-21.6622, 111.3705, 5058,     10.1,  24.9795,  35.2446,2,-999.0000,9,    198.5,1,   -999.0,9,  -999.00,9,  -999.00,9,  -999.00,9,  -999.00,9, -999.000,9, -999.000,9, -999.000,9,   -999.0,9,   -999.0,9,-999.0000,9,  -999.00,   -999.0,9,   -999.0,  -999.00,9,  -999.00,  -999.00,9,  24.9773,2