BOTTLE,20141204PRINUNIVRMK
EXPOCODE,SECT_ID,STNNBR,CASTNO,SAMPNO,BTLNBR,BTLNBR_FLAG_W,DATE,TIME,LATITUDE,LONGITUDE,DEPTH,CTDPRS,CTDTMP,CTDSAL,CTDSAL_FLAG_W,SALNTY,SALNTY_FLAG_W,CTDOXY,CTDOXY_FLAG_W,OXYGEN,OXYGEN_FLAG_W,SILCAT,SILCAT_FLAG_W,NITRAT,NITRAT_FLAG_W,NITRIT,NITRIT_FLAG_W,PHSPHT,PHSPHT_FLAG_W,CFC-11,CFC-11_FLAG_W,CFC-12,CFC-12_FLAG_W,CFC113,CFC113_FLAG_W,TCARBN,TCARBN_FLAG_W,ALKALI,ALKALI_FLAG_W,PH_TOT,PH_TOT_FLAG_W,PH_TMP,DELC14,DELC14_FLAG_W,C14ERR,DELC13,DELC13_FLAG_W,CS-137,CS137ER,CS-137_FLAG_W,SBE35,SBE35_FLAG_W
,,,,,,,,,,,METERS,DBAR,ITS-90,PSS-78,,PSS-78,,UMOL/KG,,UMOL/KG,,UMOL/KG,,UMOL/KG,,UMOL/KG,,UMOL/KG,,PMOL/KG,,PMOL/KG,,PMOL/KG,,UMOL/KG,,UMOL/KG,,,,DEG C,/MILLE,,/MILLE,/MILLE,,DM/.1MG,DM/.1MG,,ITS-90,
  49NZ20031209,  I3I4,   532,  1,     36,  12024,2,20031228,0015,-20.3562,  61.0282, 3777,      8.1,  26.8728,  34.9738,2,  34.9755,2,    194.5,1,    203.4,2,     1.61,2,    -0.01,2,     0.01,2,     0.15,2, -999.000,9, -999.000,9, -999.000,9,   -999.0,9,   -999.0,9,-999.0000,9,  -999.00,   -999.0,9,   -999.0,  -999.00,9,  -999.00,  -999.00,9,  26.8718,2
  49NZ20031209,  I3I4,   532,  1,     35,  12023,2,20031228,0015,-20.3562,  61.0282, 3777,     49.4,  25.7833,  35.0801,2,  35.0856,2,    202.4,1,    211.8,2,     1.86,2,    -0.02,2,     0.01,2,     0.13,2, -999.000,9, -999.000,9, -999.000,9,   -999.0,9,   -999.0,9,-999.0000,9,  -999.00,   -999.0,9,   -999.0,  -999.00,9,  -999.00,  -999.00,9,  25.7788,2
  49NZ20031209,  I3I4,   532,  1,     34,  12022,2,20031228,0015,-20.3562,  61.0282, 3777,    100.0,  22.0237,  35.3335,2,  35.3311,2,    211.9,1,    222.5,2,     2.06,2,    -0.02,2,     0.01,2,     0.00,4, -999.000,9, -999.000,9, -999.000,9,   -999.0,9,   -999.0,9,-999.0000,9,  -999.00,   -999.0,9,   -999.0,  -999.00,9,  -999.00,  -999.00,9,  22.0238,2
  49NZ20031209,  I3I4,   532,  1,     33,  12015,2,20031228,0015,-20.3562,  61.0282, 3777,    150.7,  20.3802,  35.5280,2,  35.5256,2,    177.5,1,    184.8,2,     3.82,2,     3.50,2,     0.05,2,     0.38,2, -999.000,9, -999.000,9, -999.000,9,   -999.0,9,   -999.0,9,-999.0000,9,  -999.00,   -999.0,9,   -999.0,  -999.00,9,  -999.00,  -999.00,9,  20.3793,2
  49NZ20031209,  I3I4,   532,  1,     32,  12020,2,20031228,0015,-20.3562,  61.0282, 3777,    201.6,  19.4666,  35.6374,2,  35.6374,2,    174.1,1,    181.1,2,     4.40,2,     4.36,2,     0.03,2,     0.43,2, -999.000,9, -999.000,9, -999.000,9,   -999.0,9,   -999.0,9,-999.0000,9,  -999.00,   -999.0,9,   -999.0,  -999.00,9,  -999.00,  -999.00,9,  19.4686,2
  49NZ20031209,  I3I4,   532,  1,     31,  12019,2,20031228,0015,-20.3562,  61.0282, 3777,    252.6,  18.2218,  35.7207,2,  35.7188,2,    180.7,1,    187.3,2,     4.24,2,     4.37,2,     0.02,2,     0.45,2, -999.000,9, -999.000,9, -999.000,9,   -999.0,9,   -999.0,9,-999.0000,9,  -999.00,   -999.0,9,   -999.0,  -999.00,9,  -999.00,  -999.00,9,  18.2236,2
  49NZ20031209,  I3I4,   532,  1,     30,  12018,2,20031228,0015,-20.3562,  61.0282, 3777,    300.9,  16.6186,  35.6891,2,  35.6888,2,    195.5,1,    203.2,2,     3.25,2,     4.02,2,     0.02,2,     0.44,2, -999.000,9, -999.000,9, -999.000,9,   -999.0,9,   -999.0,9,-999.0000,9,  -999.00,   -999.0,9,   -999.0,  -999.00,9,  -999.00,  -999.00,9,  16.6190,2
  49NZ20031209,  I3I4,   532,  1,     29,  12021,2,20031228,0015,-20.3562,  61.0282, 3777,    403.2,  13.9740,  35.3980,2,  35.4004,2,    207.1,1,    214.8,2,     3.25,2,     7.07,2,     0.01,2,     0.63,2, -999.000,9, -999.000,9, -999.000,9,   -999.0,9,   -999.0,9,-999.0000,9,  -999.00,   -999.0,9,   -999.0,  -999.00,9,  -999.00,  -999.00,9,  13.9776,2
  49NZ20031209,  I3I4,   532,  1,     28,  12016,2,20031228,0015,-20.3562,  61.0282, 3777,    500.0,  12.0250,  35.1169,2,  35.1208,2,    217.9,1,    226.1,2,     3.54,2,    10.29,2,     0.01,2,     0.81,2, -999.000,9, -999.000,9, -999.000,9,   -999.0,9,   -999.0,9,-999.0000,9,  -999.00,   -999.0,9,   -999.0,  -999.00,9,  -999.00,  -999.00,9,  12.0244,2
  49NZ20031209,  I3I4,   532,  1,     27,  12012,2,20031228,0015,-20.3562,  61.0282, 3777,    601.0,  10.4481,  34.8782,2,  34.8847,2,    218.1,1,    226.3,2,     4.89,2,    13.92,2,     0.01,2,     1.03,2, -999.000,9, -999.000,9, -999.000,9,   -999.0,9,   -999.0,9,-999.0000,9,  -999.00,   -999.0,9,   -999.0,  -999.00,9,  -999.00,  -999.00,9,  10.4470,2
  49NZ20031209,  I3I4,   532,  1,     26,  12014,2,20031228,0015,-20.3562,  61.0282, 3777,    702.5,   8.6445,  34.6446,2,  34.6454,2,    205.1,1,    213.0,2,    10.10,2,    19.93,2,     0.01,2,     1.40,2, -999.000,9, -999.000,9, -999.000,9,   -999.0,9,   -999.0,9,-999.0000,9,  -999.00,   -999.0,9,   -999.0,  -999.00,9,  -999.00,  -999.00,9,   8.6446,2
  49NZ20031209,  I3I4,   532,  1,     25,  12013,2,20031228,0015,-20.3562,  61.0282, 3777,    801.1,   7.4351,  34.5518,2,  34.5509,2,    185.8,1,    192.8,2,    19.38,2,    24.72,2,    -0.01,2,     1.71,2, -999.000,9, -999.000,9, -999.000,9,   -999.0,9,   -999.0,9,-999.0000,9,  -999.00,   -999.0,9,   -999.0,  -999.00,9,  -999.00,  -999.00,9,   7.4356,2
  49NZ20031209,  I3I4,   532,  1,     24,  12048,2,20031228,0015,-20.3562,  61.0282, 3777,    900.8,   5.9521,  34.4967,2,  34.4960,2,    164.9,1,    170.7,2,    36.26,2,    29.66,2,     0.01,2,     2.07,2, -999.000,9, -999.000,9, -999.000,9,   -999.0,9,   -999.0,9,-999.0000,9,  -999.00,   -999.0,9,   -999.0,  -999.00,9,  -999.00,  -999.00,9,   5.9526,2
  49NZ20031209,  I3I4,   532,  1,     23,  12047,2,20031228,0015,-20.3562,  61.0282, 3777,    999.9,   5.1299,  34.5128,2,  34.5128,2,    147.5,1,    152.7,2,    51.78,2,    32.49,2,     0.00,2,     2.28,2, -999.000,9, -999.000,9, -999.000,9,   -999.0,9,   -999.0,9,-999.0000,9,  -999.00,   -999.0,9,   -999.0,  -999.00,9,  -999.00,  -999.00,9,   5.1269,2
  49NZ20031209,  I3I4,   532,  1,     22,  12046,2,20031228,0015,-20.3562,  61.0282, 3777,   1205.3,   4.0096,  34.6247,2,  34.6226,2,    128.7,1,    133.1,2,    79.49,2,    34.77,2,     0.01,2,     2.47,2, -999.000,9, -999.000,9, -999.000,9,   -999.0,9,   -999.0,9,-999.0000,9,  -999.00,   -999.0,9,   -999.0,  -999.00,9,  -999.00,  -999.00,9,   4.0099,2
  49NZ20031209,  I3I4,   532,  1,     21,  12045,2,20031228,0015,-20.3562,  61.0282, 3777,   1402.6,   3.4682,  34.6662,2,  34.6666,2,    134.6,1,    139.5,2,    88.17,2,    34.60,2,     0.01,2,     2.45,2, -999.000,9, -999.000,9, -999.000,9,   -999.0,9,   -999.0,9,-999.0000,9,  -999.00,   -999.0,9,   -999.0,  -999.00,9,  -999.00,  -999.00,9,   3.4682,2
  49NZ20031209,  I3I4,   532,  1,     20,  12044,2,20031228,0015,-20.3562,  61.0282, 3777,   1600.4,   2.9557,  34.6903,2,  34.6904,2,    144.8,1,    150.2,2,    94.33,2,    34.05,2,     0.01,2,     2.40,2, -999.000,9, -999.000,9, -999.000,9,   -999.0,9,   -999.0,9,-999.0000,9,  -999.00,   -999.0,9,   -999.0,  -999.00,9,  -999.00,  -999.00,9,   2.9556,2
  49NZ20031209,  I3I4,   532,  1,     19,  12043,2,20031228,0015,-20.3562,  61.0282, 3777,   1801.3,   2.5682,  34.7071,2,  34.7071,2,    152.1,1,    158.1,2,   100.51,2,    33.70,2,     0.01,2,     2.37,2, -999.000,9, -999.000,9, -999.000,9,   -999.0,9,   -999.0,9,-999.0000,9,  -999.00,   -999.0,9,   -999.0,  -999.00,9,  -999.00,  -999.00,9,   2.5681,2
  49NZ20031209,  I3I4,   532,  1,     18,  12042,2,20031228,0015,-20.3562,  61.0282, 3777,   2001.2,   2.2567,  34.7185,2,  34.7183,2,    158.0,1,    164.4,2,   105.95,2,    33.41,2,     0.01,2,     2.34,2, -999.000,9, -999.000,9, -999.000,9,   -999.0,9,   -999.0,9,-999.0000,9,  -999.00,   -999.0,9,   -999.0,  -999.00,9,  -999.00,  -999.00,9,   2.2571,2
  49NZ20031209,  I3I4,   532,  1,     17,  12041,2,20031228,0015,-20.3562,  61.0282, 3777,   2200.9,   2.0903,  34.7223,2,  34.7220,2,    161.3,1,    167.9,2,   109.40,2,    33.39,2,     0.01,2,     2.34,2, -999.000,9, -999.000,9, -999.000,9,   -999.0,9,   -999.0,9,-999.0000,9,  -999.00,   -999.0,9,   -999.0,  -999.00,9,  -999.00,  -999.00,9,   2.0902,2
  49NZ20031209,  I3I4,   532,  1,     16,  12040,2,20031228,0015,-20.3562,  61.0282, 3777,   2400.3,   1.9959,  34.7230,2,  34.7231,2,    163.8,1,    170.4,4,   111.19,2,    33.24,2,     0.01,2,     2.33,2, -999.000,9, -999.000,9, -999.000,9,   -999.0,9,   -999.0,9,-999.0000,9,  -999.00,   -999.0,9,   -999.0,  -999.00,9,  -999.00,  -999.00,9,   1.9958,2
  49NZ20031209,  I3I4,   532,  1,     15,  12039,2,20031228,0015,-20.3562,  61.0282, 3777,   2600.8,   1.8759,  34.7246,2,  34.7244,2,    166.2,1,    173.0,2,   113.96,2,    33.19,2,     0.01,2,     2.32,2, -999.000,9, -999.000,9, -999.000,9,   -999.0,9,   -999.0,9,-999.0000,9,  -999.00,   -999.0,9,   -999.0,  -999.00,9,  -999.00,  -999.00,9,   1.8758,2
  49NZ20031209,  I3I4,   532,  1,     14,  12038,2,20031228,0015,-20.3562,  61.0282, 3777,   2800.2,   1.8016,  34.7266,2,  34.7265,2,    166.7,1,    173.2,2,   117.36,2,    33.44,2,     0.01,2,     2.33,2, -999.000,9, -999.000,9, -999.000,9,   -999.0,9,   -999.0,9,-999.0000,9,  -999.00,   -999.0,9,   -999.0,  -999.00,9,  -999.00,  -999.00,9,   1.8016,2
  49NZ20031209,  I3I4,   532,  1,     13,  12037,2,20031228,0015,-20.3562,  61.0282, 3777,   2997.4,   1.7047,  34.7252,2,  34.7253,2,    169.8,1,    176.3,2,   118.85,2,    33.33,2,     0.01,2,     2.32,2, -999.000,9, -999.000,9, -999.000,9,   -999.0,9,   -999.0,9,-999.0000,9,  -999.00,   -999.0,9,   -999.0,  -999.00,9,  -999.00,  -999.00,9,   1.7046,2
  49NZ20031209,  I3I4,   532,  1,     12,  12036,2,20031228,0015,-20.3562,  61.0282, 3777,   3250.4,   1.5955,  34.7233,2,  34.7233,2,    173.6,1,    179.8,2,   120.21,2,    33.10,2,     0.01,2,     2.31,2, -999.000,9, -999.000,9, -999.000,9,   -999.0,9,   -999.0,9,-999.0000,9,  -999.00,   -999.0,9,   -999.0,  -999.00,9,  -999.00,  -999.00,9,   1.5956,2
  49NZ20031209,  I3I4,   532,  1,     11,  12035,2,20031228,0015,-20.3562,  61.0282, 3777,   3500.9,   1.5595,  34.7226,2,  34.7228,2,    175.8,1,    181.4,2,   121.06,2,    33.10,2,     0.00,2,     2.30,2, -999.000,9, -999.000,9, -999.000,9,   -999.0,9,   -999.0,9,-999.0000,9,  -999.00,   -999.0,9,   -999.0,  -999.00,9,  -999.00,  -999.00,9,   1.5594,2
  49NZ20031209,  I3I4,   532,  1,     10,  12034,2,20031228,0015,-20.3562,  61.0282, 3777,   3893.8,   1.5223,  34.7214,2,  34.7215,2,    179.3,1,    183.5,2,   121.81,2,    33.08,2,     0.00,2,     2.31,2, -999.000,9, -999.000,9, -999.000,9,   -999.0,9,   -999.0,9,-999.0000,9,  -999.00,   -999.0,9,   -999.0,  -999.00,9,  -999.00,  -999.00,9,   1.5222,2
  49NZ20031209,  I3I4,   532,  1,      9,  12033,9,20031228,0015,-20.3562,  61.0282, 3777,   3399.7,   1.5603,  34.7228,2,-999.0000,9,    175.1,1,   -999.0,9,  -999.00,9,  -999.00,9,  -999.00,9,  -999.00,9, -999.000,9, -999.000,9, -999.000,9,   -999.0,9,   -999.0,9,-999.0000,9,  -999.00,   -999.0,9,   -999.0,  -999.00,9,  -999.00,  -999.00,9,   1.5603,2
  49NZ20031209,  I3I4,   532,  1,      8,  12032,9,20031228,0015,-20.3562,  61.0282, 3777,   1000.6,   5.1186,  34.5133,2,-999.0000,9,    147.4,1,   -999.0,9,  -999.00,9,  -999.00,9,  -999.00,9,  -999.00,9, -999.000,9, -999.000,9, -999.000,9,   -999.0,9,   -999.0,9,-999.0000,9,  -999.00,   -999.0,9,   -999.0,  -999.00,9,  -999.00,  -999.00,9,   5.1190,2
  49NZ20031209,  I3I4,   532,  1,      7,  12031,9,20031228,0015,-20.3562,  61.0282, 3777,   3098.0,   1.6408,  34.7244,2,-999.0000,9,    171.6,1,   -999.0,9,  -999.00,9,  -999.00,9,  -999.00,9,  -999.00,9, -999.000,9, -999.000,9, -999.000,9,   -999.0,9,   -999.0,9,-999.0000,9,  -999.00,   -999.0,9,   -999.0,  -999.00,9,  -999.00,  -999.00,9,   1.6408,2
  49NZ20031209,  I3I4,   532,  1,      6,  12030,9,20031228,0015,-20.3562,  61.0282, 3777,      8.4,  26.8764,  34.9736,2,-999.0000,9,    194.5,1,   -999.0,9,  -999.00,9,  -999.00,9,  -999.00,9,  -999.00,9, -999.000,9, -999.000,9, -999.000,9,   -999.0,9,   -999.0,9,-999.0000,9,  -999.00,   -999.0,9,   -999.0,  -999.00,9,  -999.00,  -999.00,9,  26.8748,2
  49NZ20031209,  I3I4,   532,  1,      5,  12029,9,20031228,0015,-20.3562,  61.0282, 3777,   1001.0,   5.1114,  34.5134,2,-999.0000,9,    147.3,1,   -999.0,9,  -999.00,9,  -999.00,9,  -999.00,9,  -999.00,9, -999.000,9, -999.000,9, -999.000,9,   -999.0,9,   -999.0,9,-999.0000,9,  -999.00,   -999.0,9,   -999.0,  -999.00,9,  -999.00,  -999.00,9,   5.1109,2
  49NZ20031209,  I3I4,   532,  1,      4,  12028,9,20031228,0015,-20.3562,  61.0282, 3777,   1000.9,   5.1115,  34.5135,2,-999.0000,9,    147.3,1,   -999.0,9,  -999.00,9,  -999.00,9,  -999.00,9,  -999.00,9, -999.000,9, -999.000,9, -999.000,9,   -999.0,9,   -999.0,9,-999.0000,9,  -999.00,   -999.0,9,   -999.0,  -999.00,9,  -999.00,  -999.00,9,   5.1123,2
  49NZ20031209,  I3I4,   532,  1,      3,  12027,9,20031228,0015,-20.3562,  61.0282, 3777,   1001.0,   5.1120,  34.5133,2,-999.0000,9,    147.4,1,   -999.0,9,  -999.00,9,  -999.00,9,  -999.00,9,  -999.00,9, -999.000,9, -999.000,9, -999.000,9,   -999.0,9,   -999.0,9,-999.0000,9,  -999.00,   -999.0,9,   -999.0,  -999.00,9,  -999.00,  -999.00,9,   5.1114,2
  49NZ20031209,  I3I4,   532,  1,      2,  12026,9,20031228,0015,-20.3562,  61.0282, 3777,   1000.5,   5.1146,  34.5133,2,-999.0000,9,    147.3,1,   -999.0,9,  -999.00,9,  -999.00,9,  -999.00,9,  -999.00,9, -999.000,9, -999.000,9, -999.000,9,   -999.0,9,   -999.0,9,-999.0000,9,  -999.00,   -999.0,9,   -999.0,  -999.00,9,  -999.00,  -999.00,9,   5.1124,2
  49NZ20031209,  I3I4,   532,  1,      1,  12025,9,20031228,0015,-20.3562,  61.0282, 3777,   1000.3,   5.1194,  34.5132,2,-999.0000,9,    147.4,1,   -999.0,9,  -999.00,9,  -999.00,9,  -999.00,9,  -999.00,9, -999.000,9, -999.000,9, -999.000,9,   -999.0,9,   -999.0,9,-999.0000,9,  -999.00,   -999.0,9,   -999.0,  -999.00,9,  -999.00,  -999.00,9,   5.1168,2