BOTTLE,20141204PRINUNIVRMK
EXPOCODE,SECT_ID,STNNBR,CASTNO,SAMPNO,BTLNBR,BTLNBR_FLAG_W,DATE,TIME,LATITUDE,LONGITUDE,DEPTH,CTDPRS,CTDTMP,CTDSAL,CTDSAL_FLAG_W,SALNTY,SALNTY_FLAG_W,CTDOXY,CTDOXY_FLAG_W,OXYGEN,OXYGEN_FLAG_W,SILCAT,SILCAT_FLAG_W,NITRAT,NITRAT_FLAG_W,NITRIT,NITRIT_FLAG_W,PHSPHT,PHSPHT_FLAG_W,CFC-11,CFC-11_FLAG_W,CFC-12,CFC-12_FLAG_W,CFC113,CFC113_FLAG_W,TCARBN,TCARBN_FLAG_W,ALKALI,ALKALI_FLAG_W,PH_TOT,PH_TOT_FLAG_W,PH_TMP,DELC14,DELC14_FLAG_W,C14ERR,DELC13,DELC13_FLAG_W,CS-137,CS137ER,CS-137_FLAG_W,SBE35,SBE35_FLAG_W
,,,,,,,,,,,METERS,DBAR,ITS-90,PSS-78,,PSS-78,,UMOL/KG,,UMOL/KG,,UMOL/KG,,UMOL/KG,,UMOL/KG,,UMOL/KG,,PMOL/KG,,PMOL/KG,,PMOL/KG,,UMOL/KG,,UMOL/KG,,,,DEG C,/MILLE,,/MILLE,/MILLE,,DM/.1MG,DM/.1MG,,ITS-90,
  49NZ20031209,  I3I4,   489,  1,     36,  12024,2,20040107,1754,-19.9915,  86.4798, 4348,     10.4,  26.1186,  34.9345,2,  34.9345,2,    197.4,1,    206.3,2,     1.85,2,     0.01,2,     0.00,2,     0.12,2,    1.795,2,    1.092,2,    0.399,4,   1960.1,2,   2290.3,2,   8.1045,2,    25.00,   -999.0,9,   -999.0,  -999.00,9,  -999.00,  -999.00,9,  26.1169,2
  49NZ20031209,  I3I4,   489,  1,     35,  12023,2,20040107,1754,-19.9915,  86.4798, 4348,     49.7,  24.1194,  35.1362,2,  35.1363,2,    209.3,1,    218.8,2,     2.02,2,     0.00,2,     0.00,2,     0.12,2,    2.018,2,    1.172,2, -999.000,5,   1977.7,6,   2296.7,2,   8.0895,2,    25.00,   -999.0,9,   -999.0,  -999.00,9,  -999.00,  -999.00,9,  24.1176,2
  49NZ20031209,  I3I4,   489,  1,     34,  12022,2,20040107,1754,-19.9915,  86.4798, 4348,     99.9,  22.0461,  35.3390,2,  35.3418,2,    215.5,1,    225.1,2,     2.05,2,     0.01,2,     0.01,2,     0.12,2,    2.108,2,    1.240,2, -999.000,5,   1995.1,2,   2315.9,6,   8.0777,2,    25.00,   -999.0,9,   -999.0,  -999.00,9,  -999.00,  -999.00,9,  22.0452,2
  49NZ20031209,  I3I4,   489,  1,     33,  12015,2,20040107,1754,-19.9915,  86.4798, 4348,    149.8,  20.9153,  35.5195,2,  35.5208,2,    202.8,1,    212.2,2,     2.30,2,     0.12,2,     0.03,2,     0.17,2,    2.156,2,    1.267,2,    0.558,4,   2023.8,2,   2329.7,2,   8.0445,6,    25.00,   -999.0,9,   -999.0,  -999.00,9,  -999.00,  -999.00,9,  20.9184,2
  49NZ20031209,  I3I4,   489,  1,     32,  12020,2,20040107,1754,-19.9915,  86.4798, 4348,    199.8,  19.6203,  35.6683,2,  35.6661,2,    183.6,1,    191.4,2,     3.32,2,     2.77,2,     0.02,2,     0.33,2,    2.223,2,    1.301,2,    0.176,4,   2063.2,2,   2327.0,2,   7.9918,2,    25.00,   -999.0,9,   -999.0,  -999.00,9,  -999.00,  -999.00,9,  19.6236,2
  49NZ20031209,  I3I4,   489,  1,     31,  12019,2,20040107,1754,-19.9915,  86.4798, 4348,    250.0,  18.3314,  35.8010,2,  35.8001,2,    191.8,1,    200.0,2,     2.72,2,     2.67,2,     0.01,2,     0.34,2,    2.390,6,    1.381,6,    0.074,4,   2078.3,2,   2344.7,2,   7.9759,2,    25.00,   -999.0,9,   -999.0,  -999.00,9,  -999.00,  -999.00,9,  18.3286,2
  49NZ20031209,  I3I4,   489,  1,     30,  12018,2,20040107,1754,-19.9915,  86.4798, 4348,    300.9,  16.5985,  35.7349,2,  35.7388,2,    204.5,1,    213.4,2,     2.10,2,     2.66,2,     0.01,2,     0.37,2,    2.607,2,    1.488,2,    0.205,4,   2090.9,2,   2343.8,2,   7.9569,2,    25.00,   -999.0,9,   -999.0,  -999.00,9,  -999.00,  -999.00,9,  16.6043,2
  49NZ20031209,  I3I4,   489,  1,     29,  12017,2,20040107,1754,-19.9915,  86.4798, 4348,    399.6,  13.1039,  35.2783,2,  35.2763,2,    209.4,1,    217.9,2,     3.56,2,     8.41,2,     0.01,2,     0.71,2,    3.032,2,    1.662,2,    0.091,4,   2111.2,2,   2311.6,2,   7.8782,2,    25.00,   -999.0,9,   -999.0,  -999.00,9,  -999.00,  -999.00,9,  13.1047,2
  49NZ20031209,  I3I4,   489,  1,     28,  12016,2,20040107,1754,-19.9915,  86.4798, 4348,    500.0,  10.8917,  34.9441,2,  34.9425,2,    224.7,1,    233.8,2,     3.33,2,    12.00,2,     0.00,2,     0.92,2,    3.355,2,    1.787,2,    0.132,4,   2114.5,2,   2296.4,2,   7.8371,2,    25.00,   -999.0,9,   -999.0,  -999.00,9,  -999.00,  -999.00,9,  10.8918,2
  49NZ20031209,  I3I4,   489,  1,     27,  12012,2,20040107,1754,-19.9915,  86.4798, 4348,    600.7,   9.4091,  34.7187,2,  34.7175,2,    222.4,1,    231.4,2,     5.24,2,    16.41,2,     0.00,2,     1.18,2,    3.340,2,    1.738,2,    0.144,4,   2125.2,2,   2292.8,2,   7.7930,2,    25.00,   -999.0,9,   -999.0,  -999.00,9,  -999.00,  -999.00,9,   9.4108,2
  49NZ20031209,  I3I4,   489,  1,     26,  12014,2,20040107,1754,-19.9915,  86.4798, 4348,    700.5,   8.2718,  34.5874,2,  34.5854,2,    205.6,1,    213.7,2,    10.70,2,    21.09,2,     0.00,2,     1.48,2,    2.485,2,    1.257,2,    0.099,4,   2145.5,6,   2289.5,2,   7.7434,2,    25.00,   -999.0,9,   -999.0,  -999.00,9,  -999.00,  -999.00,9,   8.2719,2
  49NZ20031209,  I3I4,   489,  1,     25,  12013,3,20040107,1754,-19.9915,  86.4798, 4348,    800.2,   6.5398,  34.5062,2,  34.5067,2,    163.0,1,    169.5,2,    31.29,2,    28.71,2,     0.00,2,     2.01,2,    0.901,2,    0.453,2,    0.041,4,   2194.5,2,   2297.9,6,   7.6483,2,    25.00,   -999.0,9,   -999.0,  -999.00,9,  -999.00,  -999.00,9,   6.5397,2
  49NZ20031209,  I3I4,   489,  1,     24,  12048,2,20040107,1754,-19.9915,  86.4798, 4348,    900.0,   5.4025,  34.5141,2,  34.5170,3,    139.2,1,    143.3,2,    52.53,2,    33.00,2,     0.01,2,     2.33,2,    0.276,2,    0.143,2,    0.000,4,   2232.3,2,   2318.3,2,   7.5900,6,    25.00,   -999.0,9,   -999.0,  -999.00,9,  -999.00,  -999.00,9,   5.4028,2
  49NZ20031209,  I3I4,   489,  1,     23,  12047,2,20040107,1754,-19.9915,  86.4798, 4348,   1001.9,   5.0115,  34.5947,2,  34.5947,2,    114.1,1,    118.0,2,    71.48,2,    35.01,2,     0.00,2,     2.51,2,    0.049,6,    0.030,6,    0.000,4,   2264.2,2,   2339.5,2,   7.5562,2,    25.00,   -999.0,9,   -999.0,  -999.00,9,  -999.00,  -999.00,9,   5.0120,2
  49NZ20031209,  I3I4,   489,  1,     22,  12046,2,20040107,1754,-19.9915,  86.4798, 4348,   4249.4,   1.3470,  34.7184,2,  34.7186,2,    179.0,1,    183.8,2,   130.59,2,    33.36,2,     0.00,2,     2.32,2,    0.008,2,    0.005,2,    0.000,4,   2296.0,2,   2395.4,2,   7.6261,2,    25.00,   -999.0,9,   -999.0,  -999.00,9,  -999.00,  -999.00,9,   1.3470,2
  49NZ20031209,  I3I4,   489,  1,     21,  12045,2,20040107,1754,-19.9915,  86.4798, 4348,   1400.7,   3.8171,  34.6756,2,  34.6758,2,    117.6,1,    121.6,2,    92.82,2,    35.53,2,     0.00,2,     2.56,2,    0.003,2,    0.012,2,    0.000,4,   2288.7,2,   2360.5,2,   7.5511,2,    25.00,   -999.0,9,   -999.0,  -999.00,9,  -999.00,  -999.00,9,   3.8173,2
  49NZ20031209,  I3I4,   489,  1,     20,  12044,2,20040107,1754,-19.9915,  86.4798, 4348,   1601.1,   3.3238,  34.7001,2,  34.7005,2,    126.2,1,    130.7,2,    99.02,2,    35.12,2,     0.01,2,     2.52,2,    0.004,2,    0.011,2,    0.000,4,   2291.3,2,   2369.5,2,   7.5621,2,    25.00,   -999.0,9,   -999.0,  -999.00,9,  -999.00,  -999.00,9,   3.3240,2
  49NZ20031209,  I3I4,   489,  1,     19,  12043,2,20040107,1754,-19.9915,  86.4798, 4348,   1802.4,   2.9233,  34.7198,2,  34.7196,2,    134.1,1,    139.3,2,   104.71,2,    34.76,2,     0.01,2,     2.49,2,    0.002,2,    0.010,2,    0.000,4,   2293.5,2,   2379.1,2,   7.5746,2,    25.00,   -999.0,9,   -999.0,  -999.00,9,  -999.00,  -999.00,9,   2.9236,2
  49NZ20031209,  I3I4,   489,  1,     18,  12042,2,20040107,1754,-19.9915,  86.4798, 4348,   1999.4,   2.5983,  34.7244,2,  34.7240,2,    141.1,1,    146.8,2,   108.90,2,    34.42,2,     0.00,2,     2.45,2,    0.014,2,    0.010,2,    0.000,4,   2293.8,2,   2373.2,4,   7.5810,6,    25.00,   -999.0,9,   -999.0,  -999.00,9,  -999.00,  -999.00,9,   2.5984,2
  49NZ20031209,  I3I4,   489,  1,     17,  12041,2,20040107,1754,-19.9915,  86.4798, 4348,   2199.9,   2.2624,  34.7280,2,  34.7278,2,    150.2,1,    156.4,2,   112.58,2,    33.91,2,     0.00,2,     2.41,2,    0.000,2,   -0.002,2,    0.000,4,   2291.3,2,   2383.7,2,   7.5958,2,    25.00,   -999.0,9,   -999.0,  -999.00,9,  -999.00,  -999.00,9,   2.2624,2
  49NZ20031209,  I3I4,   489,  1,     16,  12040,2,20040107,1754,-19.9915,  86.4798, 4348,   2400.2,   2.0518,  34.7281,2,  34.7279,2,    158.4,1,    165.5,2,   112.97,2,    33.55,2,     0.00,2,     2.37,2,    0.001,2,   -0.002,2,    0.000,4,   2289.2,6,   2383.3,2,   7.6007,2,    25.00,   -999.0,9,   -999.0,  -999.00,9,  -999.00,  -999.00,9,   2.0517,2
  49NZ20031209,  I3I4,   489,  1,     15,  12039,2,20040107,1754,-19.9915,  86.4798, 4348,   2600.3,   1.9066,  34.7295,2,  34.7298,2,    160.2,1,    167.3,2,   117.31,2,    33.57,2,     0.00,2,     2.36,2,    0.001,2,    0.000,2,    0.000,4,   2291.4,3,   2386.8,6,   7.6037,2,    25.00,   -999.0,9,   -999.0,  -999.00,9,  -999.00,  -999.00,9,   1.9066,2
  49NZ20031209,  I3I4,   489,  1,     14,  12038,2,20040107,1754,-19.9915,  86.4798, 4348,   2800.6,   1.7891,  34.7288,2,  34.7292,2,    162.6,1,    169.7,2,   120.41,2,    33.63,2,     0.00,2,     2.36,2,    0.003,2,    0.002,2,    0.000,4,   2293.8,3,   2386.2,2,   7.6082,2,    25.00,   -999.0,9,   -999.0,  -999.00,9,  -999.00,  -999.00,9,   1.7891,2
  49NZ20031209,  I3I4,   489,  1,     13,  12037,2,20040107,1754,-19.9915,  86.4798, 4348,   3000.3,   1.7014,  34.7277,2,  34.7277,2,    169.0,1,    176.3,2,   117.92,2,    33.09,2,     0.01,2,     2.32,2,   -0.001,2,   -0.001,2,    0.000,4,   2287.9,2,   2384.5,2,   7.6136,2,    25.00,   -999.0,9,   -999.0,  -999.00,9,  -999.00,  -999.00,9,   1.7014,2
  49NZ20031209,  I3I4,   489,  1,     12,  12036,2,20040107,1754,-19.9915,  86.4798, 4348,   3249.7,   1.5889,  34.7258,2,  34.7258,2,    167.8,1,    174.7,2,   124.80,2,    33.51,2,     0.01,2,     2.34,2,    0.001,2,    0.000,2,    0.000,4,   2297.0,2,   2394.6,2,   7.6147,2,    25.00,   -999.0,9,   -999.0,  -999.00,9,  -999.00,  -999.00,9,   1.5887,2
  49NZ20031209,  I3I4,   489,  1,     11,  12035,2,20040107,1754,-19.9915,  86.4798, 4348,   3499.4,   1.4714,  34.7236,2,  34.7232,2,    171.8,1,    178.6,2,   126.78,2,    33.43,2,     0.01,2,     2.34,2,    0.000,2,   -0.001,2,    0.000,4,   2296.1,2,   2396.4,2,   7.6181,2,    25.00,   -999.0,9,   -999.0,  -999.00,9,  -999.00,  -999.00,9,   1.4716,2
  49NZ20031209,  I3I4,   489,  1,     10,  12034,2,20040107,1754,-19.9915,  86.4798, 4348,   3751.2,   1.3884,  34.7211,2,  34.7215,2,    175.8,1,    182.2,2,   127.68,2,    33.26,2,     0.00,2,     2.32,2,    0.000,2,    0.000,2,    0.000,4,   2295.6,2,   2396.4,2,   7.6248,2,    25.00,   -999.0,9,   -999.0,  -999.00,9,  -999.00,  -999.00,9,   1.3882,2
  49NZ20031209,  I3I4,   489,  1,      9,  12033,2,20040107,1754,-19.9915,  86.4798, 4348,   4000.4,   1.3505,  34.7194,2,  34.7189,2,    177.5,1,    183.4,2,   129.67,2,    33.29,2,     0.00,2,     2.33,2,   -0.003,2,    0.002,2,    0.000,4,   2294.7,2,   2398.1,2,   7.6262,2,    25.00,   -999.0,9,   -999.0,  -999.00,9,  -999.00,  -999.00,9,   1.3506,2
  49NZ20031209,  I3I4,   489,  1,      8,  12032,2,20040107,1754,-19.9915,  86.4798, 4348,   4248.8,   1.3469,  34.7185,2,  34.7184,2,    179.0,1,    183.9,2,   130.47,2,    33.34,2,     0.00,2,     2.33,2,    0.000,2,    0.000,2,    0.000,4,   2297.8,6,   2402.1,2,   7.6272,2,    25.00,   -999.0,9,   -999.0,  -999.00,9,  -999.00,  -999.00,9,   1.3469,2
  49NZ20031209,  I3I4,   489,  1,      7,  12031,2,20040107,1754,-19.9915,  86.4798, 4348,   4406.3,   1.3613,  34.7183,2,  34.7184,2,    180.1,1,    183.7,2,   130.90,2,    33.30,2,     0.00,2,     2.33,2,    0.000,2,    0.002,2,    0.000,4,   2297.5,2,   2400.9,2,   7.6281,2,    25.00,   -999.0,9,   -999.0,  -999.00,9,  -999.00,  -999.00,9,   1.3614,2
  49NZ20031209,  I3I4,   489,  1,      6,  12030,9,20040107,1754,-19.9915,  86.4798, 4348,   1001.5,   5.0139,  34.5944,2,-999.0000,9,    114.1,1,   -999.0,9,  -999.00,9,  -999.00,9,  -999.00,9,  -999.00,9, -999.000,9, -999.000,9, -999.000,9,   -999.0,9,   -999.0,9,-999.0000,9,  -999.00,   -999.0,9,   -999.0,  -999.00,9,  -999.00,  -999.00,9,   5.0142,2
  49NZ20031209,  I3I4,   489,  1,      5,  12029,9,20040107,1754,-19.9915,  86.4798, 4348,   1001.5,   5.0144,  34.5941,2,-999.0000,9,    114.2,1,   -999.0,9,  -999.00,9,  -999.00,9,  -999.00,9,  -999.00,9, -999.000,9, -999.000,9, -999.000,9,   -999.0,9,   -999.0,9,-999.0000,9,  -999.00,   -999.0,9,   -999.0,  -999.00,9,  -999.00,  -999.00,9,   5.0144,2
  49NZ20031209,  I3I4,   489,  1,      4,  12028,9,20040107,1754,-19.9915,  86.4798, 4348,   1001.3,   5.0146,  34.5941,2,-999.0000,9,    114.2,1,   -999.0,9,  -999.00,9,  -999.00,9,  -999.00,9,  -999.00,9, -999.000,9, -999.000,9, -999.000,9,   -999.0,9,   -999.0,9,-999.0000,9,  -999.00,   -999.0,9,   -999.0,  -999.00,9,  -999.00,  -999.00,9,   5.0149,2
  49NZ20031209,  I3I4,   489,  1,      3,  12027,9,20040107,1754,-19.9915,  86.4798, 4348,   1000.2,   5.0153,  34.5937,2,-999.0000,9,    114.1,1,   -999.0,9,  -999.00,9,  -999.00,9,  -999.00,9,  -999.00,9, -999.000,9, -999.000,9, -999.000,9,   -999.0,9,   -999.0,9,-999.0000,9,  -999.00,   -999.0,9,   -999.0,  -999.00,9,  -999.00,  -999.00,9,   5.0155,2
  49NZ20031209,  I3I4,   489,  1,      2,  12026,9,20040107,1754,-19.9915,  86.4798, 4348,     10.4,  26.1169,  34.9342,2,-999.0000,9,    197.4,1,   -999.0,9,  -999.00,9,  -999.00,9,  -999.00,9,  -999.00,9, -999.000,9, -999.000,9, -999.000,9,   -999.0,9,   -999.0,9,-999.0000,9,  -999.00,   -999.0,9,   -999.0,  -999.00,9,  -999.00,  -999.00,9,  26.1154,2
  49NZ20031209,  I3I4,   489,  1,      1,  12025,2,20040107,1754,-19.9915,  86.4798, 4348,   1201.2,   4.3599,  34.6547,2,  34.6547,2,    109.7,1,    113.3,2,    87.05,2,    35.75,2,     0.01,2,     2.59,2,    0.009,2,    0.009,2,    0.000,4,   2284.4,2,   2353.1,2,   7.5470,2,    25.00,   -999.0,9,   -999.0,  -999.00,9,  -999.00,  -999.00,9,   4.3619,2