BOTTLE,20141204PRINUNIVRMK
EXPOCODE,SECT_ID,STNNBR,CASTNO,SAMPNO,BTLNBR,BTLNBR_FLAG_W,DATE,TIME,LATITUDE,LONGITUDE,DEPTH,CTDPRS,CTDTMP,CTDSAL,CTDSAL_FLAG_W,SALNTY,SALNTY_FLAG_W,CTDOXY,CTDOXY_FLAG_W,OXYGEN,OXYGEN_FLAG_W,SILCAT,SILCAT_FLAG_W,NITRAT,NITRAT_FLAG_W,NITRIT,NITRIT_FLAG_W,PHSPHT,PHSPHT_FLAG_W,CFC-11,CFC-11_FLAG_W,CFC-12,CFC-12_FLAG_W,CFC113,CFC113_FLAG_W,TCARBN,TCARBN_FLAG_W,ALKALI,ALKALI_FLAG_W,PH_TOT,PH_TOT_FLAG_W,PH_TMP,DELC14,DELC14_FLAG_W,C14ERR,DELC13,DELC13_FLAG_W,CS-137,CS137ER,CS-137_FLAG_W,SBE35,SBE35_FLAG_W
,,,,,,,,,,,METERS,DBAR,ITS-90,PSS-78,,PSS-78,,UMOL/KG,,UMOL/KG,,UMOL/KG,,UMOL/KG,,UMOL/KG,,UMOL/KG,,PMOL/KG,,PMOL/KG,,PMOL/KG,,UMOL/KG,,UMOL/KG,,,,DEG C,/MILLE,,/MILLE,/MILLE,,DM/.1MG,DM/.1MG,,ITS-90,
  49NZ20031209,  I3I4,   600,  1,     36,  12024,2,20031214,1216,-24.6670,  37.4900, 3407,      9.9,  26.3253,  35.3277,2,  35.3324,2,    198.2,1,    209.1,2,     1.76,2,     0.01,2,     0.01,2,     0.13,2, -999.000,9, -999.000,9, -999.000,9,   -999.0,9,   -999.0,9,-999.0000,9,  -999.00,   -999.0,9,   -999.0,  -999.00,9,  -999.00,  -999.00,9,  26.2579,2
  49NZ20031209,  I3I4,   600,  1,     35,  12023,2,20031214,1216,-24.6670,  37.4900, 3407,     50.9,  24.3831,  35.2988,2,  35.2999,2,    206.0,1,    216.9,2,     1.58,2,    -0.02,2,     0.01,2,     0.12,2, -999.000,9, -999.000,9, -999.000,9,   -999.0,9,   -999.0,9,-999.0000,9,  -999.00,   -999.0,9,   -999.0,  -999.00,9,  -999.00,  -999.00,9,  24.3816,2
  49NZ20031209,  I3I4,   600,  1,     34,  12022,2,20031214,1216,-24.6670,  37.4900, 3407,    100.8,  22.3527,  35.3501,2,  35.3501,2,    206.6,1,    217.5,2,     1.43,2,    -0.02,2,     0.05,2,     0.19,2, -999.000,9, -999.000,9, -999.000,9,   -999.0,9,   -999.0,9,-999.0000,9,  -999.00,   -999.0,9,   -999.0,  -999.00,9,  -999.00,  -999.00,1,  22.3527,2
  49NZ20031209,  I3I4,   600,  1,     33,  12015,2,20031214,1216,-24.6670,  37.4900, 3407,    150.0,  21.0032,  35.3317,2,  35.3331,2,    162.6,1,    170.9,2,     4.90,2,     5.53,2,     0.03,2,     0.50,2, -999.000,9, -999.000,9, -999.000,9,   -999.0,9,   -999.0,9,-999.0000,9,  -999.00,   -999.0,9,   -999.0,  -999.00,9,  -999.00,  -999.00,9,  21.0029,2
  49NZ20031209,  I3I4,   600,  1,     32,  12020,2,20031214,1216,-24.6670,  37.4900, 3407,    200.0,  19.3818,  35.3869,2,  35.3893,2,    141.2,1,    147.1,2,     8.17,2,     9.32,2,     0.03,2,     0.73,2, -999.000,9, -999.000,9, -999.000,9,   -999.0,9,   -999.0,9,-999.0000,9,  -999.00,   -999.0,9,   -999.0,  -999.00,9,  -999.00,  -999.00,1,  19.3833,2
  49NZ20031209,  I3I4,   600,  1,     31,  12019,2,20031214,1216,-24.6670,  37.4900, 3407,    249.4,  18.0169,  35.5465,2,  35.5463,2,    165.2,1,    172.7,2,     6.56,2,     7.12,2,     0.02,2,     0.60,2, -999.000,9, -999.000,9, -999.000,9,   -999.0,9,   -999.0,9,-999.0000,9,  -999.00,   -999.0,9,   -999.0,  -999.00,9,  -999.00,  -999.00,9,  18.0123,2
  49NZ20031209,  I3I4,   600,  1,     30,  12018,2,20031214,1216,-24.6670,  37.4900, 3407,    301.1,  16.9455,  35.6160,2,  35.6110,2,    195.9,1,    203.7,2,     4.87,2,     5.06,2,     0.02,2,     0.47,2, -999.000,9, -999.000,9, -999.000,9,   -999.0,9,   -999.0,9,-999.0000,9,  -999.00,   -999.0,9,   -999.0,  -999.00,9,  -999.00,  -999.00,9,  16.9446,2
  49NZ20031209,  I3I4,   600,  1,     29,  12017,2,20031214,1216,-24.6670,  37.4900, 3407,    402.5,  15.6156,  35.5330,2,  35.5355,2,    195.8,1,    204.5,2,     4.01,2,     6.15,2,     0.01,2,     0.55,2, -999.000,9, -999.000,9, -999.000,9,   -999.0,9,   -999.0,9,-999.0000,9,  -999.00,   -999.0,9,   -999.0,  -999.00,9,  -999.00,  -999.00,1,  15.6222,2
  49NZ20031209,  I3I4,   600,  1,     28,  12016,2,20031214,1216,-24.6670,  37.4900, 3407,    498.6,  13.6076,  35.3019,2,  35.3025,2,    194.6,1,    202.9,2,     5.85,2,     9.92,2,     0.01,2,     0.79,2, -999.000,9, -999.000,9, -999.000,9,   -999.0,9,   -999.0,9,-999.0000,9,  -999.00,   -999.0,9,   -999.0,  -999.00,9,  -999.00,  -999.00,9,  13.6070,2
  49NZ20031209,  I3I4,   600,  1,     27,  12012,2,20031214,1216,-24.6670,  37.4900, 3407,    600.1,  12.1911,  35.1169,2,  35.1151,2,    204.0,1,    212.3,2,     5.67,2,    11.91,2,     0.02,2,     0.91,2, -999.000,9, -999.000,9, -999.000,9,   -999.0,9,   -999.0,9,-999.0000,9,  -999.00,   -999.0,9,   -999.0,  -999.00,9,  -999.00,  -999.00,1,  12.1919,2
  49NZ20031209,  I3I4,   600,  1,     26,  12014,2,20031214,1216,-24.6670,  37.4900, 3407,    699.7,  10.8315,  34.9253,2,  34.9215,2,    198.4,1,    207.5,2,     7.93,2,    15.43,2,     0.01,2,     1.14,2, -999.000,9, -999.000,9, -999.000,9,   -999.0,9,   -999.0,9,-999.0000,9,  -999.00,   -999.0,9,   -999.0,  -999.00,9,  -999.00,  -999.00,9,  10.8322,2
  49NZ20031209,  I3I4,   600,  1,     25,  12013,2,20031214,1216,-24.6670,  37.4900, 3407,    799.4,   9.5116,  34.7555,2,  34.7547,2,    199.0,1,    205.7,2,    10.53,2,    18.66,2,     0.01,2,     1.35,2, -999.000,9, -999.000,9, -999.000,9,   -999.0,9,   -999.0,9,-999.0000,9,  -999.00,   -999.0,9,   -999.0,  -999.00,9,  -999.00,  -999.00,1,   9.5113,2
  49NZ20031209,  I3I4,   600,  1,     24,  12048,2,20031214,1216,-24.6670,  37.4900, 3407,    900.2,   7.4060,  34.5571,2,  34.5531,2,    188.7,1,    197.4,2,    19.25,2,    24.45,2,     0.01,2,     1.72,2, -999.000,9, -999.000,9, -999.000,9,   -999.0,9,   -999.0,9,-999.0000,9,  -999.00,   -999.0,9,   -999.0,  -999.00,9,  -999.00,  -999.00,9,   7.4049,2
  49NZ20031209,  I3I4,   600,  1,     23,  12047,2,20031214,1216,-24.6670,  37.4900, 3407,   1000.0,   6.4446,  34.5502,2,  34.5481,2,    165.7,1,    172.6,2,    33.14,2,    28.61,2,     0.01,2,     2.03,2, -999.000,9, -999.000,9, -999.000,9,   -999.0,9,   -999.0,9,-999.0000,9,  -999.00,   -999.0,9,   -999.0,  -999.00,9,  -999.00,  -999.00,1,   6.4457,2
  49NZ20031209,  I3I4,   600,  1,     22,  12046,2,20031214,1216,-24.6670,  37.4900, 3407,   1200.0,   5.1789,  34.6259,2,  34.6229,2,    135.0,1,    140.7,2,    58.30,2,    33.03,2,     0.01,2,     2.37,2, -999.000,9, -999.000,9, -999.000,9,   -999.0,9,   -999.0,9,-999.0000,9,  -999.00,   -999.0,9,   -999.0,  -999.00,9,  -999.00,  -999.00,1,   5.1748,2
  49NZ20031209,  I3I4,   600,  1,     21,  12045,2,20031214,1216,-24.6670,  37.4900, 3407,   1400.0,   3.8562,  34.5989,2,  34.6028,3,    149.4,1,    154.6,2,    67.50,2,    33.51,2,     0.01,2,     2.39,2, -999.000,9, -999.000,9, -999.000,9,   -999.0,9,   -999.0,9,-999.0000,9,  -999.00,   -999.0,9,   -999.0,  -999.00,9,  -999.00,  -999.00,1,   3.8561,2
  49NZ20031209,  I3I4,   600,  1,     20,  12044,2,20031214,1216,-24.6670,  37.4900, 3407,   1599.6,   3.4561,  34.6863,2,  34.6854,2,    145.4,1,    151.4,2,    78.85,2,    33.48,2,     0.01,2,     2.39,2, -999.000,9, -999.000,9, -999.000,9,   -999.0,9,   -999.0,9,-999.0000,9,  -999.00,   -999.0,9,   -999.0,  -999.00,9,  -999.00,  -999.00,9,   3.4564,2
  49NZ20031209,  I3I4,   600,  1,     19,  12043,2,20031214,1216,-24.6670,  37.4900, 3407,   1799.3,   2.9520,  34.7116,2,  34.7123,2,    159.9,1,    166.2,2,    80.04,2,    32.26,2,     0.02,2,     2.29,2, -999.000,9, -999.000,9, -999.000,9,   -999.0,9,   -999.0,9,-999.0000,9,  -999.00,   -999.0,9,   -999.0,  -999.00,9,  -999.00,  -999.00,9,   2.9521,2
  49NZ20031209,  I3I4,   600,  1,     18,  12042,2,20031214,1216,-24.6670,  37.4900, 3407,   2000.7,   2.6866,  34.7465,2,  34.7462,2,    170.3,1,    177.2,2,    79.75,2,    31.08,2,     0.01,2,     2.19,2, -999.000,9, -999.000,9, -999.000,9,   -999.0,9,   -999.0,9,-999.0000,9,  -999.00,   -999.0,9,   -999.0,  -999.00,9,  -999.00,  -999.00,1,   2.6871,2
  49NZ20031209,  I3I4,   600,  1,     17,  12041,2,20031214,1216,-24.6670,  37.4900, 3407,   2200.8,   2.5274,  34.7674,2,  34.7667,2,    178.7,1,    186.0,2,    78.72,2,    30.09,2,     0.01,2,     2.11,2, -999.000,9, -999.000,9, -999.000,9,   -999.0,9,   -999.0,9,-999.0000,9,  -999.00,   -999.0,9,   -999.0,  -999.00,9,  -999.00,  -999.00,9,   2.5281,2
  49NZ20031209,  I3I4,   600,  1,     16,  12040,2,20031214,1216,-24.6670,  37.4900, 3407,   2400.5,   2.3866,  34.7867,2,  34.7866,2,    190.6,1,    198.3,2,    74.09,2,    28.71,2,     0.01,2,     2.00,2, -999.000,9, -999.000,9, -999.000,9,   -999.0,9,   -999.0,9,-999.0000,9,  -999.00,   -999.0,9,   -999.0,  -999.00,9,  -999.00,  -999.00,1,   2.3870,2
  49NZ20031209,  I3I4,   600,  1,     15,  12039,2,20031214,1216,-24.6670,  37.4900, 3407,   2600.5,   2.2943,  34.7948,2,  34.7948,2,    196.8,1,    204.5,2,    72.67,2,    28.16,2,     0.01,2,     1.97,2, -999.000,9, -999.000,9, -999.000,9,   -999.0,9,   -999.0,9,-999.0000,9,  -999.00,   -999.0,9,   -999.0,  -999.00,9,  -999.00,  -999.00,9,   2.2945,2
  49NZ20031209,  I3I4,   600,  1,     14,  12038,2,20031214,1216,-24.6670,  37.4900, 3407,   2801.3,   2.1924,  34.7996,2,  34.7992,2,    201.8,1,    209.3,2,    72.48,2,    27.76,2,     0.01,2,     1.93,2, -999.000,9, -999.000,9, -999.000,9,   -999.0,9,   -999.0,9,-999.0000,9,  -999.00,   -999.0,9,   -999.0,  -999.00,9,  -999.00,  -999.00,9,   2.1924,2
  49NZ20031209,  I3I4,   600,  1,     13,  12037,2,20031214,1216,-24.6670,  37.4900, 3407,   3001.4,   2.0270,  34.7972,2,  34.7976,2,    205.6,1,    212.9,2,    75.32,2,    27.87,2,     0.01,2,     1.93,2, -999.000,9, -999.000,9, -999.000,9,   -999.0,9,   -999.0,9,-999.0000,9,  -999.00,   -999.0,9,   -999.0,  -999.00,9,  -999.00,  -999.00,1,   2.0271,2
  49NZ20031209,  I3I4,   600,  1,     12,  12036,2,20031214,1216,-24.6670,  37.4900, 3407,   3251.0,   1.7973,  34.7855,2,  34.7852,2,    208.0,1,    214.8,2,    81.58,2,    28.19,2,     0.01,2,     1.96,2, -999.000,9, -999.000,9, -999.000,9,   -999.0,9,   -999.0,9,-999.0000,9,  -999.00,   -999.0,9,   -999.0,  -999.00,9,  -999.00,  -999.00,9,   1.7981,2
  49NZ20031209,  I3I4,   600,  1,     11,  12035,2,20031214,1216,-24.6670,  37.4900, 3407,   3431.5,   1.7257,  34.7806,2,  34.7799,2,    209.4,1,    215.3,2,    84.05,2,    28.39,2,     0.01,2,     1.98,2, -999.000,9, -999.000,9, -999.000,9,   -999.0,9,   -999.0,9,-999.0000,9,  -999.00,   -999.0,9,   -999.0,  -999.00,9,  -999.00,  -999.00,1,   1.7260,2
  49NZ20031209,  I3I4,   600,  1,     10,  12034,9,20031214,1216,-24.6670,  37.4900, 3407,   2701.7,   2.2434,  34.7980,2,-999.0000,9,    199.6,1,   -999.0,9,  -999.00,9,  -999.00,9,  -999.00,9,  -999.00,9, -999.000,9, -999.000,9, -999.000,9,   -999.0,9,   -999.0,9,-999.0000,9,  -999.00,   -999.0,9,   -999.0,  -999.00,9,  -999.00,  -999.00,9,   2.2434,2
  49NZ20031209,  I3I4,   600,  1,      9,  12033,9,20031214,1216,-24.6670,  37.4900, 3407,   2900.3,   2.1097,  34.7995,2,-999.0000,9,    204.3,1,   -999.0,9,  -999.00,9,  -999.00,9,  -999.00,9,  -999.00,9, -999.000,9, -999.000,9, -999.000,9,   -999.0,9,   -999.0,9,-999.0000,9,  -999.00,   -999.0,9,   -999.0,  -999.00,9,  -999.00,  -999.00,9,   2.1098,2
  49NZ20031209,  I3I4,   600,  1,      8,  12032,9,20031214,1216,-24.6670,  37.4900, 3407,   3101.9,   1.9611,  34.7940,2,-999.0000,9,    206.6,1,   -999.0,9,  -999.00,9,  -999.00,9,  -999.00,9,  -999.00,9, -999.000,9, -999.000,9, -999.000,9,   -999.0,9,   -999.0,9,-999.0000,9,  -999.00,   -999.0,9,   -999.0,  -999.00,9,  -999.00,  -999.00,9,   1.9597,2
  49NZ20031209,  I3I4,   600,  1,      7,  12031,2,20031214,1216,-24.6670,  37.4900, 3407,    799.4,   9.5124,  34.7564,2,-999.0000,9,    199.0,1,   -999.0,9,  -999.00,9,  -999.00,9,  -999.00,9,  -999.00,9, -999.000,9, -999.000,9, -999.000,9,   -999.0,9,   -999.0,9,-999.0000,9,  -999.00,   -999.0,9,   -999.0,  -999.00,9,  -999.00,  -999.00,9,   9.5125,2
  49NZ20031209,  I3I4,   600,  1,      6,  12030,2,20031214,1216,-24.6670,  37.4900, 3407,   3002.0,   2.0275,  34.7972,2,-999.0000,9,    205.7,1,   -999.0,9,  -999.00,9,  -999.00,9,  -999.00,9,  -999.00,9, -999.000,9, -999.000,9, -999.000,9,   -999.0,9,   -999.0,9,-999.0000,9,  -999.00,   -999.0,9,   -999.0,  -999.00,9,  -999.00,  -999.00,9,   2.0277,2
  49NZ20031209,  I3I4,   600,  1,      5,  12029,2,20031214,1216,-24.6670,  37.4900, 3407,   2000.7,   2.6855,  34.7468,2,-999.0000,9,    170.3,1,   -999.0,9,  -999.00,9,  -999.00,9,  -999.00,9,  -999.00,9, -999.000,9, -999.000,9, -999.000,9,   -999.0,9,   -999.0,9,-999.0000,9,  -999.00,   -999.0,9,   -999.0,  -999.00,9,  -999.00,  -999.00,9,   2.6857,2
  49NZ20031209,  I3I4,   600,  1,      4,  12028,2,20031214,1216,-24.6670,  37.4900, 3407,    200.5,  19.3876,  35.3869,2,-999.0000,9,    140.9,1,   -999.0,9,  -999.00,9,  -999.00,9,  -999.00,9,  -999.00,9, -999.000,9, -999.000,9, -999.000,9,   -999.0,9,   -999.0,9,-999.0000,9,  -999.00,   -999.0,9,   -999.0,  -999.00,9,  -999.00,  -999.00,9,  19.3885,2
  49NZ20031209,  I3I4,   600,  1,      3,  12027,2,20031214,1216,-24.6670,  37.4900, 3407,   1000.5,   6.4471,  34.5503,2,-999.0000,9,    165.7,1,   -999.0,9,  -999.00,9,  -999.00,9,  -999.00,9,  -999.00,9, -999.000,9, -999.000,9, -999.000,9,   -999.0,9,   -999.0,9,-999.0000,9,  -999.00,   -999.0,9,   -999.0,  -999.00,9,  -999.00,  -999.00,9,   6.4466,2
  49NZ20031209,  I3I4,   600,  1,      2,  12026,2,20031214,1216,-24.6670,  37.4900, 3407,    600.5,  12.1926,  35.1171,2,-999.0000,9,    204.0,1,   -999.0,9,  -999.00,9,  -999.00,9,  -999.00,9,  -999.00,9, -999.000,9, -999.000,9, -999.000,9,   -999.0,9,   -999.0,9,-999.0000,9,  -999.00,   -999.0,9,   -999.0,  -999.00,9,  -999.00,  -999.00,9,  12.1934,2
  49NZ20031209,  I3I4,   600,  1,      1,  12025,2,20031214,1216,-24.6670,  37.4900, 3407,   3432.1,   1.7258,  34.7806,2,-999.0000,9,    209.4,1,   -999.0,9,  -999.00,9,  -999.00,9,  -999.00,9,  -999.00,9, -999.000,9, -999.000,9, -999.000,9,   -999.0,9,   -999.0,9,-999.0000,9,  -999.00,   -999.0,9,   -999.0,  -999.00,9,  -999.00,  -999.00,9,   1.7261,2