BOTTLE,20141204PRINUNIVRMK
EXPOCODE,SECT_ID,STNNBR,CASTNO,SAMPNO,BTLNBR,BTLNBR_FLAG_W,DATE,TIME,LATITUDE,LONGITUDE,DEPTH,CTDPRS,CTDTMP,CTDSAL,CTDSAL_FLAG_W,SALNTY,SALNTY_FLAG_W,CTDOXY,CTDOXY_FLAG_W,OXYGEN,OXYGEN_FLAG_W,SILCAT,SILCAT_FLAG_W,NITRAT,NITRAT_FLAG_W,NITRIT,NITRIT_FLAG_W,PHSPHT,PHSPHT_FLAG_W,CFC-11,CFC-11_FLAG_W,CFC-12,CFC-12_FLAG_W,CFC113,CFC113_FLAG_W,TCARBN,TCARBN_FLAG_W,ALKALI,ALKALI_FLAG_W,PH_TOT,PH_TOT_FLAG_W,PH_TMP,DELC14,DELC14_FLAG_W,C14ERR,DELC13,DELC13_FLAG_W,CS-137,CS137ER,CS-137_FLAG_W,SBE35,SBE35_FLAG_W
,,,,,,,,,,,METERS,DBAR,ITS-90,PSS-78,,PSS-78,,UMOL/KG,,UMOL/KG,,UMOL/KG,,UMOL/KG,,UMOL/KG,,UMOL/KG,,PMOL/KG,,PMOL/KG,,PMOL/KG,,UMOL/KG,,UMOL/KG,,,,DEG C,/MILLE,,/MILLE,/MILLE,,DM/.1MG,DM/.1MG,,ITS-90,
  49NZ20031209,  I3I4,   603,  1,     36,  12024,2,20031214,0039,-24.6602,  36.4938, 2114,      9.8,  28.1452,  35.2574,2,  35.2599,2,    189.2,1,    199.4,2,     1.71,2,    -0.01,2,    -0.01,2,     0.13,2,    1.652,2,    0.978,2, -999.000,5,   1976.5,2,   2307.5,2,   8.0932,2,    25.00,   -999.0,9,   -999.0,  -999.00,9,  -999.00,  -999.00,9,  28.1429,2
  49NZ20031209,  I3I4,   603,  1,     35,  12023,2,20031214,0039,-24.6602,  36.4938, 2114,     49.4,  24.8548,  35.3603,2,  35.3601,2,    202.2,1,    213.4,2,     1.79,2,    -0.03,2,    -0.01,2,     0.12,2,    1.895,2,    1.082,2, -999.000,5,   1992.4,6,   2311.5,2,   8.0775,2,    25.00,   -999.0,9,   -999.0,  -999.00,9,  -999.00,  -999.00,9,  24.8532,2
  49NZ20031209,  I3I4,   603,  1,     34,  12022,2,20031214,0039,-24.6602,  36.4938, 2114,     97.8,  21.2536,  35.3446,2,  35.3428,2,    175.0,1,    184.4,2,     3.72,2,     3.62,2,     0.11,2,     0.38,2,    2.090,2,    1.191,2,    0.161,4,   2037.9,2,   2310.3,2,   7.9976,2,    25.00,   -999.0,9,   -999.0,  -999.00,9,  -999.00,  -999.00,9,  21.2557,2
  49NZ20031209,  I3I4,   603,  1,     33,  12015,2,20031214,0039,-24.6602,  36.4938, 2114,    149.7,  19.1555,  35.5722,2,  35.5706,2,    174.7,1,    183.3,2,     4.87,2,     4.74,2,     0.01,2,     0.44,2,    2.300,2,    1.271,2,    0.210,4,   2071.7,2,   2335.0,2,   7.9609,6,    25.00,   -999.0,9,   -999.0,  -999.00,9,  -999.00,  -999.00,9,  19.1588,2
  49NZ20031209,  I3I4,   603,  1,     32,  12020,2,20031214,0039,-24.6602,  36.4938, 2114,    201.8,  17.6042,  35.6784,2,  35.6745,2,    203.0,1,    211.2,2,     3.46,2,     2.89,2,     0.01,2,     0.34,2,    2.533,2,    1.398,2,    0.249,4,   2072.9,2,   2337.4,2,   7.9672,2,    25.00,   -999.0,9,   -999.0,  -999.00,9,  -999.00,  -999.00,9,  17.6052,2
  49NZ20031209,  I3I4,   603,  1,     31,  12019,2,20031214,0039,-24.6602,  36.4938, 2114,    249.5,  16.8850,  35.6569,2,  35.6552,2,    206.3,1,    216.7,2,     3.48,2,     3.78,2,     0.01,2,     0.38,2,    2.615,6,    1.428,6,    0.206,4,   2076.7,2,   2332.8,2,   7.9573,2,    25.00,   -999.0,9,   -999.0,  -999.00,9,  -999.00,  -999.00,9,  16.8846,2
  49NZ20031209,  I3I4,   603,  1,     30,  12018,2,20031214,0039,-24.6602,  36.4938, 2114,    300.8,  15.8111,  35.5585,2,  35.5550,2,    192.9,1,    202.1,2,     4.09,2,     5.91,2,     0.00,2,     0.54,2,    2.725,2,    1.466,2,    0.079,4,   2099.5,2,   2326.7,2,   7.9129,2,    25.00,   -999.0,9,   -999.0,  -999.00,9,  -999.00,  -999.00,9,  15.8112,2
  49NZ20031209,  I3I4,   603,  1,     29,  12017,2,20031214,0039,-24.6602,  36.4938, 2114,    402.4,  13.7556,  35.3394,2,-999.0000,5,    202.1,1,    211.2,2,     4.65,2,     8.67,2,     0.00,2,     0.71,2,    2.959,2,    1.540,2,    0.063,4,   2110.2,2,   2317.4,2,   7.8746,2,    25.00,   -999.0,9,   -999.0,  -999.00,9,  -999.00,  -999.00,9,  13.7575,2
  49NZ20031209,  I3I4,   603,  1,     28,  12016,2,20031214,0039,-24.6602,  36.4938, 2114,    500.3,  12.0795,  35.1056,2,  35.1059,2,    211.0,1,    220.2,2,     4.76,2,    11.40,2,     0.00,2,     0.87,2,    3.114,2,    1.566,2,    0.111,4,   2115.1,2,   2304.3,2,   7.8450,2,    25.00,   -999.0,9,   -999.0,  -999.00,9,  -999.00,  -999.00,9,  12.0776,2
  49NZ20031209,  I3I4,   603,  1,     27,  12012,2,20031214,0039,-24.6602,  36.4938, 2114,    601.0,  10.8640,  34.9298,2,  34.9275,2,    210.4,1,    219.6,2,     5.83,2,    14.11,2,    -0.01,2,     1.04,2,    3.074,2,    1.498,2,    0.097,4,   2124.0,2,   2294.9,2,   7.8160,2,    25.00,   -999.0,9,   -999.0,  -999.00,9,  -999.00,  -999.00,9,  10.8645,2
  49NZ20031209,  I3I4,   603,  1,     25,  12013,2,20031214,0039,-24.6602,  36.4938, 2114,   2002.8,   2.5533,  34.7650,2,  34.7644,2,    181.3,1,    186.8,2,    75.85,2,    29.97,2,    -0.01,2,     2.10,2,    0.009,2,    0.006,2,    0.000,4,   2247.2,2,   2352.4,2,   7.6352,2,    25.00,   -999.0,9,   -999.0,  -999.00,9,  -999.00,  -999.00,9,   2.5534,2
  49NZ20031209,  I3I4,   603,  1,     18,  12042,2,20031214,0039,-24.6602,  36.4938, 2114,    700.1,   9.5083,  34.7760,2,  34.7746,2,    184.0,1,    191.6,2,    13.70,2,    20.08,2,    -0.01,2,     1.43,2,    2.233,2,    1.087,2,    0.048,4,   2152.0,6,   2298.8,2,   7.7464,2,    25.00,   -999.0,9,   -999.0,  -999.00,9,  -999.00,  -999.00,9,   9.5093,2
  49NZ20031209,  I3I4,   603,  1,     17,  12041,2,20031214,0039,-24.6602,  36.4938, 2114,    800.7,   7.9695,  34.6271,2,  34.6266,2,    181.6,1,    188.9,2,    19.57,2,    23.87,2,     0.00,2,     1.68,2,    1.730,2,    0.844,2,    0.033,4,   2166.7,2,   2297.5,2,   7.7065,2,    25.00,   -999.0,9,   -999.0,  -999.00,9,  -999.00,  -999.00,9,   7.9728,2
  49NZ20031209,  I3I4,   603,  1,     16,  12040,2,20031214,0039,-24.6602,  36.4938, 2114,    901.4,   7.1402,  34.6440,2,  34.6443,2,    147.9,1,    153.2,2,    35.45,2,    28.73,2,    -0.01,2,     2.04,2,    0.937,2,    0.479,2,    0.034,4,   2205.8,2,   2309.2,2,   7.6397,2,    25.00,   -999.0,9,   -999.0,  -999.00,9,  -999.00,  -999.00,9,   7.1403,2
  49NZ20031209,  I3I4,   603,  1,     15,  12039,2,20031214,0039,-24.6602,  36.4938, 2114,   1000.8,   6.1205,  34.6279,2,  34.6225,2,    138.8,1,    145.0,2,    46.53,2,    31.31,2,    -0.01,2,     2.24,2,    0.645,6,    0.348,6,    0.023,4,   2227.2,2,   2321.3,2,   7.6093,2,    25.00,   -999.0,9,   -999.0,  -999.00,9,  -999.00,  -999.00,9,   6.1182,2
  49NZ20031209,  I3I4,   603,  1,     14,  12038,2,20031214,0039,-24.6602,  36.4938, 2114,   1201.7,   4.3937,  34.5793,2,  34.5792,2,    147.5,1,    152.5,2,    60.96,2,    33.31,2,     0.00,2,     2.37,2,    0.372,2,    0.201,2,    0.015,4,   2245.1,2,   2331.0,2,   7.5896,2,    25.00,   -999.0,9,   -999.0,  -999.00,9,  -999.00,  -999.00,9,   4.3945,2
  49NZ20031209,  I3I4,   603,  1,     13,  12037,2,20031214,0039,-24.6602,  36.4938, 2114,   1403.1,   3.7480,  34.6535,2,  34.6541,2,    143.6,1,    147.9,2,    73.99,2,    33.81,2,    -0.01,2,     2.41,2,    0.155,2,    0.087,2,    0.004,4,   2261.3,2,   2343.1,2,   7.5817,2,    25.00,   -999.0,9,   -999.0,  -999.00,9,  -999.00,  -999.00,9,   3.7509,2
  49NZ20031209,  I3I4,   603,  1,     12,  12036,2,20031214,0039,-24.6602,  36.4938, 2114,   1601.6,   3.1030,  34.6979,2,  34.6971,2,    155.9,1,    161.1,2,    79.15,2,    32.77,2,    -0.01,2,     2.32,2,    0.065,2,    0.025,2,    0.000,4,   2262.2,2,   2348.8,2,   7.5945,2,    25.00,   -999.0,9,   -999.0,  -999.00,9,  -999.00,  -999.00,9,   3.1031,2
  49NZ20031209,  I3I4,   603,  1,     11,  12035,2,20031214,0039,-24.6602,  36.4938, 2114,   1801.6,   2.8256,  34.7403,2,  34.7403,2,    162.5,1,    168.6,2,    83.02,2,    31.88,2,    -0.01,2,     2.26,2,    0.014,2,    0.011,2,    0.000,4,   2261.8,2,   2361.0,4,   7.6092,2,    25.00,   -999.0,9,   -999.0,  -999.00,9,  -999.00,  -999.00,9,   2.8252,2
  49NZ20031209,  I3I4,   603,  1,     10,  12034,2,20031214,0039,-24.6602,  36.4938, 2114,   2003.0,   2.5538,  34.7649,2,  34.7645,2,    181.2,1,    186.6,2,    76.12,2,    30.00,2,    -0.01,2,     2.10,2,    0.002,2,    0.003,2,    0.000,4,   2248.5,2,   2350.2,2,   7.6314,6,    25.00,   -999.0,9,   -999.0,  -999.00,9,  -999.00,  -999.00,9,   2.5538,2
  49NZ20031209,  I3I4,   603,  1,      9,  12033,2,20031214,0039,-24.6602,  36.4938, 2114,   2126.4,   2.4886,  34.7725,2,  34.7724,2,    185.6,1,    191.4,2,    74.99,2,    29.50,2,     0.00,2,     2.06,2,    0.012,2,    0.008,2,    0.000,4,   2243.7,2,   2347.9,2,   7.6370,2,    25.00,   -999.0,9,   -999.0,  -999.00,9,  -999.00,  -999.00,9,   2.4885,2
  49NZ20031209,  I3I4,   602,  1,     36,  12024,2,20031214,0400,-24.6720,  36.7427, 2154,     10.3,  25.4208,  35.3449,2,  35.3468,2,    200.2,1,    211.2,2,     1.77,2,     0.01,2,     0.00,2,     0.12,2, -999.000,9, -999.000,9, -999.000,9,   -999.0,9,   -999.0,9,-999.0000,9,  -999.00,   -999.0,9,   -999.0,  -999.00,9,  -999.00,  -999.00,9,  25.3964,2
  49NZ20031209,  I3I4,   602,  1,     35,  12023,2,20031214,0400,-24.6720,  36.7427, 2154,     50.4,  23.8695,  35.2710,2,  35.2727,2,    207.4,1,    218.8,2,     1.69,2,    -0.03,2,     0.00,2,     0.13,2, -999.000,9, -999.000,9, -999.000,9,   -999.0,9,   -999.0,9,-999.0000,9,  -999.00,   -999.0,9,   -999.0,  -999.00,9,  -999.00,  -999.00,9,  23.8684,2
  49NZ20031209,  I3I4,   602,  1,     34,  12022,2,20031214,0400,-24.6720,  36.7427, 2154,    101.3,  21.5865,  35.3388,2,  35.3392,2,    180.0,1,    189.7,2,     3.24,2,     2.92,2,     0.11,2,     0.34,2, -999.000,9, -999.000,9, -999.000,9,   -999.0,9,   -999.0,9,-999.0000,9,  -999.00,   -999.0,9,   -999.0,  -999.00,9,  -999.00,  -999.00,9,  21.5899,2
  49NZ20031209,  I3I4,   602,  1,     33,  12015,2,20031214,0400,-24.6720,  36.7427, 2154,    150.3,  19.8401,  35.4888,2,  35.4853,2,    166.6,1,    173.8,2,     5.11,2,     5.71,2,     0.03,2,     0.50,2, -999.000,9, -999.000,9, -999.000,9,   -999.0,9,   -999.0,9,-999.0000,9,  -999.00,   -999.0,9,   -999.0,  -999.00,9,  -999.00,  -999.00,9,  19.8493,2
  49NZ20031209,  I3I4,   602,  1,     32,  12020,2,20031214,0400,-24.6720,  36.7427, 2154,    200.3,  18.1477,  35.6390,2,  35.6333,2,    192.0,1,    201.2,2,     3.98,2,     3.49,2,     0.04,2,     0.37,2, -999.000,9, -999.000,9, -999.000,9,   -999.0,9,   -999.0,9,-999.0000,9,  -999.00,   -999.0,9,   -999.0,  -999.00,9,  -999.00,  -999.00,9,  18.1399,2
  49NZ20031209,  I3I4,   602,  1,     31,  12019,2,20031214,0400,-24.6720,  36.7427, 2154,    250.9,  17.1652,  35.6524,2,  35.6524,2,    195.4,1,    204.8,2,     3.64,2,     4.11,2,     0.02,2,     0.42,2, -999.000,9, -999.000,9, -999.000,9,   -999.0,9,   -999.0,9,-999.0000,9,  -999.00,   -999.0,9,   -999.0,  -999.00,9,  -999.00,  -999.00,9,  17.1644,2
  49NZ20031209,  I3I4,   602,  1,     30,  12018,2,20031214,0400,-24.6720,  36.7427, 2154,    301.5,  15.7807,  35.5542,2,  35.5603,2,    195.9,1,    205.3,2,     3.80,2,     5.77,2,     0.01,2,     0.52,2, -999.000,9, -999.000,9, -999.000,9,   -999.0,9,   -999.0,9,-999.0000,9,  -999.00,   -999.0,9,   -999.0,  -999.00,9,  -999.00,  -999.00,9,  15.7975,2
  49NZ20031209,  I3I4,   602,  1,     29,  12017,2,20031214,0400,-24.6720,  36.7427, 2154,    399.2,  13.6498,  35.3229,2,  35.3303,3,    200.1,1,    209.6,2,     4.82,2,     9.01,2,     0.01,2,     0.73,2, -999.000,9, -999.000,9, -999.000,9,   -999.0,9,   -999.0,9,-999.0000,9,  -999.00,   -999.0,9,   -999.0,  -999.00,9,  -999.00,  -999.00,9,  13.6558,2
  49NZ20031209,  I3I4,   602,  1,     28,  12016,2,20031214,0400,-24.6720,  36.7427, 2154,    499.3,  12.2105,  35.1213,2,  35.1217,2,    201.8,1,    210.5,2,     5.88,2,    12.11,2,     0.00,2,     0.92,2, -999.000,9, -999.000,9, -999.000,9,   -999.0,9,   -999.0,9,-999.0000,9,  -999.00,   -999.0,9,   -999.0,  -999.00,9,  -999.00,  -999.00,9,  12.2143,2
  49NZ20031209,  I3I4,   602,  1,     27,  12012,2,20031214,0400,-24.6720,  36.7427, 2154,    600.2,  10.9085,  34.9378,2,  34.9375,2,    204.0,1,    213.0,2,     6.75,2,    14.70,2,     0.00,2,     1.09,2, -999.000,9, -999.000,9, -999.000,9,   -999.0,9,   -999.0,9,-999.0000,9,  -999.00,   -999.0,9,   -999.0,  -999.00,9,  -999.00,  -999.00,9,  10.9086,2
  49NZ20031209,  I3I4,   602,  1,     18,  12042,2,20031214,0400,-24.6720,  36.7427, 2154,    699.3,   9.6151,  34.7751,2,  34.7756,2,    196.7,1,    205.3,2,    10.31,2,    18.49,2,     0.00,2,     1.33,2, -999.000,9, -999.000,9, -999.000,9,   -999.0,9,   -999.0,9,-999.0000,9,  -999.00,   -999.0,9,   -999.0,  -999.00,9,  -999.00,  -999.00,9,   9.6154,2
  49NZ20031209,  I3I4,   602,  1,     17,  12041,2,20031214,0400,-24.6720,  36.7427, 2154,    800.9,   8.4502,  34.7160,2,  34.7160,2,    157.1,1,    162.9,2,    24.86,2,    25.13,2,     0.00,2,     1.78,2, -999.000,9, -999.000,9, -999.000,9,   -999.0,9,   -999.0,9,-999.0000,9,  -999.00,   -999.0,9,   -999.0,  -999.00,9,  -999.00,  -999.00,9,   8.4506,2
  49NZ20031209,  I3I4,   602,  1,     16,  12040,2,20031214,0400,-24.6720,  36.7427, 2154,    899.7,   6.8804,  34.5810,2,  34.5827,2,    165.4,1,    171.4,2,    30.64,2,    27.84,2,    -0.01,2,     1.96,2, -999.000,9, -999.000,9, -999.000,9,   -999.0,9,   -999.0,9,-999.0000,9,  -999.00,   -999.0,9,   -999.0,  -999.00,9,  -999.00,  -999.00,9,   6.8803,2
  49NZ20031209,  I3I4,   602,  1,     15,  12039,2,20031214,0400,-24.6720,  36.7427, 2154,    999.1,   6.4038,  34.6386,2,  34.6386,2,    138.7,1,    143.6,2,    44.62,2,    31.03,2,     0.00,2,     2.21,2, -999.000,9, -999.000,9, -999.000,9,   -999.0,9,   -999.0,9,-999.0000,9,  -999.00,   -999.0,9,   -999.0,  -999.00,9,  -999.00,  -999.00,9,   6.4043,2
  49NZ20031209,  I3I4,   602,  1,     14,  12038,2,20031214,0400,-24.6720,  36.7427, 2154,   1200.2,   4.6522,  34.5895,2,  34.5924,2,    144.0,1,    148.5,2,    59.90,2,    33.40,2,     0.00,2,     2.37,2, -999.000,9, -999.000,9, -999.000,9,   -999.0,9,   -999.0,9,-999.0000,9,  -999.00,   -999.0,9,   -999.0,  -999.00,9,  -999.00,  -999.00,9,   4.6523,2
  49NZ20031209,  I3I4,   602,  1,     13,  12037,2,20031214,0400,-24.6720,  36.7427, 2154,   1401.2,   3.8146,  34.6627,2,  34.6632,2,    141.0,1,    145.6,2,    74.79,2,    33.99,2,     0.00,2,     2.42,2, -999.000,9, -999.000,9, -999.000,9,   -999.0,9,   -999.0,9,-999.0000,9,  -999.00,   -999.0,9,   -999.0,  -999.00,9,  -999.00,  -999.00,9,   3.8146,2
  49NZ20031209,  I3I4,   602,  1,     12,  12036,2,20031214,0400,-24.6720,  36.7427, 2154,   1602.2,   3.3107,  34.7028,2,  34.7026,2,    148.2,1,    152.8,2,    80.82,2,    33.34,2,     0.00,2,     2.36,2, -999.000,9, -999.000,9, -999.000,9,   -999.0,9,   -999.0,9,-999.0000,9,  -999.00,   -999.0,9,   -999.0,  -999.00,9,  -999.00,  -999.00,9,   3.3111,2
  49NZ20031209,  I3I4,   602,  1,     11,  12035,2,20031214,0400,-24.6720,  36.7427, 2154,   1800.9,   2.8445,  34.7276,2,  34.7272,2,    163.9,1,    169.3,2,    80.71,2,    32.01,2,     0.00,2,     2.25,2, -999.000,9, -999.000,9, -999.000,9,   -999.0,9,   -999.0,9,-999.0000,9,  -999.00,   -999.0,9,   -999.0,  -999.00,9,  -999.00,  -999.00,9,   2.8448,2
  49NZ20031209,  I3I4,   602,  1,     10,  12034,2,20031214,0400,-24.6720,  36.7427, 2154,   2003.3,   2.5775,  34.7609,2,  34.7612,2,    177.9,1,    183.5,2,    78.18,2,    30.45,2,     0.00,2,     2.13,2, -999.000,9, -999.000,9, -999.000,9,   -999.0,9,   -999.0,9,-999.0000,9,  -999.00,   -999.0,9,   -999.0,  -999.00,9,  -999.00,  -999.00,9,   2.5776,2
  49NZ20031209,  I3I4,   602,  1,      9,  12033,2,20031214,0400,-24.6720,  36.7427, 2154,   2167.2,   2.4418,  34.7778,2,  34.7782,2,    188.5,1,    194.4,2,    74.39,2,    29.33,2,     0.00,2,     2.04,2, -999.000,9, -999.000,9, -999.000,9,   -999.0,9,   -999.0,9,-999.0000,9,  -999.00,   -999.0,9,   -999.0,  -999.00,9,  -999.00,  -999.00,9,   2.4415,2
  49NZ20031209,  I3I4,   602,  1,      3,  12027,9,20031214,0400,-24.6720,  36.7427, 2154,      5.6,  25.8832,  35.3332,2,-999.0000,9,    197.5,1,   -999.0,9,  -999.00,9,  -999.00,9,  -999.00,9,  -999.00,9, -999.000,9, -999.000,9, -999.000,9,   -999.0,9,   -999.0,9,-999.0000,9,  -999.00,   -999.0,9,   -999.0,  -999.00,9,  -999.00,  -999.00,9,  25.8927,2
  49NZ20031209,  I3I4,   602,  1,      2,  12026,9,20031214,0400,-24.6720,  36.7427, 2154,      5.9,  25.8013,  35.3366,2,-999.0000,9,    197.8,1,   -999.0,9,  -999.00,9,  -999.00,9,  -999.00,9,  -999.00,9, -999.000,9, -999.000,9, -999.000,9,   -999.0,9,   -999.0,9,-999.0000,9,  -999.00,   -999.0,9,   -999.0,  -999.00,9,  -999.00,  -999.00,9,  25.8163,2
  49NZ20031209,  I3I4,   602,  1,      1,  12025,9,20031214,0400,-24.6720,  36.7427, 2154,     89.1,  22.0557,  35.3153,2,-999.0000,9,    193.2,1,   -999.0,9,  -999.00,9,  -999.00,9,  -999.00,9,  -999.00,9, -999.000,9, -999.000,9, -999.000,9,   -999.0,9,   -999.0,9,-999.0000,9,  -999.00,   -999.0,9,   -999.0,  -999.00,9,  -999.00,  -999.00,9,  22.0529,2