BOTTLE,20141204PRINUNIVRMK
EXPOCODE,SECT_ID,STNNBR,CASTNO,SAMPNO,BTLNBR,BTLNBR_FLAG_W,DATE,TIME,LATITUDE,LONGITUDE,DEPTH,CTDPRS,CTDTMP,CTDSAL,CTDSAL_FLAG_W,SALNTY,SALNTY_FLAG_W,CTDOXY,CTDOXY_FLAG_W,OXYGEN,OXYGEN_FLAG_W,SILCAT,SILCAT_FLAG_W,NITRAT,NITRAT_FLAG_W,NITRIT,NITRIT_FLAG_W,PHSPHT,PHSPHT_FLAG_W,CFC-11,CFC-11_FLAG_W,CFC-12,CFC-12_FLAG_W,CFC113,CFC113_FLAG_W,TCARBN,TCARBN_FLAG_W,ALKALI,ALKALI_FLAG_W,PH_TOT,PH_TOT_FLAG_W,PH_TMP,DELC14,DELC14_FLAG_W,C14ERR,DELC13,DELC13_FLAG_W,CS-137,CS137ER,CS-137_FLAG_W,SBE35,SBE35_FLAG_W
,,,,,,,,,,,METERS,DBAR,ITS-90,PSS-78,,PSS-78,,UMOL/KG,,UMOL/KG,,UMOL/KG,,UMOL/KG,,UMOL/KG,,UMOL/KG,,PMOL/KG,,PMOL/KG,,PMOL/KG,,UMOL/KG,,UMOL/KG,,,,DEG C,/MILLE,,/MILLE,/MILLE,,DM/.1MG,DM/.1MG,,ITS-90,
  49NZ20031209,  I3I4,   547,  1,     36,  12024,2,20031223,0850,-20.0032,  54.9887, 4410,      9.8,  27.2042,  34.8958,2,  34.8953,2,    194.2,1,    203.4,2,     1.74,2,    -0.01,2,     0.00,2,     0.13,2, -999.000,9, -999.000,9, -999.000,9,   -999.0,9,   -999.0,9,-999.0000,9,  -999.00,   -999.0,9,   -999.0,  -999.00,9,  -999.00,  -999.00,9,  27.2047,2
  49NZ20031209,  I3I4,   547,  1,     35,  12023,2,20031223,0850,-20.0032,  54.9887, 4410,     50.7,  25.3985,  34.9841,2,  34.9852,2,    207.1,1,    217.3,2,     1.76,2,    -0.01,2,     0.00,2,     0.11,2, -999.000,9, -999.000,9, -999.000,9,   -999.0,9,   -999.0,9,-999.0000,9,  -999.00,   -999.0,9,   -999.0,  -999.00,9,  -999.00,  -999.00,9,  25.3548,2
  49NZ20031209,  I3I4,   547,  1,     34,  12022,2,20031223,0850,-20.0032,  54.9887, 4410,     99.4,  22.7846,  35.0455,2,  35.0547,2,    184.1,1,    193.8,2,     3.34,2,     2.07,2,     0.11,2,     0.30,2, -999.000,9, -999.000,9, -999.000,9,   -999.0,9,   -999.0,9,-999.0000,9,  -999.00,   -999.0,9,   -999.0,  -999.00,9,  -999.00,  -999.00,9,  22.7784,2
  49NZ20031209,  I3I4,   547,  1,     33,  12015,2,20031223,0850,-20.0032,  54.9887, 4410,    149.1,  21.3559,  35.3246,2,  35.3082,2,    183.0,1,    187.6,2,     3.52,2,     3.10,2,     0.03,2,     0.34,2, -999.000,9, -999.000,9, -999.000,9,   -999.0,9,   -999.0,9,-999.0000,9,  -999.00,   -999.0,9,   -999.0,  -999.00,9,  -999.00,  -999.00,9,  21.3529,2
  49NZ20031209,  I3I4,   547,  1,     32,  12020,2,20031223,0850,-20.0032,  54.9887, 4410,    198.8,  18.9534,  35.3937,2,  35.4256,2,    147.2,1,    155.9,2,     8.31,2,     8.57,2,     0.01,2,     0.69,2, -999.000,9, -999.000,9, -999.000,9,   -999.0,9,   -999.0,9,-999.0000,9,  -999.00,   -999.0,9,   -999.0,  -999.00,9,  -999.00,  -999.00,9,  18.9505,2
  49NZ20031209,  I3I4,   547,  1,     31,  12019,2,20031223,0850,-20.0032,  54.9887, 4410,    249.2,  17.4467,  35.5424,2,  35.5373,4,    163.2,1,    170.4,2,     7.35,2,     7.85,2,     0.00,2,     0.66,2, -999.000,9, -999.000,9, -999.000,9,   -999.0,9,   -999.0,9,-999.0000,9,  -999.00,   -999.0,9,   -999.0,  -999.00,9,  -999.00,  -999.00,9,  17.4650,2
  49NZ20031209,  I3I4,   547,  1,     30,  12018,2,20031223,0850,-20.0032,  54.9887, 4410,    297.9,  15.4592,  35.4217,2,  35.4202,2,    165.3,1,    172.2,2,     9.20,3,     9.99,3,     0.01,3,     0.81,3, -999.000,9, -999.000,9, -999.000,9,   -999.0,9,   -999.0,9,-999.0000,9,  -999.00,   -999.0,9,   -999.0,  -999.00,9,  -999.00,  -999.00,9,  15.4531,2
  49NZ20031209,  I3I4,   547,  1,     29,  12021,2,20031223,0850,-20.0032,  54.9887, 4410,    399.6,  13.0890,  35.2658,2,  35.2658,2,    211.0,1,    219.6,2,     3.66,3,     8.84,3,     0.01,3,     0.72,3, -999.000,9, -999.000,9, -999.000,9,   -999.0,9,   -999.0,9,-999.0000,9,  -999.00,   -999.0,9,   -999.0,  -999.00,9,  -999.00,  -999.00,9,  13.0892,2
  49NZ20031209,  I3I4,   547,  1,     28,  12016,2,20031223,0850,-20.0032,  54.9887, 4410,    502.3,  11.1143,  34.9757,2,  34.9764,2,    218.0,1,    226.8,2,     4.13,2,    12.56,2,     0.00,2,     0.95,2, -999.000,9, -999.000,9, -999.000,9,   -999.0,9,   -999.0,9,-999.0000,9,  -999.00,   -999.0,9,   -999.0,  -999.00,9,  -999.00,  -999.00,9,  11.1139,2
  49NZ20031209,  I3I4,   547,  1,     27,  12012,2,20031223,0850,-20.0032,  54.9887, 4410,    601.6,  10.0754,  34.8230,2,  34.8231,2,    217.3,1,    226.4,2,     5.30,2,    15.18,2,    -0.01,2,     1.11,2, -999.000,9, -999.000,9, -999.000,9,   -999.0,9,   -999.0,9,-999.0000,9,  -999.00,   -999.0,9,   -999.0,  -999.00,9,  -999.00,  -999.00,9,  10.0765,2
  49NZ20031209,  I3I4,   547,  1,     26,  12014,2,20031223,0850,-20.0032,  54.9887, 4410,    698.7,   9.1850,  34.7085,2,  34.7080,2,    209.4,1,    218.3,2,     8.19,2,    18.22,2,     0.00,2,     1.30,2, -999.000,9, -999.000,9, -999.000,9,   -999.0,9,   -999.0,9,-999.0000,9,  -999.00,   -999.0,9,   -999.0,  -999.00,9,  -999.00,  -999.00,9,   9.1848,2
  49NZ20031209,  I3I4,   547,  1,     25,  12013,2,20031223,0850,-20.0032,  54.9887, 4410,    800.6,   7.2993,  34.5833,2,  34.5745,4,    165.1,1,    173.7,2,    27.45,2,    26.82,2,     0.00,2,     1.88,2, -999.000,9, -999.000,9, -999.000,9,   -999.0,9,   -999.0,9,-999.0000,9,  -999.00,   -999.0,9,   -999.0,  -999.00,9,  -999.00,  -999.00,9,   7.2974,2
  49NZ20031209,  I3I4,   547,  1,     24,  12048,2,20031223,0850,-20.0032,  54.9887, 4410,    900.0,   5.8750,  34.5424,2,  34.5428,2,    153.3,1,    158.9,2,    43.71,2,    30.56,2,    -0.01,2,     2.15,2, -999.000,9, -999.000,9, -999.000,9,   -999.0,9,   -999.0,9,-999.0000,9,  -999.00,   -999.0,9,   -999.0,  -999.00,9,  -999.00,  -999.00,9,   5.8779,2
  49NZ20031209,  I3I4,   547,  1,     23,  12047,2,20031223,0850,-20.0032,  54.9887, 4410,   1000.0,   5.2034,  34.5549,2,  34.5549,2,    142.3,1,    147.6,2,    55.55,2,    32.61,2,     0.00,2,     2.30,2, -999.000,9, -999.000,9, -999.000,9,   -999.0,9,   -999.0,9,-999.0000,9,  -999.00,   -999.0,9,   -999.0,  -999.00,9,  -999.00,  -999.00,9,   5.2034,2
  49NZ20031209,  I3I4,   547,  1,     22,  12046,2,20031223,0850,-20.0032,  54.9887, 4410,   1203.4,   4.0202,  34.5907,2,  34.5922,2,    135.5,1,    140.4,2,    74.08,2,    34.54,2,    -0.01,2,     2.45,2, -999.000,9, -999.000,9, -999.000,9,   -999.0,9,   -999.0,9,-999.0000,9,  -999.00,   -999.0,9,   -999.0,  -999.00,9,  -999.00,  -999.00,9,   4.0208,2
  49NZ20031209,  I3I4,   547,  1,     21,  12045,2,20031223,0850,-20.0032,  54.9887, 4410,   1402.0,   3.3199,  34.6420,2,  34.6419,2,    143.3,1,    149.1,2,    83.37,2,    34.23,2,    -0.01,2,     2.42,2, -999.000,9, -999.000,9, -999.000,9,   -999.0,9,   -999.0,9,-999.0000,9,  -999.00,   -999.0,9,   -999.0,  -999.00,9,  -999.00,  -999.00,9,   3.3200,2
  49NZ20031209,  I3I4,   547,  1,     20,  12044,2,20031223,0850,-20.0032,  54.9887, 4410,   1601.6,   2.7983,  34.6837,2,  34.6832,2,    151.7,1,    158.3,2,    92.28,2,    33.67,2,    -0.01,2,     2.37,2, -999.000,9, -999.000,9, -999.000,9,   -999.0,9,   -999.0,9,-999.0000,9,  -999.00,   -999.0,9,   -999.0,  -999.00,9,  -999.00,  -999.00,9,   2.7984,2
  49NZ20031209,  I3I4,   547,  1,     19,  12043,2,20031223,0850,-20.0032,  54.9887, 4410,   1795.5,   2.5583,  34.7056,2,  34.7058,2,    155.2,1,    162.2,2,    97.20,2,    33.40,2,    -0.01,2,     2.35,2, -999.000,9, -999.000,9, -999.000,9,   -999.0,9,   -999.0,9,-999.0000,9,  -999.00,   -999.0,9,   -999.0,  -999.00,9,  -999.00,  -999.00,9,   2.5583,2
  49NZ20031209,  I3I4,   547,  1,     18,  12042,2,20031223,0850,-20.0032,  54.9887, 4410,   1999.9,   2.3689,  34.7243,2,  34.7243,2,    154.9,1,    161.8,2,   105.06,2,    33.57,2,     0.00,2,     2.36,2, -999.000,9, -999.000,9, -999.000,9,   -999.0,9,   -999.0,9,-999.0000,9,  -999.00,   -999.0,9,   -999.0,  -999.00,9,  -999.00,  -999.00,9,   2.3689,2
  49NZ20031209,  I3I4,   547,  1,     17,  12041,2,20031223,0850,-20.0032,  54.9887, 4410,   2200.8,   2.1788,  34.7324,2,  34.7324,2,    155.0,1,    161.9,2,   112.14,2,    33.78,2,     0.00,2,     2.38,2, -999.000,9, -999.000,9, -999.000,9,   -999.0,9,   -999.0,9,-999.0000,9,  -999.00,   -999.0,9,   -999.0,  -999.00,9,  -999.00,  -999.00,9,   2.1787,2
  49NZ20031209,  I3I4,   547,  1,     16,  12040,2,20031223,0850,-20.0032,  54.9887, 4410,   2401.0,   2.0694,  34.7348,2,  34.7348,2,    155.4,1,    162.3,2,   116.11,2,    33.91,2,    -0.01,2,     2.38,2, -999.000,9, -999.000,9, -999.000,9,   -999.0,9,   -999.0,9,-999.0000,9,  -999.00,   -999.0,9,   -999.0,  -999.00,9,  -999.00,  -999.00,9,   2.0694,2
  49NZ20031209,  I3I4,   547,  1,     15,  12039,2,20031223,0850,-20.0032,  54.9887, 4410,   2598.0,   1.9583,  34.7331,2,  34.7330,2,    157.5,1,    164.7,2,   118.94,2,    33.96,2,    -0.01,2,     2.38,2, -999.000,9, -999.000,9, -999.000,9,   -999.0,9,   -999.0,9,-999.0000,9,  -999.00,   -999.0,9,   -999.0,  -999.00,9,  -999.00,  -999.00,9,   1.9582,2
  49NZ20031209,  I3I4,   547,  1,     14,  12038,2,20031223,0850,-20.0032,  54.9887, 4410,   2799.9,   1.8630,  34.7355,2,  34.7355,2,    157.6,1,    164.4,2,   122.96,2,    34.11,2,    -0.01,2,     2.39,2, -999.000,9, -999.000,9, -999.000,9,   -999.0,9,   -999.0,9,-999.0000,9,  -999.00,   -999.0,9,   -999.0,  -999.00,9,  -999.00,  -999.00,9,   1.8630,2
  49NZ20031209,  I3I4,   547,  1,     13,  12037,2,20031223,0850,-20.0032,  54.9887, 4410,   3001.2,   1.7860,  34.7361,2,  34.7363,2,    158.4,1,    165.1,2,   125.85,2,    34.20,2,    -0.01,2,     2.40,2, -999.000,9, -999.000,9, -999.000,9,   -999.0,9,   -999.0,9,-999.0000,9,  -999.00,   -999.0,9,   -999.0,  -999.00,9,  -999.00,  -999.00,9,   1.7860,2
  49NZ20031209,  I3I4,   547,  1,     12,  12036,2,20031223,0850,-20.0032,  54.9887, 4410,   3250.7,   1.6999,  34.7337,2,  34.7341,2,    161.4,1,    167.8,2,   126.96,2,    34.03,2,    -0.01,2,     2.39,2, -999.000,9, -999.000,9, -999.000,9,   -999.0,9,   -999.0,9,-999.0000,9,  -999.00,   -999.0,9,   -999.0,  -999.00,9,  -999.00,  -999.00,9,   1.6999,2
  49NZ20031209,  I3I4,   547,  1,     11,  12035,2,20031223,0850,-20.0032,  54.9887, 4410,   3501.2,   1.5931,  34.7302,2,  34.7307,2,    166.7,1,    172.9,2,   127.57,2,    33.88,2,    -0.01,2,     2.37,2, -999.000,9, -999.000,9, -999.000,9,   -999.0,9,   -999.0,9,-999.0000,9,  -999.00,   -999.0,9,   -999.0,  -999.00,9,  -999.00,  -999.00,9,   1.5931,2
  49NZ20031209,  I3I4,   547,  1,     10,  12034,2,20031223,0850,-20.0032,  54.9887, 4410,   3749.3,   1.4217,  34.7240,2,  34.7235,2,    175.9,1,    182.3,2,   126.28,2,    33.42,2,     0.00,2,     2.34,2, -999.000,9, -999.000,9, -999.000,9,   -999.0,9,   -999.0,9,-999.0000,9,  -999.00,   -999.0,9,   -999.0,  -999.00,9,  -999.00,  -999.00,9,   1.4217,2
  49NZ20031209,  I3I4,   547,  1,      9,  12033,2,20031223,0850,-20.0032,  54.9887, 4410,   3999.5,   1.3084,  34.7197,2,  34.7196,2,    183.1,1,    189.2,4,   124.88,2,    33.13,2,    -0.01,2,     2.31,2, -999.000,9, -999.000,9, -999.000,9,   -999.0,9,   -999.0,9,-999.0000,9,  -999.00,   -999.0,9,   -999.0,  -999.00,9,  -999.00,  -999.00,9,   1.3084,2
  49NZ20031209,  I3I4,   547,  1,      8,  12032,2,20031223,0850,-20.0032,  54.9887, 4410,   4250.0,   1.1983,  34.7152,2,  34.7151,2,    189.9,1,    195.0,2,   124.45,2,    32.83,2,    -0.01,2,     2.29,2, -999.000,9, -999.000,9, -999.000,9,   -999.0,9,   -999.0,9,-999.0000,9,  -999.00,   -999.0,9,   -999.0,  -999.00,9,  -999.00,  -999.00,9,   1.1981,2
  49NZ20031209,  I3I4,   547,  1,      7,  12031,2,20031223,0850,-20.0032,  54.9887, 4410,   4436.3,   1.1454,  34.7127,2,  34.7131,2,    194.1,1,    199.0,2,   123.66,2,    32.66,2,    -0.01,2,     2.27,2, -999.000,9, -999.000,9, -999.000,9,   -999.0,9,   -999.0,9,-999.0000,9,  -999.00,   -999.0,9,   -999.0,  -999.00,9,  -999.00,  -999.00,9,   1.1453,2
  49NZ20031209,  I3I4,   547,  1,      6,  12030,9,20031223,0850,-20.0032,  54.9887, 4410,    999.7,   5.2052,  34.5549,2,-999.0000,9,    142.3,1,   -999.0,9,  -999.00,9,  -999.00,9,  -999.00,9,  -999.00,9, -999.000,9, -999.000,9, -999.000,9,   -999.0,9,   -999.0,9,-999.0000,9,  -999.00,   -999.0,9,   -999.0,  -999.00,9,  -999.00,  -999.00,9,   5.2051,2
  49NZ20031209,  I3I4,   547,  1,      5,  12029,9,20031223,0850,-20.0032,  54.9887, 4410,    999.7,   5.2037,  34.5548,2,-999.0000,9,    142.3,1,   -999.0,9,  -999.00,9,  -999.00,9,  -999.00,9,  -999.00,9, -999.000,9, -999.000,9, -999.000,9,   -999.0,9,   -999.0,9,-999.0000,9,  -999.00,   -999.0,9,   -999.0,  -999.00,9,  -999.00,  -999.00,9,   5.2040,2
  49NZ20031209,  I3I4,   547,  1,      4,  12028,9,20031223,0850,-20.0032,  54.9887, 4410,      3.8,  27.2332,  34.8978,2,-999.0000,9,    194.4,1,   -999.0,9,  -999.00,9,  -999.00,9,  -999.00,9,  -999.00,9, -999.000,9, -999.000,9, -999.000,9,   -999.0,9,   -999.0,9,-999.0000,9,  -999.00,   -999.0,9,   -999.0,  -999.00,9,  -999.00,  -999.00,9,  27.2354,2
  49NZ20031209,  I3I4,   547,  1,      3,  12027,2,20031223,0850,-20.0032,  54.9887, 4410,      3.7,  27.2325,  34.8978,2,-999.0000,9,    194.3,1,   -999.0,9,  -999.00,9,  -999.00,9,  -999.00,9,  -999.00,9, -999.000,9, -999.000,9, -999.000,9,   -999.0,9,   -999.0,9,-999.0000,9,  -999.00,   -999.0,9,   -999.0,  -999.00,9,  -999.00,  -999.00,9,  27.2374,2
  49NZ20031209,  I3I4,   547,  1,      2,  12026,2,20031223,0850,-20.0032,  54.9887, 4410,      3.6,  27.2469,  34.8976,2,-999.0000,9,    194.2,1,   -999.0,9,  -999.00,9,  -999.00,9,  -999.00,9,  -999.00,9, -999.000,9, -999.000,9, -999.000,9,   -999.0,9,   -999.0,9,-999.0000,9,  -999.00,   -999.0,9,   -999.0,  -999.00,9,  -999.00,  -999.00,9,  27.2482,2
  49NZ20031209,  I3I4,   547,  1,      1,  12025,2,20031223,0850,-20.0032,  54.9887, 4410,    100.6,  22.7521,  35.0454,2,-999.0000,9,    183.1,1,   -999.0,9,  -999.00,9,  -999.00,9,  -999.00,9,  -999.00,9, -999.000,9, -999.000,9, -999.000,9,   -999.0,9,   -999.0,9,-999.0000,9,  -999.00,   -999.0,9,   -999.0,  -999.00,9,  -999.00,  -999.00,9,  22.7525,2