BOTTLE,20141204PRINUNIVRMK
EXPOCODE,SECT_ID,STNNBR,CASTNO,SAMPNO,BTLNBR,BTLNBR_FLAG_W,DATE,TIME,LATITUDE,LONGITUDE,DEPTH,CTDPRS,CTDTMP,CTDSAL,CTDSAL_FLAG_W,SALNTY,SALNTY_FLAG_W,CTDOXY,CTDOXY_FLAG_W,OXYGEN,OXYGEN_FLAG_W,SILCAT,SILCAT_FLAG_W,NITRAT,NITRAT_FLAG_W,NITRIT,NITRIT_FLAG_W,PHSPHT,PHSPHT_FLAG_W,CFC-11,CFC-11_FLAG_W,CFC-12,CFC-12_FLAG_W,CFC113,CFC113_FLAG_W,TCARBN,TCARBN_FLAG_W,ALKALI,ALKALI_FLAG_W,PH_TOT,PH_TOT_FLAG_W,PH_TMP,DELC14,DELC14_FLAG_W,C14ERR,DELC13,DELC13_FLAG_W,CS-137,CS137ER,CS-137_FLAG_W,SBE35,SBE35_FLAG_W
,,,,,,,,,,,METERS,DBAR,ITS-90,PSS-78,,PSS-78,,UMOL/KG,,UMOL/KG,,UMOL/KG,,UMOL/KG,,UMOL/KG,,UMOL/KG,,PMOL/KG,,PMOL/KG,,PMOL/KG,,UMOL/KG,,UMOL/KG,,,,DEG C,/MILLE,,/MILLE,/MILLE,,DM/.1MG,DM/.1MG,,ITS-90,
  49NZ20031209,  I3I4,   559,  1,     36,  12024,2,20031219,1343,-20.0032,  49.3822, 2873,     10.1,  27.7132,  34.8679,2,  34.8701,2,    192.7,1,    201.7,2,     2.03,2,     0.01,2,    -0.01,2,     0.13,2,    1.523,2,    0.984,2,    0.389,4,   1961.4,2,   2288.2,2,   8.0867,2,    25.00,   -999.0,9,   -999.0,  -999.00,9,  -999.00,  -999.00,9,  27.7102,2
  49NZ20031209,  I3I4,   559,  1,     35,  12023,2,20031219,1343,-20.0032,  49.3822, 2873,     50.2,  24.8188,  34.8088,2,  34.8019,2,    206.9,1,    215.6,2,     2.17,2,    -0.04,2,    -0.01,2,     0.14,2,    1.746,2,    1.102,2, -999.000,5,   1957.7,6,   2282.1,2,   8.0836,2,    25.00,   -999.0,9,   -999.0,  -999.00,9,  -999.00,  -999.00,9,  24.8213,2
  49NZ20031209,  I3I4,   559,  1,     34,  12022,2,20031219,1343,-20.0032,  49.3822, 2873,    100.1,  23.6411,  34.9636,2,  34.9671,2,    201.4,1,    210.2,2,     2.33,2,    -0.04,2,    -0.01,2,     0.16,2,    1.766,2,    1.117,2, -999.000,5,   1974.1,2,   2291.5,6,   8.0698,2,    25.00,   -999.0,9,   -999.0,  -999.00,9,  -999.00,  -999.00,9,  23.6415,2
  49NZ20031209,  I3I4,   559,  1,     33,  12015,2,20031219,1343,-20.0032,  49.3822, 2873,    150.2,  22.3357,  35.1881,2,  35.1877,2,    186.2,1,    194.4,2,     3.03,2,     1.79,2,     0.08,2,     0.28,2,    1.807,2,    1.126,2,    0.496,4,   2007.1,2,   2305.3,2,   8.0318,6,    25.00,   -999.0,9,   -999.0,  -999.00,9,  -999.00,  -999.00,9,  22.3351,2
  49NZ20031209,  I3I4,   559,  1,     32,  12020,2,20031219,1343,-20.0032,  49.3822, 2873,    200.4,  20.4762,  35.3942,2,  35.4008,2,    159.6,1,    166.7,2,     5.87,2,     6.00,2,     0.02,2,     0.53,2,    1.853,2,    1.137,2,    0.172,4,   2061.1,2,   2319.3,2,   7.9578,2,    25.00,   -999.0,9,   -999.0,  -999.00,9,  -999.00,  -999.00,9,  20.4770,2
  49NZ20031209,  I3I4,   559,  1,     31,  12019,2,20031219,1343,-20.0032,  49.3822, 2873,    250.2,  18.6064,  35.5882,2,  35.5918,2,    167.1,1,    174.3,2,     6.03,2,     6.11,2,     0.01,2,     0.55,2,    2.014,6,    1.219,6,    0.121,4,   2084.7,2,   2329.9,2,   7.9345,2,    25.00,   -999.0,9,   -999.0,  -999.00,9,  -999.00,  -999.00,9,  18.6064,2
  49NZ20031209,  I3I4,   559,  1,     30,  12018,2,20031219,1343,-20.0032,  49.3822, 2873,    300.6,  16.7354,  35.5667,2,  35.5672,2,    174.4,1,    182.3,2,     6.40,2,     6.99,2,     0.01,2,     0.62,2,    2.190,2,    1.315,4,    0.055,4,   2100.5,2,   2329.9,2,   7.9068,2,    25.00,   -999.0,9,   -999.0,  -999.00,9,  -999.00,  -999.00,9,  16.7335,2
  49NZ20031209,  I3I4,   559,  1,     29,  12017,2,20031219,1343,-20.0032,  49.3822, 2873,    400.2,  13.7916,  35.3480,2,-999.0000,5,    205.9,1,    214.4,2,     6.08,2,    12.09,2,     0.00,2,     0.93,2,    2.694,4, -999.000,5,    0.064,4,   2119.0,2,   2308.5,4,   7.8796,2,    25.00,   -999.0,9,   -999.0,  -999.00,9,  -999.00,  -999.00,9,  13.7918,2
  49NZ20031209,  I3I4,   559,  1,     28,  12016,2,20031219,1343,-20.0032,  49.3822, 2873,    500.5,  11.9599,  35.0902,2,  35.0861,2,    205.3,1,    213.0,2,     6.07,2,    12.12,2,     0.01,2,     0.93,2,    2.748,2,    1.571,2,    0.091,4,   2119.9,2,   2309.1,2,   7.8323,2,    25.00,   -999.0,9,   -999.0,  -999.00,9,  -999.00,  -999.00,9,  11.9610,2
  49NZ20031209,  I3I4,   559,  1,     27,  12012,2,20031219,1343,-20.0032,  49.3822, 2873,    600.2,  10.4719,  34.8801,2,  34.8773,2,    202.2,1,    209.8,2,     8.31,2,    15.84,2,     0.00,2,     1.15,2,    2.630,2,    1.458,2,    0.141,4,   2130.5,2,   2304.4,2,   7.7925,2,    25.00,   -999.0,9,   -999.0,  -999.00,9,  -999.00,  -999.00,9,  10.4731,2
  49NZ20031209,  I3I4,   559,  1,     26,  12014,2,20031219,1343,-20.0032,  49.3822, 2873,    700.0,   8.7006,  34.6566,2,  34.6555,2,    201.4,1,    208.8,2,    11.35,2,    20.37,2,    -0.01,2,     1.43,2,    2.086,2,    1.174,2,    0.096,4,   2143.3,6,   2294.5,2,   7.7506,2,    25.00,   -999.0,9,   -999.0,  -999.00,9,  -999.00,  -999.00,9,   8.7018,2
  49NZ20031209,  I3I4,   559,  1,     25,  12013,2,20031219,1343,-20.0032,  49.3822, 2873,    800.7,   7.4835,  34.6201,2,  34.6219,2,    156.0,1,    160.4,2,    30.92,2,    27.39,2,     0.00,2,     1.93,2,    0.805,2,    0.530,2,    0.023,4,   2192.2,2,   2308.3,6,   7.6610,2,    25.00,   -999.0,9,   -999.0,  -999.00,9,  -999.00,  -999.00,9,   7.4843,2
  49NZ20031209,  I3I4,   559,  1,     24,  12048,2,20031219,1343,-20.0032,  49.3822, 2873,    900.5,   6.4032,  34.6132,2,  34.6139,2,    135.1,1,    138.6,2,    47.80,2,    31.34,2,     0.00,2,     2.22,2,    0.308,2,    0.238,2,    0.029,4,   2224.0,2,   2320.8,2,   7.6181,2,    25.00,   -999.0,9,   -999.0,  -999.00,9,  -999.00,  -999.00,9,   6.4037,2
  49NZ20031209,  I3I4,   559,  1,     23,  12047,2,20031219,1343,-20.0032,  49.3822, 2873,   1000.5,   5.7418,  34.6339,2,  34.6345,2,    123.1,1,    126.3,2,    60.36,2,    33.28,2,     0.00,2,     2.37,2,    0.127,6,    0.125,6,    0.000,4,   2246.6,2,   2332.0,2,   7.5831,2,    25.00,   -999.0,9,   -999.0,  -999.00,9,  -999.00,  -999.00,9,   5.7425,2
  49NZ20031209,  I3I4,   559,  1,     22,  12046,2,20031219,1343,-20.0032,  49.3822, 2873,   1199.7,   4.4828,  34.6051,2,  34.6051,2,    132.5,1,    136.6,2,    70.68,2,    34.33,2,     0.00,2,     2.43,2,    0.093,4,    0.104,4,    0.000,4,   2257.1,2,   2340.3,2,   7.5759,2,    25.00,   -999.0,9,   -999.0,  -999.00,9,  -999.00,  -999.00,9,   4.4848,2
  49NZ20031209,  I3I4,   559,  1,     21,  12045,2,20031219,1343,-20.0032,  49.3822, 2873,   1399.5,   3.6908,  34.6173,2,  34.6173,2,    142.0,1,    146.7,2,    77.05,2,    34.33,2,     0.00,2,     2.42,2,    0.031,2,    0.032,2,    0.000,4,   2261.2,2,   2346.1,2,   7.5816,2,    25.00,   -999.0,9,   -999.0,  -999.00,9,  -999.00,  -999.00,9,   3.6913,2
  49NZ20031209,  I3I4,   559,  1,     20,  12044,2,20031219,1343,-20.0032,  49.3822, 2873,   1600.1,   3.2237,  34.6341,2,  34.6344,2,    151.4,1,    156.5,2,    80.34,2,    33.85,2,     0.00,2,     2.38,2,    0.025,2,    0.024,2,    0.000,4,   2261.5,2,   2351.6,2,   7.5874,2,    25.00,   -999.0,9,   -999.0,  -999.00,9,  -999.00,  -999.00,9,   3.2239,2
  49NZ20031209,  I3I4,   559,  1,     19,  12043,2,20031219,1343,-20.0032,  49.3822, 2873,   1800.0,   2.8621,  34.6797,2,  34.6805,2,    153.7,1,    158.5,2,    90.14,2,    33.63,2,     0.00,2,     2.37,2,    0.025,2,    0.010,2,    0.029,4,   2269.4,2,   2362.2,2,   7.5916,2,    25.00,   -999.0,9,   -999.0,  -999.00,9,  -999.00,  -999.00,9,   2.8623,2
  49NZ20031209,  I3I4,   559,  1,     18,  12042,2,20031219,1343,-20.0032,  49.3822, 2873,   2000.3,   2.6179,  34.7076,2,  34.7076,2,    154.1,1,    158.7,2,    98.82,2,    33.68,2,     0.00,2,     2.37,2,    0.013,2,    0.011,2,    0.000,4,   2277.6,2,   2372.2,2,   7.5974,6,    25.00,   -999.0,9,   -999.0,  -999.00,9,  -999.00,  -999.00,9,   2.6180,2
  49NZ20031209,  I3I4,   559,  1,     17,  12041,2,20031219,1343,-20.0032,  49.3822, 2873,   2200.2,   2.4625,  34.7206,2,  34.7210,2,    154.7,1,    159.3,2,   104.75,2,    33.79,2,    -0.01,2,     2.38,2,    0.003,2,    0.001,2,    0.000,4,   2283.2,2,   2379.5,2,   7.5982,2,    25.00,   -999.0,9,   -999.0,  -999.00,9,  -999.00,  -999.00,9,   2.4630,2
  49NZ20031209,  I3I4,   559,  1,     16,  12040,2,20031219,1343,-20.0032,  49.3822, 2873,   2399.5,   2.3142,  34.7309,2,  34.7310,2,    153.8,1,    158.1,2,   111.38,2,    34.02,2,     0.00,2,     2.40,2,    0.000,2,    0.001,2,    0.000,4,   2290.6,6,   2382.4,2,   7.5981,2,    25.00,   -999.0,9,   -999.0,  -999.00,9,  -999.00,  -999.00,9,   2.3143,2
  49NZ20031209,  I3I4,   559,  1,     15,  12039,2,20031219,1343,-20.0032,  49.3822, 2873,   2601.5,   2.2153,  34.7366,2,  34.7378,2,    153.5,1,    157.5,2,   116.24,2,    34.25,2,     0.00,2,     2.41,2,   -0.001,2,   -0.003,2,    0.008,4,   2294.8,2,   2390.2,6,   7.5987,2,    25.00,   -999.0,9,   -999.0,  -999.00,9,  -999.00,  -999.00,9,   2.2152,2
  49NZ20031209,  I3I4,   559,  1,     14,  12038,2,20031219,1343,-20.0032,  49.3822, 2873,   2800.8,   2.0580,  34.7373,2,  34.7376,2,    157.0,1,    160.5,2,   119.38,2,    34.16,2,     0.00,2,     2.40,2,    0.000,2,   -0.001,2,    0.010,4,   2298.6,2,   2392.8,2,   7.6022,6,    25.00,   -999.0,9,   -999.0,  -999.00,9,  -999.00,  -999.00,9,   2.0580,2
  49NZ20031209,  I3I4,   559,  1,     13,  12037,2,20031219,1343,-20.0032,  49.3822, 2873,   2889.9,   1.9928,  34.7377,2,  34.7379,2,    157.8,1,    160.9,2,   121.36,2,    34.23,2,    -0.01,2,     2.41,2,   -0.001,2,    0.000,2,    0.000,4,   2300.2,2,   2393.8,2,   7.6026,2,    25.00,   -999.0,9,   -999.0,  -999.00,9,  -999.00,  -999.00,9,   1.9927,2
  49NZ20031209,  I3I4,   559,  1,     12,  12036,9,20031219,1343,-20.0032,  49.3822, 2873,     10.1,  27.6638,  34.8659,2,-999.0000,9,    193.2,1,   -999.0,9,  -999.00,9,  -999.00,9,  -999.00,9,  -999.00,9, -999.000,9, -999.000,9, -999.000,9,   -999.0,9,   -999.0,9,-999.0000,9,  -999.00,   -999.0,9,   -999.0,  -999.00,9,  -999.00,  -999.00,9,  27.6581,2
  49NZ20031209,  I3I4,   559,  1,     11,  12035,2,20031219,1343,-20.0032,  49.3822, 2873,   2801.1,   2.0585,  34.7373,2,  34.7377,2,    157.0,1,    160.4,2,   119.22,2,    34.12,2,     0.00,2,     2.40,2,    0.000,2,    0.003,2,    0.000,4,   2297.6,2,   2391.0,2,   7.6027,2,    25.00,   -999.0,9,   -999.0,  -999.00,9,  -999.00,  -999.00,9,   2.0584,2
  49NZ20031209,  I3I4,   559,  1,     10,  12034,9,20031219,1343,-20.0032,  49.3822, 2873,   1001.1,   5.7426,  34.6341,2,-999.0000,9,    123.1,1,   -999.0,9,  -999.00,9,  -999.00,9,  -999.00,9,  -999.00,9, -999.000,9, -999.000,9, -999.000,9,   -999.0,9,   -999.0,9,-999.0000,9,  -999.00,   -999.0,9,   -999.0,  -999.00,9,  -999.00,  -999.00,9,   5.7431,2
  49NZ20031209,  I3I4,   559,  1,      9,  12033,9,20031219,1343,-20.0032,  49.3822, 2873,   1001.2,   5.7427,  34.6340,2,-999.0000,9,    123.1,1,   -999.0,9,  -999.00,9,  -999.00,9,  -999.00,9,  -999.00,9, -999.000,9, -999.000,9, -999.000,9,   -999.0,9,   -999.0,9,-999.0000,9,  -999.00,   -999.0,9,   -999.0,  -999.00,9,  -999.00,  -999.00,9,   5.7432,2
  49NZ20031209,  I3I4,   559,  1,      8,  12032,9,20031219,1343,-20.0032,  49.3822, 2873,   1001.5,   5.7423,  34.6341,2,-999.0000,9,    123.1,1,   -999.0,9,  -999.00,9,  -999.00,9,  -999.00,9,  -999.00,9, -999.000,9, -999.000,9, -999.000,9,   -999.0,9,   -999.0,9,-999.0000,9,  -999.00,   -999.0,9,   -999.0,  -999.00,9,  -999.00,  -999.00,9,   5.7426,2
  49NZ20031209,  I3I4,   559,  1,      7,  12031,9,20031219,1343,-20.0032,  49.3822, 2873,   1001.2,   5.7426,  34.6341,2,-999.0000,9,    123.1,1,   -999.0,9,  -999.00,9,  -999.00,9,  -999.00,9,  -999.00,9, -999.000,9, -999.000,9, -999.000,9,   -999.0,9,   -999.0,9,-999.0000,9,  -999.00,   -999.0,9,   -999.0,  -999.00,9,  -999.00,  -999.00,9,   5.7430,2
  49NZ20031209,  I3I4,   559,  1,      6,  12030,9,20031219,1343,-20.0032,  49.3822, 2873,   1001.3,   5.7427,  34.6340,2,-999.0000,9,    123.1,1,   -999.0,9,  -999.00,9,  -999.00,9,  -999.00,9,  -999.00,9, -999.000,9, -999.000,9, -999.000,9,   -999.0,9,   -999.0,9,-999.0000,9,  -999.00,   -999.0,9,   -999.0,  -999.00,9,  -999.00,  -999.00,9,   5.7432,2
  49NZ20031209,  I3I4,   559,  1,      5,  12029,9,20031219,1343,-20.0032,  49.3822, 2873,   1001.2,   5.7428,  34.6340,2,-999.0000,9,    123.2,1,   -999.0,9,  -999.00,9,  -999.00,9,  -999.00,9,  -999.00,9, -999.000,9, -999.000,9, -999.000,9,   -999.0,9,   -999.0,9,-999.0000,9,  -999.00,   -999.0,9,   -999.0,  -999.00,9,  -999.00,  -999.00,9,   5.7433,2
  49NZ20031209,  I3I4,   559,  1,      4,  12028,9,20031219,1343,-20.0032,  49.3822, 2873,   1001.2,   5.7423,  34.6341,2,-999.0000,9,    123.2,1,   -999.0,9,  -999.00,9,  -999.00,9,  -999.00,9,  -999.00,9, -999.000,9, -999.000,9, -999.000,9,   -999.0,9,   -999.0,9,-999.0000,9,  -999.00,   -999.0,9,   -999.0,  -999.00,9,  -999.00,  -999.00,9,   5.7428,2
  49NZ20031209,  I3I4,   559,  1,      3,  12027,9,20031219,1343,-20.0032,  49.3822, 2873,   1001.1,   5.7425,  34.6340,2,-999.0000,9,    123.1,1,   -999.0,9,  -999.00,9,  -999.00,9,  -999.00,9,  -999.00,9, -999.000,9, -999.000,9, -999.000,9,   -999.0,9,   -999.0,9,-999.0000,9,  -999.00,   -999.0,9,   -999.0,  -999.00,9,  -999.00,  -999.00,9,   5.7428,2
  49NZ20031209,  I3I4,   559,  1,      2,  12026,9,20031219,1343,-20.0032,  49.3822, 2873,   1001.2,   5.7422,  34.6340,2,-999.0000,9,    123.1,1,   -999.0,9,  -999.00,9,  -999.00,9,  -999.00,9,  -999.00,9, -999.000,9, -999.000,9, -999.000,9,   -999.0,9,   -999.0,9,-999.0000,9,  -999.00,   -999.0,9,   -999.0,  -999.00,9,  -999.00,  -999.00,9,   5.7428,2
  49NZ20031209,  I3I4,   559,  1,      1,  12025,9,20031219,1343,-20.0032,  49.3822, 2873,   1000.9,   5.7427,  34.6338,2,-999.0000,9,    123.1,1,   -999.0,9,  -999.00,9,  -999.00,9,  -999.00,9,  -999.00,9, -999.000,9, -999.000,9, -999.000,9,   -999.0,9,   -999.0,9,-999.0000,9,  -999.00,   -999.0,9,   -999.0,  -999.00,9,  -999.00,  -999.00,9,   5.7426,2