BOTTLE,20141204PRINUNIVRMK
EXPOCODE,SECT_ID,STNNBR,CASTNO,SAMPNO,BTLNBR,BTLNBR_FLAG_W,DATE,TIME,LATITUDE,LONGITUDE,DEPTH,CTDPRS,CTDTMP,CTDSAL,CTDSAL_FLAG_W,SALNTY,SALNTY_FLAG_W,CTDOXY,CTDOXY_FLAG_W,OXYGEN,OXYGEN_FLAG_W,SILCAT,SILCAT_FLAG_W,NITRAT,NITRAT_FLAG_W,NITRIT,NITRIT_FLAG_W,PHSPHT,PHSPHT_FLAG_W,CFC-11,CFC-11_FLAG_W,CFC-12,CFC-12_FLAG_W,CFC113,CFC113_FLAG_W,TCARBN,TCARBN_FLAG_W,ALKALI,ALKALI_FLAG_W,PH_TOT,PH_TOT_FLAG_W,PH_TMP,DELC14,DELC14_FLAG_W,C14ERR,DELC13,DELC13_FLAG_W,CS-137,CS137ER,CS-137_FLAG_W,SBE35,SBE35_FLAG_W
,,,,,,,,,,,METERS,DBAR,ITS-90,PSS-78,,PSS-78,,UMOL/KG,,UMOL/KG,,UMOL/KG,,UMOL/KG,,UMOL/KG,,UMOL/KG,,PMOL/KG,,PMOL/KG,,PMOL/KG,,UMOL/KG,,UMOL/KG,,,,DEG C,/MILLE,,/MILLE,/MILLE,,DM/.1MG,DM/.1MG,,ITS-90,
  49NZ20031209,  I3I4,   557,  1,     36,  12024,2,20031221,0257,-19.9965,  50.0602, 4348,     10.0,  27.7066,  35.0749,2,  35.0758,2,    192.2,1,    201.3,2,     2.04,2,     0.00,2,     0.00,2,     0.10,2,    1.620,2,    0.890,4,    0.245,4,   1969.2,2,   2295.6,2,   8.0872,2,    25.00,     59.4,2,      3.5,     1.07,2,  -999.00,  -999.00,9,  27.7045,2
  49NZ20031209,  I3I4,   557,  1,     35,  12023,2,20031221,0257,-19.9965,  50.0602, 4348,     49.7,  25.8004,  34.9030,2,  34.9046,2,    207.6,1,    217.7,2,     2.10,2,    -0.02,2,     0.00,2,     0.11,2,    1.821,2,    0.992,4, -999.000,5,   1959.8,6,   2286.0,2,   8.0887,2,    25.00,     56.9,2,      3.6,     1.14,2,  -999.00,  -999.00,9,  25.7921,2
  49NZ20031209,  I3I4,   557,  1,     34,  12022,2,20031221,0257,-19.9965,  50.0602, 4348,    100.2,  23.7078,  34.9526,2,  34.9513,2,    202.1,1,    212.3,2,     2.22,2,    -0.03,2,     0.00,2,     0.13,2,    1.835,2,    1.040,4,    0.385,4,   1972.1,2,   2288.1,6,   8.0745,2,    25.00,     52.9,2,      3.4,     1.06,2,  -999.00,  -999.00,9,  23.7165,2
  49NZ20031209,  I3I4,   557,  1,     33,  12015,2,20031221,0257,-19.9965,  50.0602, 4348,    150.9,  22.5344,  35.1479,2,  35.1616,2,    182.6,1,    188.7,2,     3.01,2,     2.17,2,     0.04,2,     0.27,2,    1.895,2,    1.052,4,    0.196,4,   2009.7,2,   2300.0,2,   8.0270,6,    25.00,     58.4,2,      3.6,     0.83,2,  -999.00,  -999.00,9,  22.5373,2
  49NZ20031209,  I3I4,   557,  1,     32,  12020,2,20031221,0257,-19.9965,  50.0602, 4348,    198.8,  20.7578,  35.4142,2,  35.4084,2,    163.9,1,    171.0,2,     5.02,2,     5.14,2,     0.02,2,     0.44,2,    1.952,2,    1.081,4,    0.113,4,   2052.3,2,   2315.6,2,   7.9723,2,    25.00,     64.7,2,      3.6,     0.71,2,  -999.00,  -999.00,9,  20.7594,2
  49NZ20031209,  I3I4,   557,  1,     31,  12019,2,20031221,0257,-19.9965,  50.0602, 4348,    251.2,  18.6662,  35.6600,2,  35.6545,2,    177.4,1,    184.2,2,     4.64,2,     4.68,2,     0.01,2,     0.42,2,    2.172,6,    1.248,4,    0.121,4,   2078.9,2,   2331.5,2,   7.9491,2,    25.00,   -999.0,5,   -999.0,  -999.00,5,  -999.00,  -999.00,9,  18.6726,2
  49NZ20031209,  I3I4,   557,  1,     30,  12018,2,20031221,0257,-19.9965,  50.0602, 4348,    301.5,  17.1668,  35.5879,2,  35.5777,2,    174.6,1,    181.2,2,     6.40,2,     6.75,2,     0.01,2,     0.57,2,    2.249,2,    1.218,4,    0.074,4,   2098.6,2,   2331.0,2,   7.9122,2,    25.00,     63.9,2,      6.0,     0.82,2,  -999.00,  -999.00,9,  17.1640,2
  49NZ20031209,  I3I4,   557,  1,     29,  12017,2,20031221,0257,-19.9965,  50.0602, 4348,    401.8,  13.8787,  35.3611,2,  35.3530,2,    206.4,1,    214.2,2,     4.20,2,     7.96,2,     0.01,2,     0.65,2,    2.829,2,    1.476,4,    0.068,4,   2106.2,2,   2320.1,2,   7.8800,2,    25.00,     77.8,2,      5.3,     1.02,2,  -999.00,  -999.00,9,  13.8524,2
  49NZ20031209,  I3I4,   557,  1,     28,  12016,2,20031221,0257,-19.9965,  50.0602, 4348,    500.7,  12.0129,  35.1024,2,  35.0999,2,    213.7,1,    222.1,2,     4.62,2,    11.18,2,     0.00,2,     0.84,2,    3.114,2,    1.550,4,    0.081,4,   2113.5,2,   2308.6,2,   7.8443,2,    25.00,     66.5,2,      3.6,     1.08,2,  -999.00,  -999.00,9,  12.0111,2
  49NZ20031209,  I3I4,   557,  1,     27,  12012,2,20031221,0257,-19.9965,  50.0602, 4348,    601.1,  10.5855,  34.8933,2,  34.8889,2,    213.1,1,    221.7,2,     5.97,2,    14.46,2,     0.01,2,     1.05,2,    3.034,2,    1.470,4,    0.085,4,   2122.3,2,   2300.0,2,   7.8091,2,    25.00,     60.1,2,      3.5,     1.18,2,  -999.00,  -999.00,9,  10.5828,2
  49NZ20031209,  I3I4,   557,  1,     26,  12014,2,20031221,0257,-19.9965,  50.0602, 4348,    700.6,   9.0705,  34.6949,2,  34.6905,2,    205.0,1,    213.0,2,     9.75,2,    19.16,2,     0.01,2,     1.34,2,    2.428,2,    1.165,4,    0.067,4,   2137.3,6,   2296.0,2,   7.7632,2,    25.00,     21.3,2,      3.3,     1.18,2,  -999.00,  -999.00,9,   9.0693,2
  49NZ20031209,  I3I4,   557,  1,     25,  12013,2,20031221,0257,-19.9965,  50.0602, 4348,    800.6,   7.3108,  34.5508,2,  34.5469,2,    183.5,1,    189.7,2,    21.71,2,    25.69,2,     0.01,2,     1.77,2,    1.368,2,    0.650,4,    0.024,4,   2171.4,2,   2296.2,6,   7.6904,2,    25.00,    -39.3,2,      3.3,     1.03,2,  -999.00,  -999.00,9,   7.3115,2
  49NZ20031209,  I3I4,   557,  1,     24,  12048,2,20031221,0257,-19.9965,  50.0602, 4348,    899.4,   6.0796,  34.5018,2,  34.4975,2,    168.7,1,    176.0,2,    34.09,2,    29.29,2,     0.01,2,     2.02,2,    0.796,2,    0.375,4,    0.020,4,   2196.3,2,   2301.7,2,   7.6442,6,    25.00,    -79.7,2,      3.2,     0.86,2,  -999.00,  -999.00,9,   6.0817,2
  49NZ20031209,  I3I4,   557,  1,     23,  12047,2,20031221,0257,-19.9965,  50.0602, 4348,   1000.2,   5.3998,  34.5695,2,  34.5656,2,    136.8,1,    142.8,2,    56.19,2,    32.87,2,     0.00,2,     2.32,2,    0.281,6,    0.122,4,    0.008,4,   2236.1,2,   2323.9,2,   7.5940,2,    25.00,   -131.8,2,      3.3,     0.60,2,  -999.00,  -999.00,9,   5.3997,2
  49NZ20031209,  I3I4,   557,  1,     22,  12046,2,20031221,0257,-19.9965,  50.0602, 4348,   1199.7,   4.1532,  34.5893,2,  34.5910,2,    136.6,1,    141.6,2,    72.35,2,    34.44,2,     0.01,2,     2.43,2,    0.082,2,    0.042,4,   -0.001,4,   2250.2,2,   2337.5,2,   7.5767,2,    25.00,   -161.7,2,      4.4,     0.49,2,  -999.00,  -999.00,9,   4.1530,2
  49NZ20031209,  I3I4,   557,  1,     21,  12045,2,20031221,0257,-19.9965,  50.0602, 4348,   1401.3,   3.3827,  34.6250,2,  34.6244,2,    146.6,1,    152.6,2,    79.48,2,    34.07,2,     0.00,2,     2.40,2,    0.043,2,    0.024,4,   -0.001,4,   2261.7,2,   2347.7,2,   7.5819,2,    25.00,   -163.9,6,      2.5,     0.47,6,  -999.00,  -999.00,9,   3.3811,2
  49NZ20031209,  I3I4,   557,  1,     20,  12044,2,20031221,0257,-19.9965,  50.0602, 4348,   1601.5,   2.9914,  34.6705,2,  34.6687,2,    150.0,1,    156.4,2,    88.09,2,    33.82,2,     0.01,2,     2.37,2,    0.009,2,    0.005,4,   -0.001,4,   2266.0,2,   2360.1,2,   7.5891,2,    25.00,   -171.4,2,      3.0,     0.42,2,  -999.00,  -999.00,9,   2.9918,2
  49NZ20031209,  I3I4,   557,  1,     19,  12043,2,20031221,0257,-19.9965,  50.0602, 4348,   1799.8,   2.6446,  34.6969,2,  34.6965,2,    155.6,1,    162.2,2,    94.58,2,    33.45,2,     0.01,2,     2.34,2,   -0.002,2,    0.000,4,   -0.001,4,   2272.9,2,   2363.5,2,   7.5978,2,    25.00,   -168.6,2,      3.1,     0.42,2,  -999.00,  -999.00,9,   2.6447,2
  49NZ20031209,  I3I4,   557,  1,     18,  12042,2,20031221,0257,-19.9965,  50.0602, 4348,   2001.2,   2.4653,  34.7177,2,  34.7174,2,    154.4,1,    161.0,2,   102.61,2,    33.48,2,     0.00,2,     2.36,2,    0.003,2,   -0.004,4,   -0.001,4,   2282.2,2,   2373.7,2,   7.5984,2,    25.00,   -173.1,2,      3.2,     0.39,2,  -999.00,  -999.00,9,   2.4653,2
  49NZ20031209,  I3I4,   557,  1,     17,  12041,2,20031221,0257,-19.9965,  50.0602, 4348,   2200.6,   2.3105,  34.7298,2,  34.7294,2,    153.0,1,    159.5,2,   110.32,2,    33.93,2,     0.00,2,     2.38,2,    0.003,2,   -0.002,4,   -0.001,4,   2288.1,2,   2380.9,2,   7.5999,2,    25.00,   -183.5,2,      3.1,     0.32,2,  -999.00,  -999.00,9,   2.3108,2
  49NZ20031209,  I3I4,   557,  1,     16,  12040,2,20031221,0257,-19.9965,  50.0602, 4348,   2400.7,   2.1882,  34.7357,2,  34.7359,2,    152.5,1,    158.9,2,   115.50,2,    34.14,2,     0.01,2,     2.40,2,    0.001,2,   -0.003,4,   -0.001,4,   2294.5,6,   2384.8,2,   7.6011,2,    25.00,   -179.9,2,      4.3,     0.32,2,  -999.00,  -999.00,9,   2.1883,2
  49NZ20031209,  I3I4,   557,  1,     15,  12039,2,20031221,0257,-19.9965,  50.0602, 4348,   2602.4,   2.0880,  34.7388,2,  34.7383,2,    152.6,1,    159.0,2,   119.42,2,    34.23,2,     0.00,2,     2.41,2,   -0.005,2,   -0.001,4,   -0.001,4,   2299.5,2,   2389.4,6,   7.5992,2,    25.00,   -179.5,2,      3.2,     0.30,2,  -999.00,  -999.00,9,   2.0881,2
  49NZ20031209,  I3I4,   557,  1,     14,  12038,2,20031221,0257,-19.9965,  50.0602, 4348,   2800.8,   1.9762,  34.7391,2,  34.7391,2,    153.9,1,    160.1,2,   122.78,2,    34.39,2,     0.01,2,     2.41,2,   -0.004,2,   -0.002,4,   -0.001,4,   2303.1,2,   2394.7,2,   7.6021,6,    25.00,   -184.6,2,      3.1,     0.30,2,  -999.00,  -999.00,9,   1.9762,2
  49NZ20031209,  I3I4,   557,  1,     13,  12037,2,20031221,0257,-19.9965,  50.0602, 4348,   3001.5,   1.8944,  34.7386,2,  34.7379,2,    155.4,1,    161.5,2,   124.99,2,    34.45,2,     0.01,2,     2.41,2,   -0.005,2,   -0.001,4,   -0.001,4,   2304.2,2,   2396.9,2,   7.6013,2,    25.00,   -184.9,6,      2.2,     0.29,6,  -999.00,  -999.00,9,   1.8945,2
  49NZ20031209,  I3I4,   557,  1,     12,  12036,2,20031221,0257,-19.9965,  50.0602, 4348,   3249.3,   1.7522,  34.7345,2,  34.7333,2,    160.7,1,    166.8,2,   126.23,2,    34.12,2,     0.01,2,     2.39,2,   -0.007,2,   -0.001,4,   -0.001,4,   2300.6,2,   2392.9,2,   7.6061,2,    25.00,   -193.6,2,      3.2,     0.30,2,  -999.00,  -999.00,9,   1.7524,2
  49NZ20031209,  I3I4,   557,  1,     11,  12035,2,20031221,0257,-19.9965,  50.0602, 4348,   3501.3,   1.5901,  34.7288,2,  34.7289,2,    167.9,1,    174.0,2,   126.84,2,    33.91,2,     0.01,2,     2.37,2,   -0.003,2,    0.000,4,   -0.001,4,   2294.8,2,   2064.0,4,   7.6110,2,    25.00,   -192.2,2,      3.1,     0.36,2,  -999.00,  -999.00,9,   1.5901,2
  49NZ20031209,  I3I4,   557,  1,     10,  12034,2,20031221,0257,-19.9965,  50.0602, 4348,   4252.1,   1.0165,  34.7081,2,  34.7085,2,    199.0,1,    205.0,2,   122.21,2,    32.43,2,     0.01,2,     2.24,2,    0.014,2,    0.011,4,   -0.001,4,   2268.6,2,   2368.5,2,   7.6201,2,    25.00,   -174.8,2,      3.1,     0.47,2,  -999.00,  -999.00,9,   1.0161,2
  49NZ20031209,  I3I4,   557,  1,      9,  12033,2,20031221,0257,-19.9965,  50.0602, 4348,   4002.1,   1.1575,  34.7141,2,  34.7135,2,    191.8,1,    198.2,2,   122.12,2,    32.71,2,     0.00,2,     2.26,2,    0.005,2,    0.004,4,   -0.001,4,   2273.9,2,   2370.6,2,   7.6165,2,    25.00,   -178.9,2,      3.1,     0.42,2,  -999.00,  -999.00,9,   1.1576,2
  49NZ20031209,  I3I4,   557,  1,      8,  12032,2,20031221,0257,-19.9965,  50.0602, 4348,   4252.3,   1.0162,  34.7081,2,  34.7081,2,    199.0,1,    204.9,2,   122.12,2,    32.45,2,     0.01,2,     2.24,2,    0.024,2,    0.015,4,   -0.001,4,   2267.9,6,   2365.4,2,   7.6185,2,    25.00,   -166.9,2,      3.0,     0.50,2,  -999.00,  -999.00,9,   1.0161,2
  49NZ20031209,  I3I4,   557,  1,      7,  12031,2,20031221,0257,-19.9965,  50.0602, 4348,   4401.1,   0.9705,  34.7058,2,  34.7058,2,    201.8,1,    206.9,2,   122.77,2,    32.41,2,     0.01,2,     2.24,2,    0.026,2,    0.016,4,   -0.001,4,   2265.5,2,   2363.4,6,   7.6193,2,    25.00,   -163.4,2,      3.0,     0.48,2,  -999.00,  -999.00,9,   0.9705,2
  49NZ20031209,  I3I4,   557,  1,      6,  12030,9,20031221,0257,-19.9965,  50.0602, 4348,    999.9,   5.3998,  34.5696,2,-999.0000,9,    136.8,1,   -999.0,9,  -999.00,9,  -999.00,9,  -999.00,9,  -999.00,9, -999.000,9, -999.000,9, -999.000,9,   -999.0,9,   -999.0,9,-999.0000,9,  -999.00,   -999.0,9,   -999.0,  -999.00,9,  -999.00,  -999.00,9,   5.4003,2
  49NZ20031209,  I3I4,   557,  1,      5,  12029,9,20031221,0257,-19.9965,  50.0602, 4348,      4.5,  27.7167,  35.0763,2,-999.0000,9,    192.1,1,   -999.0,9,  -999.00,9,  -999.00,9,  -999.00,9,  -999.00,9, -999.000,9, -999.000,9, -999.000,9,   -999.0,9,   -999.0,9,-999.0000,9,  -999.00,   -999.0,9,   -999.0,  -999.00,9,  -999.00,  -999.00,9,  27.7163,2
  49NZ20031209,  I3I4,   557,  1,      4,  12028,2,20031221,0257,-19.9965,  50.0602, 4348,      4.7,  27.7150,  35.0762,2,-999.0000,9,    192.1,1,   -999.0,9,  -999.00,9,  -999.00,9,  -999.00,9,  -999.00,9, -999.000,9, -999.000,9, -999.000,9,   -999.0,9,   -999.0,9,-999.0000,9,  -999.00,   -999.0,9,   -999.0,  -999.00,9,  -999.00,  -999.00,9,  27.7148,2
  49NZ20031209,  I3I4,   557,  1,      3,  12027,2,20031221,0257,-19.9965,  50.0602, 4348,      4.7,  27.7143,  35.0760,2,-999.0000,9,    192.3,1,   -999.0,9,  -999.00,9,  -999.00,9,  -999.00,9,  -999.00,9, -999.000,9, -999.000,9, -999.000,9,   -999.0,9,   -999.0,9,-999.0000,9,  -999.00,   -999.0,9,   -999.0,  -999.00,9,  -999.00,  -999.00,9,  27.7122,2
  49NZ20031209,  I3I4,   557,  1,      2,  12026,2,20031221,0257,-19.9965,  50.0602, 4348,    119.9,  23.1656,  35.0660,2,-999.0000,9,    192.3,1,   -999.0,9,  -999.00,9,  -999.00,9,  -999.00,9,  -999.00,9, -999.000,9, -999.000,9, -999.000,9,   -999.0,9,   -999.0,9,-999.0000,9,  -999.00,   -999.0,9,   -999.0,  -999.00,9,  -999.00,  -999.00,9,  23.1592,2
  49NZ20031209,  I3I4,   557,  1,      1,  12025,2,20031221,0257,-19.9965,  50.0602, 4348,   3751.5,   1.3735,  34.7213,2,  34.7213,2,    180.4,1,    186.6,2,   124.14,2,    33.25,2,     0.01,2,     2.32,2,   -0.001,2,    0.001,4,   -0.001,4,   2285.4,2,   2381.2,2,   7.6154,2,    25.00,   -176.1,2,      3.2,     0.42,2,  -999.00,  -999.00,9,   1.3736,2