BOTTLE,20141204PRINUNIVRMK
EXPOCODE,SECT_ID,STNNBR,CASTNO,SAMPNO,BTLNBR,BTLNBR_FLAG_W,DATE,TIME,LATITUDE,LONGITUDE,DEPTH,CTDPRS,CTDTMP,CTDSAL,CTDSAL_FLAG_W,SALNTY,SALNTY_FLAG_W,CTDOXY,CTDOXY_FLAG_W,OXYGEN,OXYGEN_FLAG_W,SILCAT,SILCAT_FLAG_W,NITRAT,NITRAT_FLAG_W,NITRIT,NITRIT_FLAG_W,PHSPHT,PHSPHT_FLAG_W,CFC-11,CFC-11_FLAG_W,CFC-12,CFC-12_FLAG_W,CFC113,CFC113_FLAG_W,TCARBN,TCARBN_FLAG_W,ALKALI,ALKALI_FLAG_W,PH_TOT,PH_TOT_FLAG_W,PH_TMP,DELC14,DELC14_FLAG_W,C14ERR,DELC13,DELC13_FLAG_W,CS-137,CS137ER,CS-137_FLAG_W,SBE35,SBE35_FLAG_W
,,,,,,,,,,,METERS,DBAR,ITS-90,PSS-78,,PSS-78,,UMOL/KG,,UMOL/KG,,UMOL/KG,,UMOL/KG,,UMOL/KG,,UMOL/KG,,PMOL/KG,,PMOL/KG,,PMOL/KG,,UMOL/KG,,UMOL/KG,,,,DEG C,/MILLE,,/MILLE,/MILLE,,DM/.1MG,DM/.1MG,,ITS-90,
  49NZ20031209,  I3I4,   520,  1,     36,  12024,2,20031230,0813,-19.9962,  67.6458, 2876,     10.2,  26.3319,  34.9933,2,  34.9951,2,    196.6,1,    205.4,2,     1.93,2,     0.02,2,    -0.01,2,     0.12,2, -999.000,9, -999.000,9, -999.000,9,   -999.0,9,   -999.0,9,-999.0000,9,  -999.00,   -999.0,9,   -999.0,  -999.00,9,  -999.00,  -999.00,9,  26.3336,2
  49NZ20031209,  I3I4,   520,  1,     35,  12023,2,20031230,0813,-19.9962,  67.6458, 2876,     50.3,  25.2715,  34.9313,2,  34.9317,2,    203.9,1,    212.7,2,     1.96,2,    -0.01,2,    -0.01,2,     0.11,2, -999.000,9, -999.000,9, -999.000,9,   -999.0,9,   -999.0,9,-999.0000,9,  -999.00,   -999.0,9,   -999.0,  -999.00,9,  -999.00,  -999.00,9,  25.2629,2
  49NZ20031209,  I3I4,   520,  1,     34,  12022,2,20031230,0813,-19.9962,  67.6458, 2876,     99.9,  22.4516,  35.1987,2,  35.1990,2,    206.8,1,    215.6,2,     2.21,2,    -0.01,2,    -0.01,2,     0.12,2, -999.000,9, -999.000,9, -999.000,9,   -999.0,9,   -999.0,9,-999.0000,9,  -999.00,   -999.0,9,   -999.0,  -999.00,9,  -999.00,  -999.00,9,  22.4502,2
  49NZ20031209,  I3I4,   520,  1,     33,  12015,2,20031230,0813,-19.9962,  67.6458, 2876,    149.9,  21.6119,  35.3702,2,  35.3738,2,    196.0,1,    204.3,2,     2.47,2,     0.63,2,     0.20,2,     0.19,2, -999.000,9, -999.000,9, -999.000,9,   -999.0,9,   -999.0,9,-999.0000,9,  -999.00,   -999.0,9,   -999.0,  -999.00,9,  -999.00,  -999.00,9,  21.6108,2
  49NZ20031209,  I3I4,   520,  1,     32,  12020,2,20031230,0813,-19.9962,  67.6458, 2876,    200.5,  19.9732,  35.5983,2,  35.6015,2,    172.9,1,    179.6,2,     4.40,2,     4.06,2,     0.01,2,     0.40,2, -999.000,9, -999.000,9, -999.000,9,   -999.0,9,   -999.0,9,-999.0000,9,  -999.00,   -999.0,9,   -999.0,  -999.00,9,  -999.00,  -999.00,9,  19.9711,2
  49NZ20031209,  I3I4,   520,  1,     31,  12019,2,20031230,0813,-19.9962,  67.6458, 2876,    252.4,  18.1296,  35.7787,2,  35.7787,2,    186.4,1,    194.0,2,     3.40,2,     3.52,2,     0.00,2,     0.37,2, -999.000,9, -999.000,9, -999.000,9,   -999.0,9,   -999.0,9,-999.0000,9,  -999.00,   -999.0,9,   -999.0,  -999.00,9,  -999.00,  -999.00,9,  18.1284,2
  49NZ20031209,  I3I4,   520,  1,     30,  12018,2,20031230,0813,-19.9962,  67.6458, 2876,    300.7,  16.5880,  35.6995,2,  35.6973,2,    192.0,1,    199.5,2,     3.57,2,     4.39,2,    -0.01,2,     0.44,2, -999.000,9, -999.000,9, -999.000,9,   -999.0,9,   -999.0,9,-999.0000,9,  -999.00,   -999.0,9,   -999.0,  -999.00,9,  -999.00,  -999.00,9,  16.5879,2
  49NZ20031209,  I3I4,   520,  1,     29,  12021,2,20031230,0813,-19.9962,  67.6458, 2876,    399.7,  13.4512,  35.3303,2,  35.3252,2,    211.2,1,    219.1,2,     3.18,2,     7.78,2,    -0.01,2,     0.66,2, -999.000,9, -999.000,9, -999.000,9,   -999.0,9,   -999.0,9,-999.0000,9,  -999.00,   -999.0,9,   -999.0,  -999.00,9,  -999.00,  -999.00,9,  13.4434,2
  49NZ20031209,  I3I4,   520,  1,     28,  12016,2,20031230,0813,-19.9962,  67.6458, 2876,    499.9,  11.5039,  35.0387,2,  35.0372,2,    222.2,1,    230.4,2,     3.43,2,    11.07,2,    -0.01,2,     0.85,2, -999.000,9, -999.000,9, -999.000,9,   -999.0,9,   -999.0,9,-999.0000,9,  -999.00,   -999.0,9,   -999.0,  -999.00,9,  -999.00,  -999.00,9,  11.5047,2
  49NZ20031209,  I3I4,   520,  1,     27,  12012,2,20031230,0813,-19.9962,  67.6458, 2876,    600.4,   9.9672,  34.8028,2,  34.8009,2,    222.4,1,    230.4,2,     4.72,2,    14.91,2,    -0.01,2,     1.07,2, -999.000,9, -999.000,9, -999.000,9,   -999.0,9,   -999.0,9,-999.0000,9,  -999.00,   -999.0,9,   -999.0,  -999.00,9,  -999.00,  -999.00,9,   9.9685,2
  49NZ20031209,  I3I4,   520,  1,     26,  12014,2,20031230,0813,-19.9962,  67.6458, 2876,    700.8,   8.6090,  34.6353,2,  34.6332,2,    199.0,1,    207.0,2,    11.29,2,    20.67,2,    -0.01,2,     1.44,2, -999.000,9, -999.000,9, -999.000,9,   -999.0,9,   -999.0,9,-999.0000,9,  -999.00,   -999.0,9,   -999.0,  -999.00,9,  -999.00,  -999.00,9,   8.6082,2
  49NZ20031209,  I3I4,   520,  1,     25,  12013,2,20031230,0813,-19.9962,  67.6458, 2876,    800.7,   6.8305,  34.5306,2,  34.5267,2,    163.6,1,    169.4,2,    29.36,2,    28.24,2,    -0.01,2,     1.96,2, -999.000,9, -999.000,9, -999.000,9,   -999.0,9,   -999.0,9,-999.0000,9,  -999.00,   -999.0,9,   -999.0,  -999.00,9,  -999.00,  -999.00,9,   6.8307,2
  49NZ20031209,  I3I4,   520,  1,     24,  12048,2,20031230,0813,-19.9962,  67.6458, 2876,    900.1,   6.0646,  34.5472,2,  34.5492,2,    140.6,1,    144.4,2,    46.10,2,    31.55,2,    -0.01,2,     2.22,2, -999.000,9, -999.000,9, -999.000,9,   -999.0,9,   -999.0,9,-999.0000,9,  -999.00,   -999.0,9,   -999.0,  -999.00,9,  -999.00,  -999.00,9,   6.0645,2
  49NZ20031209,  I3I4,   520,  1,     23,  12047,2,20031230,0813,-19.9962,  67.6458, 2876,   1001.1,   5.6615,  34.6229,2,  34.6231,2,    113.1,1,    115.9,2,    64.88,2,    34.22,2,    -0.01,2,     2.43,2, -999.000,9, -999.000,9, -999.000,9,   -999.0,9,   -999.0,9,-999.0000,9,  -999.00,   -999.0,9,   -999.0,  -999.00,9,  -999.00,  -999.00,9,   5.6610,2
  49NZ20031209,  I3I4,   520,  1,     19,  12043,2,20031230,0813,-19.9962,  67.6458, 2876,   1201.9,   4.6739,  34.6589,2,  34.6589,2,    111.3,1,    114.1,2,    81.66,2,    35.37,2,    -0.01,2,     2.52,2, -999.000,9, -999.000,9, -999.000,9,   -999.0,9,   -999.0,9,-999.0000,9,  -999.00,   -999.0,9,   -999.0,  -999.00,9,  -999.00,  -999.00,9,   4.6762,2
  49NZ20031209,  I3I4,   520,  1,     18,  12042,2,20031230,0813,-19.9962,  67.6458, 2876,   1401.8,   3.8925,  34.6788,2,  34.6785,2,    122.1,1,    125.4,2,    89.61,2,    35.19,2,    -0.01,2,     2.51,2, -999.000,9, -999.000,9, -999.000,9,   -999.0,9,   -999.0,9,-999.0000,9,  -999.00,   -999.0,9,   -999.0,  -999.00,9,  -999.00,  -999.00,9,   3.8937,2
  49NZ20031209,  I3I4,   520,  1,     17,  12041,2,20031230,0813,-19.9962,  67.6458, 2876,   1600.5,   3.2944,  34.6851,2,  34.6850,2,    135.4,1,    139.3,2,    93.07,2,    34.59,2,    -0.01,2,     2.45,2, -999.000,9, -999.000,9, -999.000,9,   -999.0,9,   -999.0,9,-999.0000,9,  -999.00,   -999.0,9,   -999.0,  -999.00,9,  -999.00,  -999.00,9,   3.2947,2
  49NZ20031209,  I3I4,   520,  1,     16,  12040,2,20031230,0813,-19.9962,  67.6458, 2876,   1801.6,   2.5241,  34.7046,2,  34.7038,2,    155.3,1,    160.2,2,    98.00,2,    33.51,2,    -0.01,2,     2.35,2, -999.000,9, -999.000,9, -999.000,9,   -999.0,9,   -999.0,9,-999.0000,9,  -999.00,   -999.0,9,   -999.0,  -999.00,9,  -999.00,  -999.00,9,   2.5241,2
  49NZ20031209,  I3I4,   520,  1,     15,  12039,2,20031230,0813,-19.9962,  67.6458, 2876,   2000.4,   2.1299,  34.7180,2,  34.7169,2,    166.5,1,    171.7,2,   101.63,2,    32.83,2,    -0.01,2,     2.28,2, -999.000,9, -999.000,9, -999.000,9,   -999.0,9,   -999.0,9,-999.0000,9,  -999.00,   -999.0,9,   -999.0,  -999.00,9,  -999.00,  -999.00,9,   2.1298,2
  49NZ20031209,  I3I4,   520,  1,     14,  12038,2,20031230,0813,-19.9962,  67.6458, 2876,   2200.3,   1.9091,  34.7234,2,  34.7233,2,    172.4,1,    178.1,2,   104.86,2,    32.61,2,    -0.01,2,     2.26,2, -999.000,9, -999.000,9, -999.000,9,   -999.0,9,   -999.0,9,-999.0000,9,  -999.00,   -999.0,9,   -999.0,  -999.00,9,  -999.00,  -999.00,9,   1.9092,2
  49NZ20031209,  I3I4,   520,  1,     13,  12037,2,20031230,0813,-19.9962,  67.6458, 2876,   2402.2,   1.8226,  34.7237,2,  34.7238,2,    174.2,1,    179.7,2,   107.87,2,    32.62,2,    -0.01,2,     2.27,2, -999.000,9, -999.000,9, -999.000,9,   -999.0,9,   -999.0,9,-999.0000,9,  -999.00,   -999.0,9,   -999.0,  -999.00,9,  -999.00,  -999.00,9,   1.8225,2
  49NZ20031209,  I3I4,   520,  1,     12,  12036,2,20031230,0813,-19.9962,  67.6458, 2876,   2603.3,   1.8072,  34.7237,2,  34.7232,3,    174.3,1,    179.2,2,   109.71,2,    32.64,2,    -0.01,2,     2.26,2, -999.000,9, -999.000,9, -999.000,9,   -999.0,9,   -999.0,9,-999.0000,9,  -999.00,   -999.0,9,   -999.0,  -999.00,9,  -999.00,  -999.00,9,   1.8072,2
  49NZ20031209,  I3I4,   520,  1,     11,  12035,2,20031230,0813,-19.9962,  67.6458, 2876,   2946.5,   1.7247,  34.7248,2,  34.7248,2,    178.0,1,    182.1,2,   111.61,2,    32.58,2,    -0.01,2,     2.26,2, -999.000,9, -999.000,9, -999.000,9,   -999.0,9,   -999.0,9,-999.0000,9,  -999.00,   -999.0,9,   -999.0,  -999.00,9,  -999.00,  -999.00,9,   1.7247,2
  49NZ20031209,  I3I4,   520,  1,     10,  12034,9,20031230,0813,-19.9962,  67.6458, 2876,   2099.9,   1.9815,  34.7224,2,-999.0000,9,    170.4,1,   -999.0,9,  -999.00,9,  -999.00,9,  -999.00,9,  -999.00,9, -999.000,9, -999.000,9, -999.000,9,   -999.0,9,   -999.0,9,-999.0000,9,  -999.00,   -999.0,9,   -999.0,  -999.00,9,  -999.00,  -999.00,9,   1.9812,2
  49NZ20031209,  I3I4,   520,  1,      9,  12033,9,20031230,0813,-19.9962,  67.6458, 2876,   2301.5,   1.8525,  34.7231,2,-999.0000,9,    172.5,1,   -999.0,9,  -999.00,9,  -999.00,9,  -999.00,9,  -999.00,9, -999.000,9, -999.000,9, -999.000,9,   -999.0,9,   -999.0,9,-999.0000,9,  -999.00,   -999.0,9,   -999.0,  -999.00,9,  -999.00,  -999.00,9,   1.8523,2
  49NZ20031209,  I3I4,   520,  1,      8,  12032,9,20031230,0813,-19.9962,  67.6458, 2876,   2503.0,   1.8205,  34.7236,2,-999.0000,9,    174.1,1,   -999.0,9,  -999.00,9,  -999.00,9,  -999.00,9,  -999.00,9, -999.000,9, -999.000,9, -999.000,9,   -999.0,9,   -999.0,9,-999.0000,9,  -999.00,   -999.0,9,   -999.0,  -999.00,9,  -999.00,  -999.00,9,   1.8205,2
  49NZ20031209,  I3I4,   520,  1,      7,  12031,2,20031230,0813,-19.9962,  67.6458, 2876,   2801.9,   1.7767,  34.7239,2,  34.7242,2,    176.1,1,    180.7,2,   110.62,2,    32.55,2,    -0.01,2,     2.27,2, -999.000,9, -999.000,9, -999.000,9,   -999.0,9,   -999.0,9,-999.0000,9,  -999.00,   -999.0,9,   -999.0,  -999.00,9,  -999.00,  -999.00,9,   1.7763,2
  49NZ20031209,  I3I4,   520,  1,      6,  12030,2,20031230,0813,-19.9962,  67.6458, 2876,      4.1,  26.5865,  35.0044,2,-999.0000,9,    196.1,1,   -999.0,9,  -999.00,9,  -999.00,9,  -999.00,9,  -999.00,9, -999.000,9, -999.000,9, -999.000,9,   -999.0,9,   -999.0,9,-999.0000,9,  -999.00,   -999.0,9,   -999.0,  -999.00,9,  -999.00,  -999.00,9,  26.5973,2
  49NZ20031209,  I3I4,   520,  1,      5,  12029,2,20031230,0813,-19.9962,  67.6458, 2876,      4.3,  26.5973,  35.0051,2,-999.0000,9,    196.0,1,   -999.0,9,  -999.00,9,  -999.00,9,  -999.00,9,  -999.00,9, -999.000,9, -999.000,9, -999.000,9,   -999.0,9,   -999.0,9,-999.0000,9,  -999.00,   -999.0,9,   -999.0,  -999.00,9,  -999.00,  -999.00,9,  26.5878,2
  49NZ20031209,  I3I4,   520,  1,      4,  12028,2,20031230,0813,-19.9962,  67.6458, 2876,    119.2,  22.0981,  35.2594,2,-999.0000,9,    204.1,1,   -999.0,9,  -999.00,9,  -999.00,9,  -999.00,9,  -999.00,9, -999.000,9, -999.000,9, -999.000,9,   -999.0,9,   -999.0,9,-999.0000,9,  -999.00,   -999.0,9,   -999.0,  -999.00,9,  -999.00,  -999.00,9,  22.0966,2