BOTTLE,20141204PRINUNIVRMK
EXPOCODE,SECT_ID,STNNBR,CASTNO,SAMPNO,BTLNBR,BTLNBR_FLAG_W,DATE,TIME,LATITUDE,LONGITUDE,DEPTH,CTDPRS,CTDTMP,CTDSAL,CTDSAL_FLAG_W,SALNTY,SALNTY_FLAG_W,CTDOXY,CTDOXY_FLAG_W,OXYGEN,OXYGEN_FLAG_W,SILCAT,SILCAT_FLAG_W,NITRAT,NITRAT_FLAG_W,NITRIT,NITRIT_FLAG_W,PHSPHT,PHSPHT_FLAG_W,CFC-11,CFC-11_FLAG_W,CFC-12,CFC-12_FLAG_W,CFC113,CFC113_FLAG_W,TCARBN,TCARBN_FLAG_W,ALKALI,ALKALI_FLAG_W,PH_TOT,PH_TOT_FLAG_W,PH_TMP,DELC14,DELC14_FLAG_W,C14ERR,DELC13,DELC13_FLAG_W,CS-137,CS137ER,CS-137_FLAG_W,SBE35,SBE35_FLAG_W
,,,,,,,,,,,METERS,DBAR,ITS-90,PSS-78,,PSS-78,,UMOL/KG,,UMOL/KG,,UMOL/KG,,UMOL/KG,,UMOL/KG,,UMOL/KG,,PMOL/KG,,PMOL/KG,,PMOL/KG,,UMOL/KG,,UMOL/KG,,,,DEG C,/MILLE,,/MILLE,/MILLE,,DM/.1MG,DM/.1MG,,ITS-90,
  49NZ20031209,  I3I4,   455,  1,     36,  12024,2,20040118,2155,-20.8322, 109.4445, 5069,     10.8,  25.8825,  35.0262,2,  35.0274,2,    195.6,1,    206.2,2,     2.49,2,     0.03,2,     0.01,2,     0.08,2,    1.761,2,    1.096,2, -999.000,5,   1967.0,2,   2304.1,2,   8.1000,2,    25.00,   -999.0,5,   -999.0,  -999.00,5,  -999.00,  -999.00,9,  25.8802,2
  49NZ20031209,  I3I4,   455,  1,     35,  12023,2,20040118,2155,-20.8322, 109.4445, 5069,     50.4,  23.4434,  35.1434,2,  35.1436,2,    209.7,1,    221.3,2,     2.88,2,     0.01,2,     0.01,2,     0.08,2,    1.976,2,    1.186,2, -999.000,5,   1981.4,6,   2304.4,2,   8.0844,2,    25.00,   -999.0,5,   -999.0,  -999.00,5,  -999.00,  -999.00,9,  23.4504,2
  49NZ20031209,  I3I4,   455,  1,     34,  12022,2,20040118,2155,-20.8322, 109.4445, 5069,     99.9,  21.3965,  35.2629,2,  35.2605,2,    184.7,1,    193.9,2,     3.95,2,     1.51,2,     0.13,2,     0.23,2,    2.031,2,    1.231,2,    0.341,4,   2019.1,2,   2309.6,6,   8.0259,2,    25.00,     57.9,2,      3.8,     0.62,2,  -999.00,  -999.00,9,  21.3935,2
  49NZ20031209,  I3I4,   455,  1,     33,  12015,2,20040118,2155,-20.8322, 109.4445, 5069,    148.5,  19.7984,  35.4229,2,  35.4229,2,    169.3,1,    177.8,2,     6.04,2,     5.14,2,     0.03,2,     0.43,2,    2.096,2,    1.247,2,    0.185,4,   2056.5,2,   2318.6,2,   7.9726,2,    25.00,     39.7,2,      3.5,     0.64,2,  -999.00,  -999.00,9,  19.7989,2
  49NZ20031209,  I3I4,   455,  1,     32,  12020,2,20040118,2155,-20.8322, 109.4445, 5069,    201.0,  17.2999,  35.4233,2,  35.4240,2,    161.4,1,    169.4,2,     9.72,2,     8.49,2,     0.02,2,     0.67,2,    2.122,2,    1.229,2,    0.116,4,   2093.9,2,   2324.0,2,   7.9123,2,    25.00,     43.0,6,      7.2,     0.70,2,  -999.00,  -999.00,9,  17.2987,2
  49NZ20031209,  I3I4,   455,  1,     31,  12019,2,20040118,2155,-20.8322, 109.4445, 5069,    250.2,  16.4467,  35.6237,2,  35.6002,3,    192.2,1,    199.7,2,     4.85,2,     5.08,2,     0.01,2,     0.47,2,    2.493,6,    1.453,6,    0.128,4,   2087.8,2,   2333.8,2,   7.9368,2,    25.00,     57.2,2,      3.9,     0.89,2,  -999.00,  -999.00,9,  16.4433,2
  49NZ20031209,  I3I4,   455,  1,     30,  12018,2,20040118,2155,-20.8322, 109.4445, 5069,    300.3,  14.1713,  35.4092,2,  35.4000,2,    208.8,1,    218.7,2,     3.47,2,     6.08,2,     0.01,2,     0.54,2,    2.807,2,    1.594,2,    0.126,4,   2096.7,2,   2326.8,2,   7.9078,2,    25.00,     56.1,2,      5.6,     1.10,2,  -999.00,  -999.00,9,  14.1708,2
  49NZ20031209,  I3I4,   455,  1,     29,  12017,2,20040118,2155,-20.8322, 109.4445, 5069,    400.2,  11.2450,  34.9759,2,  34.9707,3,    222.7,1,    233.5,2,     3.67,2,    11.21,2,     0.01,2,     0.85,2,    3.354,2,    1.857,2,    0.147,4,   2111.1,2,   2304.8,2,   7.8458,2,    25.00,     50.8,2,      3.9,     1.24,2,  -999.00,  -999.00,9,  11.2455,2
  49NZ20031209,  I3I4,   455,  1,     28,  12016,2,20040118,2155,-20.8322, 109.4445, 5069,    500.5,   9.0218,  34.6590,2,  34.6539,2,    219.0,1,    229.5,2,     6.69,2,    18.09,2,     0.01,2,     1.26,2,    3.334,2,    1.752,2,    0.155,4,   2128.0,2,   2289.1,2,   7.7775,2,    25.00,     40.1,2,      3.7,     1.20,2,  -999.00,  -999.00,9,   9.0218,2
  49NZ20031209,  I3I4,   455,  1,     27,  12012,2,20040118,2155,-20.8322, 109.4445, 5069,    600.1,   7.0886,  34.5178,2,  34.5182,2,    175.5,1,    183.7,2,    24.41,2,    26.63,2,     0.01,2,     1.83,2,    1.658,2,    0.887,4,    0.053,4,   2174.7,2,   2299.3,2,   7.6762,2,    25.00,    -30.5,2,      5.1,     0.93,2,  -999.00,  -999.00,9,   7.0882,2
  49NZ20031209,  I3I4,   455,  1,     26,  12014,2,20040118,2155,-20.8322, 109.4445, 5069,    698.3,   6.0927,  34.5357,2,  34.5362,2,    133.3,1,    138.7,2,    49.19,2,    32.17,2,     0.01,2,     2.25,2,    0.549,2,    0.345,4,    0.019,4,   2223.6,6,   2317.4,2,   7.5993,2,    25.00,    -99.4,2,      3.3,     0.63,2,  -999.00,  -999.00,9,   6.0935,2
  49NZ20031209,  I3I4,   455,  1,     25,  12013,2,20040118,2155,-20.8322, 109.4445, 5069,    799.7,   5.7306,  34.6204,2,  34.6129,2,     93.3,1,     99.2,2,    74.67,2,    35.59,2,     0.01,2,     2.54,2,    0.083,2,    0.145,4,    0.007,4,   2269.1,2,   2342.8,6,   7.5437,2,    25.00,   -144.4,2,      3.2,     0.31,2,  -999.00,  -999.00,9,   5.7306,2
  49NZ20031209,  I3I4,   455,  1,     24,  12048,2,20040118,2155,-20.8322, 109.4445, 5069,    900.0,   5.2500,  34.6162,2,  34.6160,2,     96.6,1,     99.9,2,    80.19,2,    36.02,2,     0.01,2,     2.57,2,    0.041,2,    0.074,4,   -0.001,4,   2276.2,2,   2346.6,2,   7.5407,6,    25.00,   -163.2,2,      3.3,     0.15,3,  -999.00,  -999.00,9,   5.2499,2
  49NZ20031209,  I3I4,   455,  1,     23,  12047,2,20040118,2155,-20.8322, 109.4445, 5069,    999.4,   4.9059,  34.6274,2,  34.6261,2,     96.1,1,    100.0,2,    86.76,2,    36.37,2,     0.01,2,     2.61,2,    0.025,6,    0.069,4,   -0.001,4,   2280.8,2,   2355.8,2,   7.5358,2,    25.00,   -163.7,2,      3.2,     0.24,2,  -999.00,  -999.00,9,   4.9063,2
  49NZ20031209,  I3I4,   455,  1,     22,  12046,2,20040118,2155,-20.8322, 109.4445, 5069,   1200.0,   4.2384,  34.6387,2,  34.6394,2,    104.0,1,    108.5,2,    93.59,2,    36.46,2,     0.01,2,     2.60,2,    0.006,2,    0.068,4,   -0.001,4,   2289.2,2,   2358.3,2,   7.5409,2,    25.00,   -170.7,2,      3.2,     0.23,2,  -999.00,  -999.00,9,   4.2388,2
  49NZ20031209,  I3I4,   455,  1,     21,  12045,2,20040118,2155,-20.8322, 109.4445, 5069,   1399.8,   3.5899,  34.6491,2,  34.6504,2,    117.4,1,    122.6,2,    96.49,2,    35.96,2,     0.00,2,     2.56,2,    0.003,2,    0.068,4,   -0.001,4,   2286.2,2,   2363.1,2,   7.5505,2,    25.00,   -188.3,6,      6.5,     0.27,6,  -999.00,  -999.00,9,   3.5900,2
  49NZ20031209,  I3I4,   455,  1,     20,  12044,2,20040118,2155,-20.8322, 109.4445, 5069,   1600.6,   3.0774,  34.6816,2,  34.6810,2,    127.3,1,    133.5,2,   101.64,2,    35.55,2,     0.01,2,     2.52,2,   -0.003,2,    0.032,4,   -0.001,4,   2284.8,2,   2371.2,2,   7.5625,2,    25.00,   -184.0,2,      4.1,     0.28,2,  -999.00,  -999.00,9,   3.0773,2
  49NZ20031209,  I3I4,   455,  1,     19,  12043,2,20040118,2155,-20.8322, 109.4445, 5069,   1799.6,   2.7114,  34.7041,2,  34.7045,2,    133.6,1,    140.4,2,   108.36,2,    35.19,2,     0.01,2,     2.49,2,    0.002,2,    0.031,4,   -0.001,4,   2292.9,2,   2380.3,2,   7.5710,2,    25.00,   -183.1,2,      3.1,     0.20,3,  -999.00,  -999.00,9,   2.7116,2
  49NZ20031209,  I3I4,   455,  1,     18,  12042,2,20040118,2155,-20.8322, 109.4445, 5069,   2000.4,   2.4001,  34.7197,2,  34.7196,2,    137.8,1,    144.9,2,   116.18,2,    35.07,2,     0.01,2,     2.48,2,   -0.005,2,    0.052,4,   -0.002,4,   2297.9,2,   2388.8,2,   7.5786,6,    25.00,   -192.5,2,      2.9,     0.26,2,  -999.00,  -999.00,9,   2.4002,2
  49NZ20031209,  I3I4,   455,  1,     17,  12041,2,20040118,2155,-20.8322, 109.4445, 5069,   2200.2,   2.2075,  34.7254,2,  34.7252,2,    141.4,1,    148.9,2,   120.40,2,    34.94,2,     0.01,2,     2.47,2,    0.002,2,    0.048,4,   -0.002,4,   2300.9,2,   2391.4,2,   7.5868,4,    25.00,   -188.9,2,      3.0,     0.28,2,  -999.00,  -999.00,9,   2.2074,2
  49NZ20031209,  I3I4,   455,  1,     16,  12040,2,20040118,2155,-20.8322, 109.4445, 5069,   2399.8,   2.0584,  34.7268,2,  34.7267,2,    145.7,1,    153.6,2,   122.17,2,    34.76,2,     0.01,2,     2.44,2,   -0.001,2,    0.018,4,   -0.002,4,   2299.1,6,   2394.7,2,   7.5897,2,    25.00,   -188.5,2,      3.1,     0.29,2,  -999.00,  -999.00,9,   2.0583,2
  49NZ20031209,  I3I4,   455,  1,     15,  12039,2,20040118,2155,-20.8322, 109.4445, 5069,   2602.1,   1.9086,  34.7268,2,  34.7268,2,    150.9,1,    159.4,2,   123.20,2,    34.47,2,     0.01,2,     2.42,2,    0.002,2,    0.013,4,   -0.001,4,   2294.2,2,   2397.0,6,   7.5963,2,    25.00,   -187.2,2,      3.1,     0.28,2,  -999.00,  -999.00,9,   1.9086,2
  49NZ20031209,  I3I4,   455,  1,     14,  12038,2,20040118,2155,-20.8322, 109.4445, 5069,   2800.0,   1.7752,  34.7257,2,  34.7258,2,    156.0,1,    164.8,2,   124.10,2,    34.28,2,     0.00,2,     2.40,2,   -0.004,2,    0.012,4,   -0.001,4,   2295.6,2,   2394.4,2,   7.6025,6,    25.00,   -190.8,2,      3.1,     0.16,3,  -999.00,  -999.00,9,   1.7754,2
  49NZ20031209,  I3I4,   455,  1,     13,  12037,2,20040118,2155,-20.8322, 109.4445, 5069,   2999.9,   1.6315,  34.7242,2,  34.7242,2,    162.0,1,    171.3,2,   124.33,2,    33.97,2,     0.01,2,     2.37,2,    0.000,2,    0.012,4,   -0.001,4,   2292.0,2,   2395.9,2,   7.6078,2,    25.00,   -186.5,6,      2.2,     0.34,6,  -999.00,  -999.00,9,   1.6316,2
  49NZ20031209,  I3I4,   455,  1,     12,  12036,2,20040118,2155,-20.8322, 109.4445, 5069,   3250.7,   1.4752,  34.7219,2,  34.7215,2,    168.7,1,    178.3,2,   124.25,2,    33.59,2,     0.01,2,     2.32,2,   -0.001,2,    0.029,4,   -0.001,4,   2287.8,2,   2392.8,2,   7.6155,2,    25.00,   -181.9,2,      3.2,     0.38,2,  -999.00,  -999.00,9,   1.4756,2
  49NZ20031209,  I3I4,   455,  1,     11,  12035,2,20040118,2155,-20.8322, 109.4445, 5069,   3501.1,   1.3447,  34.7192,2,  34.7194,2,    174.3,1,    184.2,2,   124.93,2,    33.34,2,     0.01,2,     2.30,2,    0.001,2,    0.025,4,   -0.001,4,   2285.6,2,   2392.5,2,   7.6214,2,    25.00,   -174.5,3,      3.3,     0.42,2,  -999.00,  -999.00,9,   1.3446,2
  49NZ20031209,  I3I4,   455,  1,     10,  12034,2,20040118,2155,-20.8322, 109.4445, 5069,   5000.0,   1.2091,  34.7130,2,  34.7133,2,    188.0,1,    194.3,2,   127.68,2,    33.07,2,     0.00,2,     2.27,2,    0.000,2,   -0.014,4,   -0.001,4,   2284.9,2,   2391.6,2,   7.6327,2,    25.00,   -176.2,2,      3.2,     0.44,2,  -999.00,  -999.00,9,   1.2091,2
  49NZ20031209,  I3I4,   455,  1,      9,  12033,2,20040118,2155,-20.8322, 109.4445, 5069,   3999.2,   1.2184,  34.7155,2,  34.7150,2,    180.0,1,    189.4,2,   127.41,2,    33.26,2,     0.00,2,     2.30,2,    0.000,2,   -0.022,4,   -0.001,4,   2285.4,2,   2392.8,2,   7.6275,2,    25.00,   -183.5,2,      3.2,     0.40,2,  -999.00,  -999.00,9,   1.2184,2
  49NZ20031209,  I3I4,   455,  1,      8,  12032,2,20040118,2155,-20.8322, 109.4445, 5069,   4250.2,   1.1940,  34.7145,2,  34.7142,2,    182.2,1,    191.1,2,   127.73,2,    33.23,2,     0.00,2,     2.29,2,    0.002,2,   -0.026,4,   -0.001,4,   2290.9,6,   2395.9,2,   7.6304,2,    25.00,   -182.2,2,      3.1,     0.40,2,  -999.00,  -999.00,9,   1.1940,2
  49NZ20031209,  I3I4,   455,  1,      7,  12031,2,20040118,2155,-20.8322, 109.4445, 5069,   4500.8,   1.1877,  34.7138,2,  34.7138,2,    184.2,1,    192.4,2,   128.08,2,    33.19,2,     0.00,2,     2.29,2,   -0.001,2,   -0.022,4,   -0.001,4,   2284.7,2,   2393.7,6,   7.6329,2,    25.00,   -178.6,2,      3.2,     0.42,2,  -999.00,  -999.00,9,   1.1877,2
  49NZ20031209,  I3I4,   455,  1,      6,  12030,2,20040118,2155,-20.8322, 109.4445, 5069,   4750.8,   1.1962,  34.7134,2,  34.7134,2,    185.8,1,    193.3,2,   128.13,2,    33.13,2,     0.01,2,     2.29,2,   -0.001,2,   -0.015,4,   -0.001,4,   2285.4,2,   2392.5,2,   7.6342,6,    25.00,   -179.2,2,      3.2,     0.42,2,  -999.00,  -999.00,9,   1.1963,2
  49NZ20031209,  I3I4,   455,  1,      5,  12029,2,20040118,2155,-20.8322, 109.4445, 5069,   5000.1,   1.2091,  34.7131,2,  34.7131,2,    188.0,1,    194.2,2,   127.72,2,    33.10,2,     0.00,2,     2.28,2,    0.006,2,   -0.007,4,   -0.001,4,   2286.6,2,   2394.8,2,   7.6340,2,    25.00,   -171.6,2,      3.1,     0.43,2,  -999.00,  -999.00,9,   1.2091,2
  49NZ20031209,  I3I4,   455,  1,      4,  12028,2,20040118,2155,-20.8322, 109.4445, 5069,   5140.3,   1.1970,  34.7125,2,  34.7125,2,    191.6,1,    196.5,2,   126.94,2,    33.00,2,     0.01,2,     2.26,2,   -0.003,2,   -0.003,4,   -0.001,4,   2286.7,2,   2387.6,2,   7.6334,2,    25.00,   -171.7,2,      3.1,     0.37,3,  -999.00,  -999.00,9,   1.1969,2
  49NZ20031209,  I3I4,   455,  1,      3,  12027,9,20040118,2155,-20.8322, 109.4445, 5069,     10.4,  25.8829,  35.0256,2,-999.0000,9,    195.6,1,   -999.0,9,  -999.00,9,  -999.00,9,  -999.00,9,  -999.00,9, -999.000,9, -999.000,9, -999.000,9,   -999.0,9,   -999.0,9,-999.0000,9,  -999.00,   -999.0,9,   -999.0,  -999.00,9,  -999.00,  -999.00,9,  25.8814,2
  49NZ20031209,  I3I4,   455,  1,      2,  12026,2,20040118,2155,-20.8322, 109.4445, 5069,   3748.8,   1.2721,  34.7175,2,  34.7175,2,    177.4,1,    187.0,2,   126.08,2,    33.34,2,     0.01,2,     2.30,2,    0.000,2,    0.000,4,   -0.001,4,   2291.5,3,   2388.5,2,   7.6263,2,    25.00,   -172.7,3,      3.1,     0.38,2,  -999.00,  -999.00,9,   1.2721,2