BOTTLE,20141204PRINUNIVRMK
EXPOCODE,SECT_ID,STNNBR,CASTNO,SAMPNO,BTLNBR,BTLNBR_FLAG_W,DATE,TIME,LATITUDE,LONGITUDE,DEPTH,CTDPRS,CTDTMP,CTDSAL,CTDSAL_FLAG_W,SALNTY,SALNTY_FLAG_W,CTDOXY,CTDOXY_FLAG_W,OXYGEN,OXYGEN_FLAG_W,SILCAT,SILCAT_FLAG_W,NITRAT,NITRAT_FLAG_W,NITRIT,NITRIT_FLAG_W,PHSPHT,PHSPHT_FLAG_W,CFC-11,CFC-11_FLAG_W,CFC-12,CFC-12_FLAG_W,CFC113,CFC113_FLAG_W,TCARBN,TCARBN_FLAG_W,ALKALI,ALKALI_FLAG_W,PH_TOT,PH_TOT_FLAG_W,PH_TMP,DELC14,DELC14_FLAG_W,C14ERR,DELC13,DELC13_FLAG_W,CS-137,CS137ER,CS-137_FLAG_W,SBE35,SBE35_FLAG_W
,,,,,,,,,,,METERS,DBAR,ITS-90,PSS-78,,PSS-78,,UMOL/KG,,UMOL/KG,,UMOL/KG,,UMOL/KG,,UMOL/KG,,UMOL/KG,,PMOL/KG,,PMOL/KG,,PMOL/KG,,UMOL/KG,,UMOL/KG,,,,DEG C,/MILLE,,/MILLE,/MILLE,,DM/.1MG,DM/.1MG,,ITS-90,
  49NZ20031209,  I3I4,   587,  1,     36,  12024,2,20031217,0455,-24.6715,  43.5517, 3023,     10.9,  28.3604,  35.1345,2,  35.1345,2,    190.7,1,    199.9,2,     1.72,2,     0.04,2,     0.01,2,     0.12,2,    1.597,2,    0.991,2, -999.000,5,   1963.0,4,   2297.3,2,   8.0950,2,    25.00,   -999.0,9,   -999.0,  -999.00,9,  -999.00,  -999.00,9,  28.3584,2
  49NZ20031209,  I3I4,   587,  1,     35,  12023,2,20031217,0455,-24.6715,  43.5517, 3023,     49.9,  26.5349,  35.1646,2,  35.1638,2,    197.4,1,    207.1,2,     2.04,2,     0.03,2,     0.01,2,     0.16,2,    1.743,2,    1.059,2, -999.000,5,   1976.6,6,   2299.0,2,   8.0809,2,    25.00,   -999.0,9,   -999.0,  -999.00,9,  -999.00,  -999.00,9,  26.5563,2
  49NZ20031209,  I3I4,   587,  1,     34,  12022,2,20031217,0455,-24.6715,  43.5517, 3023,     99.6,  23.9999,  35.2353,2,  35.2370,2,    193.9,1,    203.8,2,     2.07,2,     0.35,2,     0.22,2,     0.21,2,    1.870,2,    1.117,2, -999.000,5,   1998.4,2,   2304.1,6,   8.0522,2,    25.00,   -999.0,9,   -999.0,  -999.00,9,  -999.00,  -999.00,9,  24.0010,2
  49NZ20031209,  I3I4,   587,  1,     33,  12015,2,20031217,0455,-24.6715,  43.5517, 3023,    149.2,  20.6897,  35.4207,2,  35.4265,2,    181.0,1,    188.7,2,     3.70,2,     2.55,2,     0.37,2,     0.35,2,    2.114,2,    1.242,2,    0.183,4,   2042.9,2,   2316.0,2,   7.9929,6,    25.00,   -999.0,9,   -999.0,  -999.00,9,  -999.00,  -999.00,9,  20.6755,2
  49NZ20031209,  I3I4,   587,  1,     32,  12020,2,20031217,0455,-24.6715,  43.5517, 3023,    200.0,  18.1405,  35.6073,2,  35.6045,2,    178.1,1,    185.4,2,     5.31,2,     5.32,2,     0.02,2,     0.47,2,    2.265,2,    1.298,2,    0.135,4,   2080.1,2,   2327.1,2,   7.9436,2,    25.00,   -999.0,9,   -999.0,  -999.00,9,  -999.00,  -999.00,9,  18.1447,2
  49NZ20031209,  I3I4,   587,  1,     31,  12019,2,20031217,0455,-24.6715,  43.5517, 3023,    249.7,  16.2433,  35.5642,2,  35.5621,2,    184.9,1,    192.5,2,     5.33,2,     6.53,2,     0.01,2,     0.56,2,    2.512,6,    1.383,6,    0.085,4,   2093.7,4,   2328.7,2,   7.9124,2,    25.00,   -999.0,9,   -999.0,  -999.00,9,  -999.00,  -999.00,9,  16.2454,2
  49NZ20031209,  I3I4,   587,  1,     30,  12018,2,20031217,0455,-24.6715,  43.5517, 3023,    299.6,  14.8635,  35.4732,2,  35.4767,2,    201.2,1,    208.7,2,     3.93,2,     6.67,2,     0.01,2,     0.58,2,    2.781,2,    1.507,2,    0.099,4,   2098.7,2,   2322.6,2,   7.9018,2,    25.00,   -999.0,9,   -999.0,  -999.00,9,  -999.00,  -999.00,9,  14.8621,2
  49NZ20031209,  I3I4,   587,  1,     29,  12017,2,20031217,0455,-24.6715,  43.5517, 3023,    400.4,  13.2456,  35.2848,2,  35.2871,2,    211.5,1,    220.2,2,     4.02,2,     8.82,2,     0.01,2,     0.70,2,    3.026,2,    1.601,2,    0.098,4,   2105.3,2,   2321.8,2,   7.8752,2,    25.00,   -999.0,9,   -999.0,  -999.00,9,  -999.00,  -999.00,9,  13.2411,2
  49NZ20031209,  I3I4,   587,  1,     28,  12016,2,20031217,0455,-24.6715,  43.5517, 3023,    501.5,  11.4908,  35.0218,2,  35.0198,2,    213.1,1,    221.8,2,     4.96,2,    12.57,2,     0.01,2,     0.93,2,    3.055,2,    1.566,2,    0.083,4,   2115.7,2,   2296.5,2,   7.8340,2,    25.00,   -999.0,9,   -999.0,  -999.00,9,  -999.00,  -999.00,9,  11.4918,2
  49NZ20031209,  I3I4,   587,  1,     27,  12012,2,20031217,0455,-24.6715,  43.5517, 3023,    598.9,  10.1948,  34.8382,2,  34.8351,2,    210.3,1,    218.6,2,     6.89,2,    15.85,2,     0.00,2,     1.14,2,    2.855,2,    1.452,2,    0.047,4,   2125.9,2,   2276.5,3,   7.7979,2,    25.00,   -999.0,9,   -999.0,  -999.00,9,  -999.00,  -999.00,9,  10.1947,2
  49NZ20031209,  I3I4,   587,  1,     26,  12014,2,20031217,0455,-24.6715,  43.5517, 3023,    699.3,   8.5964,  34.6614,2,  34.6637,2,    195.8,1,    204.2,2,    13.19,2,    20.91,2,     0.00,2,     1.47,2,    2.179,2,    1.096,2,    0.066,4,   2146.2,2,   2288.1,2,   7.7440,2,    25.00,   -999.0,9,   -999.0,  -999.00,9,  -999.00,  -999.00,9,   8.5969,2
  49NZ20031209,  I3I4,   587,  1,     25,  12013,2,20031217,0455,-24.6715,  43.5517, 3023,    800.9,   7.0770,  34.5675,2,  34.5688,2,    174.6,1,    181.3,2,    26.17,2,    26.61,2,     0.00,2,     1.85,2,    1.316,2,    0.688,2,    0.031,4,   2180.2,2,   2293.4,6,   7.6774,2,    25.00,   -999.0,9,   -999.0,  -999.00,9,  -999.00,  -999.00,9,   7.0713,2
  49NZ20031209,  I3I4,   587,  1,     24,  12048,2,20031217,0455,-24.6715,  43.5517, 3023,    900.6,   5.8044,  34.5347,2,  34.5360,2,    161.3,1,    167.2,2,    39.77,2,    30.23,2,     0.00,2,     2.11,2,    0.817,2,    0.439,2,    0.021,4,   2208.6,2,   2301.8,2,   7.6309,6,    25.00,   -999.0,9,   -999.0,  -999.00,9,  -999.00,  -999.00,9,   5.8047,2
  49NZ20031209,  I3I4,   587,  1,     23,  12047,2,20031217,0455,-24.6715,  43.5517, 3023,    999.2,   5.8707,  34.6746,2,  34.6746,2,    124.6,1,    128.5,2,    56.13,2,    32.78,2,     0.00,2,     2.34,2,    0.379,6,    0.214,6,    0.009,4,   2241.8,2,   2323.1,2,   7.5878,2,    25.00,   -999.0,9,   -999.0,  -999.00,9,  -999.00,  -999.00,9,   5.8719,2
  49NZ20031209,  I3I4,   587,  1,     22,  12046,2,20031217,0455,-24.6715,  43.5517, 3023,   1199.9,   5.1607,  34.7477,2,  34.7478,2,    109.1,1,    112.1,2,    74.56,2,    34.67,2,     0.00,2,     2.50,2,    0.142,2,    0.072,2,    0.009,4,   2270.5,2,   2347.8,2,   7.5591,2,    25.00,   -999.0,9,   -999.0,  -999.00,9,  -999.00,  -999.00,9,   5.1608,2
  49NZ20031209,  I3I4,   587,  1,     21,  12045,2,20031217,0455,-24.6715,  43.5517, 3023,   1399.5,   4.4703,  34.7508,2,  34.7498,2,    114.9,1,    118.4,2,    82.71,2,    34.85,2,     0.00,2,     2.51,2,    0.052,2,    0.034,2,    0.017,4,   2277.3,2,   2348.8,2,   7.5591,2,    25.00,   -999.0,9,   -999.0,  -999.00,9,  -999.00,  -999.00,9,   4.4742,2
  49NZ20031209,  I3I4,   587,  1,     20,  12044,2,20031217,0455,-24.6715,  43.5517, 3023,   1600.5,   3.5997,  34.7237,2,  34.7234,2,    136.4,1,    140.8,2,    84.40,2,    33.92,2,     0.00,2,     2.42,2,    0.043,2,    0.025,2,    0.008,4,   2271.3,2,   2350.5,2,   7.5775,2,    25.00,   -999.0,9,   -999.0,  -999.00,9,  -999.00,  -999.00,9,   3.6000,2
  49NZ20031209,  I3I4,   587,  1,     19,  12043,2,20031217,0455,-24.6715,  43.5517, 3023,   1800.3,   3.0956,  34.7311,2,  34.7306,2,    152.2,1,    157.6,2,    84.27,2,    32.75,2,     0.00,2,     2.31,2,    0.024,2,    0.011,2,   -0.001,4,   2263.6,2,   2351.0,2,   7.5985,2,    25.00,   -999.0,9,   -999.0,  -999.00,9,  -999.00,  -999.00,9,   3.0956,2
  49NZ20031209,  I3I4,   587,  1,     18,  12042,2,20031217,0455,-24.6715,  43.5517, 3023,   1999.9,   2.7548,  34.7497,2,  34.7490,2,    164.1,1,    170.0,2,    84.37,2,    31.71,2,     0.00,2,     2.23,2,    0.018,2,    0.004,2,   -0.001,4,   2260.2,2,   2355.7,2,   7.6117,6,    25.00,   -999.0,9,   -999.0,  -999.00,9,  -999.00,  -999.00,9,   2.7543,2
  49NZ20031209,  I3I4,   587,  1,     17,  12041,2,20031217,0455,-24.6715,  43.5517, 3023,   2200.7,   2.5274,  34.7660,2,  34.7662,2,    173.3,1,    179.4,2,    84.44,2,    30.80,2,     0.00,2,     2.16,2,    0.000,2,    0.000,2,   -0.001,4,   2254.9,2,   2357.1,2,   7.6240,2,    25.00,   -999.0,9,   -999.0,  -999.00,9,  -999.00,  -999.00,9,   2.5275,2
  49NZ20031209,  I3I4,   587,  1,     16,  12040,2,20031217,0455,-24.6715,  43.5517, 3023,   2400.4,   2.4291,  34.7745,2,  34.7751,2,    180.9,1,    187.2,2,    81.97,2,    30.08,2,     0.00,2,     2.09,2,    0.002,2,    0.003,2,    0.008,4,   2249.1,6,   2352.3,2,   7.6345,2,    25.00,   -999.0,9,   -999.0,  -999.00,9,  -999.00,  -999.00,9,   2.4284,2
  49NZ20031209,  I3I4,   587,  1,     15,  12039,2,20031217,0455,-24.6715,  43.5517, 3023,   2601.1,   2.3010,  34.7853,2,  34.7854,2,    190.6,1,    197.0,2,    78.64,2,    29.14,2,     0.00,2,     2.02,2,   -0.002,2,    0.002,2,    0.005,4,   2241.0,2,   2352.6,6,   7.6415,2,    25.00,   -999.0,9,   -999.0,  -999.00,9,  -999.00,  -999.00,9,   2.3010,2
  49NZ20031209,  I3I4,   587,  1,     14,  12038,2,20031217,0455,-24.6715,  43.5517, 3023,   2802.0,   2.2110,  34.7898,2,  34.7898,2,    196.5,1,    202.7,2,    77.21,2,    28.63,2,     0.00,2,     1.98,2,    0.002,2,   -0.003,2,   -0.002,4,   2236.4,2,   2354.3,2,   7.6509,2,    25.00,   -999.0,9,   -999.0,  -999.00,9,  -999.00,  -999.00,9,   2.2114,2
  49NZ20031209,  I3I4,   587,  1,     13,  12037,2,20031217,0455,-24.6715,  43.5517, 3023,   3042.2,   2.1366,  34.7923,2,  34.7924,2,    201.7,1,    207.2,2,    76.65,2,    28.30,2,     0.00,2,     1.96,2,   -0.003,2,    0.001,2,   -0.002,4,   2233.3,2,   2347.5,2,   7.6570,2,    25.00,   -999.0,9,   -999.0,  -999.00,9,  -999.00,  -999.00,9,   2.1377,2
  49NZ20031209,  I3I4,   587,  1,     12,  12036,9,20031217,0455,-24.6715,  43.5517, 3023,   2699.4,   2.2369,  34.7882,2,-999.0000,9,    194.2,1,   -999.0,9,  -999.00,9,  -999.00,9,  -999.00,9,  -999.00,9, -999.000,9, -999.000,9, -999.000,9,   -999.0,9,   -999.0,9,-999.0000,9,  -999.00,   -999.0,9,   -999.0,  -999.00,9,  -999.00,  -999.00,9,   2.2370,2
  49NZ20031209,  I3I4,   587,  1,     11,  12035,9,20031217,0455,-24.6715,  43.5517, 3023,   2500.8,   2.3548,  34.7807,2,-999.0000,9,    186.1,1,   -999.0,9,  -999.00,9,  -999.00,9,  -999.00,9,  -999.00,9, -999.000,9, -999.000,9, -999.000,9,   -999.0,9,   -999.0,9,-999.0000,9,  -999.00,   -999.0,9,   -999.0,  -999.00,9,  -999.00,  -999.00,9,   2.3548,2
  49NZ20031209,  I3I4,   587,  1,     10,  12034,9,20031217,0455,-24.6715,  43.5517, 3023,   2300.3,   2.4675,  34.7711,2,-999.0000,9,    177.9,1,   -999.0,9,  -999.00,9,  -999.00,9,  -999.00,9,  -999.00,9, -999.000,9, -999.000,9, -999.000,9,   -999.0,9,   -999.0,9,-999.0000,9,  -999.00,   -999.0,9,   -999.0,  -999.00,9,  -999.00,  -999.00,9,   2.4678,2
  49NZ20031209,  I3I4,   587,  1,      9,  12033,9,20031217,0455,-24.6715,  43.5517, 3023,   2101.1,   2.6336,  34.7589,2,-999.0000,9,    168.6,1,   -999.0,9,  -999.00,9,  -999.00,9,  -999.00,9,  -999.00,9, -999.000,9, -999.000,9, -999.000,9,   -999.0,9,   -999.0,9,-999.0000,9,  -999.00,   -999.0,9,   -999.0,  -999.00,9,  -999.00,  -999.00,9,   2.6327,2
  49NZ20031209,  I3I4,   587,  1,      8,  12032,9,20031217,0455,-24.6715,  43.5517, 3023,     10.0,  28.3610,  35.1347,2,-999.0000,9,    190.9,1,   -999.0,9,  -999.00,9,  -999.00,9,  -999.00,9,  -999.00,9, -999.000,9, -999.000,9, -999.000,9,   -999.0,9,   -999.0,9,-999.0000,9,  -999.00,   -999.0,9,   -999.0,  -999.00,9,  -999.00,  -999.00,9,  28.3591,2
  49NZ20031209,  I3I4,   587,  1,      7,  12031,9,20031217,0455,-24.6715,  43.5517, 3023,    999.7,   5.8705,  34.6748,2,-999.0000,9,    124.4,1,   -999.0,9,  -999.00,9,  -999.00,9,  -999.00,9,  -999.00,9, -999.000,9, -999.000,9, -999.000,9,   -999.0,9,   -999.0,9,-999.0000,9,  -999.00,   -999.0,9,   -999.0,  -999.00,9,  -999.00,  -999.00,9,   5.8700,2
  49NZ20031209,  I3I4,   587,  1,      6,  12030,9,20031217,0455,-24.6715,  43.5517, 3023,   1000.1,   5.8715,  34.6750,2,-999.0000,9,    124.3,1,   -999.0,9,  -999.00,9,  -999.00,9,  -999.00,9,  -999.00,9, -999.000,9, -999.000,9, -999.000,9,   -999.0,9,   -999.0,9,-999.0000,9,  -999.00,   -999.0,9,   -999.0,  -999.00,9,  -999.00,  -999.00,9,   5.8700,2
  49NZ20031209,  I3I4,   587,  1,      5,  12029,9,20031217,0455,-24.6715,  43.5517, 3023,    999.8,   5.8676,  34.6759,2,-999.0000,9,    124.3,1,   -999.0,9,  -999.00,9,  -999.00,9,  -999.00,9,  -999.00,9, -999.000,9, -999.000,9, -999.000,9,   -999.0,9,   -999.0,9,-999.0000,9,  -999.00,   -999.0,9,   -999.0,  -999.00,9,  -999.00,  -999.00,9,   5.8675,2
  49NZ20031209,  I3I4,   587,  1,      4,  12028,9,20031217,0455,-24.6715,  43.5517, 3023,    999.4,   5.8694,  34.6757,2,-999.0000,9,    124.2,1,   -999.0,9,  -999.00,9,  -999.00,9,  -999.00,9,  -999.00,9, -999.000,9, -999.000,9, -999.000,9,   -999.0,9,   -999.0,9,-999.0000,9,  -999.00,   -999.0,9,   -999.0,  -999.00,9,  -999.00,  -999.00,9,   5.8695,2
  49NZ20031209,  I3I4,   587,  1,      3,  12027,9,20031217,0455,-24.6715,  43.5517, 3023,    999.5,   5.8699,  34.6754,2,-999.0000,9,    124.2,1,   -999.0,9,  -999.00,9,  -999.00,9,  -999.00,9,  -999.00,9, -999.000,9, -999.000,9, -999.000,9,   -999.0,9,   -999.0,9,-999.0000,9,  -999.00,   -999.0,9,   -999.0,  -999.00,9,  -999.00,  -999.00,9,   5.8660,2
  49NZ20031209,  I3I4,   587,  1,      2,  12026,9,20031217,0455,-24.6715,  43.5517, 3023,    999.4,   5.8652,  34.6762,2,-999.0000,9,    124.2,1,   -999.0,9,  -999.00,9,  -999.00,9,  -999.00,9,  -999.00,9, -999.000,9, -999.000,9, -999.000,9,   -999.0,9,   -999.0,9,-999.0000,9,  -999.00,   -999.0,9,   -999.0,  -999.00,9,  -999.00,  -999.00,9,   5.8679,2
  49NZ20031209,  I3I4,   587,  1,      1,  12025,2,20031217,0455,-24.6715,  43.5517, 3023,   2802.0,   2.2101,  34.7900,2,  34.7906,2,    196.5,1,    202.5,2,    77.32,2,    28.70,2,     0.00,2,     1.98,2,   -0.002,2,   -0.002,2,    0.011,4,   2236.5,2,   2351.0,2,   7.6535,2,    25.00,   -999.0,9,   -999.0,  -999.00,9,  -999.00,  -999.00,9,   2.2101,2