BOTTLE,20141204PRINUNIVRMK
EXPOCODE,SECT_ID,STNNBR,CASTNO,SAMPNO,BTLNBR,BTLNBR_FLAG_W,DATE,TIME,LATITUDE,LONGITUDE,DEPTH,CTDPRS,CTDTMP,CTDSAL,CTDSAL_FLAG_W,SALNTY,SALNTY_FLAG_W,CTDOXY,CTDOXY_FLAG_W,OXYGEN,OXYGEN_FLAG_W,SILCAT,SILCAT_FLAG_W,NITRAT,NITRAT_FLAG_W,NITRIT,NITRIT_FLAG_W,PHSPHT,PHSPHT_FLAG_W,CFC-11,CFC-11_FLAG_W,CFC-12,CFC-12_FLAG_W,CFC113,CFC113_FLAG_W,TCARBN,TCARBN_FLAG_W,ALKALI,ALKALI_FLAG_W,PH_TOT,PH_TOT_FLAG_W,PH_TMP,DELC14,DELC14_FLAG_W,C14ERR,DELC13,DELC13_FLAG_W,CS-137,CS137ER,CS-137_FLAG_W,SBE35,SBE35_FLAG_W
,,,,,,,,,,,METERS,DBAR,ITS-90,PSS-78,,PSS-78,,UMOL/KG,,UMOL/KG,,UMOL/KG,,UMOL/KG,,UMOL/KG,,UMOL/KG,,PMOL/KG,,PMOL/KG,,PMOL/KG,,UMOL/KG,,UMOL/KG,,,,DEG C,/MILLE,,/MILLE,/MILLE,,DM/.1MG,DM/.1MG,,ITS-90,
  49NZ20031209,  I3I4,   598,  1,     36,  12024,2,20031214,2143,-24.6552,  38.4933, 3358,      9.8,  25.5234,  35.2638,2,  35.2638,2,    201.0,1,    212.0,2,     1.80,2,    -0.01,2,    -0.01,2,     0.14,2, -999.000,9, -999.000,9, -999.000,9,   -999.0,9,   -999.0,9,-999.0000,9,  -999.00,   -999.0,9,   -999.0,  -999.00,9,  -999.00,  -999.00,9,  25.5550,2
  49NZ20031209,  I3I4,   598,  1,     35,  12023,2,20031214,2143,-24.6552,  38.4933, 3358,     50.1,  24.0471,  35.2568,2,  35.2579,2,    206.2,1,    217.6,2,     1.79,2,    -0.04,2,     0.01,2,     0.15,2, -999.000,9, -999.000,9, -999.000,9,   -999.0,9,   -999.0,9,-999.0000,9,  -999.00,   -999.0,9,   -999.0,  -999.00,9,  -999.00,  -999.00,9,  24.0461,2
  49NZ20031209,  I3I4,   598,  1,     34,  12022,2,20031214,2143,-24.6552,  38.4933, 3358,     99.4,  22.1364,  35.3087,2,  35.3103,2,    196.4,1,    206.0,2,     2.14,2,     1.01,2,     0.12,2,     0.25,2, -999.000,9, -999.000,9, -999.000,9,   -999.0,9,   -999.0,9,-999.0000,9,  -999.00,   -999.0,9,   -999.0,  -999.00,9,  -999.00,  -999.00,9,  22.1365,2
  49NZ20031209,  I3I4,   598,  1,     33,  12015,2,20031214,2143,-24.6552,  38.4933, 3358,    149.7,  20.3504,  35.4133,2,  35.4129,2,    164.4,1,    174.0,2,     4.90,2,     5.32,2,     0.03,2,     0.49,2, -999.000,9, -999.000,9, -999.000,9,   -999.0,9,   -999.0,9,-999.0000,9,  -999.00,   -999.0,9,   -999.0,  -999.00,9,  -999.00,  -999.00,9,  20.3200,2
  49NZ20031209,  I3I4,   598,  1,     32,  12020,2,20031214,2143,-24.6552,  38.4933, 3358,    200.2,  18.2062,  35.5254,2,  35.5253,2,    161.7,1,    168.9,2,     6.93,2,     7.45,2,     0.01,2,     0.63,2, -999.000,9, -999.000,9, -999.000,9,   -999.0,9,   -999.0,9,-999.0000,9,  -999.00,   -999.0,9,   -999.0,  -999.00,9,  -999.00,  -999.00,9,  18.2067,2
  49NZ20031209,  I3I4,   598,  1,     31,  12019,2,20031214,2143,-24.6552,  38.4933, 3358,    249.8,  17.4800,  35.6965,2,  35.6978,2,    209.5,1,    220.1,2,     2.79,2,     2.28,2,     0.01,2,     0.30,2, -999.000,9, -999.000,9, -999.000,9,   -999.0,9,   -999.0,9,-999.0000,9,  -999.00,   -999.0,9,   -999.0,  -999.00,9,  -999.00,  -999.00,9,  17.4796,2
  49NZ20031209,  I3I4,   598,  1,     30,  12018,2,20031214,2143,-24.6552,  38.4933, 3358,    299.1,  16.9371,  35.6698,2,  35.6693,2,    212.0,1,    221.7,2,     3.11,2,     3.31,2,     0.00,2,     0.37,2, -999.000,9, -999.000,9, -999.000,9,   -999.0,9,   -999.0,9,-999.0000,9,  -999.00,   -999.0,9,   -999.0,  -999.00,9,  -999.00,  -999.00,9,  16.9323,2
  49NZ20031209,  I3I4,   598,  1,     29,  12017,2,20031214,2143,-24.6552,  38.4933, 3358,    399.8,  14.4537,  35.3996,2,  35.3883,2,    193.5,1,    199.2,2,     5.65,2,     8.84,2,     0.00,2,     0.73,2, -999.000,9, -999.000,9, -999.000,9,   -999.0,9,   -999.0,9,-999.0000,9,  -999.00,   -999.0,9,   -999.0,  -999.00,9,  -999.00,  -999.00,9,  14.4707,2
  49NZ20031209,  I3I4,   598,  1,     28,  12016,2,20031214,2143,-24.6552,  38.4933, 3358,    500.4,  12.8366,  35.2043,2,  35.2029,2,    199.5,1,    208.1,2,     5.89,2,    11.07,2,    -0.01,2,     0.86,2, -999.000,9, -999.000,9, -999.000,9,   -999.0,9,   -999.0,9,-999.0000,9,  -999.00,   -999.0,9,   -999.0,  -999.00,9,  -999.00,  -999.00,9,  12.8355,2
  49NZ20031209,  I3I4,   598,  1,     27,  12012,2,20031214,2143,-24.6552,  38.4933, 3358,    601.0,  11.5434,  35.0202,2,  35.0204,2,    197.1,1,    205.4,2,     7.41,2,    14.07,2,     0.00,2,     1.06,2, -999.000,9, -999.000,9, -999.000,9,   -999.0,9,   -999.0,9,-999.0000,9,  -999.00,   -999.0,9,   -999.0,  -999.00,9,  -999.00,  -999.00,9,  11.5427,2
  49NZ20031209,  I3I4,   598,  1,     26,  12014,2,20031214,2143,-24.6552,  38.4933, 3358,    699.9,  10.3261,  34.8585,2,  34.8585,2,    195.7,1,    204.7,2,     9.23,2,    16.89,2,     0.00,2,     1.23,2, -999.000,9, -999.000,9, -999.000,9,   -999.0,9,   -999.0,9,-999.0000,9,  -999.00,   -999.0,9,   -999.0,  -999.00,9,  -999.00,  -999.00,9,  10.3292,2
  49NZ20031209,  I3I4,   598,  1,     25,  12013,2,20031214,2143,-24.6552,  38.4933, 3358,    799.7,   8.7403,  34.6789,2,  34.6788,2,    190.9,1,    199.2,2,    14.04,2,    21.18,2,    -0.01,2,     1.50,2, -999.000,9, -999.000,9, -999.000,9,   -999.0,9,   -999.0,9,-999.0000,9,  -999.00,   -999.0,9,   -999.0,  -999.00,9,  -999.00,  -999.00,9,   8.7411,2
  49NZ20031209,  I3I4,   598,  1,     24,  12048,2,20031214,2143,-24.6552,  38.4933, 3358,    899.7,   7.3787,  34.5700,2,  34.5718,2,    181.1,1,    188.8,2,    22.02,2,    25.23,2,     0.00,2,     1.77,2, -999.000,9, -999.000,9, -999.000,9,   -999.0,9,   -999.0,9,-999.0000,9,  -999.00,   -999.0,9,   -999.0,  -999.00,9,  -999.00,  -999.00,9,   7.3791,2
  49NZ20031209,  I3I4,   598,  1,     23,  12047,2,20031214,2143,-24.6552,  38.4933, 3358,   1000.2,   5.8536,  34.4794,2,  34.4793,2,    178.8,1,    186.6,2,    31.44,2,    28.70,2,    -0.01,2,     2.01,2, -999.000,9, -999.000,9, -999.000,9,   -999.0,9,   -999.0,9,-999.0000,9,  -999.00,   -999.0,9,   -999.0,  -999.00,9,  -999.00,  -999.00,9,   5.8550,2
  49NZ20031209,  I3I4,   598,  1,     22,  12046,2,20031214,2143,-24.6552,  38.4933, 3358,   1201.3,   4.6140,  34.5642,2,  34.5651,2,    148.8,1,    155.0,2,    57.66,2,    32.95,2,     0.00,2,     2.33,2, -999.000,9, -999.000,9, -999.000,9,   -999.0,9,   -999.0,9,-999.0000,9,  -999.00,   -999.0,9,   -999.0,  -999.00,9,  -999.00,  -999.00,9,   4.6141,2
  49NZ20031209,  I3I4,   598,  1,     21,  12045,2,20031214,2143,-24.6552,  38.4933, 3358,   1400.3,   3.8402,  34.6412,2,  34.6410,2,    143.0,1,    148.9,2,    72.43,2,    33.81,2,    -0.01,2,     2.39,2, -999.000,9, -999.000,9, -999.000,9,   -999.0,9,   -999.0,9,-999.0000,9,  -999.00,   -999.0,9,   -999.0,  -999.00,9,  -999.00,  -999.00,9,   3.8398,2
  49NZ20031209,  I3I4,   598,  1,     20,  12044,2,20031214,2143,-24.6552,  38.4933, 3358,   1600.7,   3.3481,  34.7024,2,  34.7054,2,    145.4,1,    150.3,2,    81.78,2,    33.52,2,    -0.01,2,     2.38,2, -999.000,9, -999.000,9, -999.000,9,   -999.0,9,   -999.0,9,-999.0000,9,  -999.00,   -999.0,9,   -999.0,  -999.00,9,  -999.00,  -999.00,9,   3.3511,2
  49NZ20031209,  I3I4,   598,  1,     19,  12043,2,20031214,2143,-24.6552,  38.4933, 3358,   1801.4,   2.9403,  34.7289,2,  34.7287,2,    157.9,1,    164.3,2,    82.66,2,    32.29,2,     0.00,2,     2.28,2, -999.000,9, -999.000,9, -999.000,9,   -999.0,9,   -999.0,9,-999.0000,9,  -999.00,   -999.0,9,   -999.0,  -999.00,9,  -999.00,  -999.00,9,   2.9404,2
  49NZ20031209,  I3I4,   598,  1,     18,  12042,2,20031214,2143,-24.6552,  38.4933, 3358,   2002.2,   2.6611,  34.7498,2,  34.7498,2,    171.6,1,    178.7,2,    79.45,2,    30.94,2,    -0.01,2,     2.18,2, -999.000,9, -999.000,9, -999.000,9,   -999.0,9,   -999.0,9,-999.0000,9,  -999.00,   -999.0,9,   -999.0,  -999.00,9,  -999.00,  -999.00,9,   2.6613,2
  49NZ20031209,  I3I4,   598,  1,     17,  12041,2,20031214,2143,-24.6552,  38.4933, 3358,   2200.7,   2.4978,  34.7705,2,  34.7709,2,    181.1,1,    188.6,2,    77.58,2,    29.89,2,    -0.01,2,     2.09,2, -999.000,9, -999.000,9, -999.000,9,   -999.0,9,   -999.0,9,-999.0000,9,  -999.00,   -999.0,9,   -999.0,  -999.00,9,  -999.00,  -999.00,9,   2.4979,2
  49NZ20031209,  I3I4,   598,  1,     16,  12040,2,20031214,2143,-24.6552,  38.4933, 3358,   2401.2,   2.3171,  34.7915,2,  34.7915,2,    194.0,1,    202.2,2,    73.19,2,    28.43,2,    -0.01,2,     1.97,2, -999.000,9, -999.000,9, -999.000,9,   -999.0,9,   -999.0,9,-999.0000,9,  -999.00,   -999.0,9,   -999.0,  -999.00,9,  -999.00,  -999.00,9,   2.3174,2
  49NZ20031209,  I3I4,   598,  1,     15,  12039,2,20031214,2143,-24.6552,  38.4933, 3358,   2601.1,   2.2318,  34.7982,2,  34.7987,2,    200.0,1,    208.3,2,    71.80,2,    27.90,2,    -0.01,2,     1.93,2, -999.000,9, -999.000,9, -999.000,9,   -999.0,9,   -999.0,9,-999.0000,9,  -999.00,   -999.0,9,   -999.0,  -999.00,9,  -999.00,  -999.00,9,   2.2317,2
  49NZ20031209,  I3I4,   598,  1,     14,  12038,2,20031214,2143,-24.6552,  38.4933, 3358,   2800.3,   2.1898,  34.7986,2,  34.7990,2,    202.2,1,    210.2,2,    72.25,2,    27.78,2,    -0.01,2,     1.92,2, -999.000,9, -999.000,9, -999.000,9,   -999.0,9,   -999.0,9,-999.0000,9,  -999.00,   -999.0,9,   -999.0,  -999.00,9,  -999.00,  -999.00,9,   2.1899,2
  49NZ20031209,  I3I4,   598,  1,     13,  12037,2,20031214,2143,-24.6552,  38.4933, 3358,   2999.7,   2.1242,  34.7978,2,  34.7977,2,    204.2,1,    211.7,2,    73.57,2,    27.78,2,     0.00,2,     1.92,2, -999.000,9, -999.000,9, -999.000,9,   -999.0,9,   -999.0,9,-999.0000,9,  -999.00,   -999.0,9,   -999.0,  -999.00,9,  -999.00,  -999.00,9,   2.1244,2
  49NZ20031209,  I3I4,   598,  1,     12,  12036,2,20031214,2143,-24.6552,  38.4933, 3358,   3250.2,   1.8981,  34.7886,2,  34.7884,2,    207.4,1,    214.2,2,    79.18,2,    28.05,2,     0.01,2,     1.93,2, -999.000,9, -999.000,9, -999.000,9,   -999.0,9,   -999.0,9,-999.0000,9,  -999.00,   -999.0,9,   -999.0,  -999.00,9,  -999.00,  -999.00,9,   1.8986,2
  49NZ20031209,  I3I4,   598,  1,     11,  12035,2,20031214,2143,-24.6552,  38.4933, 3358,   3408.5,   1.7421,  34.7794,2,  34.7796,2,    208.9,1,    214.9,2,    83.75,2,    28.46,2,    -0.01,2,     1.98,2, -999.000,9, -999.000,9, -999.000,9,   -999.0,9,   -999.0,9,-999.0000,9,  -999.00,   -999.0,9,   -999.0,  -999.00,9,  -999.00,  -999.00,9,   1.7419,2
  49NZ20031209,  I3I4,   598,  1,     10,  12034,9,20031214,2143,-24.6552,  38.4933, 3358,   2100.2,   2.5797,  34.7594,2,-999.0000,9,    176.2,1,   -999.0,9,  -999.00,9,  -999.00,9,  -999.00,9,  -999.00,9, -999.000,9, -999.000,9, -999.000,9,   -999.0,9,   -999.0,9,-999.0000,9,  -999.00,   -999.0,9,   -999.0,  -999.00,9,  -999.00,  -999.00,9,   2.5800,2
  49NZ20031209,  I3I4,   598,  1,      9,  12033,9,20031214,2143,-24.6552,  38.4933, 3358,   2301.9,   2.3922,  34.7830,2,-999.0000,9,    188.6,1,   -999.0,9,  -999.00,9,  -999.00,9,  -999.00,9,  -999.00,9, -999.000,9, -999.000,9, -999.000,9,   -999.0,9,   -999.0,9,-999.0000,9,  -999.00,   -999.0,9,   -999.0,  -999.00,9,  -999.00,  -999.00,9,   2.3922,2
  49NZ20031209,  I3I4,   598,  1,      8,  12032,9,20031214,2143,-24.6552,  38.4933, 3358,   2501.6,   2.2549,  34.7969,2,-999.0000,9,    198.6,1,   -999.0,9,  -999.00,9,  -999.00,9,  -999.00,9,  -999.00,9, -999.000,9, -999.000,9, -999.000,9,   -999.0,9,   -999.0,9,-999.0000,9,  -999.00,   -999.0,9,   -999.0,  -999.00,9,  -999.00,  -999.00,9,   2.2552,2
  49NZ20031209,  I3I4,   598,  1,      7,  12031,9,20031214,2143,-24.6552,  38.4933, 3358,   2700.0,   2.2091,  34.7985,2,-999.0000,9,    201.2,1,   -999.0,9,  -999.00,9,  -999.00,9,  -999.00,9,  -999.00,9, -999.000,9, -999.000,9, -999.000,9,   -999.0,9,   -999.0,9,-999.0000,9,  -999.00,   -999.0,9,   -999.0,  -999.00,9,  -999.00,  -999.00,9,   2.2091,2
  49NZ20031209,  I3I4,   598,  1,      6,  12030,9,20031214,2143,-24.6552,  38.4933, 3358,   2896.6,   2.1606,  34.7984,2,-999.0000,9,    203.3,1,   -999.0,9,  -999.00,9,  -999.00,9,  -999.00,9,  -999.00,9, -999.000,9, -999.000,9, -999.000,9,   -999.0,9,   -999.0,9,-999.0000,9,  -999.00,   -999.0,9,   -999.0,  -999.00,9,  -999.00,  -999.00,9,   2.1607,2
  49NZ20031209,  I3I4,   598,  1,      5,  12029,9,20031214,2143,-24.6552,  38.4933, 3358,   3100.5,   2.0428,  34.7953,2,-999.0000,9,    205.8,1,   -999.0,9,  -999.00,9,  -999.00,9,  -999.00,9,  -999.00,9, -999.000,9, -999.000,9, -999.000,9,   -999.0,9,   -999.0,9,-999.0000,9,  -999.00,   -999.0,9,   -999.0,  -999.00,9,  -999.00,  -999.00,9,   2.0426,2
  49NZ20031209,  I3I4,   598,  1,      4,  12028,9,20031214,2143,-24.6552,  38.4933, 3358,   1000.9,   5.8625,  34.4825,2,-999.0000,9,    177.9,1,   -999.0,9,  -999.00,9,  -999.00,9,  -999.00,9,  -999.00,9, -999.000,9, -999.000,9, -999.000,9,   -999.0,9,   -999.0,9,-999.0000,9,  -999.00,   -999.0,9,   -999.0,  -999.00,9,  -999.00,  -999.00,9,   5.8630,2
  49NZ20031209,  I3I4,   598,  1,      3,  12027,9,20031214,2143,-24.6552,  38.4933, 3358,   1001.0,   5.8596,  34.4817,2,-999.0000,9,    177.7,1,   -999.0,9,  -999.00,9,  -999.00,9,  -999.00,9,  -999.00,9, -999.000,9, -999.000,9, -999.000,9,   -999.0,9,   -999.0,9,-999.0000,9,  -999.00,   -999.0,9,   -999.0,  -999.00,9,  -999.00,  -999.00,9,   5.8588,2
  49NZ20031209,  I3I4,   598,  1,      2,  12026,9,20031214,2143,-24.6552,  38.4933, 3358,   1000.4,   5.8574,  34.4811,2,-999.0000,9,    178.0,1,   -999.0,9,  -999.00,9,  -999.00,9,  -999.00,9,  -999.00,9, -999.000,9, -999.000,9, -999.000,9,   -999.0,9,   -999.0,9,-999.0000,9,  -999.00,   -999.0,9,   -999.0,  -999.00,9,  -999.00,  -999.00,9,   5.8578,2
  49NZ20031209,  I3I4,   598,  1,      1,  12025,9,20031214,2143,-24.6552,  38.4933, 3358,      9.7,  25.4942,  35.2539,2,-999.0000,9,    201.4,1,   -999.0,9,  -999.00,9,  -999.00,9,  -999.00,9,  -999.00,9, -999.000,9, -999.000,9, -999.000,9,   -999.0,9,   -999.0,9,-999.0000,9,  -999.00,   -999.0,9,   -999.0,  -999.00,9,  -999.00,  -999.00,9,  25.5057,2