BOTTLE,20141204PRINUNIVRMK
EXPOCODE,SECT_ID,STNNBR,CASTNO,SAMPNO,BTLNBR,BTLNBR_FLAG_W,DATE,TIME,LATITUDE,LONGITUDE,DEPTH,CTDPRS,CTDTMP,CTDSAL,CTDSAL_FLAG_W,SALNTY,SALNTY_FLAG_W,CTDOXY,CTDOXY_FLAG_W,OXYGEN,OXYGEN_FLAG_W,SILCAT,SILCAT_FLAG_W,NITRAT,NITRAT_FLAG_W,NITRIT,NITRIT_FLAG_W,PHSPHT,PHSPHT_FLAG_W,CFC-11,CFC-11_FLAG_W,CFC-12,CFC-12_FLAG_W,CFC113,CFC113_FLAG_W,TCARBN,TCARBN_FLAG_W,ALKALI,ALKALI_FLAG_W,PH_TOT,PH_TOT_FLAG_W,PH_TMP,DELC14,DELC14_FLAG_W,C14ERR,DELC13,DELC13_FLAG_W,CS-137,CS137ER,CS-137_FLAG_W,SBE35,SBE35_FLAG_W
,,,,,,,,,,,METERS,DBAR,ITS-90,PSS-78,,PSS-78,,UMOL/KG,,UMOL/KG,,UMOL/KG,,UMOL/KG,,UMOL/KG,,UMOL/KG,,PMOL/KG,,PMOL/KG,,PMOL/KG,,UMOL/KG,,UMOL/KG,,,,DEG C,/MILLE,,/MILLE,/MILLE,,DM/.1MG,DM/.1MG,,ITS-90,
  49NZ20031209,  I3I4,   519,  1,     36,  12024,2,20031230,1256,-19.9978,  68.2133, 2572,      9.2,  26.8171,  34.9151,2,  34.9140,2,    195.4,1,    204.2,2,     1.94,2,     0.02,2,    -0.01,2,     0.13,2,    1.640,2,    1.035,2,    0.341,4,   1961.9,2,   2289.4,2,   8.0880,2,    25.00,     54.7,2,      3.5,     1.07,2,  -999.00,  -999.00,9,  26.8136,2
  49NZ20031209,  I3I4,   519,  1,     35,  12023,2,20031230,1256,-19.9978,  68.2133, 2572,     48.9,  25.9923,  34.9434,2,  34.9434,2,    199.8,1,    208.8,2,     1.97,2,    -0.01,2,     0.00,2,     0.11,2,    1.718,2,    1.083,2, -999.000,5,   1966.9,6,   2294.5,2,   8.0845,2,    25.00,     62.0,2,      3.6,     1.07,2,  -999.00,  -999.00,9,  25.9886,2
  49NZ20031209,  I3I4,   519,  1,     34,  12022,2,20031230,1256,-19.9978,  68.2133, 2572,    100.2,  22.6311,  35.1851,2,  35.1841,2,    207.8,1,    216.0,2,     2.23,2,     0.02,2,     0.00,2,     0.14,2,    1.925,2,    1.179,2, -999.000,5,   1990.3,2,   2301.9,6,   8.0642,2,    25.00,     47.0,2,      3.5,     1.02,2,  -999.00,  -999.00,9,  22.6301,2
  49NZ20031209,  I3I4,   519,  1,     33,  12015,2,20031230,1256,-19.9978,  68.2133, 2572,    149.3,  21.2986,  35.4096,2,  35.4111,2,    184.0,1,    191.5,2,     3.33,2,     2.25,2,     0.14,2,     0.29,2,    1.992,2,    1.202,2,    0.357,4,   2030.7,2,   2312.9,2,   8.0154,6,    25.00,     70.1,2,      3.4,     0.74,2,  -999.00,  -999.00,9,  21.2984,2
  49NZ20031209,  I3I4,   519,  1,     32,  12020,2,20031230,1256,-19.9978,  68.2133, 2572,    199.1,  20.2736,  35.6422,2,  35.6437,2,    184.3,1,    191.0,2,     3.15,2,     2.42,2,     0.02,2,     0.31,2,    2.092,2,    1.287,2,    0.266,4,   2054.5,2,   2328.7,2,   7.9944,2,    25.00,     75.0,2,      3.6,     0.66,2,  -999.00,  -999.00,9,  20.2706,2
  49NZ20031209,  I3I4,   519,  1,     31,  12019,2,20031230,1256,-19.9978,  68.2133, 2572,    249.7,  18.8153,  35.7594,2,  35.7634,2,    182.0,1,    189.5,2,     3.64,2,     3.54,2,     0.00,2,     0.38,2,    2.229,6,    1.308,6,    0.083,4,   2079.4,2,   2337.0,2,   7.9627,2,    25.00,     62.5,2,      3.6,     0.81,2,  -999.00,  -999.00,9,  18.8054,2
  49NZ20031209,  I3I4,   519,  1,     30,  12018,2,20031230,1256,-19.9978,  68.2133, 2572,    300.3,  16.7797,  35.7083,2,  35.7111,2,    189.2,1,    195.7,2,     3.89,2,     4.57,2,     0.00,2,     0.46,2,    2.428,2,    1.381,2,    0.036,4,   2095.7,2,   2335.8,2,   7.9329,2,    25.00,     79.6,2,      3.6,     0.93,2,  -999.00,  -999.00,9,  16.7815,2
  49NZ20031209,  I3I4,   519,  1,     29,  12021,2,20031230,1256,-19.9978,  68.2133, 2572,    401.2,  13.7944,  35.3832,2,  35.3844,2,    209.2,1,    216.7,2,     3.10,2,     7.07,2,     0.00,2,     0.63,2,    2.875,2,    1.557,2,    0.087,4,   2107.7,2,   2317.9,2,   7.8861,2,    25.00,     75.9,2,      3.7,     1.01,2,  -999.00,  -999.00,9,  13.7892,2
  49NZ20031209,  I3I4,   519,  1,     28,  12016,2,20031230,1256,-19.9978,  68.2133, 2572,    499.8,  11.6183,  35.0546,2,  35.0492,2,    223.9,1,    232.0,2,     3.26,2,    10.76,2,     0.00,2,     0.85,2,    3.186,2,    1.680,2,    0.120,4,   2110.2,2,   2302.9,2,   7.8453,2,    25.00,     62.3,2,      3.5,     1.23,2,  -999.00,  -999.00,9,  11.6184,2
  49NZ20031209,  I3I4,   519,  1,     27,  12012,2,20031230,1256,-19.9978,  68.2133, 2572,    599.3,  10.1221,  34.8219,2,  34.8173,2,    225.4,1,    233.4,2,     4.18,2,    14.32,2,     0.00,2,     1.06,2,    3.285,2,    1.697,2,    0.130,4,   2118.2,2,   2292.6,2,   7.8104,2,    25.00,     53.9,2,      4.9,     1.25,2,  -999.00,  -999.00,9,  10.1226,2
  49NZ20031209,  I3I4,   519,  1,     26,  12014,2,20031230,1256,-19.9978,  68.2133, 2572,    700.4,   8.9358,  34.6588,2,  34.6574,2,    215.4,1,    222.8,2,     7.38,2,    18.49,2,     0.00,2,     1.32,2,    2.824,2,    1.428,2,    0.104,4,   2132.4,6,   2292.2,2,   7.7684,2,    25.00,     38.9,2,      3.3,     1.20,2,  -999.00,  -999.00,9,   8.9244,2
  49NZ20031209,  I3I4,   519,  1,     25,  12013,2,20031230,1256,-19.9978,  68.2133, 2572,    800.9,   7.3126,  34.5310,2,  34.5282,2,    181.3,1,    186.5,2,    20.91,2,    25.75,2,     0.00,2,     1.80,2,    1.263,2,    0.671,2,    0.042,4,   2172.8,2,   2292.6,6,   7.6856,2,    25.00,    -28.6,2,      3.4,     1.02,2,  -999.00,  -999.00,9,   7.3217,2
  49NZ20031209,  I3I4,   519,  1,     24,  12048,2,20031230,1256,-19.9978,  68.2133, 2572,    901.4,   5.5801,  34.4930,2,  34.4944,2,    151.7,1,    156.0,2,    44.43,2,    31.69,2,     0.00,2,     2.24,2,    0.330,2,    0.203,2,    0.000,4,   2220.5,2,   2315.7,2,   7.6114,2,    25.00,   -105.7,2,      3.1,     0.75,2,  -999.00,  -999.00,9,   5.5731,2
  49NZ20031209,  I3I4,   519,  1,     23,  12047,2,20031230,1256,-19.9978,  68.2133, 2572,   1001.5,   5.1099,  34.5779,2,  34.5799,2,    121.1,1,    123.7,2,    66.67,2,    34.52,2,     0.00,2,     2.47,2,    0.058,6,    0.038,6,    0.000,4,   2257.7,2,   2341.3,2,   7.5649,2,    25.00,   -155.7,2,      3.9,     0.47,2,  -999.00,  -999.00,9,   5.1100,2
  49NZ20031209,  I3I4,   519,  1,     22,  12046,2,20031230,1256,-19.9978,  68.2133, 2572,   1203.3,   4.5530,  34.6561,2,  34.6557,2,    111.1,1,    114.4,2,    83.48,2,    35.53,2,     0.00,2,     2.56,2,    0.015,2,    0.007,2,    0.000,4,   2279.7,2,   2365.1,2,   7.5520,2,    25.00,   -174.1,2,      3.1,     0.34,2,  -999.00,  -999.00,9,   4.5540,2
  49NZ20031209,  I3I4,   519,  1,     21,  12045,2,20031230,1256,-19.9978,  68.2133, 2572,   1399.6,   3.9925,  34.6799,2,  34.6797,2,    118.8,1,    121.6,2,    90.10,2,    35.43,2,     0.00,2,     2.55,2,    0.005,2,    0.002,2,    0.000,4,   2283.3,2,   2356.2,2,   7.5601,2,    25.00,   -172.1,6,      6.2,     0.30,2,  -999.00,  -999.00,9,   3.9926,2
  49NZ20031209,  I3I4,   519,  1,     20,  12044,2,20031230,1256,-19.9978,  68.2133, 2572,   1600.0,   3.3920,  34.6883,2,  34.6884,2,    132.6,1,    136.3,2,    93.72,2,    34.78,2,     0.00,2,     2.49,2,    0.009,2,    0.002,2,    0.000,4,   2282.3,2,   2362.2,2,   7.5712,2,    25.00,   -170.8,2,      3.1,     0.35,2,  -999.00,  -999.00,9,   3.3919,2
  49NZ20031209,  I3I4,   519,  1,     19,  12043,2,20031230,1256,-19.9978,  68.2133, 2572,   1799.3,   2.7302,  34.7013,2,  34.7013,2,    149.7,1,    154.1,2,    97.86,2,    33.93,2,    -0.01,2,     2.40,2,    0.001,2,    0.002,2,    0.000,4,   2279.8,2,   2367.9,2,   7.5872,2,    25.00,   -172.6,2,      3.1,     0.34,2,  -999.00,  -999.00,9,   2.7315,2
  49NZ20031209,  I3I4,   519,  1,     18,  12042,2,20031230,1256,-19.9978,  68.2133, 2572,   1999.5,   2.3678,  34.7152,2,  34.7150,2,    157.8,1,    162.4,2,   103.14,2,    33.47,2,    -0.01,2,     2.36,2,   -0.001,2,   -0.001,2,    0.000,4,   2280.7,2,   2369.5,2,   7.5977,6,    25.00,   -169.2,2,      4.1,     0.40,2,  -999.00,  -999.00,9,   2.3679,2
  49NZ20031209,  I3I4,   519,  1,     17,  12041,2,20031230,1256,-19.9978,  68.2133, 2572,   2200.6,   2.0310,  34.7226,2,  34.7227,2,    167.6,1,    172.5,2,   106.35,2,    32.99,2,     0.00,2,     2.31,2,   -0.003,2,    0.001,2,    0.000,4,   2277.3,2,   2368.6,2,   7.6081,2,    25.00,   -161.7,2,      3.1,     0.42,2,  -999.00,  -999.00,9,   2.0312,2
  49NZ20031209,  I3I4,   519,  1,     16,  12040,2,20031230,1256,-19.9978,  68.2133, 2572,   2399.6,   1.8036,  34.7241,2,  34.7239,2,    175.7,1,    180.6,2,   108.44,2,    32.55,2,     0.00,2,     2.28,2,    0.003,2,   -0.001,2,    0.000,4,   2274.8,6,   2368.1,2,   7.6150,2,    25.00,   -162.9,2,      3.0,     0.44,2,  -999.00,  -999.00,9,   1.8033,2
  49NZ20031209,  I3I4,   519,  1,     15,  12039,2,20031230,1256,-19.9978,  68.2133, 2572,   2540.5,   1.7742,  34.7241,2,  34.7246,2,    176.5,1,    181.1,2,   109.69,2,    32.61,2,    -0.01,2,     2.28,2,    0.002,2,    0.001,2,    0.000,4,   2275.5,2,   2379.1,6,   7.6168,2,    25.00,   -169.5,2,      3.0,     0.43,2,  -999.00,  -999.00,9,   1.7741,2
  49NZ20031209,  I3I4,   519,  1,     14,  12038,2,20031230,1256,-19.9978,  68.2133, 2572,   2399.6,   1.8032,  34.7243,2,  34.7243,2,    175.6,1,    180.5,2,   108.12,2,    32.51,2,     0.00,2,     2.27,2,   -0.002,2,   -0.002,2,    0.000,4,   2274.4,2,   2376.5,2,   7.6160,2,    25.00,   -167.2,2,      3.0,     0.45,2,  -999.00,  -999.00,9,   1.8031,2
  49NZ20031209,  I3I4,   519,  1,     13,  12037,9,20031230,1256,-19.9978,  68.2133, 2572,   2098.7,   2.1993,  34.7181,2,-999.0000,9,    163.1,1,   -999.0,9,  -999.00,9,  -999.00,9,  -999.00,9,  -999.00,9, -999.000,9, -999.000,9, -999.000,9,   -999.0,9,   -999.0,9,-999.0000,9,  -999.00,   -999.0,9,   -999.0,  -999.00,9,  -999.00,  -999.00,9,   2.1991,2
  49NZ20031209,  I3I4,   519,  1,     12,  12036,9,20031230,1256,-19.9978,  68.2133, 2572,   2299.6,   1.8771,  34.7241,2,-999.0000,9,    174.3,1,   -999.0,9,  -999.00,9,  -999.00,9,  -999.00,9,  -999.00,9, -999.000,9, -999.000,9, -999.000,9,   -999.0,9,   -999.0,9,-999.0000,9,  -999.00,   -999.0,9,   -999.0,  -999.00,9,  -999.00,  -999.00,9,   1.8771,2
  49NZ20031209,  I3I4,   519,  1,     11,  12035,9,20031230,1256,-19.9978,  68.2133, 2572,   1000.8,   5.1068,  34.5785,2,-999.0000,9,    121.1,1,   -999.0,9,  -999.00,9,  -999.00,9,  -999.00,9,  -999.00,9, -999.000,9, -999.000,9, -999.000,9,   -999.0,9,   -999.0,9,-999.0000,9,  -999.00,   -999.0,9,   -999.0,  -999.00,9,  -999.00,  -999.00,9,   5.1068,2
  49NZ20031209,  I3I4,   519,  1,     10,  12034,9,20031230,1256,-19.9978,  68.2133, 2572,   1001.3,   5.1065,  34.5785,2,-999.0000,9,    121.1,1,   -999.0,9,  -999.00,9,  -999.00,9,  -999.00,9,  -999.00,9, -999.000,9, -999.000,9, -999.000,9,   -999.0,9,   -999.0,9,-999.0000,9,  -999.00,   -999.0,9,   -999.0,  -999.00,9,  -999.00,  -999.00,9,   5.1065,2
  49NZ20031209,  I3I4,   519,  1,      9,  12033,9,20031230,1256,-19.9978,  68.2133, 2572,   1001.4,   5.1059,  34.5787,2,-999.0000,9,    121.0,1,   -999.0,9,  -999.00,9,  -999.00,9,  -999.00,9,  -999.00,9, -999.000,9, -999.000,9, -999.000,9,   -999.0,9,   -999.0,9,-999.0000,9,  -999.00,   -999.0,9,   -999.0,  -999.00,9,  -999.00,  -999.00,9,   5.1057,2
  49NZ20031209,  I3I4,   519,  1,      8,  12032,9,20031230,1256,-19.9978,  68.2133, 2572,   1001.6,   5.1033,  34.5793,2,-999.0000,9,    121.0,1,   -999.0,9,  -999.00,9,  -999.00,9,  -999.00,9,  -999.00,9, -999.000,9, -999.000,9, -999.000,9,   -999.0,9,   -999.0,9,-999.0000,9,  -999.00,   -999.0,9,   -999.0,  -999.00,9,  -999.00,  -999.00,9,   5.1040,2
  49NZ20031209,  I3I4,   519,  1,      7,  12031,9,20031230,1256,-19.9978,  68.2133, 2572,   1001.4,   5.1060,  34.5787,2,-999.0000,9,    121.1,1,   -999.0,9,  -999.00,9,  -999.00,9,  -999.00,9,  -999.00,9, -999.000,9, -999.000,9, -999.000,9,   -999.0,9,   -999.0,9,-999.0000,9,  -999.00,   -999.0,9,   -999.0,  -999.00,9,  -999.00,  -999.00,9,   5.1060,2
  49NZ20031209,  I3I4,   519,  1,      6,  12030,9,20031230,1256,-19.9978,  68.2133, 2572,   1001.5,   5.1066,  34.5786,2,-999.0000,9,    121.0,1,   -999.0,9,  -999.00,9,  -999.00,9,  -999.00,9,  -999.00,9, -999.000,9, -999.000,9, -999.000,9,   -999.0,9,   -999.0,9,-999.0000,9,  -999.00,   -999.0,9,   -999.0,  -999.00,9,  -999.00,  -999.00,9,   5.1073,2
  49NZ20031209,  I3I4,   519,  1,      5,  12029,9,20031230,1256,-19.9978,  68.2133, 2572,   1001.2,   5.1072,  34.5785,2,-999.0000,9,    121.1,1,   -999.0,9,  -999.00,9,  -999.00,9,  -999.00,9,  -999.00,9, -999.000,9, -999.000,9, -999.000,9,   -999.0,9,   -999.0,9,-999.0000,9,  -999.00,   -999.0,9,   -999.0,  -999.00,9,  -999.00,  -999.00,9,   5.1070,2
  49NZ20031209,  I3I4,   519,  1,      4,  12028,9,20031230,1256,-19.9978,  68.2133, 2572,   1001.2,   5.1080,  34.5784,2,-999.0000,9,    121.1,1,   -999.0,9,  -999.00,9,  -999.00,9,  -999.00,9,  -999.00,9, -999.000,9, -999.000,9, -999.000,9,   -999.0,9,   -999.0,9,-999.0000,9,  -999.00,   -999.0,9,   -999.0,  -999.00,9,  -999.00,  -999.00,9,   5.1087,2
  49NZ20031209,  I3I4,   519,  1,      3,  12027,9,20031230,1256,-19.9978,  68.2133, 2572,   1001.5,   5.1091,  34.5781,2,-999.0000,9,    121.1,1,   -999.0,9,  -999.00,9,  -999.00,9,  -999.00,9,  -999.00,9, -999.000,9, -999.000,9, -999.000,9,   -999.0,9,   -999.0,9,-999.0000,9,  -999.00,   -999.0,9,   -999.0,  -999.00,9,  -999.00,  -999.00,9,   5.1095,2
  49NZ20031209,  I3I4,   519,  1,      2,  12026,9,20031230,1256,-19.9978,  68.2133, 2572,   1001.4,   5.1092,  34.5781,2,-999.0000,9,    121.1,1,   -999.0,9,  -999.00,9,  -999.00,9,  -999.00,9,  -999.00,9, -999.000,9, -999.000,9, -999.000,9,   -999.0,9,   -999.0,9,-999.0000,9,  -999.00,   -999.0,9,   -999.0,  -999.00,9,  -999.00,  -999.00,9,   5.1093,2
  49NZ20031209,  I3I4,   519,  1,      1,  12025,9,20031230,1256,-19.9978,  68.2133, 2572,      9.2,  26.8053,  34.9151,2,-999.0000,9,    195.5,1,   -999.0,9,  -999.00,9,  -999.00,9,  -999.00,9,  -999.00,9, -999.000,9, -999.000,9, -999.000,9,   -999.0,9,   -999.0,9,-999.0000,9,  -999.00,   -999.0,9,   -999.0,  -999.00,9,  -999.00,  -999.00,9,  26.8063,2