BOTTLE,20141204PRINUNIVRMK
EXPOCODE,SECT_ID,STNNBR,CASTNO,SAMPNO,BTLNBR,BTLNBR_FLAG_W,DATE,TIME,LATITUDE,LONGITUDE,DEPTH,CTDPRS,CTDTMP,CTDSAL,CTDSAL_FLAG_W,SALNTY,SALNTY_FLAG_W,CTDOXY,CTDOXY_FLAG_W,OXYGEN,OXYGEN_FLAG_W,SILCAT,SILCAT_FLAG_W,NITRAT,NITRAT_FLAG_W,NITRIT,NITRIT_FLAG_W,PHSPHT,PHSPHT_FLAG_W,CFC-11,CFC-11_FLAG_W,CFC-12,CFC-12_FLAG_W,CFC113,CFC113_FLAG_W,TCARBN,TCARBN_FLAG_W,ALKALI,ALKALI_FLAG_W,PH_TOT,PH_TOT_FLAG_W,PH_TMP,DELC14,DELC14_FLAG_W,C14ERR,DELC13,DELC13_FLAG_W,CS-137,CS137ER,CS-137_FLAG_W,SBE35,SBE35_FLAG_W
,,,,,,,,,,,METERS,DBAR,ITS-90,PSS-78,,PSS-78,,UMOL/KG,,UMOL/KG,,UMOL/KG,,UMOL/KG,,UMOL/KG,,UMOL/KG,,PMOL/KG,,PMOL/KG,,PMOL/KG,,UMOL/KG,,UMOL/KG,,,,DEG C,/MILLE,,/MILLE,/MILLE,,DM/.1MG,DM/.1MG,,ITS-90,
  49NZ20031209,  I3I4,   522,  1,     36,  12024,2,20031229,2324,-19.9983,  66.5315, 2484,     10.0,  26.6418,  35.0229,2,  35.0242,2,    195.4,1,    204.5,2,     1.63,2,     0.03,2,     0.00,2,     0.13,2, -999.000,9, -999.000,9, -999.000,9,   -999.0,9,   -999.0,9,-999.0000,9,  -999.00,   -999.0,9,   -999.0,  -999.00,9,  -999.00,  -999.00,9,  26.6407,2
  49NZ20031209,  I3I4,   522,  1,     35,  12023,2,20031229,2324,-19.9983,  66.5315, 2484,     50.2,  25.2825,  35.0393,2,  35.0377,2,    204.8,1,    213.1,2,     1.93,2,     0.02,2,     0.00,2,     0.11,2, -999.000,9, -999.000,9, -999.000,9,   -999.0,9,   -999.0,9,-999.0000,9,  -999.00,   -999.0,9,   -999.0,  -999.00,9,  -999.00,  -999.00,9,  25.2662,2
  49NZ20031209,  I3I4,   522,  1,     34,  12022,2,20031229,2324,-19.9983,  66.5315, 2484,     99.0,  21.8835,  35.2380,2,  35.2417,2,    188.2,1,    196.1,2,     3.15,2,     1.85,2,     0.08,2,     0.26,2, -999.000,9, -999.000,9, -999.000,9,   -999.0,9,   -999.0,9,-999.0000,9,  -999.00,   -999.0,9,   -999.0,  -999.00,9,  -999.00,  -999.00,9,  21.8828,2
  49NZ20031209,  I3I4,   522,  1,     33,  12015,2,20031229,2324,-19.9983,  66.5315, 2484,    149.9,  20.1510,  35.4462,2,  35.4483,2,    163.2,1,    170.4,2,     5.63,2,     5.61,2,     0.01,2,     0.49,2, -999.000,9, -999.000,9, -999.000,9,   -999.0,9,   -999.0,9,-999.0000,9,  -999.00,   -999.0,9,   -999.0,  -999.00,9,  -999.00,  -999.00,9,  20.1518,2
  49NZ20031209,  I3I4,   522,  1,     32,  12020,2,20031229,2324,-19.9983,  66.5315, 2484,    199.7,  19.0446,  35.5977,2,  35.5980,2,    166.7,1,    173.0,2,     5.68,2,     5.84,2,     0.01,2,     0.51,2, -999.000,9, -999.000,9, -999.000,9,   -999.0,9,   -999.0,9,-999.0000,9,  -999.00,   -999.0,9,   -999.0,  -999.00,9,  -999.00,  -999.00,9,  19.0442,2
  49NZ20031209,  I3I4,   522,  1,     31,  12019,2,20031229,2324,-19.9983,  66.5315, 2484,    249.9,  17.9016,  35.7004,2,  35.6984,2,    178.3,1,    185.1,2,     4.95,2,     5.09,2,     0.00,2,     0.47,2, -999.000,9, -999.000,9, -999.000,9,   -999.0,9,   -999.0,9,-999.0000,9,  -999.00,   -999.0,9,   -999.0,  -999.00,9,  -999.00,  -999.00,9,  17.8980,2
  49NZ20031209,  I3I4,   522,  1,     30,  12018,2,20031229,2324,-19.9983,  66.5315, 2484,    300.5,  16.7513,  35.7018,2,  35.7002,2,    192.9,1,    200.4,2,     3.51,2,     4.28,2,     0.00,2,     0.43,2, -999.000,9, -999.000,9, -999.000,9,   -999.0,9,   -999.0,9,-999.0000,9,  -999.00,   -999.0,9,   -999.0,  -999.00,9,  -999.00,  -999.00,9,  16.7512,2
  49NZ20031209,  I3I4,   522,  1,     29,  12021,2,20031229,2324,-19.9983,  66.5315, 2484,    401.3,  13.5553,  35.3426,2,  35.3431,2,    216.3,1,    224.5,2,     2.53,2,     7.16,2,     0.00,2,     0.61,2, -999.000,9, -999.000,9, -999.000,9,   -999.0,9,   -999.0,9,-999.0000,9,  -999.00,   -999.0,9,   -999.0,  -999.00,9,  -999.00,  -999.00,9,  13.5554,2
  49NZ20031209,  I3I4,   522,  1,     28,  12016,2,20031229,2324,-19.9983,  66.5315, 2484,    499.5,  11.5645,  35.0451,2,  35.0445,2,    223.9,1,    232.1,2,     3.23,2,    10.95,2,     0.00,2,     0.84,2, -999.000,9, -999.000,9, -999.000,9,   -999.0,9,   -999.0,9,-999.0000,9,  -999.00,   -999.0,9,   -999.0,  -999.00,9,  -999.00,  -999.00,9,  11.5647,2
  49NZ20031209,  I3I4,   522,  1,     27,  12012,2,20031229,2324,-19.9983,  66.5315, 2484,    599.6,  10.2303,  34.8391,2,  34.8379,2,    223.4,1,    231.4,2,     4.32,2,    14.33,2,     0.00,2,     1.04,2, -999.000,9, -999.000,9, -999.000,9,   -999.0,9,   -999.0,9,-999.0000,9,  -999.00,   -999.0,9,   -999.0,  -999.00,9,  -999.00,  -999.00,9,  10.2312,2
  49NZ20031209,  I3I4,   522,  1,     26,  12014,2,20031229,2324,-19.9983,  66.5315, 2484,    699.9,   8.6730,  34.6302,2,  34.6296,2,    212.3,1,    219.9,2,     8.35,2,    19.56,2,     0.00,2,     1.37,2, -999.000,9, -999.000,9, -999.000,9,   -999.0,9,   -999.0,9,-999.0000,9,  -999.00,   -999.0,9,   -999.0,  -999.00,9,  -999.00,  -999.00,9,   8.6748,2
  49NZ20031209,  I3I4,   522,  1,     18,  12042,2,20031229,2324,-19.9983,  66.5315, 2484,    799.2,   7.0816,  34.5130,2,  34.5133,2,    183.6,1,    189.6,2,    20.70,2,    25.96,2,     0.00,2,     1.79,2, -999.000,9, -999.000,9, -999.000,9,   -999.0,9,   -999.0,9,-999.0000,9,  -999.00,   -999.0,9,   -999.0,  -999.00,9,  -999.00,  -999.00,9,   7.0818,2
  49NZ20031209,  I3I4,   522,  1,     17,  12041,2,20031229,2324,-19.9983,  66.5315, 2484,    899.5,   5.6676,  34.4966,2,  34.4978,2,    154.4,1,    159.0,2,    42.48,2,    31.36,2,     0.00,2,     2.19,2, -999.000,9, -999.000,9, -999.000,9,   -999.0,9,   -999.0,9,-999.0000,9,  -999.00,   -999.0,9,   -999.0,  -999.00,9,  -999.00,  -999.00,9,   5.6673,2
  49NZ20031209,  I3I4,   522,  1,     16,  12040,2,20031229,2324,-19.9983,  66.5315, 2484,   1001.6,   5.1411,  34.5482,2,  34.5482,2,    133.9,1,    137.6,2,    59.06,2,    33.65,2,    -0.01,2,     2.37,2, -999.000,9, -999.000,9, -999.000,9,   -999.0,9,   -999.0,9,-999.0000,9,  -999.00,   -999.0,9,   -999.0,  -999.00,9,  -999.00,  -999.00,9,   5.1417,2
  49NZ20031209,  I3I4,   522,  1,     15,  12039,2,20031229,2324,-19.9983,  66.5315, 2484,   1201.0,   4.3711,  34.6383,2,  34.6382,2,    117.7,1,    120.5,2,    81.81,2,    35.33,2,     0.00,2,     2.53,2, -999.000,9, -999.000,9, -999.000,9,   -999.0,9,   -999.0,9,-999.0000,9,  -999.00,   -999.0,9,   -999.0,  -999.00,9,  -999.00,  -999.00,9,   4.3713,2
  49NZ20031209,  I3I4,   522,  1,     14,  12038,2,20031229,2324,-19.9983,  66.5315, 2484,   1400.6,   3.7955,  34.6723,2,  34.6730,2,    124.2,1,    127.3,2,    89.63,2,    35.24,2,    -0.01,2,     2.51,2, -999.000,9, -999.000,9, -999.000,9,   -999.0,9,   -999.0,9,-999.0000,9,  -999.00,   -999.0,9,   -999.0,  -999.00,9,  -999.00,  -999.00,9,   3.7960,2
  49NZ20031209,  I3I4,   522,  1,     13,  12037,2,20031229,2324,-19.9983,  66.5315, 2484,   1600.9,   3.0092,  34.6882,2,  34.6884,2,    143.4,1,    147.5,2,    94.07,2,    34.36,2,    -0.01,2,     2.42,2, -999.000,9, -999.000,9, -999.000,9,   -999.0,9,   -999.0,9,-999.0000,9,  -999.00,   -999.0,9,   -999.0,  -999.00,9,  -999.00,  -999.00,9,   3.0090,2
  49NZ20031209,  I3I4,   522,  1,     12,  12036,2,20031229,2324,-19.9983,  66.5315, 2484,   1802.1,   2.5553,  34.7030,2,  34.7028,2,    154.8,1,    159.2,2,    98.68,2,    33.66,2,    -0.01,2,     2.36,2, -999.000,9, -999.000,9, -999.000,9,   -999.0,9,   -999.0,9,-999.0000,9,  -999.00,   -999.0,9,   -999.0,  -999.00,9,  -999.00,  -999.00,9,   2.5552,2
  49NZ20031209,  I3I4,   522,  1,     11,  12035,2,20031229,2324,-19.9983,  66.5315, 2484,   2000.3,   2.1565,  34.7182,2,  34.7179,2,    162.4,1,    167.0,2,   107.06,2,    33.39,2,    -0.01,2,     2.34,2, -999.000,9, -999.000,9, -999.000,9,   -999.0,9,   -999.0,9,-999.0000,9,  -999.00,   -999.0,9,   -999.0,  -999.00,9,  -999.00,  -999.00,9,   2.1561,2
  49NZ20031209,  I3I4,   522,  1,     10,  12034,2,20031229,2324,-19.9983,  66.5315, 2484,   2201.4,   2.0304,  34.7203,2,  34.7203,2,    166.0,1,    170.5,2,   109.23,2,    33.28,2,    -0.01,2,     2.32,2, -999.000,9, -999.000,9, -999.000,9,   -999.0,9,   -999.0,9,-999.0000,9,  -999.00,   -999.0,9,   -999.0,  -999.00,9,  -999.00,  -999.00,9,   2.0300,2
  49NZ20031209,  I3I4,   522,  1,      9,  12033,2,20031229,2324,-19.9983,  66.5315, 2484,   2550.8,   1.9509,  34.7217,2,  34.7220,2,    169.9,1,    174.0,2,   110.35,2,    33.11,2,    -0.01,2,     2.31,2, -999.000,9, -999.000,9, -999.000,9,   -999.0,9,   -999.0,9,-999.0000,9,  -999.00,   -999.0,9,   -999.0,  -999.00,9,  -999.00,  -999.00,9,   1.9509,2
  49NZ20031209,  I3I4,   522,  1,      8,  12032,9,20031229,2324,-19.9983,  66.5315, 2484,   2101.1,   2.1076,  34.7192,2,-999.0000,9,    163.8,1,   -999.0,9,  -999.00,9,  -999.00,9,  -999.00,9,  -999.00,9, -999.000,9, -999.000,9, -999.000,9,   -999.0,9,   -999.0,9,-999.0000,9,  -999.00,   -999.0,9,   -999.0,  -999.00,9,  -999.00,  -999.00,9,   2.1076,2