BOTTLE,20141204PRINUNIVRMK
EXPOCODE,SECT_ID,STNNBR,CASTNO,SAMPNO,BTLNBR,BTLNBR_FLAG_W,DATE,TIME,LATITUDE,LONGITUDE,DEPTH,CTDPRS,CTDTMP,CTDSAL,CTDSAL_FLAG_W,SALNTY,SALNTY_FLAG_W,CTDOXY,CTDOXY_FLAG_W,OXYGEN,OXYGEN_FLAG_W,SILCAT,SILCAT_FLAG_W,NITRAT,NITRAT_FLAG_W,NITRIT,NITRIT_FLAG_W,PHSPHT,PHSPHT_FLAG_W,CFC-11,CFC-11_FLAG_W,CFC-12,CFC-12_FLAG_W,CFC113,CFC113_FLAG_W,TCARBN,TCARBN_FLAG_W,ALKALI,ALKALI_FLAG_W,PH_TOT,PH_TOT_FLAG_W,PH_TMP,DELC14,DELC14_FLAG_W,C14ERR,DELC13,DELC13_FLAG_W,CS-137,CS137ER,CS-137_FLAG_W,SBE35,SBE35_FLAG_W
,,,,,,,,,,,METERS,DBAR,ITS-90,PSS-78,,PSS-78,,UMOL/KG,,UMOL/KG,,UMOL/KG,,UMOL/KG,,UMOL/KG,,UMOL/KG,,PMOL/KG,,PMOL/KG,,PMOL/KG,,UMOL/KG,,UMOL/KG,,,,DEG C,/MILLE,,/MILLE,/MILLE,,DM/.1MG,DM/.1MG,,ITS-90,
  49NZ20031209,  I3I4,   589,  1,     36,  12024,2,20031216,1727,-24.6650,  42.9973, 3695,      9.0,  27.9397,  35.2394,2,  35.2415,2,    191.2,1,    200.7,2,     1.84,2,     0.02,2,     0.00,2,     0.15,2,    1.710,2,    0.975,2, -999.000,5,   1974.3,2,   2306.2,2,   8.0934,2,    25.00,     56.4,2,      3.7,     1.22,2,  -999.00,  -999.00,9,  27.9374,2
  49NZ20031209,  I3I4,   589,  1,     35,  12023,2,20031216,1727,-24.6650,  42.9973, 3695,     49.6,  25.1328,  35.1560,2,  35.1497,2,    201.7,1,    211.5,2,     2.31,2,     0.01,2,     0.00,2,     0.18,2,    1.936,2,    1.081,2, -999.000,5,   1982.2,6,   2299.4,2,   8.0729,2,    25.00,     60.2,2,      3.7,     1.17,2,  -999.00,  -999.00,9,  25.1094,2
  49NZ20031209,  I3I4,   589,  1,     34,  12022,2,20031216,1727,-24.6650,  42.9973, 3695,    100.1,  21.2531,  35.3594,2,  35.3661,2,    176.1,1,    184.8,2,     3.84,2,     3.71,2,     0.07,2,     0.39,2,    2.139,2,    1.188,2,    0.174,4,   2036.9,2,   2311.4,6,   7.9959,2,    25.00,     59.9,2,      3.7,     0.79,2,  -999.00,  -999.00,9,  21.2487,2
  49NZ20031209,  I3I4,   589,  1,     33,  12015,2,20031216,1727,-24.6650,  42.9973, 3695,    150.0,  19.0501,  35.5610,2,  35.5584,2,    172.8,1,    180.0,2,     5.18,2,     5.28,2,     0.02,2,     0.48,2,    2.293,2,    1.261,2,    0.162,4,   2071.8,2,   2325.2,2,   7.9538,6,    25.00,     67.1,2,      5.1,     0.75,2,  -999.00,  -999.00,9,  19.0381,2
  49NZ20031209,  I3I4,   589,  1,     32,  12020,2,20031216,1727,-24.6650,  42.9973, 3695,    200.0,  17.7221,  35.6492,2,  35.6540,2,    192.7,1,    202.0,2,     4.09,2,     3.90,2,     0.01,2,     0.40,2,    2.515,2,    1.366,2,    0.192,4,   2076.4,2,   2333.4,2,   7.9563,2,    25.00,     81.7,6,      2.7,     0.81,2,  -999.00,  -999.00,9,  17.7271,2
  49NZ20031209,  I3I4,   589,  1,     31,  12019,2,20031216,1727,-24.6650,  42.9973, 3695,    249.6,  15.8466,  35.5322,2,  35.5325,2,    188.3,1,    196.6,2,     5.00,2,     6.60,2,     0.01,2,     0.59,2,    2.695,6,    1.423,6,    0.084,4,   2098.1,2,   2328.6,2,   7.9079,2,    25.00,     83.8,2,      3.7,     0.87,2,  -999.00,  -999.00,9,  15.8460,2
  49NZ20031209,  I3I4,   589,  1,     30,  12018,2,20031216,1727,-24.6650,  42.9973, 3695,    299.4,  14.4393,  35.4186,2,  35.4175,2,    199.1,1,    208.0,2,     4.46,2,     7.55,2,     0.01,2,     0.64,2,    2.862,2,    1.484,2,    0.059,4,   2103.8,2,   2321.7,2,   7.8892,2,    25.00,     92.1,2,      3.8,     0.95,2,  -999.00,  -999.00,9,  14.4471,2
  49NZ20031209,  I3I4,   589,  1,     29,  12017,2,20031216,1727,-24.6650,  42.9973, 3695,    399.2,  12.5535,  35.1834,2,  35.1832,2,    213.1,1,    222.0,2,     4.23,2,    10.03,2,     0.01,2,     0.79,2,    3.113,2,    1.558,2,    0.067,4,   2109.5,2,   2310.4,2,   7.8590,2,    25.00,     80.7,2,      3.7,     1.06,2,  -999.00,  -999.00,9,  12.5398,2
  49NZ20031209,  I3I4,   589,  1,     28,  12016,2,20031216,1727,-24.6650,  42.9973, 3695,    499.4,  11.1657,  34.9774,2,  34.9771,2,    213.5,1,    222.1,2,     5.26,2,    13.11,2,     0.01,2,     0.97,2,    3.153,2,    1.547,2,    0.090,4,   2117.7,2,   2303.0,2,   7.8255,2,    25.00,     55.4,2,      5.7,     1.12,2,  -999.00,  -999.00,9,  11.1715,2
  49NZ20031209,  I3I4,   589,  1,     27,  12012,2,20031216,1727,-24.6650,  42.9973, 3695,    599.9,  10.0837,  34.8293,2,  34.8285,2,    206.5,1,    215.3,2,     7.73,2,    16.26,2,     0.01,2,     1.18,2,    2.784,2,    1.343,2,    0.077,4,   2129.0,2,   2294.4,2,   7.7923,2,    25.00,     40.7,2,      5.7,     1.11,2,  -999.00,  -999.00,9,  10.0832,2
  49NZ20031209,  I3I4,   589,  1,     26,  12014,2,20031216,1727,-24.6650,  42.9973, 3695,    700.3,   8.6015,  34.6906,2,  34.6914,2,    184.5,1,    192.6,2,    16.78,2,    21.78,2,     0.00,2,     1.55,2,    2.011,2,    0.944,2,    0.041,4,   2157.7,2,   2295.0,2,   7.7348,2,    25.00,      0.4,2,      3.4,     1.03,2,  -999.00,  -999.00,9,   8.6009,2
  49NZ20031209,  I3I4,   589,  1,     25,  12013,2,20031216,1727,-24.6650,  42.9973, 3695,    800.3,   7.5116,  34.6481,2,  34.6481,2,    159.5,1,    164.6,2,    30.17,2,    26.85,2,     0.00,2,     1.90,2,    1.167,2,    0.548,2,    0.031,4,   2189.8,2,   2304.9,6,   7.6657,2,    25.00,    -33.4,2,      3.4,     0.83,2,  -999.00,  -999.00,9,   7.5113,2
  49NZ20031209,  I3I4,   589,  1,     24,  12048,2,20031216,1727,-24.6650,  42.9973, 3695,    900.8,   6.3477,  34.5931,2,  34.5887,2,    152.2,1,    158.4,2,    39.45,2,    29.76,2,     0.00,2,     2.11,2,    0.853,2,    0.399,2,    0.020,4,   2208.8,2,   2307.3,2,   7.6299,6,    25.00,    -75.2,2,      3.4,     0.73,2,  -999.00,  -999.00,9,   6.3421,2
  49NZ20031209,  I3I4,   589,  1,     23,  12047,2,20031216,1727,-24.6650,  42.9973, 3695,    999.9,   5.9816,  34.6729,2,  34.6720,2,    126.6,1,    132.0,2,    54.10,2,    32.23,2,     0.00,2,     2.31,2,    0.478,6,    0.215,6,    0.000,4,   2237.4,2,   2326.1,2,   7.5945,2,    25.00,   -101.1,2,      3.3,     0.58,2,  -999.00,  -999.00,9,   5.9758,2
  49NZ20031209,  I3I4,   589,  1,     22,  12046,2,20031216,1727,-24.6650,  42.9973, 3695,   1199.4,   5.1495,  34.7479,2,  34.7484,2,    108.7,1,    112.0,2,    74.50,2,    34.42,2,     0.00,2,     2.51,2,    0.128,2,    0.062,2,    0.000,4,   2271.0,2,   2345.3,2,   7.5596,2,    25.00,   -135.8,2,      3.2,     0.34,2,  -999.00,  -999.00,9,   5.1501,2
  49NZ20031209,  I3I4,   589,  1,     21,  12045,2,20031216,1727,-24.6650,  42.9973, 3695,   1400.0,   4.2370,  34.7272,2,  34.7247,2,    122.5,1,    127.2,2,    80.85,2,    34.45,2,     0.00,2,     2.47,2,    0.082,2,    0.051,2,    0.000,4,   2272.6,2,   2349.5,2,   7.5668,2,    25.00,   -150.4,6,      3.2,     0.38,6,  -999.00,  -999.00,9,   4.2392,2
  49NZ20031209,  I3I4,   589,  1,     20,  12044,2,20031216,1727,-24.6650,  42.9973, 3695,   1600.1,   3.7508,  34.7351,2,  34.7349,2,    130.6,1,    135.4,2,    85.95,2,    33.95,2,     0.00,2,     2.44,2,    0.040,2,    0.011,2,    0.000,4,   2272.4,4,   2355.1,2,   7.5712,2,    25.00,   -158.2,2,      3.2,     0.38,2,  -999.00,  -999.00,9,   3.7508,2
  49NZ20031209,  I3I4,   589,  1,     19,  12043,2,20031216,1727,-24.6650,  42.9973, 3695,   1800.6,   3.1872,  34.7359,2,  34.7359,2,    146.4,1,    152.3,2,    86.65,2,    33.05,2,     0.00,2,     2.34,2,    0.030,2,    0.010,2,    0.000,4,   2268.5,2,   2357.5,2,   7.5962,2,    25.00,   -154.3,2,      3.1,     0.43,2,  -999.00,  -999.00,9,   3.1872,2
  49NZ20031209,  I3I4,   589,  1,     18,  12042,2,20031216,1727,-24.6650,  42.9973, 3695,   2000.5,   2.8889,  34.7447,2,  34.7451,2,    158.6,1,    164.7,2,    84.96,2,    31.94,2,     0.00,2,     2.26,2,    0.017,2,    0.007,2,    0.000,4,   2261.9,2,   2358.5,2,   7.6066,6,    25.00,   -154.7,2,      3.2,     0.46,2,  -999.00,  -999.00,9,   2.8897,2
  49NZ20031209,  I3I4,   589,  1,     17,  12041,2,20031216,1727,-24.6650,  42.9973, 3695,   2201.0,   2.6011,  34.7604,2,  34.7609,2,    175.1,1,    182.2,2,    79.13,2,    30.37,2,     0.00,2,     2.12,2,    0.010,2,   -0.001,2,    0.000,4,   2248.5,2,   2350.1,2,   7.6276,2,    25.00,   -145.3,2,      3.2,     0.55,2,  -999.00,  -999.00,9,   2.6011,2
  49NZ20031209,  I3I4,   589,  1,     16,  12040,2,20031216,1727,-24.6650,  42.9973, 3695,   2400.7,   2.4450,  34.7773,2,  34.7781,2,    184.0,1,    191.6,2,    77.48,2,    29.45,2,     0.00,2,     2.04,2,    0.003,2,   -0.001,2,    0.000,4,   2243.1,6,   2349.7,2,   7.6411,2,    25.00,   -140.7,2,      3.2,     0.57,2,  -999.00,  -999.00,9,   2.4450,2
  49NZ20031209,  I3I4,   589,  1,     15,  12039,2,20031216,1727,-24.6650,  42.9973, 3695,   3501.4,   1.8768,  34.7858,2,  34.7856,2,    206.8,1,    213.4,2,    81.29,2,    28.22,2,     0.00,2,     1.95,2,    0.001,2,    0.000,2,   -0.001,4,   2232.1,4,   2354.1,2,   7.6640,2,    25.00,   -142.7,2,      3.1,     0.61,3,  -999.00,  -999.00,9,   1.8768,2
  49NZ20031209,  I3I4,   589,  1,     14,  12038,2,20031216,1727,-24.6650,  42.9973, 3695,   2799.9,   2.2534,  34.7911,2,  34.7914,2,    195.0,1,    202.8,2,    75.88,2,    28.42,2,     0.00,2,     1.97,2,    0.002,2,    0.001,2,   -0.001,4,   2235.8,2,   2349.7,2,   7.6655,2,    25.00,   -140.0,2,      3.2,     0.65,2,  -999.00,  -999.00,9,   2.2534,2
  49NZ20031209,  I3I4,   589,  1,     13,  12037,2,20031216,1727,-24.6650,  42.9973, 3695,   2999.0,   2.1952,  34.7938,2,  34.7943,2,    199.0,1,    206.5,2,    75.24,2,    28.17,2,     0.00,2,     1.95,2,   -0.004,2,    0.004,2,   -0.001,4,   2235.7,2,   2348.4,2,   7.6597,2,    25.00,   -147.8,2,      3.5,     0.66,2,  -999.00,  -999.00,9,   2.1950,2
  49NZ20031209,  I3I4,   589,  1,     12,  12036,2,20031216,1727,-24.6650,  42.9973, 3695,   3248.6,   2.0476,  34.7932,2,  34.7934,2,    204.1,1,    211.3,2,    76.70,2,    27.96,2,     0.00,2,     1.92,2,   -0.001,2,   -0.001,2,   -0.001,4,   2232.3,2,   2349.7,2,   7.6630,2,    25.00,   -141.4,2,      3.3,     0.61,3,  -999.00,  -999.00,9,   2.0478,2
  49NZ20031209,  I3I4,   589,  1,     11,  12035,2,20031216,1727,-24.6650,  42.9973, 3695,   3501.6,   1.8764,  34.7859,2,  34.7854,2,    206.8,1,    213.1,2,    80.99,2,    28.25,2,     0.00,2,     1.94,2,    0.003,2,   -0.004,2,   -0.001,4,   2234.5,2,   2350.6,2,   7.6616,2,    25.00,   -142.9,2,      3.1,     0.69,2,  -999.00,  -999.00,9,   1.8766,2
  49NZ20031209,  I3I4,   589,  1,     10,  12034,2,20031216,1727,-24.6650,  42.9973, 3695,   3725.1,   1.4389,  34.7599,2,  34.7595,2,    210.2,1,    215.8,2,    93.17,2,    29.29,2,     0.00,2,     2.02,2,    0.014,2,    0.001,2,   -0.001,4,   2242.7,2,   2354.2,2,   7.6535,2,    25.00,   -149.5,2,      3.4,     0.63,2,  -999.00,  -999.00,9,   1.4392,2
  49NZ20031209,  I3I4,   589,  1,      9,  12033,9,20031216,1727,-24.6650,  42.9973, 3695,   3350.5,   1.9665,  34.7905,2,-999.0000,9,    205.6,1,   -999.0,9,  -999.00,9,  -999.00,9,  -999.00,9,  -999.00,9, -999.000,9, -999.000,9, -999.000,9,   -999.0,9,   -999.0,9,-999.0000,9,  -999.00,   -999.0,9,   -999.0,  -999.00,9,  -999.00,  -999.00,9,   1.9668,2
  49NZ20031209,  I3I4,   589,  1,      8,  12032,9,20031216,1727,-24.6650,  42.9973, 3695,   3099.5,   2.1434,  34.7941,2,-999.0000,9,    201.3,1,   -999.0,9,  -999.00,9,  -999.00,9,  -999.00,9,  -999.00,9, -999.000,9, -999.000,9, -999.000,9,   -999.0,9,   -999.0,9,-999.0000,9,  -999.00,   -999.0,9,   -999.0,  -999.00,9,  -999.00,  -999.00,9,   2.1432,2
  49NZ20031209,  I3I4,   589,  1,      7,  12031,9,20031216,1727,-24.6650,  42.9973, 3695,   2898.3,   2.2410,  34.7924,2,-999.0000,9,    196.6,1,   -999.0,9,  -999.00,9,  -999.00,9,  -999.00,9,  -999.00,9, -999.000,9, -999.000,9, -999.000,9,   -999.0,9,   -999.0,9,-999.0000,9,  -999.00,   -999.0,9,   -999.0,  -999.00,9,  -999.00,  -999.00,9,   2.2400,2
  49NZ20031209,  I3I4,   589,  1,      6,  12030,9,20031216,1727,-24.6650,  42.9973, 3695,      9.6,  27.9403,  35.2402,2,-999.0000,9,    191.4,1,   -999.0,9,  -999.00,9,  -999.00,9,  -999.00,9,  -999.00,9, -999.000,9, -999.000,9, -999.000,9,   -999.0,9,   -999.0,9,-999.0000,9,  -999.00,   -999.0,9,   -999.0,  -999.00,9,  -999.00,  -999.00,9,  27.9387,2
  49NZ20031209,  I3I4,   589,  1,      5,  12029,9,20031216,1727,-24.6650,  42.9973, 3695,    999.0,   5.9966,  34.6684,2,-999.0000,9,    128.2,1,   -999.0,9,  -999.00,9,  -999.00,9,  -999.00,9,  -999.00,9, -999.000,9, -999.000,9, -999.000,9,   -999.0,9,   -999.0,9,-999.0000,9,  -999.00,   -999.0,9,   -999.0,  -999.00,9,  -999.00,  -999.00,9,   5.9969,2
  49NZ20031209,  I3I4,   589,  1,      4,  12028,9,20031216,1727,-24.6650,  42.9973, 3695,   1000.1,   5.9973,  34.6698,2,-999.0000,9,    128.1,1,   -999.0,9,  -999.00,9,  -999.00,9,  -999.00,9,  -999.00,9, -999.000,9, -999.000,9, -999.000,9,   -999.0,9,   -999.0,9,-999.0000,9,  -999.00,   -999.0,9,   -999.0,  -999.00,9,  -999.00,  -999.00,9,   5.9966,2
  49NZ20031209,  I3I4,   589,  1,      3,  12027,9,20031216,1727,-24.6650,  42.9973, 3695,   1000.1,   5.9936,  34.6704,2,-999.0000,9,    128.0,1,   -999.0,9,  -999.00,9,  -999.00,9,  -999.00,9,  -999.00,9, -999.000,9, -999.000,9, -999.000,9,   -999.0,9,   -999.0,9,-999.0000,9,  -999.00,   -999.0,9,   -999.0,  -999.00,9,  -999.00,  -999.00,9,   5.9942,2
  49NZ20031209,  I3I4,   589,  1,      2,  12026,9,20031216,1727,-24.6650,  42.9973, 3695,    999.0,   5.9883,  34.6705,2,-999.0000,9,    127.5,1,   -999.0,9,  -999.00,9,  -999.00,9,  -999.00,9,  -999.00,9, -999.000,9, -999.000,9, -999.000,9,   -999.0,9,   -999.0,9,-999.0000,9,  -999.00,   -999.0,9,   -999.0,  -999.00,9,  -999.00,  -999.00,9,   5.9907,2
  49NZ20031209,  I3I4,   589,  1,      1,  12025,2,20031216,1727,-24.6650,  42.9973, 3695,   2600.4,   2.3452,  34.7872,2,  34.7877,2,    191.1,1,    198.8,2,    75.53,2,    28.68,2,     0.00,2,     2.00,2,   -0.001,2,    0.001,2,    0.000,4,   2235.1,4,   2350.4,6,   7.6491,2,    25.00,   -154.6,3,      3.5,     0.63,2,  -999.00,  -999.00,9,   2.3451,2