BOTTLE,20141204PRINUNIVRMK
EXPOCODE,SECT_ID,STNNBR,CASTNO,SAMPNO,BTLNBR,BTLNBR_FLAG_W,DATE,TIME,LATITUDE,LONGITUDE,DEPTH,CTDPRS,CTDTMP,CTDSAL,CTDSAL_FLAG_W,SALNTY,SALNTY_FLAG_W,CTDOXY,CTDOXY_FLAG_W,OXYGEN,OXYGEN_FLAG_W,SILCAT,SILCAT_FLAG_W,NITRAT,NITRAT_FLAG_W,NITRIT,NITRIT_FLAG_W,PHSPHT,PHSPHT_FLAG_W,CFC-11,CFC-11_FLAG_W,CFC-12,CFC-12_FLAG_W,CFC113,CFC113_FLAG_W,TCARBN,TCARBN_FLAG_W,ALKALI,ALKALI_FLAG_W,PH_TOT,PH_TOT_FLAG_W,PH_TMP,DELC14,DELC14_FLAG_W,C14ERR,DELC13,DELC13_FLAG_W,CS-137,CS137ER,CS-137_FLAG_W,SBE35,SBE35_FLAG_W
,,,,,,,,,,,METERS,DBAR,ITS-90,PSS-78,,PSS-78,,UMOL/KG,,UMOL/KG,,UMOL/KG,,UMOL/KG,,UMOL/KG,,UMOL/KG,,PMOL/KG,,PMOL/KG,,PMOL/KG,,UMOL/KG,,UMOL/KG,,,,DEG C,/MILLE,,/MILLE,/MILLE,,DM/.1MG,DM/.1MG,,ITS-90,
  49NZ20031209,  I3I4,   473,  1,     36,  12024,2,20040112,0318,-19.9980,  94.3082, 5133,      9.8,  24.9736,  35.2113,2,  35.1759,2,    200.8,1,    210.0,2,     2.14,2,     0.03,2,     0.00,2,     0.12,2, -999.000,9, -999.000,9, -999.000,9,   -999.0,9,   -999.0,9,-999.0000,9,  -999.00,   -999.0,9,   -999.0,  -999.00,9,  -999.00,  -999.00,9,  24.9874,2
  49NZ20031209,  I3I4,   473,  1,     35,  12023,2,20040112,0318,-19.9980,  94.3082, 5133,     50.3,  22.9477,  35.4614,2,  35.4639,3,    213.1,1,    222.5,2,     2.27,2,     0.02,2,     0.00,2,     0.11,2, -999.000,9, -999.000,9, -999.000,9,   -999.0,9,   -999.0,9,-999.0000,9,  -999.00,   -999.0,9,   -999.0,  -999.00,9,  -999.00,  -999.00,9,  22.9490,2
  49NZ20031209,  I3I4,   473,  1,     34,  12022,2,20040112,0318,-19.9980,  94.3082, 5133,     98.8,  20.8556,  35.4928,2,  35.4957,2,    203.2,1,    212.3,2,     2.87,2,     0.25,2,     0.04,2,     0.15,2, -999.000,9, -999.000,9, -999.000,9,   -999.0,9,   -999.0,9,-999.0000,9,  -999.00,   -999.0,9,   -999.0,  -999.00,9,     1.59,     0.16,2,  20.8547,2
  49NZ20031209,  I3I4,   473,  1,     33,  12015,2,20040112,0318,-19.9980,  94.3082, 5133,    149.1,  20.1318,  35.6199,2,  35.6272,2,    197.1,1,    205.7,2,     2.73,2,     1.14,2,     0.10,2,     0.20,2, -999.000,9, -999.000,9, -999.000,9,   -999.0,9,   -999.0,9,-999.0000,9,  -999.00,   -999.0,9,   -999.0,  -999.00,9,  -999.00,  -999.00,9,  20.1330,2
  49NZ20031209,  I3I4,   473,  1,     32,  12020,2,20040112,0318,-19.9980,  94.3082, 5133,    199.7,  18.9529,  35.8047,2,  35.7979,2,    196.6,1,    205.2,2,     2.64,2,     1.77,2,     0.08,2,     0.27,2, -999.000,9, -999.000,9, -999.000,9,   -999.0,9,   -999.0,9,-999.0000,9,  -999.00,   -999.0,9,   -999.0,  -999.00,9,     1.82,     0.16,2,  18.9552,2
  49NZ20031209,  I3I4,   473,  1,     31,  12019,2,20040112,0318,-19.9980,  94.3082, 5133,    253.4,  17.1775,  35.7589,2,  35.7589,2,    200.4,1,    209.1,2,     2.62,2,     2.65,2,     0.01,2,     0.33,2, -999.000,9, -999.000,9, -999.000,9,   -999.0,9,   -999.0,9,-999.0000,9,  -999.00,   -999.0,9,   -999.0,  -999.00,9,  -999.00,  -999.00,9,  17.1763,2
  49NZ20031209,  I3I4,   473,  1,     30,  12018,2,20040112,0318,-19.9980,  94.3082, 5133,    301.1,  14.8868,  35.5078,2,  35.5095,2,    204.0,1,    212.0,2,     3.30,2,     5.42,2,     0.01,2,     0.52,2, -999.000,9, -999.000,9, -999.000,9,   -999.0,9,   -999.0,9,-999.0000,9,  -999.00,   -999.0,9,   -999.0,  -999.00,9,  -999.00,  -999.00,9,  14.8932,2
  49NZ20031209,  I3I4,   473,  1,     29,  12017,2,20040112,0318,-19.9980,  94.3082, 5133,    399.2,  11.8655,  35.0828,2,  35.0788,2,    219.4,1,    228.4,2,     3.60,2,    10.03,2,     0.01,2,     0.80,2, -999.000,9, -999.000,9, -999.000,9,   -999.0,9,   -999.0,9,-999.0000,9,  -999.00,   -999.0,9,   -999.0,  -999.00,9,     1.64,     0.13,2,  11.8651,2
  49NZ20031209,  I3I4,   473,  1,     28,  12016,2,20040112,0318,-19.9980,  94.3082, 5133,    500.4,   9.8910,  34.7778,2,  34.7682,2,    229.0,1,    238.2,2,     4.04,2,    14.56,2,     0.00,2,     1.06,2, -999.000,9, -999.000,9, -999.000,9,   -999.0,9,   -999.0,9,-999.0000,9,  -999.00,   -999.0,9,   -999.0,  -999.00,9,  -999.00,  -999.00,9,   9.8924,2
  49NZ20031209,  I3I4,   473,  1,     27,  12012,2,20040112,0318,-19.9980,  94.3082, 5133,    598.6,   8.6978,  34.6177,2,  34.6177,2,    219.2,1,    228.4,2,     6.94,2,    18.79,2,     0.00,2,     1.32,2, -999.000,9, -999.000,9, -999.000,9,   -999.0,9,   -999.0,9,-999.0000,9,  -999.00,   -999.0,9,   -999.0,  -999.00,9,  -999.00,  -999.00,1,   8.6954,2
  49NZ20031209,  I3I4,   473,  1,     26,  12014,2,20040112,0318,-19.9980,  94.3082, 5133,    699.9,   7.0766,  34.4934,2,  34.4931,2,    189.3,1,    196.9,2,    18.22,2,    25.42,2,     0.01,2,     1.75,2, -999.000,9, -999.000,9, -999.000,9,   -999.0,9,   -999.0,9,-999.0000,9,  -999.00,   -999.0,9,   -999.0,  -999.00,9,  -999.00,  -999.00,9,   7.0799,2
  49NZ20031209,  I3I4,   473,  1,     25,  12013,2,20040112,0318,-19.9980,  94.3082, 5133,    801.1,   5.5836,  34.4681,2,  34.4675,2,    159.0,1,    166.1,2,    39.59,2,    30.98,2,     0.00,2,     2.16,2, -999.000,9, -999.000,9, -999.000,9,   -999.0,9,   -999.0,9,-999.0000,9,  -999.00,   -999.0,9,   -999.0,  -999.00,9,  -999.00,  -999.00,5,   5.5830,2
  49NZ20031209,  I3I4,   473,  1,     24,  12048,2,20040112,0318,-19.9980,  94.3082, 5133,    899.0,   5.0128,  34.5160,2,  34.5166,2,    135.0,1,    140.1,2,    58.63,2,    33.69,2,     0.00,2,     2.39,2, -999.000,9, -999.000,9, -999.000,9,   -999.0,9,   -999.0,9,-999.0000,9,  -999.00,   -999.0,9,   -999.0,  -999.00,9,  -999.00,  -999.00,9,   5.0128,2
  49NZ20031209,  I3I4,   473,  1,     23,  12047,2,20040112,0318,-19.9980,  94.3082, 5133,   1002.3,   4.8031,  34.5938,2,  34.5933,2,    112.7,1,    116.7,2,    75.80,2,    35.38,2,     0.00,2,     2.54,2, -999.000,9, -999.000,9, -999.000,9,   -999.0,9,   -999.0,9,-999.0000,9,  -999.00,   -999.0,9,   -999.0,  -999.00,9,  -999.00,  -999.00,5,   4.8033,2
  49NZ20031209,  I3I4,   473,  1,     22,  12046,2,20040112,0318,-19.9980,  94.3082, 5133,   1200.0,   4.0746,  34.6269,2,  34.6273,2,    115.8,1,    120.0,2,    86.49,2,    35.76,2,     0.00,2,     2.56,2, -999.000,9, -999.000,9, -999.000,9,   -999.0,9,   -999.0,9,-999.0000,9,  -999.00,   -999.0,9,   -999.0,  -999.00,9,  -999.00,  -999.00,5,   4.0748,2
  49NZ20031209,  I3I4,   473,  1,     21,  12045,2,20040112,0318,-19.9980,  94.3082, 5133,   1400.2,   3.5488,  34.6723,2,  34.6726,2,    121.5,1,    126.4,2,    95.12,2,    35.54,2,     0.00,2,     2.54,2, -999.000,9, -999.000,9, -999.000,9,   -999.0,9,   -999.0,9,-999.0000,9,  -999.00,   -999.0,9,   -999.0,  -999.00,9,  -999.00,  -999.00,1,   3.5490,2
  49NZ20031209,  I3I4,   473,  1,     20,  12044,2,20040112,0318,-19.9980,  94.3082, 5133,   1600.0,   3.0587,  34.6987,2,  34.6987,2,    131.0,1,    136.5,2,   101.17,2,    34.98,2,     0.00,2,     2.50,2, -999.000,9, -999.000,9, -999.000,9,   -999.0,9,   -999.0,9,-999.0000,9,  -999.00,   -999.0,9,   -999.0,  -999.00,9,  -999.00,  -999.00,9,   3.0589,2
  49NZ20031209,  I3I4,   473,  1,     19,  12043,2,20040112,0318,-19.9980,  94.3082, 5133,   1802.2,   2.6526,  34.7134,2,  34.7138,2,    139.7,1,    146.2,2,   106.12,2,    34.54,2,     0.00,2,     2.45,2, -999.000,9, -999.000,9, -999.000,9,   -999.0,9,   -999.0,9,-999.0000,9,  -999.00,   -999.0,9,   -999.0,  -999.00,9,  -999.00,  -999.00,9,   2.6528,2
  49NZ20031209,  I3I4,   473,  1,     18,  12042,2,20040112,0318,-19.9980,  94.3082, 5133,   2000.5,   2.3567,  34.7213,2,  34.7213,2,    147.2,1,    154.2,2,   109.92,2,    34.14,2,     0.00,2,     2.41,2, -999.000,9, -999.000,9, -999.000,9,   -999.0,9,   -999.0,9,-999.0000,9,  -999.00,   -999.0,9,   -999.0,  -999.00,9,  -999.00,  -999.00,1,   2.3567,2
  49NZ20031209,  I3I4,   473,  1,     17,  12041,2,20040112,0318,-19.9980,  94.3082, 5133,   2200.8,   2.1328,  34.7259,2,  34.7257,2,    152.9,1,    160.4,2,   113.29,2,    33.87,2,     0.00,2,     2.39,2, -999.000,9, -999.000,9, -999.000,9,   -999.0,9,   -999.0,9,-999.0000,9,  -999.00,   -999.0,9,   -999.0,  -999.00,9,  -999.00,  -999.00,9,   2.1326,2
  49NZ20031209,  I3I4,   473,  1,     16,  12040,2,20040112,0318,-19.9980,  94.3082, 5133,   2400.4,   1.9767,  34.7274,2,  34.7273,2,    156.9,1,    165.0,2,   115.56,2,    33.69,2,     0.01,2,     2.36,2, -999.000,9, -999.000,9, -999.000,9,   -999.0,9,   -999.0,9,-999.0000,9,  -999.00,   -999.0,9,   -999.0,  -999.00,9,  -999.00,  -999.00,1,   1.9767,2
  49NZ20031209,  I3I4,   473,  1,     15,  12039,2,20040112,0318,-19.9980,  94.3082, 5133,   2600.6,   1.8455,  34.7276,2,  34.7275,2,    160.0,1,    168.2,2,   118.12,2,    33.63,2,     0.00,2,     2.35,2, -999.000,9, -999.000,9, -999.000,9,   -999.0,9,   -999.0,9,-999.0000,9,  -999.00,   -999.0,9,   -999.0,  -999.00,9,  -999.00,  -999.00,9,   1.8454,2
  49NZ20031209,  I3I4,   473,  1,     14,  12038,2,20040112,0318,-19.9980,  94.3082, 5133,   2800.2,   1.7301,  34.7269,2,  34.7269,2,    161.7,1,    170.2,2,   121.08,2,    33.62,2,     0.00,2,     2.35,2, -999.000,9, -999.000,9, -999.000,9,   -999.0,9,   -999.0,9,-999.0000,9,  -999.00,   -999.0,9,   -999.0,  -999.00,9,  -999.00,  -999.00,9,   1.7300,2
  49NZ20031209,  I3I4,   473,  1,     13,  12037,2,20040112,0318,-19.9980,  94.3082, 5133,   3000.0,   1.6511,  34.7259,2,  34.7262,2,    163.2,1,    171.6,2,   123.72,2,    33.72,2,     0.00,2,     2.36,2, -999.000,9, -999.000,9, -999.000,9,   -999.0,9,   -999.0,9,-999.0000,9,  -999.00,   -999.0,9,   -999.0,  -999.00,9,  -999.00,  -999.00,1,   1.6510,2
  49NZ20031209,  I3I4,   473,  1,     12,  12036,2,20040112,0318,-19.9980,  94.3082, 5133,   3250.9,   1.5419,  34.7238,2,  34.7235,2,    165.7,1,    174.2,2,   126.46,2,    33.62,2,     0.00,2,     2.35,2, -999.000,9, -999.000,9, -999.000,9,   -999.0,9,   -999.0,9,-999.0000,9,  -999.00,   -999.0,9,   -999.0,  -999.00,9,  -999.00,  -999.00,9,   1.5421,2
  49NZ20031209,  I3I4,   473,  1,     11,  12035,2,20040112,0318,-19.9980,  94.3082, 5133,   3501.2,   1.4481,  34.7214,2,  34.7217,2,    169.6,1,    178.0,2,   127.33,2,    33.54,2,     0.00,2,     2.34,2, -999.000,9, -999.000,9, -999.000,9,   -999.0,9,   -999.0,9,-999.0000,9,  -999.00,   -999.0,9,   -999.0,  -999.00,9,  -999.00,  -999.00,1,   1.4482,2
  49NZ20031209,  I3I4,   473,  1,     10,  12034,2,20040112,0318,-19.9980,  94.3082, 5133,   3751.4,   1.3585,  34.7193,2,  34.7191,2,    175.2,1,    183.7,2,   126.54,2,    33.27,2,     0.00,2,     2.31,2, -999.000,9, -999.000,9, -999.000,9,   -999.0,9,   -999.0,9,-999.0000,9,  -999.00,   -999.0,9,   -999.0,  -999.00,9,  -999.00,  -999.00,9,   1.3585,2
  49NZ20031209,  I3I4,   473,  1,      9,  12033,2,20040112,0318,-19.9980,  94.3082, 5133,   3999.8,   1.2547,  34.7175,2,  34.7176,2,    183.0,1,    191.6,2,   124.23,2,    32.78,2,     0.00,2,     2.28,2, -999.000,9, -999.000,9, -999.000,9,   -999.0,9,   -999.0,9,-999.0000,9,  -999.00,   -999.0,9,   -999.0,  -999.00,9,  -999.00,  -999.00,1,   1.2547,2
  49NZ20031209,  I3I4,   473,  1,      8,  12032,2,20040112,0318,-19.9980,  94.3082, 5133,   4252.0,   1.1536,  34.7152,2,  34.7153,2,    190.1,1,    198.6,2,   122.16,2,    32.43,2,     0.00,2,     2.25,2, -999.000,9, -999.000,9, -999.000,9,   -999.0,9,   -999.0,9,-999.0000,9,  -999.00,   -999.0,9,   -999.0,  -999.00,9,  -999.00,  -999.00,9,   1.1537,2
  49NZ20031209,  I3I4,   473,  1,      7,  12031,2,20040112,0318,-19.9980,  94.3082, 5133,   4499.9,   1.0900,  34.7126,2,  34.7129,2,    194.2,1,    202.2,2,   122.16,2,    32.34,2,     0.01,2,     2.23,2, -999.000,9, -999.000,9, -999.000,9,   -999.0,9,   -999.0,9,-999.0000,9,  -999.00,   -999.0,9,   -999.0,  -999.00,9,  -999.00,  -999.00,1,   1.0901,2
  49NZ20031209,  I3I4,   473,  1,      6,  12030,2,20040112,0318,-19.9980,  94.3082, 5133,   4750.9,   1.0762,  34.7110,2,  34.7110,2,    196.6,1,    203.7,2,   122.34,2,    32.27,2,     0.00,2,     2.23,2, -999.000,9, -999.000,9, -999.000,9,   -999.0,9,   -999.0,9,-999.0000,9,  -999.00,   -999.0,9,   -999.0,  -999.00,9,  -999.00,  -999.00,9,   1.0763,2
  49NZ20031209,  I3I4,   473,  1,      5,  12029,2,20040112,0318,-19.9980,  94.3082, 5133,   4998.8,   1.0890,  34.7100,2,  34.7099,2,    198.3,1,    204.3,2,   122.03,2,    32.29,2,     0.00,2,     2.23,2, -999.000,9, -999.000,9, -999.000,9,   -999.0,9,   -999.0,9,-999.0000,9,  -999.00,   -999.0,9,   -999.0,  -999.00,9,  -999.00,  -999.00,1,   1.0890,2
  49NZ20031209,  I3I4,   473,  1,      4,  12028,2,20040112,0318,-19.9980,  94.3082, 5133,   5177.6,   1.1076,  34.7097,2,  34.7104,3,    199.9,1,    204.3,2,   122.21,2,    32.24,2,     0.00,2,     2.22,2, -999.000,9, -999.000,9, -999.000,9,   -999.0,9,   -999.0,9,-999.0000,9,  -999.00,   -999.0,9,   -999.0,  -999.00,9,  -999.00,  -999.00,1,   1.1076,2
  49NZ20031209,  I3I4,   473,  1,      3,  12027,2,20040112,0318,-19.9980,  94.3082, 5133,    109.3,  20.6238,  35.5192,2,-999.0000,9,    199.0,1,   -999.0,9,  -999.00,9,  -999.00,9,  -999.00,9,  -999.00,9, -999.000,9, -999.000,9, -999.000,9,   -999.0,9,   -999.0,9,-999.0000,9,  -999.00,   -999.0,9,   -999.0,  -999.00,9,  -999.00,  -999.00,9,  20.6239,2
  49NZ20031209,  I3I4,   473,  1,      2,  12026,2,20040112,0318,-19.9980,  94.3082, 5133,    599.3,   8.7054,  34.6178,2,-999.0000,9,    219.0,1,   -999.0,9,  -999.00,9,  -999.00,9,  -999.00,9,  -999.00,9, -999.000,9, -999.000,9, -999.000,9,   -999.0,9,   -999.0,9,-999.0000,9,  -999.00,   -999.0,9,   -999.0,  -999.00,9,  -999.00,  -999.00,9,   8.6968,2
  49NZ20031209,  I3I4,   473,  1,      1,  12025,2,20040112,0318,-19.9980,  94.3082, 5133,   5176.4,   1.1074,  34.7097,2,-999.0000,9,    199.9,1,   -999.0,9,  -999.00,9,  -999.00,9,  -999.00,9,  -999.00,9, -999.000,9, -999.000,9, -999.000,9,   -999.0,9,   -999.0,9,-999.0000,9,  -999.00,   -999.0,9,   -999.0,  -999.00,9,  -999.00,  -999.00,9,   1.1074,2