BOTTLE,20141204PRINUNIVRMK
EXPOCODE,SECT_ID,STNNBR,CASTNO,SAMPNO,BTLNBR,BTLNBR_FLAG_W,DATE,TIME,LATITUDE,LONGITUDE,DEPTH,CTDPRS,CTDTMP,CTDSAL,CTDSAL_FLAG_W,SALNTY,SALNTY_FLAG_W,CTDOXY,CTDOXY_FLAG_W,OXYGEN,OXYGEN_FLAG_W,SILCAT,SILCAT_FLAG_W,NITRAT,NITRAT_FLAG_W,NITRIT,NITRIT_FLAG_W,PHSPHT,PHSPHT_FLAG_W,CFC-11,CFC-11_FLAG_W,CFC-12,CFC-12_FLAG_W,CFC113,CFC113_FLAG_W,TCARBN,TCARBN_FLAG_W,ALKALI,ALKALI_FLAG_W,PH_TOT,PH_TOT_FLAG_W,PH_TMP,DELC14,DELC14_FLAG_W,C14ERR,DELC13,DELC13_FLAG_W,CS-137,CS137ER,CS-137_FLAG_W,SBE35,SBE35_FLAG_W
,,,,,,,,,,,METERS,DBAR,ITS-90,PSS-78,,PSS-78,,UMOL/KG,,UMOL/KG,,UMOL/KG,,UMOL/KG,,UMOL/KG,,UMOL/KG,,PMOL/KG,,PMOL/KG,,PMOL/KG,,UMOL/KG,,UMOL/KG,,,,DEG C,/MILLE,,/MILLE,/MILLE,,DM/.1MG,DM/.1MG,,ITS-90,
  49NZ20031209,  I3I4,   478,  1,     36,  12024,2,20040110,2038,-20.0037,  91.3238, 4813,     10.6,  25.2404,  35.1124,2,  35.1131,2,    199.1,1,    208.5,2,     1.92,2,     0.01,2,     0.00,2,     0.11,2, -999.000,9, -999.000,9, -999.000,9,   -999.0,9,   -999.0,9,-999.0000,9,  -999.00,   -999.0,9,   -999.0,  -999.00,9,  -999.00,  -999.00,9,  25.2396,2
  49NZ20031209,  I3I4,   478,  1,     35,  12023,2,20040110,2038,-20.0037,  91.3238, 4813,     50.3,  23.8772,  35.2657,2,  35.2664,2,    210.2,1,    219.8,2,     1.95,2,    -0.02,2,     0.00,2,     0.10,2, -999.000,9, -999.000,9, -999.000,9,   -999.0,9,   -999.0,9,-999.0000,9,  -999.00,   -999.0,9,   -999.0,  -999.00,9,  -999.00,  -999.00,9,  23.8677,2
  49NZ20031209,  I3I4,   478,  1,     34,  12022,2,20040110,2038,-20.0037,  91.3238, 4813,     98.6,  21.4593,  35.3891,2,  35.3963,2,    201.4,1,    212.4,2,     2.53,2,     0.43,2,     0.05,2,     0.15,2, -999.000,9, -999.000,9, -999.000,9,   -999.0,9,   -999.0,9,-999.0000,9,  -999.00,   -999.0,9,   -999.0,  -999.00,9,  -999.00,  -999.00,9,  21.4467,2
  49NZ20031209,  I3I4,   478,  1,     33,  12015,2,20040110,2038,-20.0037,  91.3238, 4813,    149.2,  20.3124,  35.6127,2,  35.6123,2,    200.6,1,    210.0,2,     2.34,2,     0.64,2,     0.16,2,     0.18,2, -999.000,9, -999.000,9, -999.000,9,   -999.0,9,   -999.0,9,-999.0000,9,  -999.00,   -999.0,9,   -999.0,  -999.00,9,  -999.00,  -999.00,9,  20.3114,2
  49NZ20031209,  I3I4,   478,  1,     32,  12020,2,20040110,2038,-20.0037,  91.3238, 4813,    199.8,  18.9172,  35.7806,2,  35.7833,2,    193.2,1,    203.2,2,     2.66,2,     1.94,2,     0.07,2,     0.27,2, -999.000,9, -999.000,9, -999.000,9,   -999.0,9,   -999.0,9,-999.0000,9,  -999.00,   -999.0,9,   -999.0,  -999.00,9,  -999.00,  -999.00,9,  18.9338,2
  49NZ20031209,  I3I4,   478,  1,     31,  12019,2,20040110,2038,-20.0037,  91.3238, 4813,    249.7,  17.3558,  35.7833,2,  35.7803,2,    200.4,1,    208.9,2,     2.23,2,     2.45,2,     0.01,2,     0.32,2, -999.000,9, -999.000,9, -999.000,9,   -999.0,9,   -999.0,9,-999.0000,9,  -999.00,   -999.0,9,   -999.0,  -999.00,9,  -999.00,  -999.00,9,  17.3685,2
  49NZ20031209,  I3I4,   478,  1,     30,  12018,2,20040110,2038,-20.0037,  91.3238, 4813,    298.6,  15.3415,  35.6024,2,  35.6016,2,    210.6,1,    219.2,2,     1.72,2,     3.73,2,     0.00,2,     0.40,2, -999.000,9, -999.000,9, -999.000,9,   -999.0,9,   -999.0,9,-999.0000,9,  -999.00,   -999.0,9,   -999.0,  -999.00,9,  -999.00,  -999.00,9,  15.3270,2
  49NZ20031209,  I3I4,   478,  1,     29,  12017,2,20040110,2038,-20.0037,  91.3238, 4813,    399.4,  12.2520,  35.1571,2,  35.1518,2,    224.5,1,    233.6,2,     2.37,2,     8.80,2,     0.01,2,     0.70,2, -999.000,9, -999.000,9, -999.000,9,   -999.0,9,   -999.0,9,-999.0000,9,  -999.00,   -999.0,9,   -999.0,  -999.00,9,  -999.00,  -999.00,9,  12.2517,2
  49NZ20031209,  I3I4,   478,  1,     28,  12016,2,20040110,2038,-20.0037,  91.3238, 4813,    499.7,  10.3475,  34.8502,2,  34.8453,2,    230.0,1,    239.2,2,     3.35,2,    13.10,2,     0.00,2,     0.96,2, -999.000,9, -999.000,9, -999.000,9,   -999.0,9,   -999.0,9,-999.0000,9,  -999.00,   -999.0,9,   -999.0,  -999.00,9,  -999.00,  -999.00,9,  10.3449,2
  49NZ20031209,  I3I4,   478,  1,     27,  12012,2,20040110,2038,-20.0037,  91.3238, 4813,    599.5,   9.2125,  34.6787,2,  34.6786,2,    225.9,1,    235.0,2,     4.81,2,    16.90,2,     0.00,2,     1.18,2, -999.000,9, -999.000,9, -999.000,9,   -999.0,9,   -999.0,9,-999.0000,9,  -999.00,   -999.0,9,   -999.0,  -999.00,9,  -999.00,  -999.00,9,   9.2121,2
  49NZ20031209,  I3I4,   478,  1,     26,  12014,2,20040110,2038,-20.0037,  91.3238, 4813,    699.2,   7.9115,  34.5469,2,  34.5431,2,    204.0,1,    211.7,2,    11.65,2,    22.41,2,     0.01,2,     1.53,2, -999.000,9, -999.000,9, -999.000,9,   -999.0,9,   -999.0,9,-999.0000,9,  -999.00,   -999.0,9,   -999.0,  -999.00,9,  -999.00,  -999.00,9,   7.9118,2
  49NZ20031209,  I3I4,   478,  1,     25,  12013,2,20040110,2038,-20.0037,  91.3238, 4813,    799.4,   5.9856,  34.4507,2,  34.4497,2,    175.9,1,    182.7,2,    29.06,2,    29.13,2,     0.00,2,     1.99,2, -999.000,9, -999.000,9, -999.000,9,   -999.0,9,   -999.0,9,-999.0000,9,  -999.00,   -999.0,9,   -999.0,  -999.00,9,  -999.00,  -999.00,9,   5.9897,2
  49NZ20031209,  I3I4,   478,  1,     24,  12048,2,20040110,2038,-20.0037,  91.3238, 4813,    899.3,   4.8016,  34.4871,2,  34.4893,2,    145.4,1,    150.5,2,    55.13,2,    33.56,2,     0.01,2,     2.33,2, -999.000,9, -999.000,9, -999.000,9,   -999.0,9,   -999.0,9,-999.0000,9,  -999.00,   -999.0,9,   -999.0,  -999.00,9,  -999.00,  -999.00,9,   4.8020,2
  49NZ20031209,  I3I4,   478,  1,     23,  12047,2,20040110,2038,-20.0037,  91.3238, 4813,    999.7,   4.6065,  34.5751,2,  34.5743,2,    119.0,1,    123.2,2,    73.93,2,    35.36,2,     0.00,2,     2.50,2, -999.000,9, -999.000,9, -999.000,9,   -999.0,9,   -999.0,9,-999.0000,9,  -999.00,   -999.0,9,   -999.0,  -999.00,9,  -999.00,  -999.00,9,   4.6067,2
  49NZ20031209,  I3I4,   478,  1,     22,  12046,2,20040110,2038,-20.0037,  91.3238, 4813,   1199.9,   4.0103,  34.6245,2,  34.6248,2,    117.2,1,    121.5,2,    86.29,2,    35.89,2,     0.00,2,     2.54,2, -999.000,9, -999.000,9, -999.000,9,   -999.0,9,   -999.0,9,-999.0000,9,  -999.00,   -999.0,9,   -999.0,  -999.00,9,  -999.00,  -999.00,9,   4.0104,2
  49NZ20031209,  I3I4,   478,  1,     21,  12045,2,20040110,2038,-20.0037,  91.3238, 4813,   1401.3,   3.4373,  34.6547,2,  34.6547,2,    126.5,1,    131.3,2,    91.79,2,    35.53,2,     0.00,2,     2.51,2, -999.000,9, -999.000,9, -999.000,9,   -999.0,9,   -999.0,9,-999.0000,9,  -999.00,   -999.0,9,   -999.0,  -999.00,9,  -999.00,  -999.00,9,   3.4382,2
  49NZ20031209,  I3I4,   478,  1,     20,  12044,2,20040110,2038,-20.0037,  91.3238, 4813,   1601.4,   2.9422,  34.6870,2,  34.6867,2,    136.0,1,    141.6,2,    98.28,2,    34.90,2,     0.00,2,     2.46,2, -999.000,9, -999.000,9, -999.000,9,   -999.0,9,   -999.0,9,-999.0000,9,  -999.00,   -999.0,9,   -999.0,  -999.00,9,  -999.00,  -999.00,9,   2.9420,2
  49NZ20031209,  I3I4,   478,  1,     19,  12043,2,20040110,2038,-20.0037,  91.3238, 4813,   1801.6,   2.6394,  34.7109,2,  34.7111,2,    141.8,1,    147.9,2,   104.37,2,    34.54,2,     0.00,2,     2.43,2, -999.000,9, -999.000,9, -999.000,9,   -999.0,9,   -999.0,9,-999.0000,9,  -999.00,   -999.0,9,   -999.0,  -999.00,9,  -999.00,  -999.00,9,   2.6397,2
  49NZ20031209,  I3I4,   478,  1,     18,  12042,2,20040110,2038,-20.0037,  91.3238, 4813,   1999.9,   2.3685,  34.7217,2,  34.7219,2,    147.8,1,    154.4,2,   109.07,2,    34.28,2,     0.00,2,     2.39,2, -999.000,9, -999.000,9, -999.000,9,   -999.0,9,   -999.0,9,-999.0000,9,  -999.00,   -999.0,9,   -999.0,  -999.00,9,  -999.00,  -999.00,9,   2.3686,2
  49NZ20031209,  I3I4,   478,  1,     17,  12041,2,20040110,2038,-20.0037,  91.3238, 4813,   2200.9,   2.1574,  34.7263,2,  34.7264,2,    152.6,1,    159.7,2,   112.56,2,    34.06,2,     0.00,2,     2.38,2, -999.000,9, -999.000,9, -999.000,9,   -999.0,9,   -999.0,9,-999.0000,9,  -999.00,   -999.0,9,   -999.0,  -999.00,9,  -999.00,  -999.00,9,   2.1574,2
  49NZ20031209,  I3I4,   478,  1,     16,  12040,2,20040110,2038,-20.0037,  91.3238, 4813,   2401.0,   1.9634,  34.7279,2,  34.7278,2,    157.9,1,    165.4,2,   115.23,2,    33.75,2,     0.00,2,     2.35,2, -999.000,9, -999.000,9, -999.000,9,   -999.0,9,   -999.0,9,-999.0000,9,  -999.00,   -999.0,9,   -999.0,  -999.00,9,  -999.00,  -999.00,9,   1.9635,2
  49NZ20031209,  I3I4,   478,  1,     15,  12039,2,20040110,2038,-20.0037,  91.3238, 4813,   2601.6,   1.8307,  34.7279,2,  34.7287,2,    161.3,1,    169.2,2,   117.34,2,    33.66,2,     0.00,2,     2.34,2, -999.000,9, -999.000,9, -999.000,9,   -999.0,9,   -999.0,9,-999.0000,9,  -999.00,   -999.0,9,   -999.0,  -999.00,9,  -999.00,  -999.00,9,   1.8306,2
  49NZ20031209,  I3I4,   478,  1,     14,  12038,2,20040110,2038,-20.0037,  91.3238, 4813,   2800.4,   1.7236,  34.7275,2,  34.7274,2,    164.4,1,    172.3,2,   119.01,2,    33.56,2,     0.00,2,     2.33,2, -999.000,9, -999.000,9, -999.000,9,   -999.0,9,   -999.0,9,-999.0000,9,  -999.00,   -999.0,9,   -999.0,  -999.00,9,  -999.00,  -999.00,9,   1.7234,2
  49NZ20031209,  I3I4,   478,  1,     13,  12037,2,20040110,2038,-20.0037,  91.3238, 4813,   2999.8,   1.6251,  34.7266,2,  34.7269,2,    167.6,1,    175.6,2,   120.46,2,    33.49,2,     0.00,2,     2.32,2, -999.000,9, -999.000,9, -999.000,9,   -999.0,9,   -999.0,9,-999.0000,9,  -999.00,   -999.0,9,   -999.0,  -999.00,9,  -999.00,  -999.00,9,   1.6252,2
  49NZ20031209,  I3I4,   478,  1,     12,  12036,2,20040110,2038,-20.0037,  91.3238, 4813,   3250.5,   1.5155,  34.7245,2,  34.7243,2,    170.7,1,    178.7,2,   122.47,2,    33.38,2,     0.00,2,     2.29,2, -999.000,9, -999.000,9, -999.000,9,   -999.0,9,   -999.0,9,-999.0000,9,  -999.00,   -999.0,9,   -999.0,  -999.00,9,  -999.00,  -999.00,9,   1.5156,2
  49NZ20031209,  I3I4,   478,  1,     11,  12035,2,20040110,2038,-20.0037,  91.3238, 4813,   3500.0,   1.4080,  34.7220,2,  34.7220,2,    175.7,1,    183.9,2,   122.72,2,    33.17,2,     0.00,2,     2.29,2, -999.000,9, -999.000,9, -999.000,9,   -999.0,9,   -999.0,9,-999.0000,9,  -999.00,   -999.0,9,   -999.0,  -999.00,9,  -999.00,  -999.00,9,   1.4080,2
  49NZ20031209,  I3I4,   478,  1,     10,  12034,2,20040110,2038,-20.0037,  91.3238, 4813,   3750.5,   1.2812,  34.7190,2,  34.7190,2,    182.1,1,    190.1,2,   122.62,2,    32.93,2,     0.00,2,     2.26,2, -999.000,9, -999.000,9, -999.000,9,   -999.0,9,   -999.0,9,-999.0000,9,  -999.00,   -999.0,9,   -999.0,  -999.00,9,  -999.00,  -999.00,9,   1.2811,2
  49NZ20031209,  I3I4,   478,  1,      9,  12033,2,20040110,2038,-20.0037,  91.3238, 4813,   4001.9,   1.1566,  34.7160,2,  34.7161,2,    189.3,1,    197.3,2,   121.51,2,    32.57,2,     0.00,2,     2.23,2, -999.000,9, -999.000,9, -999.000,9,   -999.0,9,   -999.0,9,-999.0000,9,  -999.00,   -999.0,9,   -999.0,  -999.00,9,  -999.00,  -999.00,9,   1.1563,2
  49NZ20031209,  I3I4,   478,  1,      8,  12032,2,20040110,2038,-20.0037,  91.3238, 4813,   4251.6,   1.0972,  34.7139,2,  34.7136,2,    193.4,1,    200.8,2,   121.26,2,    32.53,2,     0.00,2,     2.22,2, -999.000,9, -999.000,9, -999.000,9,   -999.0,9,   -999.0,9,-999.0000,9,  -999.00,   -999.0,9,   -999.0,  -999.00,9,  -999.00,  -999.00,9,   1.0971,2
  49NZ20031209,  I3I4,   478,  1,      7,  12031,2,20040110,2038,-20.0037,  91.3238, 4813,   4499.8,   1.0848,  34.7127,2,  34.7126,2,    195.8,1,    202.8,2,   121.42,2,    32.41,2,     0.00,2,     2.22,2, -999.000,9, -999.000,9, -999.000,9,   -999.0,9,   -999.0,9,-999.0000,9,  -999.00,   -999.0,9,   -999.0,  -999.00,9,  -999.00,  -999.00,9,   1.0848,2
  49NZ20031209,  I3I4,   478,  1,      6,  12030,2,20040110,2038,-20.0037,  91.3238, 4813,   4749.9,   1.1087,  34.7125,2,  34.7125,2,    197.3,1,    202.5,2,   121.42,2,    32.42,2,     0.00,2,     2.22,2, -999.000,9, -999.000,9, -999.000,9,   -999.0,9,   -999.0,9,-999.0000,9,  -999.00,   -999.0,9,   -999.0,  -999.00,9,  -999.00,  -999.00,9,   1.1088,2
  49NZ20031209,  I3I4,   478,  1,      5,  12029,2,20040110,2038,-20.0037,  91.3238, 4813,   4880.2,   1.1219,  34.7125,2,  34.7127,2,    198.5,1,    202.6,2,   121.58,2,    32.41,2,     0.00,2,     2.22,2, -999.000,9, -999.000,9, -999.000,9,   -999.0,9,   -999.0,9,-999.0000,9,  -999.00,   -999.0,9,   -999.0,  -999.00,9,  -999.00,  -999.00,9,   1.1219,2
  49NZ20031209,  I3I4,   478,  1,      4,  12028,9,20040110,2038,-20.0037,  91.3238, 4813,    999.6,   4.6069,  34.5752,2,-999.0000,9,    119.0,1,   -999.0,9,  -999.00,9,  -999.00,9,  -999.00,9,  -999.00,9, -999.000,9, -999.000,9, -999.000,9,   -999.0,9,   -999.0,9,-999.0000,9,  -999.00,   -999.0,9,   -999.0,  -999.00,9,  -999.00,  -999.00,9,   4.6072,2
  49NZ20031209,  I3I4,   478,  1,      3,  12027,9,20040110,2038,-20.0037,  91.3238, 4813,    999.7,   4.6080,  34.5750,2,-999.0000,9,    119.0,1,   -999.0,9,  -999.00,9,  -999.00,9,  -999.00,9,  -999.00,9, -999.000,9, -999.000,9, -999.000,9,   -999.0,9,   -999.0,9,-999.0000,9,  -999.00,   -999.0,9,   -999.0,  -999.00,9,  -999.00,  -999.00,9,   4.6080,2
  49NZ20031209,  I3I4,   478,  1,      2,  12026,9,20040110,2038,-20.0037,  91.3238, 4813,   1000.0,   4.6078,  34.5751,2,-999.0000,9,    119.0,1,   -999.0,9,  -999.00,9,  -999.00,9,  -999.00,9,  -999.00,9, -999.000,9, -999.000,9, -999.000,9,   -999.0,9,   -999.0,9,-999.0000,9,  -999.00,   -999.0,9,   -999.0,  -999.00,9,  -999.00,  -999.00,9,   4.6079,2
  49NZ20031209,  I3I4,   478,  1,      1,  12025,9,20040110,2038,-20.0037,  91.3238, 4813,     10.4,  25.2445,  35.1129,2,-999.0000,9,    199.4,1,   -999.0,9,  -999.00,9,  -999.00,9,  -999.00,9,  -999.00,9, -999.000,9, -999.000,9, -999.000,9,   -999.0,9,   -999.0,9,-999.0000,9,  -999.00,   -999.0,9,   -999.0,  -999.00,9,  -999.00,  -999.00,9,  25.2423,2