BOTTLE,20141204PRINUNIVRMK
EXPOCODE,SECT_ID,STNNBR,CASTNO,SAMPNO,BTLNBR,BTLNBR_FLAG_W,DATE,TIME,LATITUDE,LONGITUDE,DEPTH,CTDPRS,CTDTMP,CTDSAL,CTDSAL_FLAG_W,SALNTY,SALNTY_FLAG_W,CTDOXY,CTDOXY_FLAG_W,OXYGEN,OXYGEN_FLAG_W,SILCAT,SILCAT_FLAG_W,NITRAT,NITRAT_FLAG_W,NITRIT,NITRIT_FLAG_W,PHSPHT,PHSPHT_FLAG_W,CFC-11,CFC-11_FLAG_W,CFC-12,CFC-12_FLAG_W,CFC113,CFC113_FLAG_W,TCARBN,TCARBN_FLAG_W,ALKALI,ALKALI_FLAG_W,PH_TOT,PH_TOT_FLAG_W,PH_TMP,DELC14,DELC14_FLAG_W,C14ERR,DELC13,DELC13_FLAG_W,CS-137,CS137ER,CS-137_FLAG_W,SBE35,SBE35_FLAG_W
,,,,,,,,,,,METERS,DBAR,ITS-90,PSS-78,,PSS-78,,UMOL/KG,,UMOL/KG,,UMOL/KG,,UMOL/KG,,UMOL/KG,,UMOL/KG,,PMOL/KG,,PMOL/KG,,PMOL/KG,,UMOL/KG,,UMOL/KG,,,,DEG C,/MILLE,,/MILLE,/MILLE,,DM/.1MG,DM/.1MG,,ITS-90,
  49NZ20031209,  I3I4,   467,  1,     36,  12024,2,20040114,0731,-19.9987,  99.5773, 5871,      9.2,  25.1000,  35.0825,2,  35.0852,2,    200.3,1,    210.3,2,     2.03,2,    -0.01,2,     0.01,2,     0.07,2, -999.000,9, -999.000,9, -999.000,9,   -999.0,9,   -999.0,9,-999.0000,9,  -999.00,   -999.0,9,   -999.0,  -999.00,9,  -999.00,  -999.00,9,  25.0987,2
  49NZ20031209,  I3I4,   467,  1,     35,  12023,2,20040114,0731,-19.9987,  99.5773, 5871,     50.2,  22.5273,  35.3061,2,  35.3094,2,    213.4,1,    223.7,2,     2.32,2,    -0.02,2,     0.01,2,     0.07,2, -999.000,9, -999.000,9, -999.000,9,   -999.0,9,   -999.0,9,-999.0000,9,  -999.00,   -999.0,9,   -999.0,  -999.00,9,  -999.00,  -999.00,9,  22.5215,2
  49NZ20031209,  I3I4,   467,  1,     34,  12022,2,20040114,0731,-19.9987,  99.5773, 5871,    101.2,  20.4873,  35.5280,2,  35.5280,2,    208.9,1,    219.3,2,     2.61,2,     0.17,2,     0.03,2,     0.12,2, -999.000,9, -999.000,9, -999.000,9,   -999.0,9,   -999.0,9,-999.0000,9,  -999.00,   -999.0,9,   -999.0,  -999.00,9,     1.85,     0.10,2,  20.4874,2
  49NZ20031209,  I3I4,   467,  1,     33,  12015,2,20040114,0731,-19.9987,  99.5773, 5871,    149.9,  19.5650,  35.6475,2,  35.6473,2,    189.1,1,    198.0,2,     3.08,2,     2.33,2,     0.04,2,     0.26,2, -999.000,9, -999.000,9, -999.000,9,   -999.0,9,   -999.0,9,-999.0000,9,  -999.00,   -999.0,9,   -999.0,  -999.00,9,  -999.00,  -999.00,9,  19.5670,2
  49NZ20031209,  I3I4,   467,  1,     32,  12020,2,20040114,0731,-19.9987,  99.5773, 5871,    199.4,  17.9529,  35.6753,2,  35.6701,2,    181.4,1,    188.3,2,     4.79,2,     4.68,2,     0.02,2,     0.42,2, -999.000,9, -999.000,9, -999.000,9,   -999.0,9,   -999.0,9,-999.0000,9,  -999.00,   -999.0,9,   -999.0,  -999.00,9,     2.12,     0.19,2,  17.9509,2
  49NZ20031209,  I3I4,   467,  1,     31,  12019,2,20040114,0731,-19.9987,  99.5773, 5871,    249.9,  16.1125,  35.6141,2,  35.6091,2,    191.8,1,    200.8,2,     4.08,2,     5.08,2,     0.01,2,     0.47,2, -999.000,9, -999.000,9, -999.000,9,   -999.0,9,   -999.0,9,-999.0000,9,  -999.00,   -999.0,9,   -999.0,  -999.00,9,  -999.00,  -999.00,9,  16.1138,2
  49NZ20031209,  I3I4,   467,  1,     30,  12018,2,20040114,0731,-19.9987,  99.5773, 5871,    300.2,  14.3329,  35.4231,2,  35.4181,2,    202.4,1,    211.8,2,     3.69,2,     6.63,2,     0.02,2,     0.57,2, -999.000,9, -999.000,9, -999.000,9,   -999.0,9,   -999.0,9,-999.0000,9,  -999.00,   -999.0,9,   -999.0,  -999.00,9,  -999.00,  -999.00,9,  14.3250,2
  49NZ20031209,  I3I4,   467,  1,     29,  12017,2,20040114,0731,-19.9987,  99.5773, 5871,    399.6,  11.2586,  34.9847,2,  34.9786,2,    219.9,1,    231.2,2,     3.75,2,    11.28,2,     0.01,2,     0.86,2, -999.000,9, -999.000,9, -999.000,9,   -999.0,9,   -999.0,9,-999.0000,9,  -999.00,   -999.0,9,   -999.0,  -999.00,9,     1.04,     0.21,2,  11.2575,2
  49NZ20031209,  I3I4,   467,  1,     28,  12016,2,20040114,0731,-19.9987,  99.5773, 5871,    499.2,   9.4640,  34.7168,2,  34.7146,2,    224.3,1,    234.8,2,     4.65,2,    15.94,2,     0.01,2,     1.14,2, -999.000,9, -999.000,9, -999.000,9,   -999.0,9,   -999.0,9,-999.0000,9,  -999.00,   -999.0,9,   -999.0,  -999.00,9,  -999.00,  -999.00,9,   9.4637,2
  49NZ20031209,  I3I4,   467,  1,     27,  12012,2,20040114,0731,-19.9987,  99.5773, 5871,    598.6,   8.1512,  34.5635,2,  34.5577,2,    208.8,1,    217.8,2,     9.96,2,    21.28,2,     0.01,2,     1.47,2, -999.000,9, -999.000,9, -999.000,9,   -999.0,9,   -999.0,9,-999.0000,9,  -999.00,   -999.0,9,   -999.0,  -999.00,9,     1.04,     0.13,2,   8.1519,2
  49NZ20031209,  I3I4,   467,  1,     26,  12014,2,20040114,0731,-19.9987,  99.5773, 5871,    701.1,   6.3282,  34.4852,2,  34.4872,2,    164.3,1,    171.6,2,    32.03,2,    29.08,2,     0.01,2,     2.01,2, -999.000,9, -999.000,9, -999.000,9,   -999.0,9,   -999.0,9,-999.0000,9,  -999.00,   -999.0,9,   -999.0,  -999.00,9,  -999.00,  -999.00,9,   6.3277,2
  49NZ20031209,  I3I4,   467,  1,     25,  12013,2,20040114,0731,-19.9987,  99.5773, 5871,    800.2,   5.5817,  34.5568,2,  34.5570,2,    119.3,1,    124.2,2,    60.78,2,    33.94,2,     0.01,2,     2.41,2, -999.000,9, -999.000,9, -999.000,9,   -999.0,9,   -999.0,9,-999.0000,9,  -999.00,   -999.0,9,   -999.0,  -999.00,9,     0.00,     0.00,2,   5.5814,2
  49NZ20031209,  I3I4,   467,  1,     24,  12048,2,20040114,0731,-19.9987,  99.5773, 5871,    900.2,   5.2328,  34.6108,2,  34.6101,2,    102.6,1,    106.6,2,    75.54,2,    35.42,2,     0.01,2,     2.54,2, -999.000,9, -999.000,9, -999.000,9,   -999.0,9,   -999.0,9,-999.0000,9,  -999.00,   -999.0,9,   -999.0,  -999.00,9,  -999.00,  -999.00,9,   5.2332,2
  49NZ20031209,  I3I4,   467,  1,     23,  12047,2,20040114,0731,-19.9987,  99.5773, 5871,   1001.1,   4.9301,  34.6307,2,  34.6301,2,     99.7,1,    103.6,2,    83.05,2,    35.95,2,     0.01,2,     2.59,2, -999.000,9, -999.000,9, -999.000,9,   -999.0,9,   -999.0,9,-999.0000,9,  -999.00,   -999.0,9,   -999.0,  -999.00,9,  -999.00,  -999.00,5,   4.9310,2
  49NZ20031209,  I3I4,   467,  1,     22,  12046,2,20040114,0731,-19.9987,  99.5773, 5871,   1198.9,   4.3357,  34.6473,2,  34.6476,2,    104.0,1,    108.6,2,    91.34,2,    36.19,2,     0.01,2,     2.60,2, -999.000,9, -999.000,9, -999.000,9,   -999.0,9,   -999.0,9,-999.0000,9,  -999.00,   -999.0,9,   -999.0,  -999.00,9,  -999.00,  -999.00,9,   4.3362,2
  49NZ20031209,  I3I4,   467,  1,     21,  12045,2,20040114,0731,-19.9987,  99.5773, 5871,   1401.6,   3.7337,  34.6623,2,  34.6624,2,    114.7,1,    119.7,2,    95.63,2,    35.92,2,     0.01,2,     2.57,2, -999.000,9, -999.000,9, -999.000,9,   -999.0,9,   -999.0,9,-999.0000,9,  -999.00,   -999.0,9,   -999.0,  -999.00,9,  -999.00,  -999.00,9,   3.7346,2
  49NZ20031209,  I3I4,   467,  1,     20,  12044,2,20040114,0731,-19.9987,  99.5773, 5871,   1600.6,   3.2066,  34.6873,2,  34.6873,2,    126.0,1,    132.4,2,    99.64,2,    35.25,2,     0.01,2,     2.52,2, -999.000,9, -999.000,9, -999.000,9,   -999.0,9,   -999.0,9,-999.0000,9,  -999.00,   -999.0,9,   -999.0,  -999.00,9,  -999.00,  -999.00,9,   3.2067,2
  49NZ20031209,  I3I4,   467,  1,     19,  12043,2,20040114,0731,-19.9987,  99.5773, 5871,   1799.5,   2.8193,  34.7043,2,  34.7052,2,    133.8,1,    140.8,2,   104.86,2,    34.94,2,     0.01,2,     2.47,2, -999.000,9, -999.000,9, -999.000,9,   -999.0,9,   -999.0,9,-999.0000,9,  -999.00,   -999.0,9,   -999.0,  -999.00,9,  -999.00,  -999.00,9,   2.8195,2
  49NZ20031209,  I3I4,   467,  1,     18,  12042,2,20040114,0731,-19.9987,  99.5773, 5871,   1999.2,   2.4959,  34.7169,2,  34.7164,2,    141.3,1,    149.2,2,   109.14,2,    34.46,2,     0.01,2,     2.44,2, -999.000,9, -999.000,9, -999.000,9,   -999.0,9,   -999.0,9,-999.0000,9,  -999.00,   -999.0,9,   -999.0,  -999.00,9,  -999.00,  -999.00,1,   2.4960,2
  49NZ20031209,  I3I4,   467,  1,     17,  12041,2,20040114,0731,-19.9987,  99.5773, 5871,   2201.2,   2.2208,  34.7241,2,  34.7245,2,    147.3,1,    155.8,2,   113.57,2,    34.21,2,     0.01,2,     2.40,2, -999.000,9, -999.000,9, -999.000,9,   -999.0,9,   -999.0,9,-999.0000,9,  -999.00,   -999.0,9,   -999.0,  -999.00,9,  -999.00,  -999.00,9,   2.2209,2
  49NZ20031209,  I3I4,   467,  1,     16,  12040,2,20040114,0731,-19.9987,  99.5773, 5871,   2398.9,   2.0432,  34.7268,2,  34.7269,2,    151.7,1,    160.9,2,   116.31,2,    33.96,2,     0.01,2,     2.39,2, -999.000,9, -999.000,9, -999.000,9,   -999.0,9,   -999.0,9,-999.0000,9,  -999.00,   -999.0,9,   -999.0,  -999.00,9,  -999.00,  -999.00,1,   2.0442,2
  49NZ20031209,  I3I4,   467,  1,     15,  12039,2,20040114,0731,-19.9987,  99.5773, 5871,   2600.8,   1.8790,  34.7270,2,  34.7270,2,    156.4,1,    166.2,2,   118.29,2,    33.73,2,     0.01,2,     2.36,2, -999.000,9, -999.000,9, -999.000,9,   -999.0,9,   -999.0,9,-999.0000,9,  -999.00,   -999.0,9,   -999.0,  -999.00,9,  -999.00,  -999.00,9,   1.8790,2
  49NZ20031209,  I3I4,   467,  1,     14,  12038,3,20040114,0731,-19.9987,  99.5773, 5871,   2800.0,   1.7373,  34.7264,2,  34.7270,2,    160.5,1,    170.9,2,   120.12,2,    33.54,2,     0.01,2,     2.34,2, -999.000,9, -999.000,9, -999.000,9,   -999.0,9,   -999.0,9,-999.0000,9,  -999.00,   -999.0,9,   -999.0,  -999.00,9,  -999.00,  -999.00,9,   1.7374,2
  49NZ20031209,  I3I4,   467,  1,     13,  12037,2,20040114,0731,-19.9987,  99.5773, 5871,   3000.1,   1.6211,  34.7252,2,  34.7253,2,    164.0,1,    178.1,4,   121.85,2,    33.45,2,     0.01,2,     2.33,2, -999.000,9, -999.000,9, -999.000,9,   -999.0,9,   -999.0,9,-999.0000,9,  -999.00,   -999.0,9,   -999.0,  -999.00,9,  -999.00,  -999.00,1,   1.6212,2
  49NZ20031209,  I3I4,   467,  1,     12,  12036,2,20040114,0731,-19.9987,  99.5773, 5871,   3249.9,   1.5015,  34.7230,2,  34.7230,2,    166.0,1,    180.2,4,   124.89,2,    33.41,2,     0.01,2,     2.32,2, -999.000,9, -999.000,9, -999.000,9,   -999.0,9,   -999.0,9,-999.0000,9,  -999.00,   -999.0,9,   -999.0,  -999.00,9,  -999.00,  -999.00,9,   1.5018,2
  49NZ20031209,  I3I4,   467,  1,     11,  12035,2,20040114,0731,-19.9987,  99.5773, 5871,   3501.3,   1.4124,  34.7204,2,  34.7204,2,    169.0,1,    179.8,2,   126.47,2,    33.34,2,     0.01,2,     2.33,2, -999.000,9, -999.000,9, -999.000,9,   -999.0,9,   -999.0,9,-999.0000,9,  -999.00,   -999.0,9,   -999.0,  -999.00,9,  -999.00,  -999.00,1,   1.4123,2
  49NZ20031209,  I3I4,   467,  1,     10,  12034,2,20040114,0731,-19.9987,  99.5773, 5871,   3751.3,   1.3260,  34.7181,2,  34.7179,2,    173.3,1,    184.5,2,   126.71,2,    33.22,2,     0.01,2,     2.31,2, -999.000,9, -999.000,9, -999.000,9,   -999.0,9,   -999.0,9,-999.0000,9,  -999.00,   -999.0,9,   -999.0,  -999.00,9,  -999.00,  -999.00,9,   1.3261,2
  49NZ20031209,  I3I4,   467,  1,      9,  12033,2,20040114,0731,-19.9987,  99.5773, 5871,   4001.5,   1.2741,  34.7168,2,  34.7164,2,    176.9,1,    188.1,2,   126.45,2,    33.12,2,     0.01,2,     2.29,2, -999.000,9, -999.000,9, -999.000,9,   -999.0,9,   -999.0,9,-999.0000,9,  -999.00,   -999.0,9,   -999.0,  -999.00,9,  -999.00,  -999.00,1,   1.2742,2
  49NZ20031209,  I3I4,   467,  1,      8,  12032,2,20040114,0731,-19.9987,  99.5773, 5871,   4249.7,   1.2268,  34.7153,2,  34.7147,2,    181.0,1,    192.0,2,   125.91,2,    32.85,2,     0.01,2,     2.28,2, -999.000,9, -999.000,9, -999.000,9,   -999.0,9,   -999.0,9,-999.0000,9,  -999.00,   -999.0,9,   -999.0,  -999.00,9,  -999.00,  -999.00,9,   1.2270,2
  49NZ20031209,  I3I4,   467,  1,      7,  12031,2,20040114,0731,-19.9987,  99.5773, 5871,   4500.1,   1.1882,  34.7146,2,  34.7140,2,    185.4,1,    196.0,2,   124.20,2,    32.63,2,     0.01,2,     2.26,2, -999.000,9, -999.000,9, -999.000,9,   -999.0,9,   -999.0,9,-999.0000,9,  -999.00,   -999.0,9,   -999.0,  -999.00,9,  -999.00,  -999.00,1,   1.1884,2
  49NZ20031209,  I3I4,   467,  1,      6,  12030,2,20040114,0731,-19.9987,  99.5773, 5871,   4748.4,   1.1518,  34.7129,2,  34.7130,2,    189.1,1,    199.5,2,   123.58,2,    32.56,2,     0.01,2,     2.25,2, -999.000,9, -999.000,9, -999.000,9,   -999.0,9,   -999.0,9,-999.0000,9,  -999.00,   -999.0,9,   -999.0,  -999.00,9,  -999.00,  -999.00,9,   1.1519,2
  49NZ20031209,  I3I4,   467,  1,      5,  12029,2,20040114,0731,-19.9987,  99.5773, 5871,   5000.5,   1.1308,  34.7117,2,  34.7116,2,    192.3,1,    202.2,2,   122.76,2,    32.35,2,     0.01,2,     2.24,2, -999.000,9, -999.000,9, -999.000,9,   -999.0,9,   -999.0,9,-999.0000,9,  -999.00,   -999.0,9,   -999.0,  -999.00,9,  -999.00,  -999.00,1,   1.1310,2
  49NZ20031209,  I3I4,   467,  1,      4,  12028,2,20040114,0731,-19.9987,  99.5773, 5871,   5249.5,   1.1232,  34.7104,2,  34.7105,2,    194.8,1,    204.0,2,   122.37,2,    32.36,2,     0.01,2,     2.23,2, -999.000,9, -999.000,9, -999.000,9,   -999.0,9,   -999.0,9,-999.0000,9,  -999.00,   -999.0,9,   -999.0,  -999.00,9,  -999.00,  -999.00,9,   1.1234,2
  49NZ20031209,  I3I4,   467,  1,      3,  12027,2,20040114,0731,-19.9987,  99.5773, 5871,   5499.3,   1.1400,  34.7097,2,  34.7097,2,    196.7,1,    204.6,2,   122.50,2,    32.28,2,     0.01,2,     2.23,2, -999.000,9, -999.000,9, -999.000,9,   -999.0,9,   -999.0,9,-999.0000,9,  -999.00,   -999.0,9,   -999.0,  -999.00,9,  -999.00,  -999.00,1,   1.1402,2
  49NZ20031209,  I3I4,   467,  1,      2,  12026,2,20040114,0731,-19.9987,  99.5773, 5871,   5726.9,   1.1666,  34.7096,2,  34.7091,2,    198.3,1,    204.6,2,   122.28,2,    32.29,2,     0.01,2,     2.23,2, -999.000,9, -999.000,9, -999.000,9,   -999.0,9,   -999.0,9,-999.0000,9,  -999.00,   -999.0,9,   -999.0,  -999.00,9,  -999.00,  -999.00,9,   1.1668,2
  49NZ20031209,  I3I4,   467,  1,      1,  12025,2,20040114,0731,-19.9987,  99.5773, 5871,   5940.6,   1.1915,  34.7093,2,  34.7094,2,    200.4,1,    204.9,2,   122.15,2,    32.26,2,     0.01,2,     2.23,2, -999.000,9, -999.000,9, -999.000,9,   -999.0,9,   -999.0,9,-999.0000,9,  -999.00,   -999.0,9,   -999.0,  -999.00,9,  -999.00,  -999.00,1,   1.1917,2