BOTTLE,20141204PRINUNIVRMK
EXPOCODE,SECT_ID,STNNBR,CASTNO,SAMPNO,BTLNBR,BTLNBR_FLAG_W,DATE,TIME,LATITUDE,LONGITUDE,DEPTH,CTDPRS,CTDTMP,CTDSAL,CTDSAL_FLAG_W,SALNTY,SALNTY_FLAG_W,CTDOXY,CTDOXY_FLAG_W,OXYGEN,OXYGEN_FLAG_W,SILCAT,SILCAT_FLAG_W,NITRAT,NITRAT_FLAG_W,NITRIT,NITRIT_FLAG_W,PHSPHT,PHSPHT_FLAG_W,CFC-11,CFC-11_FLAG_W,CFC-12,CFC-12_FLAG_W,CFC113,CFC113_FLAG_W,TCARBN,TCARBN_FLAG_W,ALKALI,ALKALI_FLAG_W,PH_TOT,PH_TOT_FLAG_W,PH_TMP,DELC14,DELC14_FLAG_W,C14ERR,DELC13,DELC13_FLAG_W,CS-137,CS137ER,CS-137_FLAG_W,SBE35,SBE35_FLAG_W
,,,,,,,,,,,METERS,DBAR,ITS-90,PSS-78,,PSS-78,,UMOL/KG,,UMOL/KG,,UMOL/KG,,UMOL/KG,,UMOL/KG,,UMOL/KG,,PMOL/KG,,PMOL/KG,,PMOL/KG,,UMOL/KG,,UMOL/KG,,,,DEG C,/MILLE,,/MILLE,/MILLE,,DM/.1MG,DM/.1MG,,ITS-90,
  49NZ20031209,  I3I4,   550,  1,     36,  12024,2,20031222,1622,-19.9990,  53.3297, 4906,      9.8,  27.7093,  35.0802,2,  35.0802,2,    192.5,1,    201.1,2,     1.96,2,     0.04,2,     0.00,2,     0.10,2, -999.000,9, -999.000,9, -999.000,9,   -999.0,9,   -999.0,9,-999.0000,9,  -999.00,   -999.0,9,   -999.0,  -999.00,9,  -999.00,  -999.00,9,  27.7054,2
  49NZ20031209,  I3I4,   550,  1,     35,  12023,2,20031222,1622,-19.9990,  53.3297, 4906,     50.3,  25.0544,  35.1593,2,  35.1743,2,    210.0,1,    219.6,2,     1.95,2,     0.03,2,     0.00,2,     0.09,2, -999.000,9, -999.000,9, -999.000,9,   -999.0,9,   -999.0,9,-999.0000,9,  -999.00,   -999.0,9,   -999.0,  -999.00,9,  -999.00,  -999.00,9,  25.0466,2
  49NZ20031209,  I3I4,   550,  1,     34,  12022,2,20031222,1622,-19.9990,  53.3297, 4906,    100.5,  22.2774,  35.2314,2,  35.2274,2,    199.6,1,    208.0,2,     2.21,2,     0.17,2,     0.07,2,     0.16,2, -999.000,9, -999.000,9, -999.000,9,   -999.0,9,   -999.0,9,-999.0000,9,  -999.00,   -999.0,9,   -999.0,  -999.00,9,  -999.00,  -999.00,5,  22.2782,2
  49NZ20031209,  I3I4,   550,  1,     33,  12015,2,20031222,1622,-19.9990,  53.3297, 4906,    149.5,  21.1019,  35.3974,2,  35.4068,2,    182.8,1,    188.7,2,     3.41,2,     2.92,2,     0.04,2,     0.31,2, -999.000,9, -999.000,9, -999.000,9,   -999.0,9,   -999.0,9,-999.0000,9,  -999.00,   -999.0,9,   -999.0,  -999.00,9,  -999.00,  -999.00,9,  21.0999,2
  49NZ20031209,  I3I4,   550,  1,     32,  12020,2,20031222,1622,-19.9990,  53.3297, 4906,    200.6,  19.5929,  35.5822,2,  35.5868,2,    175.7,1,    182.5,2,     4.46,2,     4.38,2,     0.02,2,     0.40,2, -999.000,9, -999.000,9, -999.000,9,   -999.0,9,   -999.0,9,-999.0000,9,  -999.00,   -999.0,9,   -999.0,  -999.00,9,  -999.00,  -999.00,1,  19.5867,2
  49NZ20031209,  I3I4,   550,  1,     31,  12019,2,20031222,1622,-19.9990,  53.3297, 4906,    249.7,  18.3243,  35.7288,2,  35.7256,2,    188.9,1,    197.0,2,     3.38,2,     3.37,2,     0.01,2,     0.35,2, -999.000,9, -999.000,9, -999.000,9,   -999.0,9,   -999.0,9,-999.0000,9,  -999.00,   -999.0,9,   -999.0,  -999.00,9,  -999.00,  -999.00,9,  18.3309,2
  49NZ20031209,  I3I4,   550,  1,     30,  12018,2,20031222,1622,-19.9990,  53.3297, 4906,    300.2,  16.5158,  35.6347,2,  35.6287,2,    191.4,1,    199.0,2,     4.14,2,     5.07,2,     0.00,2,     0.48,2, -999.000,9, -999.000,9, -999.000,9,   -999.0,9,   -999.0,9,-999.0000,9,  -999.00,   -999.0,9,   -999.0,  -999.00,9,  -999.00,  -999.00,9,  16.5132,2
  49NZ20031209,  I3I4,   550,  1,     29,  12021,2,20031222,1622,-19.9990,  53.3297, 4906,    401.1,  13.5697,  35.3280,2,  35.3224,2,    210.4,1,    218.9,2,     3.64,2,     8.14,2,     0.00,2,     0.66,2, -999.000,9, -999.000,9, -999.000,9,   -999.0,9,   -999.0,9,-999.0000,9,  -999.00,   -999.0,9,   -999.0,  -999.00,9,  -999.00,  -999.00,5,  13.5696,2
  49NZ20031209,  I3I4,   550,  1,     28,  12016,2,20031222,1622,-19.9990,  53.3297, 4906,    501.2,  11.8512,  35.0830,2,  35.0808,2,    218.2,1,    226.7,2,     3.87,2,    11.13,2,     0.00,2,     0.85,2, -999.000,9, -999.000,9, -999.000,9,   -999.0,9,   -999.0,9,-999.0000,9,  -999.00,   -999.0,9,   -999.0,  -999.00,9,  -999.00,  -999.00,9,  11.8514,2
  49NZ20031209,  I3I4,   550,  1,     27,  12012,2,20031222,1622,-19.9990,  53.3297, 4906,    600.3,  10.4211,  34.8687,2,  34.8611,2,    219.7,1,    228.6,2,     4.69,2,    14.37,2,     0.00,2,     1.04,2, -999.000,9, -999.000,9, -999.000,9,   -999.0,9,   -999.0,9,-999.0000,9,  -999.00,   -999.0,9,   -999.0,  -999.00,9,  -999.00,  -999.00,1,  10.4209,2
  49NZ20031209,  I3I4,   550,  1,     26,  12014,2,20031222,1622,-19.9990,  53.3297, 4906,    700.7,   9.1540,  34.7103,2,  34.7102,2,    193.7,1,    200.3,2,    12.19,2,    20.10,2,     0.00,2,     1.41,2, -999.000,9, -999.000,9, -999.000,9,   -999.0,9,   -999.0,9,-999.0000,9,  -999.00,   -999.0,9,   -999.0,  -999.00,9,  -999.00,  -999.00,9,   9.1534,2
  49NZ20031209,  I3I4,   550,  1,     25,  12013,2,20031222,1622,-19.9990,  53.3297, 4906,    799.8,   7.2474,  34.5314,2,  34.5353,3,    188.5,1,    192.4,2,    20.53,2,    25.50,2,     0.00,2,     1.77,2, -999.000,9, -999.000,9, -999.000,9,   -999.0,9,   -999.0,9,-999.0000,9,  -999.00,   -999.0,9,   -999.0,  -999.00,9,  -999.00,  -999.00,5,   7.2475,2
  49NZ20031209,  I3I4,   550,  1,     24,  12048,2,20031222,1622,-19.9990,  53.3297, 4906,    900.3,   6.1154,  34.5133,2,  34.5143,2,    161.4,1,    167.0,2,    36.92,2,    29.90,2,     0.00,2,     2.09,2, -999.000,9, -999.000,9, -999.000,9,   -999.0,9,   -999.0,9,-999.0000,9,  -999.00,   -999.0,9,   -999.0,  -999.00,9,  -999.00,  -999.00,9,   6.1184,2
  49NZ20031209,  I3I4,   550,  1,     23,  12047,2,20031222,1622,-19.9990,  53.3297, 4906,   1001.3,   5.0264,  34.5533,2,  34.5548,2,    139.6,1,    144.6,2,    58.14,2,    33.22,2,     0.00,2,     2.35,2, -999.000,9, -999.000,9, -999.000,9,   -999.0,9,   -999.0,9,-999.0000,9,  -999.00,   -999.0,9,   -999.0,  -999.00,9,  -999.00,  -999.00,1,   5.0269,2
  49NZ20031209,  I3I4,   550,  1,     22,  12046,2,20031222,1622,-19.9990,  53.3297, 4906,   1200.7,   4.2567,  34.6306,2,  34.6302,2,    128.1,1,    132.8,2,    77.00,2,    34.66,2,     0.00,2,     2.48,2, -999.000,9, -999.000,9, -999.000,9,   -999.0,9,   -999.0,9,-999.0000,9,  -999.00,   -999.0,9,   -999.0,  -999.00,9,  -999.00,  -999.00,5,   4.2568,2
  49NZ20031209,  I3I4,   550,  1,     21,  12045,2,20031222,1622,-19.9990,  53.3297, 4906,   1401.6,   3.4538,  34.6472,2,  34.6479,2,    141.1,1,    146.7,2,    83.05,2,    34.32,2,    -0.01,2,     2.42,2, -999.000,9, -999.000,9, -999.000,9,   -999.0,9,   -999.0,9,-999.0000,9,  -999.00,   -999.0,9,   -999.0,  -999.00,9,  -999.00,  -999.00,1,   3.4536,2
  49NZ20031209,  I3I4,   550,  1,     20,  12044,2,20031222,1622,-19.9990,  53.3297, 4906,   1600.0,   2.9226,  34.6804,2,  34.6804,2,    149.3,1,    155.9,2,    90.66,2,    33.79,2,     0.00,2,     2.39,2, -999.000,9, -999.000,9, -999.000,9,   -999.0,9,   -999.0,9,-999.0000,9,  -999.00,   -999.0,9,   -999.0,  -999.00,9,  -999.00,  -999.00,9,   2.9231,2
  49NZ20031209,  I3I4,   550,  1,     19,  12043,2,20031222,1622,-19.9990,  53.3297, 4906,   1801.3,   2.5618,  34.7069,2,  34.7068,2,    154.3,1,    161.6,2,    97.57,2,    33.53,2,     0.00,2,     2.35,2, -999.000,9, -999.000,9, -999.000,9,   -999.0,9,   -999.0,9,-999.0000,9,  -999.00,   -999.0,9,   -999.0,  -999.00,9,  -999.00,  -999.00,9,   2.5618,2
  49NZ20031209,  I3I4,   550,  1,     18,  12042,2,20031222,1622,-19.9990,  53.3297, 4906,   2001.1,   2.3384,  34.7249,2,  34.7243,2,    154.6,1,    162.0,2,   105.83,2,    33.63,2,     0.00,2,     2.36,2, -999.000,9, -999.000,9, -999.000,9,   -999.0,9,   -999.0,9,-999.0000,9,  -999.00,   -999.0,9,   -999.0,  -999.00,9,  -999.00,  -999.00,1,   2.3384,2
  49NZ20031209,  I3I4,   550,  1,     17,  12041,2,20031222,1622,-19.9990,  53.3297, 4906,   2201.7,   2.1709,  34.7328,2,  34.7323,2,    154.2,1,    161.6,2,   112.62,2,    33.87,2,    -0.01,2,     2.39,2, -999.000,9, -999.000,9, -999.000,9,   -999.0,9,   -999.0,9,-999.0000,9,  -999.00,   -999.0,9,   -999.0,  -999.00,9,  -999.00,  -999.00,9,   2.1707,2
  49NZ20031209,  I3I4,   550,  1,     16,  12040,2,20031222,1622,-19.9990,  53.3297, 4906,   2401.2,   2.0509,  34.7365,2,  34.7350,2,    154.2,1,    162.0,2,   117.13,2,    34.02,2,    -0.01,2,     2.40,2, -999.000,9, -999.000,9, -999.000,9,   -999.0,9,   -999.0,9,-999.0000,9,  -999.00,   -999.0,9,   -999.0,  -999.00,9,  -999.00,  -999.00,1,   2.0507,2
  49NZ20031209,  I3I4,   550,  1,     15,  12039,2,20031222,1622,-19.9990,  53.3297, 4906,   2599.7,   1.9698,  34.7391,2,  34.7388,2,    153.4,1,    160.8,2,   121.49,2,    34.27,2,     0.00,2,     2.41,2, -999.000,9, -999.000,9, -999.000,9,   -999.0,9,   -999.0,9,-999.0000,9,  -999.00,   -999.0,9,   -999.0,  -999.00,9,  -999.00,  -999.00,9,   1.9698,2
  49NZ20031209,  I3I4,   550,  1,     14,  12038,2,20031222,1622,-19.9990,  53.3297, 4906,   2800.6,   1.8885,  34.7386,2,  34.7386,2,    154.7,1,    162.1,2,   123.88,2,    34.32,2,     0.01,2,     2.41,2, -999.000,9, -999.000,9, -999.000,9,   -999.0,9,   -999.0,9,-999.0000,9,  -999.00,   -999.0,9,   -999.0,  -999.00,9,  -999.00,  -999.00,9,   1.8884,2
  49NZ20031209,  I3I4,   550,  1,     13,  12037,2,20031222,1622,-19.9990,  53.3297, 4906,   2999.9,   1.8083,  34.7374,2,  34.7370,2,    156.4,1,    163.7,2,   125.78,2,    34.33,2,     0.00,2,     2.41,2, -999.000,9, -999.000,9, -999.000,9,   -999.0,9,   -999.0,9,-999.0000,9,  -999.00,   -999.0,9,   -999.0,  -999.00,9,  -999.00,  -999.00,1,   1.8082,2
  49NZ20031209,  I3I4,   550,  1,     12,  12036,2,20031222,1622,-19.9990,  53.3297, 4906,   3250.6,   1.7185,  34.7346,2,  34.7345,2,    159.8,1,    167.0,2,   126.86,2,    34.24,2,    -0.01,2,     2.41,2, -999.000,9, -999.000,9, -999.000,9,   -999.0,9,   -999.0,9,-999.0000,9,  -999.00,   -999.0,9,   -999.0,  -999.00,9,  -999.00,  -999.00,9,   1.7184,2
  49NZ20031209,  I3I4,   550,  1,     11,  12035,2,20031222,1622,-19.9990,  53.3297, 4906,   3499.9,   1.6179,  34.7310,2,  34.7312,2,    164.7,1,    172.1,2,   127.19,2,    33.99,2,     0.00,2,     2.39,2, -999.000,9, -999.000,9, -999.000,9,   -999.0,9,   -999.0,9,-999.0000,9,  -999.00,   -999.0,9,   -999.0,  -999.00,9,  -999.00,  -999.00,1,   1.6179,2
  49NZ20031209,  I3I4,   550,  1,     10,  12034,2,20031222,1622,-19.9990,  53.3297, 4906,   3750.8,   1.4741,  34.7259,2,  34.7259,2,    172.1,1,    179.7,2,   126.56,2,    33.64,2,     0.00,2,     2.35,2, -999.000,9, -999.000,9, -999.000,9,   -999.0,9,   -999.0,9,-999.0000,9,  -999.00,   -999.0,9,   -999.0,  -999.00,9,  -999.00,  -999.00,9,   1.4741,2
  49NZ20031209,  I3I4,   550,  1,      9,  12033,2,20031222,1622,-19.9990,  53.3297, 4906,   4001.5,   1.3485,  34.7209,2,  34.7210,2,    179.6,1,    187.0,2,   125.38,2,    33.25,2,     0.00,2,     2.32,2, -999.000,9, -999.000,9, -999.000,9,   -999.0,9,   -999.0,9,-999.0000,9,  -999.00,   -999.0,9,   -999.0,  -999.00,9,  -999.00,  -999.00,1,   1.3484,2
  49NZ20031209,  I3I4,   550,  1,      8,  12032,2,20031222,1622,-19.9990,  53.3297, 4906,   4250.9,   1.1702,  34.7144,2,  34.7140,2,    189.5,1,    197.0,2,   123.64,2,    32.80,2,     0.00,2,     2.28,2, -999.000,9, -999.000,9, -999.000,9,   -999.0,9,   -999.0,9,-999.0000,9,  -999.00,   -999.0,9,   -999.0,  -999.00,9,  -999.00,  -999.00,9,   1.1698,2
  49NZ20031209,  I3I4,   550,  1,      7,  12031,2,20031222,1622,-19.9990,  53.3297, 4906,   4500.8,   1.0765,  34.7104,2,  34.7105,2,    195.2,1,    202.6,2,   122.95,2,    32.57,2,     0.00,2,     2.26,2, -999.000,9, -999.000,9, -999.000,9,   -999.0,9,   -999.0,9,-999.0000,9,  -999.00,   -999.0,9,   -999.0,  -999.00,9,  -999.00,  -999.00,1,   1.0764,2
  49NZ20031209,  I3I4,   550,  1,      6,  12030,2,20031222,1622,-19.9990,  53.3297, 4906,   4751.2,   1.0550,  34.7084,2,  34.7086,2,    198.6,1,    204.6,2,   122.86,2,    32.50,2,     0.00,2,     2.25,2, -999.000,9, -999.000,9, -999.000,9,   -999.0,9,   -999.0,9,-999.0000,9,  -999.00,   -999.0,9,   -999.0,  -999.00,9,  -999.00,  -999.00,9,   1.0550,2
  49NZ20031209,  I3I4,   550,  1,      5,  12029,2,20031222,1622,-19.9990,  53.3297, 4906,   4971.9,   1.0469,  34.7070,2,  34.7070,2,    201.4,1,    206.1,2,   122.82,2,    32.47,2,     0.00,2,     2.25,2, -999.000,9, -999.000,9, -999.000,9,   -999.0,9,   -999.0,9,-999.0000,9,  -999.00,   -999.0,9,   -999.0,  -999.00,9,     0.02,     0.01,2,   1.0470,2
  49NZ20031209,  I3I4,   550,  1,      4,  12028,2,20031222,1622,-19.9990,  53.3297, 4906,    200.5,  19.5788,  35.5888,2,-999.0000,9,    176.9,1,   -999.0,9,  -999.00,9,  -999.00,9,  -999.00,9,  -999.00,9, -999.000,9, -999.000,9, -999.000,9,   -999.0,9,   -999.0,9,-999.0000,9,  -999.00,   -999.0,9,   -999.0,  -999.00,9,  -999.00,  -999.00,9,  19.5851,2
  49NZ20031209,  I3I4,   550,  1,      3,  12027,2,20031222,1622,-19.9990,  53.3297, 4906,   1001.8,   5.0259,  34.5532,2,-999.0000,9,    139.7,1,   -999.0,9,  -999.00,9,  -999.00,9,  -999.00,9,  -999.00,9, -999.000,9, -999.000,9, -999.000,9,   -999.0,9,   -999.0,9,-999.0000,9,  -999.00,   -999.0,9,   -999.0,  -999.00,9,  -999.00,  -999.00,9,   5.0263,2
  49NZ20031209,  I3I4,   550,  1,      2,  12026,2,20031222,1622,-19.9990,  53.3297, 4906,    600.9,  10.4224,  34.8692,2,-999.0000,9,    219.9,1,   -999.0,9,  -999.00,9,  -999.00,9,  -999.00,9,  -999.00,9, -999.000,9, -999.000,9, -999.000,9,   -999.0,9,   -999.0,9,-999.0000,9,  -999.00,   -999.0,9,   -999.0,  -999.00,9,  -999.00,  -999.00,9,  10.4233,2
  49NZ20031209,  I3I4,   550,  1,      1,  12025,2,20031222,1622,-19.9990,  53.3297, 4906,   4972.0,   1.0470,  34.7069,2,-999.0000,9,    201.4,1,   -999.0,9,  -999.00,9,  -999.00,9,  -999.00,9,  -999.00,9, -999.000,9, -999.000,9, -999.000,9,   -999.0,9,   -999.0,9,-999.0000,9,  -999.00,   -999.0,9,   -999.0,  -999.00,9,  -999.00,  -999.00,9,   1.0470,2