BOTTLE,20141204PRINUNIVRMK
EXPOCODE,SECT_ID,STNNBR,CASTNO,SAMPNO,BTLNBR,BTLNBR_FLAG_W,DATE,TIME,LATITUDE,LONGITUDE,DEPTH,CTDPRS,CTDTMP,CTDSAL,CTDSAL_FLAG_W,SALNTY,SALNTY_FLAG_W,CTDOXY,CTDOXY_FLAG_W,OXYGEN,OXYGEN_FLAG_W,SILCAT,SILCAT_FLAG_W,NITRAT,NITRAT_FLAG_W,NITRIT,NITRIT_FLAG_W,PHSPHT,PHSPHT_FLAG_W,CFC-11,CFC-11_FLAG_W,CFC-12,CFC-12_FLAG_W,CFC113,CFC113_FLAG_W,TCARBN,TCARBN_FLAG_W,ALKALI,ALKALI_FLAG_W,PH_TOT,PH_TOT_FLAG_W,PH_TMP,DELC14,DELC14_FLAG_W,C14ERR,DELC13,DELC13_FLAG_W,CS-137,CS137ER,CS-137_FLAG_W,SBE35,SBE35_FLAG_W
,,,,,,,,,,,METERS,DBAR,ITS-90,PSS-78,,PSS-78,,UMOL/KG,,UMOL/KG,,UMOL/KG,,UMOL/KG,,UMOL/KG,,UMOL/KG,,PMOL/KG,,PMOL/KG,,PMOL/KG,,UMOL/KG,,UMOL/KG,,,,DEG C,/MILLE,,/MILLE,/MILLE,,DM/.1MG,DM/.1MG,,ITS-90,
  49NZ20031209,  I3I4,   481,  1,     36,  12024,2,20040110,0350,-19.9892,  89.9897, 4737,      9.9,  26.2267,  34.7859,2,  34.7859,2,    196.4,1,    205.6,2,     1.70,2,     0.02,2,     0.00,2,     0.10,2, -999.000,9, -999.000,9, -999.000,9,   -999.0,9,   -999.0,9,-999.0000,9,  -999.00,   -999.0,9,   -999.0,  -999.00,9,  -999.00,  -999.00,9,  26.2269,2
  49NZ20031209,  I3I4,   481,  1,     35,  12023,2,20040110,0350,-19.9892,  89.9897, 4737,     50.5,  24.1562,  35.0900,2,  35.0852,2,    207.5,1,    216.8,2,     2.04,2,     0.00,2,     0.00,2,     0.10,2, -999.000,9, -999.000,9, -999.000,9,   -999.0,9,   -999.0,9,-999.0000,9,  -999.00,   -999.0,9,   -999.0,  -999.00,9,  -999.00,  -999.00,9,  24.1434,2
  49NZ20031209,  I3I4,   481,  1,     34,  12022,2,20040110,0350,-19.9892,  89.9897, 4737,    100.6,  21.7242,  35.4017,2,  35.4038,2,    212.2,1,    221.8,2,     2.06,2,     0.01,2,     0.00,2,     0.09,2, -999.000,9, -999.000,9, -999.000,9,   -999.0,9,   -999.0,9,-999.0000,9,  -999.00,   -999.0,9,   -999.0,  -999.00,9,  -999.00,  -999.00,9,  21.7219,2
  49NZ20031209,  I3I4,   481,  1,     33,  12015,2,20040110,0350,-19.9892,  89.9897, 4737,    148.6,  20.4138,  35.6326,2,  35.6360,2,    202.6,1,    211.1,2,     2.17,2,     0.28,2,     0.04,2,     0.17,2, -999.000,9, -999.000,9, -999.000,9,   -999.0,9,   -999.0,9,-999.0000,9,  -999.00,   -999.0,9,   -999.0,  -999.00,9,  -999.00,  -999.00,9,  20.4121,2
  49NZ20031209,  I3I4,   481,  1,     32,  12020,2,20040110,0350,-19.9892,  89.9897, 4737,    202.7,  19.2392,  35.7927,2,  35.7930,2,    199.1,1,    207.7,2,     2.18,2,     1.15,2,     0.12,2,     0.22,2, -999.000,9, -999.000,9, -999.000,9,   -999.0,9,   -999.0,9,-999.0000,9,  -999.00,   -999.0,9,   -999.0,  -999.00,9,  -999.00,  -999.00,9,  19.2411,2
  49NZ20031209,  I3I4,   481,  1,     31,  12019,2,20040110,0350,-19.9892,  89.9897, 4737,    250.3,  17.2278,  35.7831,2,  35.7810,2,    203.4,1,    212.0,2,     1.99,2,     2.22,2,     0.01,2,     0.29,2, -999.000,9, -999.000,9, -999.000,9,   -999.0,9,   -999.0,9,-999.0000,9,  -999.00,   -999.0,9,   -999.0,  -999.00,9,  -999.00,  -999.00,9,  17.2227,2
  49NZ20031209,  I3I4,   481,  1,     30,  12018,2,20040110,0350,-19.9892,  89.9897, 4737,    301.2,  15.2912,  35.5644,2,  35.5641,2,    197.4,1,    205.1,2,     3.55,2,     5.61,2,     0.00,2,     0.51,2, -999.000,9, -999.000,9, -999.000,9,   -999.0,9,   -999.0,9,-999.0000,9,  -999.00,   -999.0,9,   -999.0,  -999.00,9,  -999.00,  -999.00,9,  15.2906,2
  49NZ20031209,  I3I4,   481,  1,     29,  12017,2,20040110,0350,-19.9892,  89.9897, 4737,    398.5,  12.3467,  35.1603,2,  35.1581,2,    208.0,1,    216.3,2,     4.54,2,    10.19,2,     0.00,2,     0.80,2, -999.000,9, -999.000,9, -999.000,9,   -999.0,9,   -999.0,9,-999.0000,9,  -999.00,   -999.0,9,   -999.0,  -999.00,9,  -999.00,  -999.00,9,  12.3472,2
  49NZ20031209,  I3I4,   481,  1,     28,  12016,2,20040110,0350,-19.9892,  89.9897, 4737,    500.1,  10.2059,  34.8432,2,  34.8387,2,    219.1,1,    227.9,2,     4.79,2,    14.29,2,     0.01,2,     1.05,2, -999.000,9, -999.000,9, -999.000,9,   -999.0,9,   -999.0,9,-999.0000,9,  -999.00,   -999.0,9,   -999.0,  -999.00,9,  -999.00,  -999.00,9,  10.2065,2
  49NZ20031209,  I3I4,   481,  1,     27,  12012,2,20040110,0350,-19.9892,  89.9897, 4737,    597.7,   8.9714,  34.6675,2,  34.6650,2,    213.9,1,    222.4,2,     7.59,2,    18.34,2,    -0.01,2,     1.29,2, -999.000,9, -999.000,9, -999.000,9,   -999.0,9,   -999.0,9,-999.0000,9,  -999.00,   -999.0,9,   -999.0,  -999.00,9,  -999.00,  -999.00,9,   8.9739,2
  49NZ20031209,  I3I4,   481,  1,     26,  12014,2,20040110,0350,-19.9892,  89.9897, 4737,    699.6,   7.1723,  34.5144,2,  34.5140,2,    182.7,1,    190.0,2,    20.31,2,    25.58,2,     0.00,2,     1.77,2, -999.000,9, -999.000,9, -999.000,9,   -999.0,9,   -999.0,9,-999.0000,9,  -999.00,   -999.0,9,   -999.0,  -999.00,9,  -999.00,  -999.00,9,   7.1730,2
  49NZ20031209,  I3I4,   481,  1,     25,  12013,2,20040110,0350,-19.9892,  89.9897, 4737,    800.6,   5.9864,  34.5314,2,  34.5314,2,    138.8,1,    144.2,2,    46.03,2,    31.70,2,    -0.01,2,     2.22,2, -999.000,9, -999.000,9, -999.000,9,   -999.0,9,   -999.0,9,-999.0000,9,  -999.00,   -999.0,9,   -999.0,  -999.00,9,  -999.00,  -999.00,9,   5.9854,2
  49NZ20031209,  I3I4,   481,  1,     24,  12048,2,20040110,0350,-19.9892,  89.9897, 4737,    899.8,   5.7138,  34.6292,2,  34.6290,2,    100.9,1,    104.3,2,    69.29,2,    34.97,2,    -0.01,2,     2.49,2, -999.000,9, -999.000,9, -999.000,9,   -999.0,9,   -999.0,9,-999.0000,9,  -999.00,   -999.0,9,   -999.0,  -999.00,9,  -999.00,  -999.00,9,   5.7125,2
  49NZ20031209,  I3I4,   481,  1,     23,  12047,2,20040110,0350,-19.9892,  89.9897, 4737,    999.9,   5.2818,  34.6539,2,  34.6540,2,     96.0,1,     98.9,2,    79.83,2,    35.79,2,    -0.01,2,     2.57,2, -999.000,9, -999.000,9, -999.000,9,   -999.0,9,   -999.0,9,-999.0000,9,  -999.00,   -999.0,9,   -999.0,  -999.00,9,  -999.00,  -999.00,9,   5.2819,2
  49NZ20031209,  I3I4,   481,  1,     22,  12046,2,20040110,0350,-19.9892,  89.9897, 4737,   1200.1,   4.5249,  34.6633,2,  34.6652,2,    103.8,1,    106.6,2,    88.74,2,    35.96,2,    -0.01,2,     2.59,2, -999.000,9, -999.000,9, -999.000,9,   -999.0,9,   -999.0,9,-999.0000,9,  -999.00,   -999.0,9,   -999.0,  -999.00,9,  -999.00,  -999.00,9,   4.5250,2
  49NZ20031209,  I3I4,   481,  1,     21,  12045,2,20040110,0350,-19.9892,  89.9897, 4737,   1401.7,   3.8238,  34.6739,2,  34.6744,2,    116.8,1,    121.2,2,    92.64,2,    35.61,2,    -0.01,2,     2.54,2, -999.000,9, -999.000,9, -999.000,9,   -999.0,9,   -999.0,9,-999.0000,9,  -999.00,   -999.0,9,   -999.0,  -999.00,9,  -999.00,  -999.00,9,   3.8241,2
  49NZ20031209,  I3I4,   481,  1,     20,  12044,2,20040110,0350,-19.9892,  89.9897, 4737,   1602.0,   3.1941,  34.6947,2,  34.6945,2,    128.9,1,    134.0,2,    98.75,2,    35.10,2,    -0.01,2,     2.49,2, -999.000,9, -999.000,9, -999.000,9,   -999.0,9,   -999.0,9,-999.0000,9,  -999.00,   -999.0,9,   -999.0,  -999.00,9,  -999.00,  -999.00,9,   3.1948,2
  49NZ20031209,  I3I4,   481,  1,     19,  12043,2,20040110,0350,-19.9892,  89.9897, 4737,   1800.4,   2.7581,  34.7130,2,  34.7134,2,    137.6,1,    143.6,2,   105.11,2,    34.59,2,    -0.01,2,     2.46,2, -999.000,9, -999.000,9, -999.000,9,   -999.0,9,   -999.0,9,-999.0000,9,  -999.00,   -999.0,9,   -999.0,  -999.00,9,  -999.00,  -999.00,9,   2.7578,2
  49NZ20031209,  I3I4,   481,  1,     18,  12042,2,20040110,0350,-19.9892,  89.9897, 4737,   2001.8,   2.4336,  34.7219,2,  34.7223,2,    145.5,1,    152.3,2,   108.87,2,    34.18,2,    -0.01,2,     2.41,2, -999.000,9, -999.000,9, -999.000,9,   -999.0,9,   -999.0,9,-999.0000,9,  -999.00,   -999.0,9,   -999.0,  -999.00,9,  -999.00,  -999.00,9,   2.4338,2
  49NZ20031209,  I3I4,   481,  1,     17,  12041,2,20040110,0350,-19.9892,  89.9897, 4737,   2201.0,   2.1984,  34.7259,2,  34.7258,2,    152.2,1,    159.4,2,   111.19,2,    33.86,2,     0.00,2,     2.38,2, -999.000,9, -999.000,9, -999.000,9,   -999.0,9,   -999.0,9,-999.0000,9,  -999.00,   -999.0,9,   -999.0,  -999.00,9,  -999.00,  -999.00,9,   2.1976,2
  49NZ20031209,  I3I4,   481,  1,     16,  12040,2,20040110,0350,-19.9892,  89.9897, 4737,   2400.8,   2.0209,  34.7277,2,  34.7277,2,    156.3,1,    164.1,2,   114.50,2,    33.60,2,    -0.01,2,     2.36,2, -999.000,9, -999.000,9, -999.000,9,   -999.0,9,   -999.0,9,-999.0000,9,  -999.00,   -999.0,9,   -999.0,  -999.00,9,  -999.00,  -999.00,9,   2.0210,2
  49NZ20031209,  I3I4,   481,  1,     15,  12039,2,20040110,0350,-19.9892,  89.9897, 4737,   2600.9,   1.8914,  34.7282,2,  34.7289,2,    159.7,1,    167.9,2,   116.39,2,    33.41,2,     0.00,2,     2.35,2, -999.000,9, -999.000,9, -999.000,9,   -999.0,9,   -999.0,9,-999.0000,9,  -999.00,   -999.0,9,   -999.0,  -999.00,9,  -999.00,  -999.00,9,   1.8913,2
  49NZ20031209,  I3I4,   481,  1,     14,  12038,2,20040110,0350,-19.9892,  89.9897, 4737,   2801.2,   1.7707,  34.7279,2,  34.7280,2,    164.2,1,    172.6,2,   117.09,2,    33.32,2,    -0.01,2,     2.33,2, -999.000,9, -999.000,9, -999.000,9,   -999.0,9,   -999.0,9,-999.0000,9,  -999.00,   -999.0,9,   -999.0,  -999.00,9,  -999.00,  -999.00,9,   1.7706,2
  49NZ20031209,  I3I4,   481,  1,     13,  12037,2,20040110,0350,-19.9892,  89.9897, 4737,   3001.5,   1.6508,  34.7269,2,  34.7274,2,    167.0,1,    175.6,2,   119.91,2,    33.23,2,    -0.01,2,     2.32,2, -999.000,9, -999.000,9, -999.000,9,   -999.0,9,   -999.0,9,-999.0000,9,  -999.00,   -999.0,9,   -999.0,  -999.00,9,  -999.00,  -999.00,9,   1.6509,2
  49NZ20031209,  I3I4,   481,  1,     12,  12036,2,20040110,0350,-19.9892,  89.9897, 4737,   3251.6,   1.5434,  34.7253,2,  34.7252,2,    170.9,1,    179.6,2,   121.06,2,    33.02,2,     0.00,2,     2.30,2, -999.000,9, -999.000,9, -999.000,9,   -999.0,9,   -999.0,9,-999.0000,9,  -999.00,   -999.0,9,   -999.0,  -999.00,9,  -999.00,  -999.00,9,   1.5434,2
  49NZ20031209,  I3I4,   481,  1,     11,  12035,2,20040110,0350,-19.9892,  89.9897, 4737,   3500.6,   1.4043,  34.7224,2,  34.7221,2,    176.0,1,    184.8,2,   122.50,2,    32.86,2,    -0.01,2,     2.29,2, -999.000,9, -999.000,9, -999.000,9,   -999.0,9,   -999.0,9,-999.0000,9,  -999.00,   -999.0,9,   -999.0,  -999.00,9,  -999.00,  -999.00,9,   1.4043,2
  49NZ20031209,  I3I4,   481,  1,     10,  12034,2,20040110,0350,-19.9892,  89.9897, 4737,   3750.7,   1.2801,  34.7193,2,  34.7190,2,    182.5,1,    191.5,2,   121.95,2,    32.61,2,    -0.01,2,     2.26,2, -999.000,9, -999.000,9, -999.000,9,   -999.0,9,   -999.0,9,-999.0000,9,  -999.00,   -999.0,9,   -999.0,  -999.00,9,  -999.00,  -999.00,9,   1.2800,2
  49NZ20031209,  I3I4,   481,  1,      9,  12033,2,20040110,0350,-19.9892,  89.9897, 4737,   3999.7,   1.1715,  34.7165,2,  34.7164,2,    188.7,1,    197.5,2,   121.21,2,    32.39,2,    -0.01,2,     2.24,2, -999.000,9, -999.000,9, -999.000,9,   -999.0,9,   -999.0,9,-999.0000,9,  -999.00,   -999.0,9,   -999.0,  -999.00,9,  -999.00,  -999.00,9,   1.1714,2
  49NZ20031209,  I3I4,   481,  1,      8,  12032,2,20040110,0350,-19.9892,  89.9897, 4737,   4250.6,   1.1343,  34.7149,2,  34.7151,2,    191.6,1,    199.9,2,   121.33,2,    32.23,2,    -0.01,2,     2.23,2, -999.000,9, -999.000,9, -999.000,9,   -999.0,9,   -999.0,9,-999.0000,9,  -999.00,   -999.0,9,   -999.0,  -999.00,9,  -999.00,  -999.00,9,   1.1342,2
  49NZ20031209,  I3I4,   481,  1,      7,  12031,2,20040110,0350,-19.9892,  89.9897, 4737,   4500.8,   1.1394,  34.7142,2,  34.7140,2,    193.2,1,    200.8,2,   121.17,2,    32.22,2,    -0.01,2,     2.23,2, -999.000,9, -999.000,9, -999.000,9,   -999.0,9,   -999.0,9,-999.0000,9,  -999.00,   -999.0,9,   -999.0,  -999.00,9,  -999.00,  -999.00,9,   1.1394,2
  49NZ20031209,  I3I4,   481,  1,      6,  12030,2,20040110,0350,-19.9892,  89.9897, 4737,   4750.1,   1.1634,  34.7139,2,  34.7139,2,    194.5,1,    201.0,2,   121.10,2,    32.24,2,    -0.01,2,     2.23,2, -999.000,9, -999.000,9, -999.000,9,   -999.0,9,   -999.0,9,-999.0000,9,  -999.00,   -999.0,9,   -999.0,  -999.00,9,  -999.00,  -999.00,9,   1.1635,2
  49NZ20031209,  I3I4,   481,  1,      5,  12029,2,20040110,0350,-19.9892,  89.9897, 4737,   4994.6,   1.1915,  34.7136,2,  34.7136,2,    195.9,1,    201.0,2,   120.98,2,    32.29,2,    -0.01,2,     2.23,2, -999.000,9, -999.000,9, -999.000,9,   -999.0,9,   -999.0,9,-999.0000,9,  -999.00,   -999.0,9,   -999.0,  -999.00,9,  -999.00,  -999.00,9,   1.1914,2
  49NZ20031209,  I3I4,   481,  1,      4,  12028,9,20040110,0350,-19.9892,  89.9897, 4737,    999.4,   5.2812,  34.6536,2,-999.0000,9,     96.0,1,   -999.0,9,  -999.00,9,  -999.00,9,  -999.00,9,  -999.00,9, -999.000,9, -999.000,9, -999.000,9,   -999.0,9,   -999.0,9,-999.0000,9,  -999.00,   -999.0,9,   -999.0,  -999.00,9,  -999.00,  -999.00,9,   5.2814,2
  49NZ20031209,  I3I4,   481,  1,      3,  12027,9,20040110,0350,-19.9892,  89.9897, 4737,     10.1,  26.1828,  34.7834,2,-999.0000,9,    196.4,1,   -999.0,9,  -999.00,9,  -999.00,9,  -999.00,9,  -999.00,9, -999.000,9, -999.000,9, -999.000,9,   -999.0,9,   -999.0,9,-999.0000,9,  -999.00,   -999.0,9,   -999.0,  -999.00,9,  -999.00,  -999.00,9,  26.1807,2
  49NZ20031209,  I3I4,   481,  1,      2,  12026,9,20040110,0350,-19.9892,  89.9897, 4737,      9.5,  26.1899,  34.7839,2,-999.0000,9,    196.6,1,   -999.0,9,  -999.00,9,  -999.00,9,  -999.00,9,  -999.00,9, -999.000,9, -999.000,9, -999.000,9,   -999.0,9,   -999.0,9,-999.0000,9,  -999.00,   -999.0,9,   -999.0,  -999.00,9,  -999.00,  -999.00,9,  26.1957,2
  49NZ20031209,  I3I4,   481,  1,      1,  12025,2,20040110,0350,-19.9892,  89.9897, 4737,    115.6,  21.3730,  35.4344,2,-999.0000,9,    206.6,1,   -999.0,9,  -999.00,9,  -999.00,9,  -999.00,9,  -999.00,9, -999.000,9, -999.000,9, -999.000,9,   -999.0,9,   -999.0,9,-999.0000,9,  -999.00,   -999.0,9,   -999.0,  -999.00,9,  -999.00,  -999.00,9,  21.3715,2