BOTTLE,20141204PRINUNIVRMK
EXPOCODE,SECT_ID,STNNBR,CASTNO,SAMPNO,BTLNBR,BTLNBR_FLAG_W,DATE,TIME,LATITUDE,LONGITUDE,DEPTH,CTDPRS,CTDTMP,CTDSAL,CTDSAL_FLAG_W,SALNTY,SALNTY_FLAG_W,CTDOXY,CTDOXY_FLAG_W,OXYGEN,OXYGEN_FLAG_W,SILCAT,SILCAT_FLAG_W,NITRAT,NITRAT_FLAG_W,NITRIT,NITRIT_FLAG_W,PHSPHT,PHSPHT_FLAG_W,CFC-11,CFC-11_FLAG_W,CFC-12,CFC-12_FLAG_W,CFC113,CFC113_FLAG_W,TCARBN,TCARBN_FLAG_W,ALKALI,ALKALI_FLAG_W,PH_TOT,PH_TOT_FLAG_W,PH_TMP,DELC14,DELC14_FLAG_W,C14ERR,DELC13,DELC13_FLAG_W,CS-137,CS137ER,CS-137_FLAG_W,SBE35,SBE35_FLAG_W
,,,,,,,,,,,METERS,DBAR,ITS-90,PSS-78,,PSS-78,,UMOL/KG,,UMOL/KG,,UMOL/KG,,UMOL/KG,,UMOL/KG,,UMOL/KG,,PMOL/KG,,PMOL/KG,,PMOL/KG,,UMOL/KG,,UMOL/KG,,,,DEG C,/MILLE,,/MILLE,/MILLE,,DM/.1MG,DM/.1MG,,ITS-90,
  49NZ20031209,  I3I4,   461,  1,     36,  12024,2,20040117,0314,-19.9873, 104.8948, 5784,     10.2,  24.2193,  35.0910,2,  35.0917,2,    202.3,1,    213.2,2,     2.11,2,     0.01,2,    -0.01,2,     0.07,2,    1.861,2,    1.140,2, -999.000,5,   1981.1,2,   2300.0,2,   8.0858,2,    25.00,   -999.0,9,   -999.0,  -999.00,9,  -999.00,  -999.00,9,  24.2192,2
  49NZ20031209,  I3I4,   461,  1,     35,  12023,2,20040117,0314,-19.9873, 104.8948, 5784,     50.5,  23.3512,  35.1577,2,  35.1566,2,    206.8,1,    217.5,2,     2.21,2,    -0.01,2,    -0.01,2,     0.07,2,    1.934,2,    1.168,2, -999.000,5,   1986.1,6,   2304.6,2,   8.0829,2,    25.00,   -999.0,9,   -999.0,  -999.00,9,  -999.00,  -999.00,9,  23.3509,2
  49NZ20031209,  I3I4,   461,  1,     34,  12022,2,20040117,0314,-19.9873, 104.8948, 5784,     99.9,  21.6279,  35.3116,2,  35.3123,2,    203.6,1,    213.8,2,     2.92,2,     0.03,2,    -0.01,2,     0.12,2,    2.016,2,    1.219,2, -999.000,5,   2011.9,2,   2315.9,6,   8.0532,2,    25.00,   -999.0,9,   -999.0,  -999.00,9,  -999.00,  -999.00,9,  21.6349,2
  49NZ20031209,  I3I4,   461,  1,     33,  12015,2,20040117,0314,-19.9873, 104.8948, 5784,    150.6,  19.9371,  35.5584,2,  35.5583,2,    187.6,1,    197.4,2,     3.33,2,     2.30,2,     0.06,2,     0.25,2,    2.109,2,    1.266,2,    0.419,4,   2046.7,2,   2331.8,2,   8.0088,6,    25.00,   -999.0,9,   -999.0,  -999.00,9,  -999.00,  -999.00,9,  19.9388,2
  49NZ20031209,  I3I4,   461,  1,     32,  12020,2,20040117,0314,-19.9873, 104.8948, 5784,    200.8,  18.9877,  35.7180,2,  35.7181,2,    190.7,1,    201.0,2,     2.86,2,     2.33,2,     0.01,2,     0.27,2,    2.240,2,    1.322,2,    0.298,4,   2065.3,2,   2341.1,2,   7.9948,2,    25.00,   -999.0,9,   -999.0,  -999.00,9,  -999.00,  -999.00,9,  18.9886,2
  49NZ20031209,  I3I4,   461,  1,     31,  12019,2,20040117,0314,-19.9873, 104.8948, 5784,    251.5,  17.0964,  35.7376,2,  35.7371,2,    200.4,1,    210.1,2,     2.38,2,     2.67,2,     0.00,2,     0.31,2,    2.462,6,    1.436,6,    0.294,4,   2083.3,2,   2343.4,2,   7.9667,2,    25.00,   -999.0,9,   -999.0,  -999.00,9,  -999.00,  -999.00,9,  17.1190,2
  49NZ20031209,  I3I4,   461,  1,     30,  12018,2,20040117,0314,-19.9873, 104.8948, 5784,    300.7,  14.8237,  35.5051,2,  35.4969,2,    208.4,1,    217.3,2,     2.63,2,     4.93,2,    -0.01,2,     0.46,2,    2.685,2,    1.555,2,    0.182,4,   2097.1,2,   2332.4,2,   7.9225,2,    25.00,   -999.0,9,   -999.0,  -999.00,9,  -999.00,  -999.00,9,  14.8222,2
  49NZ20031209,  I3I4,   461,  1,     29,  12017,2,20040117,0314,-19.9873, 104.8948, 5784,    401.1,  11.5014,  35.0222,2,  35.0198,2,    221.0,1,    231.7,2,     3.29,2,    10.57,2,    -0.01,2,     0.80,2,    3.210,2,    1.752,2,    0.185,4,   2112.1,2,   2305.7,2,   7.8504,2,    25.00,   -999.0,9,   -999.0,  -999.00,9,  -999.00,  -999.00,9,  11.5018,2
  49NZ20031209,  I3I4,   461,  1,     28,  12016,2,20040117,0314,-19.9873, 104.8948, 5784,    500.9,   9.5814,  34.7355,2,  34.7359,2,    222.0,1,    233.0,2,     4.79,2,    15.78,2,    -0.01,2,     1.11,2,    3.364,2,    1.780,2,    0.204,4,   2125.4,2,   2292.7,2,   7.7970,2,    25.00,   -999.0,9,   -999.0,  -999.00,9,  -999.00,  -999.00,9,   9.5813,2
  49NZ20031209,  I3I4,   461,  1,     27,  12012,2,20040117,0314,-19.9873, 104.8948, 5784,    600.1,   8.1109,  34.5719,2,  34.5718,2,    199.9,1,    209.9,2,    12.43,2,    21.90,2,    -0.01,2,     1.50,2,    2.538,2,    1.293,2,    0.091,4,   2149.6,2,   2289.6,2,   7.7330,2,    25.00,   -999.0,9,   -999.0,  -999.00,9,  -999.00,  -999.00,9,   8.1129,2
  49NZ20031209,  I3I4,   461,  1,     26,  12014,2,20040117,0314,-19.9873, 104.8948, 5784,    700.7,   6.7106,  34.5332,2,  34.5334,2,    149.4,1,    155.9,2,    36.24,2,    29.58,2,    -0.01,2,     2.04,2, -999.000,5, -999.000,5, -999.000,5,   2204.8,6,   2308.5,2,   7.6343,2,    25.00,   -999.0,9,   -999.0,  -999.00,9,  -999.00,  -999.00,9,   6.7118,2
  49NZ20031209,  I3I4,   461,  1,     25,  12013,2,20040117,0314,-19.9873, 104.8948, 5784,    800.2,   6.0748,  34.6061,2,  34.6058,2,    102.5,1,    106.4,2,    64.41,2,    34.34,2,    -0.01,2,     2.43,2,    0.123,2,    0.077,2,    0.000,4,   2258.1,2,   2336.1,6,   7.5590,2,    25.00,   -999.0,9,   -999.0,  -999.00,9,  -999.00,  -999.00,9,   6.0749,2
  49NZ20031209,  I3I4,   461,  1,     24,  12048,2,20040117,0314,-19.9873, 104.8948, 5784,    899.0,   5.6225,  34.6228,2,  34.6220,2,     95.8,1,     99.0,2,    74.70,2,    35.63,2,    -0.01,2,     2.53,2,    0.044,2,    0.029,2,    0.000,4,   2272.1,2,   2343.2,2,   7.5435,6,    25.00,   -999.0,9,   -999.0,  -999.00,9,  -999.00,  -999.00,9,   5.6230,2
  49NZ20031209,  I3I4,   461,  1,     23,  12047,2,20040117,0314,-19.9873, 104.8948, 5784,    999.1,   5.1513,  34.6321,2,  34.6319,2,     95.1,1,     98.6,2,    83.04,2,    36.16,2,    -0.01,2,     2.59,2,    0.014,6,    0.012,6,    0.000,4,   2282.8,2,   2352.1,2,   7.5387,2,    25.00,   -999.0,9,   -999.0,  -999.00,9,  -999.00,  -999.00,9,   5.1518,2
  49NZ20031209,  I3I4,   461,  1,     22,  12046,2,20040117,0314,-19.9873, 104.8948, 5784,   1198.8,   4.4632,  34.6376,2,  34.6380,2,    101.9,1,    106.1,2,    90.93,2,    36.35,2,    -0.01,2,     2.60,2,   -0.002,2,    0.001,2,    0.000,4,   2289.7,2,   2360.0,2,   7.5396,2,    25.00,   -999.0,9,   -999.0,  -999.00,9,  -999.00,  -999.00,9,   4.4633,2
  49NZ20031209,  I3I4,   461,  1,     21,  12045,2,20040117,0314,-19.9873, 104.8948, 5784,   1398.4,   3.8221,  34.6584,2,  34.6584,2,    110.9,1,    115.9,2,    97.95,2,    36.08,2,    -0.01,2,     2.58,2,    0.002,2,    0.008,2,    0.000,4,   2293.6,2,   2370.2,2,   7.5468,2,    25.00,   -999.0,9,   -999.0,  -999.00,9,  -999.00,  -999.00,9,   3.8224,2
  49NZ20031209,  I3I4,   461,  1,     20,  12044,2,20040117,0314,-19.9873, 104.8948, 5784,   1600.4,   3.2421,  34.6806,2,  34.6808,2,    123.4,1,    129.4,2,   101.32,2,    35.49,2,    -0.01,2,     2.53,2,   -0.006,2,    0.005,2,    0.000,4,   2292.0,2,   2372.0,2,   7.5599,2,    25.00,   -999.0,9,   -999.0,  -999.00,9,  -999.00,  -999.00,9,   3.2423,2
  49NZ20031209,  I3I4,   461,  1,     19,  12043,2,20040117,0314,-19.9873, 104.8948, 5784,   1799.1,   2.7829,  34.7044,2,  34.7046,2,    133.4,1,    140.7,2,   106.58,2,    35.08,2,    -0.01,2,     2.47,2,    0.001,2,    0.001,2,    0.000,4,   2294.2,2,   2377.1,2,   7.5701,2,    25.00,   -999.0,9,   -999.0,  -999.00,9,  -999.00,  -999.00,9,   2.7830,2
  49NZ20031209,  I3I4,   461,  1,     18,  12042,2,20040117,0314,-19.9873, 104.8948, 5784,   2000.3,   2.4795,  34.7182,2,  34.7181,2,    138.0,1,    145.8,2,   113.47,2,    34.77,2,    -0.01,2,     2.45,2,    0.002,2,    0.001,2,    0.000,4,   2297.6,2,   2383.8,2,   7.5859,3,    25.00,   -999.0,9,   -999.0,  -999.00,9,  -999.00,  -999.00,9,   2.4798,2
  49NZ20031209,  I3I4,   461,  1,     17,  12041,2,20040117,0314,-19.9873, 104.8948, 5784,   2200.0,   2.2540,  34.7246,2,  34.7250,2,    143.5,1,    151.8,2,   116.61,2,    34.53,2,    -0.01,2,     2.42,2,    0.005,2,    0.001,2,    0.000,4,   2297.9,2,   2389.3,2,   7.5848,2,    25.00,   -999.0,9,   -999.0,  -999.00,9,  -999.00,  -999.00,9,   2.2541,2
  49NZ20031209,  I3I4,   461,  1,     16,  12040,2,20040117,0314,-19.9873, 104.8948, 5784,   2401.1,   2.0640,  34.7277,2,  34.7275,2,    146.0,1,    154.4,2,   122.03,2,    34.55,2,    -0.01,2,     2.42,2,   -0.005,2,    0.000,2,    0.000,4,   2301.8,2,   2394.2,2,   7.5916,2,    25.00,   -999.0,9,   -999.0,  -999.00,9,  -999.00,  -999.00,9,   2.0640,2
  49NZ20031209,  I3I4,   461,  1,     15,  12039,2,20040117,0314,-19.9873, 104.8948, 5784,   2599.6,   1.9174,  34.7274,2,  34.7270,2,    151.2,1,    160.4,2,   122.85,2,    34.21,2,    -0.01,2,     2.39,2,   -0.002,2,    0.003,2,    0.000,4,   2298.7,2,   2395.6,6,   7.5960,2,    25.00,   -999.0,9,   -999.0,  -999.00,9,  -999.00,  -999.00,9,   1.9174,2
  49NZ20031209,  I3I4,   461,  1,     14,  12038,2,20040117,0314,-19.9873, 104.8948, 5784,   2802.2,   1.7581,  34.7261,2,  34.7259,2,    158.6,1,    168.6,2,   121.22,2,    33.79,2,    -0.01,2,     2.35,2,    0.002,2,   -0.002,2,    0.000,4,   2291.9,2,   2394.0,2,   7.6046,6,    25.00,   -999.0,9,   -999.0,  -999.00,9,  -999.00,  -999.00,9,   1.7581,2
  49NZ20031209,  I3I4,   461,  1,     13,  12037,2,20040117,0314,-19.9873, 104.8948, 5784,   3001.1,   1.6327,  34.7250,2,  34.7249,2,    163.0,1,    173.4,2,   122.38,2,    33.60,2,    -0.01,2,     2.33,2,    0.002,2,   -0.002,2,    0.000,4,   2292.3,2,   2390.8,2,   7.6081,2,    25.00,   -999.0,9,   -999.0,  -999.00,9,  -999.00,  -999.00,9,   1.6328,2
  49NZ20031209,  I3I4,   461,  1,     12,  12036,2,20040117,0314,-19.9873, 104.8948, 5784,   3250.5,   1.4861,  34.7229,2,  34.7234,2,    168.1,1,    179.1,2,   123.46,2,    33.39,2,    -0.01,2,     2.30,2,    0.000,2,   -0.004,2,    0.000,4,   2291.3,2,   2391.2,2,   7.6144,2,    25.00,   -999.0,9,   -999.0,  -999.00,9,  -999.00,  -999.00,9,   1.4860,2
  49NZ20031209,  I3I4,   461,  1,     11,  12035,2,20040117,0314,-19.9873, 104.8948, 5784,   3501.8,   1.3824,  34.7203,2,  34.7203,2,    171.3,1,    182.4,2,   125.37,2,    33.24,2,    -0.01,2,     2.30,2,   -0.001,2,   -0.002,2,    0.000,4,   2291.3,2,   2390.2,2,   7.6210,2,    25.00,   -999.0,9,   -999.0,  -999.00,9,  -999.00,  -999.00,9,   1.3825,2
  49NZ20031209,  I3I4,   461,  1,     10,  12034,2,20040117,0314,-19.9873, 104.8948, 5784,   3753.0,   1.2849,  34.7177,2,  34.7180,2,    175.0,1,    186.4,2,   126.74,2,    33.27,2,    -0.01,2,     2.30,2,    0.004,2,    0.001,2,    0.000,4,   2290.2,2,   2391.1,2,   7.6236,2,    25.00,   -999.0,9,   -999.0,  -999.00,9,  -999.00,  -999.00,9,   1.2848,2
  49NZ20031209,  I3I4,   461,  1,      9,  12033,2,20040117,0314,-19.9873, 104.8948, 5784,   4002.1,   1.2329,  34.7159,2,  34.7160,2,    177.4,1,    188.9,2,   127.78,2,    33.23,2,    -0.01,2,     2.28,2,   -0.004,2,   -0.006,2,    0.000,4,   2288.3,2,   2397.3,2,   7.6246,2,    25.00,   -999.0,9,   -999.0,  -999.00,9,  -999.00,  -999.00,9,   1.2330,2
  49NZ20031209,  I3I4,   461,  1,      8,  12032,2,20040117,0314,-19.9873, 104.8948, 5784,   4252.0,   1.2049,  34.7149,2,  34.7146,2,    180.0,1,    191.2,2,   128.00,2,    33.13,2,    -0.01,2,     2.28,2,    0.001,2,   -0.004,2,    0.000,4,   2288.1,6,   2391.7,2,   7.6252,2,    25.00,   -999.0,9,   -999.0,  -999.00,9,  -999.00,  -999.00,9,   1.2049,2
  49NZ20031209,  I3I4,   461,  1,      7,  12031,2,20040117,0314,-19.9873, 104.8948, 5784,   4501.6,   1.1867,  34.7141,2,  34.7141,3,    182.6,1,    193.2,2,   127.59,2,    33.00,2,    -0.01,2,     2.26,2,    0.001,2,   -0.001,2,    0.000,4,   2285.1,2,   2394.0,6,   7.6293,2,    25.00,   -999.0,9,   -999.0,  -999.00,9,  -999.00,  -999.00,9,   1.1869,2
  49NZ20031209,  I3I4,   461,  1,      6,  12030,2,20040117,0314,-19.9873, 104.8948, 5784,   4751.7,   1.1699,  34.7131,2,  34.7126,2,    185.7,1,    196.2,2,   126.92,2,    32.84,2,    -0.01,2,     2.25,2,    0.004,2,    0.000,2,    0.000,4,   2280.9,2,   2388.1,2,   7.6286,6,    25.00,   -999.0,9,   -999.0,  -999.00,9,  -999.00,  -999.00,9,   1.1701,2
  49NZ20031209,  I3I4,   461,  1,      5,  12029,2,20040117,0314,-19.9873, 104.8948, 5784,   5001.1,   1.1548,  34.7121,2,  34.7121,2,    189.1,1,    198.8,2,   125.86,2,    32.77,2,    -0.01,2,     2.24,2,    0.005,2,    0.002,2,    0.000,4,   2276.8,2,   2386.2,2,   7.6258,3,    25.00,   -999.0,9,   -999.0,  -999.00,9,  -999.00,  -999.00,9,   1.1546,2
  49NZ20031209,  I3I4,   461,  1,      4,  12028,2,20040117,0314,-19.9873, 104.8948, 5784,   5250.4,   1.1570,  34.7113,2,  34.7111,2,    191.7,1,    200.7,2,   125.14,2,    32.54,2,    -0.01,2,     2.24,2,    0.001,2,    0.000,2,    0.000,4,   2275.0,2,   2390.7,2,   7.6357,3,    25.00,   -999.0,9,   -999.0,  -999.00,9,  -999.00,  -999.00,9,   1.1570,2
  49NZ20031209,  I3I4,   461,  1,      3,  12027,2,20040117,0314,-19.9873, 104.8948, 5784,   5500.7,   1.1771,  34.7108,2,  34.7105,2,    193.7,1,    201.5,2,   124.58,2,    32.59,2,    -0.02,2,     2.24,2,    0.010,2,    0.005,2,    0.000,4,   2275.1,2,   2391.1,2,   7.6283,2,    25.00,   -999.0,9,   -999.0,  -999.00,9,  -999.00,  -999.00,9,   1.1771,2
  49NZ20031209,  I3I4,   461,  1,      2,  12026,2,20040117,0314,-19.9873, 104.8948, 5784,   5750.3,   1.2032,  34.7104,2,  34.7104,2,    195.6,1,    201.9,2,   124.33,2,    32.62,2,    -0.02,2,     2.23,2,    0.006,2,    0.005,2,    0.000,4,   2274.6,2,   2397.0,3,   7.6281,2,    25.00,   -999.0,9,   -999.0,  -999.00,9,  -999.00,  -999.00,9,   1.2032,2
  49NZ20031209,  I3I4,   461,  1,      1,  12025,2,20040117,0314,-19.9873, 104.8948, 5784,   5867.0,   1.2168,  34.7104,2,  34.7104,2,    197.4,1,    202.1,2,   124.37,2,    32.57,2,    -0.01,2,     2.23,2,    0.006,2,    0.002,2,    0.000,4,   2274.4,2,   2383.2,2,   7.6369,3,    25.00,   -999.0,9,   -999.0,  -999.00,9,  -999.00,  -999.00,9,   1.2170,2