BOTTLE,20141204PRINUNIVRMK
EXPOCODE,SECT_ID,STNNBR,CASTNO,SAMPNO,BTLNBR,BTLNBR_FLAG_W,DATE,TIME,LATITUDE,LONGITUDE,DEPTH,CTDPRS,CTDTMP,CTDSAL,CTDSAL_FLAG_W,SALNTY,SALNTY_FLAG_W,CTDOXY,CTDOXY_FLAG_W,OXYGEN,OXYGEN_FLAG_W,SILCAT,SILCAT_FLAG_W,NITRAT,NITRAT_FLAG_W,NITRIT,NITRIT_FLAG_W,PHSPHT,PHSPHT_FLAG_W,CFC-11,CFC-11_FLAG_W,CFC-12,CFC-12_FLAG_W,CFC113,CFC113_FLAG_W,TCARBN,TCARBN_FLAG_W,ALKALI,ALKALI_FLAG_W,PH_TOT,PH_TOT_FLAG_W,PH_TMP,DELC14,DELC14_FLAG_W,C14ERR,DELC13,DELC13_FLAG_W,CS-137,CS137ER,CS-137_FLAG_W,SBE35,SBE35_FLAG_W
,,,,,,,,,,,METERS,DBAR,ITS-90,PSS-78,,PSS-78,,UMOL/KG,,UMOL/KG,,UMOL/KG,,UMOL/KG,,UMOL/KG,,UMOL/KG,,PMOL/KG,,PMOL/KG,,PMOL/KG,,UMOL/KG,,UMOL/KG,,,,DEG C,/MILLE,,/MILLE,/MILLE,,DM/.1MG,DM/.1MG,,ITS-90,
  49NZ20031209,  I3I4,   515,  1,     36,  12024,2,20031231,0658,-19.9955,  70.2463, 3340,      9.3,  26.1983,  35.0288,2,  35.0277,2,    197.6,1,    206.5,2,     1.88,2,    -0.02,2,     0.01,2,     0.10,2,    1.689,2,    1.082,2, -999.000,5,   1972.3,2,   2298.7,2,   8.0828,2,    25.00,   -999.0,9,   -999.0,  -999.00,9,  -999.00,  -999.00,9,  26.1976,2
  49NZ20031209,  I3I4,   515,  1,     35,  12023,2,20031231,0658,-19.9955,  70.2463, 3340,     50.6,  25.1481,  34.9789,2,  34.9805,2,    204.2,1,    212.9,2,     1.91,2,    -0.04,2,     0.01,2,     0.09,2,    1.792,2,    1.118,2, -999.000,5,   1967.8,6,   2294.4,2,   8.0760,2,    25.00,   -999.0,9,   -999.0,  -999.00,9,  -999.00,  -999.00,9,  25.1407,2
  49NZ20031209,  I3I4,   515,  1,     34,  12022,2,20031231,0658,-19.9955,  70.2463, 3340,     99.5,  22.8376,  35.0932,2,  35.0963,2,    202.6,1,    211.5,2,     2.27,2,    -0.04,2,     0.01,2,     0.14,2,    1.907,2,    1.172,2, -999.000,5,   1987.5,2,   2299.6,6,   8.0575,2,    25.00,   -999.0,9,   -999.0,  -999.00,9,  -999.00,  -999.00,9,  22.8385,2
  49NZ20031209,  I3I4,   515,  1,     33,  12015,2,20031231,0658,-19.9955,  70.2463, 3340,    152.2,  21.6551,  35.3809,2,  35.3808,2,    197.1,1,    205.8,2,     2.32,2,     0.55,2,     0.28,2,     0.18,2,    1.985,2,    1.208,2, -999.000,5,   2012.8,2,   2314.4,2,   8.0415,6,    25.00,   -999.0,9,   -999.0,  -999.00,9,  -999.00,  -999.00,9,  21.6530,2
  49NZ20031209,  I3I4,   515,  1,     32,  12020,2,20031231,0658,-19.9955,  70.2463, 3340,    202.8,  20.0424,  35.6105,2,  35.6081,2,    176.6,1,    183.5,2,     3.92,2,     3.60,2,     0.02,2,     0.36,2,    2.040,2,    1.226,2,    0.192,4,   2060.9,2,   2331.0,2,   7.9794,2,    25.00,   -999.0,9,   -999.0,  -999.00,9,  -999.00,  -999.00,9,  20.0413,2
  49NZ20031209,  I3I4,   515,  1,     31,  12019,2,20031231,0658,-19.9955,  70.2463, 3340,    251.9,  18.8964,  35.7421,2,  35.7410,2,    181.2,1,    188.2,2,     3.69,2,     3.63,2,     0.01,2,     0.36,2,    2.180,6,    1.274,6,    0.114,4,   2076.6,2,   2341.8,2,   7.9640,2,    25.00,   -999.0,9,   -999.0,  -999.00,9,  -999.00,  -999.00,9,  18.9007,2
  49NZ20031209,  I3I4,   515,  1,     30,  12018,2,20031231,0658,-19.9955,  70.2463, 3340,    302.8,  17.1695,  35.7642,2,  35.7688,2,    195.2,1,    202.9,2,     2.68,2,     3.22,2,     0.01,2,     0.36,2,    2.406,2,    1.395,2,    0.068,4,   2091.4,2,   2342.5,2,   7.9467,2,    25.00,   -999.0,9,   -999.0,  -999.00,9,  -999.00,  -999.00,9,  17.1712,2
  49NZ20031209,  I3I4,   515,  1,     29,  12021,2,20031231,0658,-19.9955,  70.2463, 3340,    402.2,  13.5465,  35.3455,2,  35.3457,2,    213.1,1,    221.0,2,     2.70,2,     7.36,2,     0.01,2,     0.62,2,    2.867,2,    1.584,2,    0.089,4,   2106.9,2,   2321.6,2,   7.8822,2,    25.00,   -999.0,9,   -999.0,  -999.00,9,  -999.00,  -999.00,9,  13.5478,2
  49NZ20031209,  I3I4,   515,  1,     28,  12016,2,20031231,0658,-19.9955,  70.2463, 3340,    502.2,  11.6790,  35.0659,2,  35.0729,2,    223.2,1,    231.3,2,     3.10,2,    10.45,2,     0.01,2,     0.80,2,    3.136,2,    1.678,2,    0.089,4,   2114.1,2,   2306.9,2,   7.8483,2,    25.00,   -999.0,9,   -999.0,  -999.00,9,  -999.00,  -999.00,9,  11.6780,2
  49NZ20031209,  I3I4,   515,  1,     27,  12012,2,20031231,0658,-19.9955,  70.2463, 3340,    603.1,  10.4287,  34.8697,2,  34.8715,2,    224.1,1,    232.4,2,     3.97,2,    13.57,2,     0.01,2,     0.99,2,    3.186,2,    1.662,2,    0.098,4,   2117.0,2,   2300.6,2,   7.8174,2,    25.00,   -999.0,9,   -999.0,  -999.00,9,  -999.00,  -999.00,9,  10.4315,2
  49NZ20031209,  I3I4,   515,  1,     26,  12014,2,20031231,0658,-19.9955,  70.2463, 3340,    704.9,   9.3277,  34.7072,2,  34.7076,2,    220.4,1,    228.8,2,     5.61,2,    16.90,2,     0.00,2,     1.19,2,    3.040,2,    1.549,2,    0.119,4,   2127.4,6,   2292.2,2,   7.7855,2,    25.00,   -999.0,9,   -999.0,  -999.00,9,  -999.00,  -999.00,9,   9.3283,2
  49NZ20031209,  I3I4,   515,  1,     25,  12013,2,20031231,0658,-19.9955,  70.2463, 3340,    807.1,   7.5905,  34.5481,2,  34.5483,2,    184.8,1,    191.7,2,    17.56,2,    24.41,2,     0.00,2,     1.69,2,    1.509,2,    0.794,2,    0.032,4,   2167.5,2,   2293.2,6,   7.7001,2,    25.00,   -999.0,9,   -999.0,  -999.00,9,  -999.00,  -999.00,9,   7.5930,2
  49NZ20031209,  I3I4,   515,  1,     24,  12048,2,20031231,0658,-19.9955,  70.2463, 3340,    903.3,   6.0787,  34.5254,2,  34.5246,2,    145.7,1,    150.7,2,    41.95,2,    31.15,2,     0.00,2,     2.17,2,    0.373,2,    0.217,2,    0.012,4,   2216.6,2,   2310.2,2,   7.6136,6,    25.00,   -999.0,9,   -999.0,  -999.00,9,  -999.00,  -999.00,9,   6.0794,2
  49NZ20031209,  I3I4,   515,  1,     23,  12047,2,20031231,0658,-19.9955,  70.2463, 3340,   1001.9,   5.0394,  34.5488,2,  34.5495,2,    128.5,1,    132.2,2,    62.02,2,    34.14,2,     0.00,2,     2.42,2,    0.093,6,    0.052,6,    0.000,4,   2249.5,2,   2329.5,2,   7.5747,2,    25.00,   -999.0,9,   -999.0,  -999.00,9,  -999.00,  -999.00,9,   5.0396,2
  49NZ20031209,  I3I4,   515,  1,     22,  12046,2,20031231,0658,-19.9955,  70.2463, 3340,   1202.2,   4.4974,  34.6724,2,  34.6723,2,    108.1,1,    110.8,2,    86.19,2,    35.75,2,     0.00,2,     2.57,2,    0.009,2,    0.005,2,    0.000,4,   2283.4,2,   2361.1,2,   7.5491,2,    25.00,   -999.0,9,   -999.0,  -999.00,9,  -999.00,  -999.00,9,   4.4976,2
  49NZ20031209,  I3I4,   515,  1,     21,  12045,2,20031231,0658,-19.9955,  70.2463, 3340,   1400.9,   4.0275,  34.6929,2,  34.6921,2,    112.5,1,    115.3,2,    93.08,2,    35.81,2,     0.01,2,     2.56,2,    0.002,2,    0.005,2,    0.038,4,   2289.4,2,   2361.2,2,   7.5528,2,    25.00,   -999.0,9,   -999.0,  -999.00,9,  -999.00,  -999.00,9,   4.0280,2
  49NZ20031209,  I3I4,   515,  1,     20,  12044,2,20031231,0658,-19.9955,  70.2463, 3340,   1600.4,   3.5478,  34.7100,2,  34.7100,2,    120.8,1,    123.9,2,    98.88,2,    35.52,2,     0.00,2,     2.54,2,   -0.002,2,   -0.001,2,    0.000,4,   2294.2,2,   2369.9,2,   7.5616,2,    25.00,   -999.0,9,   -999.0,  -999.00,9,  -999.00,  -999.00,9,   3.5480,2
  49NZ20031209,  I3I4,   515,  1,     19,  12043,2,20031231,0658,-19.9955,  70.2463, 3340,   1800.3,   3.0957,  34.7122,2,  34.7126,2,    134.6,1,    138.1,4,   100.42,2,    34.81,2,     0.00,2,     2.47,2,    0.000,2,   -0.001,2,    0.000,4,   2290.2,2,   2371.7,2,   7.5748,2,    25.00,   -999.0,9,   -999.0,  -999.00,9,  -999.00,  -999.00,9,   3.0959,2
  49NZ20031209,  I3I4,   515,  1,     18,  12042,2,20031231,0658,-19.9955,  70.2463, 3340,   1999.6,   2.5477,  34.7120,2,  34.7120,2,    152.2,1,    157.2,2,   100.91,2,    33.82,2,     0.00,2,     2.38,2,   -0.001,2,   -0.002,2,    0.000,4,   2281.5,2,   2370.0,2,   7.5911,6,    25.00,   -999.0,9,   -999.0,  -999.00,9,  -999.00,  -999.00,9,   2.5478,2
  49NZ20031209,  I3I4,   515,  1,     17,  12041,2,20031231,0658,-19.9955,  70.2463, 3340,   2200.1,   2.1398,  34.7180,2,  34.7180,2,    165.6,1,    171.1,2,   102.67,2,    32.93,2,     0.01,2,     2.30,2,    0.000,2,   -0.002,2,    0.000,4,   2276.1,2,   2366.0,2,   7.6063,2,    25.00,   -999.0,9,   -999.0,  -999.00,9,  -999.00,  -999.00,9,   2.1398,2
  49NZ20031209,  I3I4,   515,  1,     16,  12040,2,20031231,0658,-19.9955,  70.2463, 3340,   2398.2,   1.8715,  34.7243,2,  34.7246,2,    173.4,1,    179.2,2,   105.91,2,    32.58,2,     0.00,2,     2.26,2,    0.005,2,    0.001,2,    0.000,4,   2274.7,6,   2370.2,2,   7.6165,2,    25.00,   -999.0,9,   -999.0,  -999.00,9,  -999.00,  -999.00,9,   1.8716,2
  49NZ20031209,  I3I4,   515,  1,     15,  12039,2,20031231,0658,-19.9955,  70.2463, 3340,   2599.1,   1.7009,  34.7261,2,  34.7265,2,    177.7,1,    183.5,2,   109.64,2,    32.47,2,     0.00,2,     2.25,2,    0.003,2,    0.000,2,    0.000,4,   2275.5,2,   2375.0,6,   7.6209,2,    25.00,   -999.0,9,   -999.0,  -999.00,9,  -999.00,  -999.00,9,   1.7011,2
  49NZ20031209,  I3I4,   515,  1,     14,  12038,2,20031231,0658,-19.9955,  70.2463, 3340,   2799.4,   1.6456,  34.7259,2,  34.7263,2,    178.7,1,    184.2,2,   112.10,2,    32.54,2,     0.01,2,     2.26,2,   -0.006,2,    0.000,2,    0.000,4,   2276.9,2,   2377.6,2,   7.6240,2,    25.00,   -999.0,9,   -999.0,  -999.00,9,  -999.00,  -999.00,9,   1.6456,2
  49NZ20031209,  I3I4,   515,  1,     13,  12037,2,20031231,0658,-19.9955,  70.2463, 3340,   2999.1,   1.6026,  34.7259,2,  34.7263,2,    180.0,1,    184.8,2,   114.08,2,    32.60,2,     0.01,2,     2.25,2,   -0.001,2,    0.001,2,    0.000,4,   2277.2,2,   2377.9,2,   7.6241,2,    25.00,   -999.0,9,   -999.0,  -999.00,9,  -999.00,  -999.00,9,   1.6027,2
  49NZ20031209,  I3I4,   515,  1,     12,  12036,2,20031231,0658,-19.9955,  70.2463, 3340,   2999.5,   1.6027,  34.7260,2,  34.7258,2,    179.8,1,    184.8,2,   113.65,2,    32.61,2,     0.00,2,     2.25,2,    0.003,2,    0.003,2,    0.000,4,   2278.8,2,   2378.0,2,   7.6276,2,    25.00,   -999.0,9,   -999.0,  -999.00,9,  -999.00,  -999.00,9,   1.6030,2
  49NZ20031209,  I3I4,   515,  1,     11,  12035,2,20031231,0658,-19.9955,  70.2463, 3340,   3338.8,   1.5629,  34.7256,2,  34.7255,2,    181.6,1,    185.2,2,   116.15,2,    32.65,2,     0.00,2,     2.26,2,   -0.003,2,    0.000,2,    0.000,4,   2280.3,2,   2384.3,2,   7.6275,2,    25.00,   -999.0,9,   -999.0,  -999.00,9,  -999.00,  -999.00,9,   1.5630,2
  49NZ20031209,  I3I4,   515,  1,     10,  12034,9,20031231,0658,-19.9955,  70.2463, 3340,   2898.0,   1.6274,  34.7259,2,-999.0000,9,    179.3,1,   -999.0,9,  -999.00,9,  -999.00,9,  -999.00,9,  -999.00,9, -999.000,9, -999.000,9, -999.000,9,   -999.0,9,   -999.0,9,-999.0000,9,  -999.00,   -999.0,9,   -999.0,  -999.00,9,  -999.00,  -999.00,9,   1.6274,2
  49NZ20031209,  I3I4,   515,  1,      9,  12033,9,20031231,0658,-19.9955,  70.2463, 3340,   2699.0,   1.6609,  34.7259,2,-999.0000,9,    178.2,1,   -999.0,9,  -999.00,9,  -999.00,9,  -999.00,9,  -999.00,9, -999.000,9, -999.000,9, -999.000,9,   -999.0,9,   -999.0,9,-999.0000,9,  -999.00,   -999.0,9,   -999.0,  -999.00,9,  -999.00,  -999.00,9,   1.6610,2
  49NZ20031209,  I3I4,   515,  1,      8,  12032,9,20031231,0658,-19.9955,  70.2463, 3340,   2497.7,   1.7970,  34.7256,2,-999.0000,9,    175.6,1,   -999.0,9,  -999.00,9,  -999.00,9,  -999.00,9,  -999.00,9, -999.000,9, -999.000,9, -999.000,9,   -999.0,9,   -999.0,9,-999.0000,9,  -999.00,   -999.0,9,   -999.0,  -999.00,9,  -999.00,  -999.00,9,   1.7972,2
  49NZ20031209,  I3I4,   515,  1,      7,  12031,9,20031231,0658,-19.9955,  70.2463, 3340,   2297.4,   2.0101,  34.7217,2,-999.0000,9,    169.9,1,   -999.0,9,  -999.00,9,  -999.00,9,  -999.00,9,  -999.00,9, -999.000,9, -999.000,9, -999.000,9,   -999.0,9,   -999.0,9,-999.0000,9,  -999.00,   -999.0,9,   -999.0,  -999.00,9,  -999.00,  -999.00,9,   2.0102,2
  49NZ20031209,  I3I4,   515,  1,      6,  12030,9,20031231,0658,-19.9955,  70.2463, 3340,   2097.8,   2.3046,  34.7173,2,-999.0000,9,    159.1,1,   -999.0,9,  -999.00,9,  -999.00,9,  -999.00,9,  -999.00,9, -999.000,9, -999.000,9, -999.000,9,   -999.0,9,   -999.0,9,-999.0000,9,  -999.00,   -999.0,9,   -999.0,  -999.00,9,  -999.00,  -999.00,9,   2.3048,2
  49NZ20031209,  I3I4,   515,  1,      5,  12029,9,20031231,0658,-19.9955,  70.2463, 3340,   1002.3,   5.0396,  34.5490,2,-999.0000,9,    128.5,1,   -999.0,9,  -999.00,9,  -999.00,9,  -999.00,9,  -999.00,9, -999.000,9, -999.000,9, -999.000,9,   -999.0,9,   -999.0,9,-999.0000,9,  -999.00,   -999.0,9,   -999.0,  -999.00,9,  -999.00,  -999.00,9,   5.0400,2
  49NZ20031209,  I3I4,   515,  1,      4,  12028,9,20031231,0658,-19.9955,  70.2463, 3340,      4.4,  26.3518,  35.0245,2,-999.0000,9,    197.6,1,   -999.0,9,  -999.00,9,  -999.00,9,  -999.00,9,  -999.00,9, -999.000,9, -999.000,9, -999.000,9,   -999.0,9,   -999.0,9,-999.0000,9,  -999.00,   -999.0,9,   -999.0,  -999.00,9,  -999.00,  -999.00,9,  26.3535,2
  49NZ20031209,  I3I4,   515,  1,      3,  12027,2,20031231,0658,-19.9955,  70.2463, 3340,      4.4,  26.3820,  35.0249,2,-999.0000,9,    197.6,1,   -999.0,9,  -999.00,9,  -999.00,9,  -999.00,9,  -999.00,9, -999.000,9, -999.000,9, -999.000,9,   -999.0,9,   -999.0,9,-999.0000,9,  -999.00,   -999.0,9,   -999.0,  -999.00,9,  -999.00,  -999.00,9,  26.3820,2
  49NZ20031209,  I3I4,   515,  1,      2,  12026,2,20031231,0658,-19.9955,  70.2463, 3340,      4.2,  26.3851,  35.0243,2,-999.0000,9,    197.4,1,   -999.0,9,  -999.00,9,  -999.00,9,  -999.00,9,  -999.00,9, -999.000,9, -999.000,9, -999.000,9,   -999.0,9,   -999.0,9,-999.0000,9,  -999.00,   -999.0,9,   -999.0,  -999.00,9,  -999.00,  -999.00,9,  26.3758,2
  49NZ20031209,  I3I4,   515,  1,      1,  12025,2,20031231,0658,-19.9955,  70.2463, 3340,    130.2,  22.0443,  35.2539,2,-999.0000,9,    194.4,1,   -999.0,9,  -999.00,9,  -999.00,9,  -999.00,9,  -999.00,9, -999.000,9, -999.000,9, -999.000,9,   -999.0,9,   -999.0,9,-999.0000,9,  -999.00,   -999.0,9,   -999.0,  -999.00,9,  -999.00,  -999.00,9,  22.0414,2