BOTTLE,20141204PRINUNIVRMK
EXPOCODE,SECT_ID,STNNBR,CASTNO,SAMPNO,BTLNBR,BTLNBR_FLAG_W,DATE,TIME,LATITUDE,LONGITUDE,DEPTH,CTDPRS,CTDTMP,CTDSAL,CTDSAL_FLAG_W,SALNTY,SALNTY_FLAG_W,CTDOXY,CTDOXY_FLAG_W,OXYGEN,OXYGEN_FLAG_W,SILCAT,SILCAT_FLAG_W,NITRAT,NITRAT_FLAG_W,NITRIT,NITRIT_FLAG_W,PHSPHT,PHSPHT_FLAG_W,CFC-11,CFC-11_FLAG_W,CFC-12,CFC-12_FLAG_W,CFC113,CFC113_FLAG_W,TCARBN,TCARBN_FLAG_W,ALKALI,ALKALI_FLAG_W,PH_TOT,PH_TOT_FLAG_W,PH_TMP,DELC14,DELC14_FLAG_W,C14ERR,DELC13,DELC13_FLAG_W,CS-137,CS137ER,CS-137_FLAG_W,SBE35,SBE35_FLAG_W
,,,,,,,,,,,METERS,DBAR,ITS-90,PSS-78,,PSS-78,,UMOL/KG,,UMOL/KG,,UMOL/KG,,UMOL/KG,,UMOL/KG,,UMOL/KG,,PMOL/KG,,PMOL/KG,,PMOL/KG,,UMOL/KG,,UMOL/KG,,,,DEG C,/MILLE,,/MILLE,/MILLE,,DM/.1MG,DM/.1MG,,ITS-90,
  49NZ20031209,  I3I4,   487,  1,     36,  12024,2,20040109,0021,-19.9997,  87.3332, 2013,     10.2,  25.7842,  34.9734,2,  34.9724,2,    197.7,1,    206.8,2,     1.99,2,     0.02,2,    -0.01,2,     0.11,2,    1.803,2,    1.090,2,    0.397,4,   1961.6,2,   2290.5,2,   8.1016,2,    25.00,     47.8,2,      3.8,     1.07,2,  -999.00,  -999.00,9,  25.7836,2
  49NZ20031209,  I3I4,   487,  1,     35,  12023,2,20040109,0021,-19.9997,  87.3332, 2013,     48.6,  24.0493,  35.1920,2,  35.1946,2,    210.4,1,    220.2,2,     2.15,2,    -0.01,2,    -0.01,2,     0.11,2,    2.063,2,    1.204,2, -999.000,5,   1981.2,6,   2301.5,2,   8.0902,2,    25.00,     56.7,2,      3.8,     1.09,2,  -999.00,  -999.00,9,  24.0630,2
  49NZ20031209,  I3I4,   487,  1,     34,  12022,2,20040109,0021,-19.9997,  87.3332, 2013,     99.9,  21.7327,  35.3820,2,  35.3831,2,    212.7,1,    222.2,2,     2.18,2,     0.00,2,     0.00,2,     0.12,2,    2.143,2,    1.266,2, -999.000,5,   1999.3,2,   2316.3,6,   8.0728,2,    25.00,     45.7,2,      3.8,     1.02,2,  -999.00,  -999.00,9,  21.7304,2
  49NZ20031209,  I3I4,   487,  1,     33,  12015,2,20040109,0021,-19.9997,  87.3332, 2013,    150.4,  21.0736,  35.4697,2,  35.4705,2,    201.0,1,    209.5,2,     2.50,2,     0.36,2,     0.06,2,     0.17,2,    2.147,2,    1.258,2,    0.497,4,   2020.3,2,   2319.6,2,   8.0464,2,    25.00,     56.9,2,      3.8,     0.90,2,  -999.00,  -999.00,9,  21.0717,2
  49NZ20031209,  I3I4,   487,  1,     32,  12020,2,20040109,0021,-19.9997,  87.3332, 2013,    201.5,  19.6936,  35.7179,2,  35.7168,2,    195.4,1,    203.5,2,     2.62,2,     1.50,2,     0.10,2,     0.25,2,    2.263,2,    1.332,2,    0.299,4,   2051.9,2,   2338.3,2,   8.0121,2,    25.00,     67.7,2,      4.0,     0.88,2,  -999.00,  -999.00,9,  19.6930,2
  49NZ20031209,  I3I4,   487,  1,     31,  12019,2,20040109,0021,-19.9997,  87.3332, 2013,    251.0,  18.1030,  35.8120,2,  35.8134,2,    195.5,1,    203.2,2,     2.54,2,     2.45,2,     0.01,2,     0.32,2,    2.449,6,    1.418,6,    0.153,4,   2079.1,2,   2346.2,2,   7.9753,2,    25.00,     71.5,2,      3.8,     0.98,2,  -999.00,  -999.00,9,  18.1109,2
  49NZ20031209,  I3I4,   487,  1,     30,  12018,2,20040109,0021,-19.9997,  87.3332, 2013,    299.6,  15.9964,  35.6730,2,  35.6815,2,    206.5,1,    214.3,2,     2.08,2,     3.24,2,     0.01,2,     0.40,2,    2.739,2,    1.572,2,    0.136,4,   2093.3,2,   2339.4,2,   7.9469,2,    25.00,     69.8,2,      3.6,     1.07,2,  -999.00,  -999.00,9,  15.9827,2
  49NZ20031209,  I3I4,   487,  1,     29,  12017,2,20040109,0021,-19.9997,  87.3332, 2013,    399.6,  12.7068,  35.2256,2,  35.2271,2,    221.2,1,    229.4,2,     2.50,2,     8.19,2,     0.00,2,     0.68,2,    3.204,2,    1.759,2,    0.126,4,   2106.7,2,   2312.8,2,   7.8789,2,    25.00,     66.4,2,      3.8,     1.18,2,  -999.00,  -999.00,9,  12.7075,2
  49NZ20031209,  I3I4,   487,  1,     28,  12016,2,20040109,0021,-19.9997,  87.3332, 2013,    499.0,  10.8459,  34.9319,2,  34.9312,2,    228.4,1,    236.5,2,     3.41,2,    12.12,2,     0.00,2,     0.92,2,    3.345,2,    1.786,2,    0.006,4,   2112.8,2,   2300.6,2,   7.8375,2,    25.00,     63.6,2,      3.8,     1.24,2,  -999.00,  -999.00,9,  10.8416,2
  49NZ20031209,  I3I4,   487,  1,     27,  12012,2,20040109,0021,-19.9997,  87.3332, 2013,    599.5,   9.6266,  34.7441,2,  34.7435,2,    226.2,1,    234.2,2,     4.62,2,    15.70,2,     0.00,2,     1.12,2,    3.382,2,    1.751,2,    0.149,4,   2121.2,2,   2293.6,2,   7.8009,2,    25.00,     47.4,2,      3.9,     1.26,2,  -999.00,  -999.00,9,   9.6268,2
  49NZ20031209,  I3I4,   487,  1,     26,  12014,2,20040109,0021,-19.9997,  87.3332, 2013,    699.2,   8.2276,  34.5815,2,  34.5847,2,    206.4,1,    214.8,2,    10.51,2,    21.07,2,     0.00,2,     1.47,2,    2.526,2,    1.278,2,    0.100,4,   2143.0,6,   2287.6,2,   7.7426,2,    25.00,      8.7,2,      3.6,     1.20,2,  -999.00,  -999.00,9,   8.2338,2
  49NZ20031209,  I3I4,   487,  1,     25,  12013,2,20040109,0021,-19.9997,  87.3332, 2013,    800.3,   6.5744,  34.4789,2,  34.4782,2,    179.6,1,    185.9,2,    24.67,2,    27.53,2,    -0.01,2,     1.90,2,    1.152,2,    0.583,2,    0.040,4,   2179.3,2,   2294.6,6,   7.6664,2,    25.00,    -61.4,2,      3.5,     1.01,2,  -999.00,  -999.00,9,   6.5716,2
  49NZ20031209,  I3I4,   487,  1,     24,  12048,2,20040109,0021,-19.9997,  87.3332, 2013,    899.2,   5.6587,  34.5558,2,  34.5568,2,    125.9,1,    129.0,2,    57.29,2,    33.53,2,    -0.01,2,     2.37,2,    0.182,2,    0.085,2,    0.014,4,   2243.0,2,   2324.6,2,   7.5772,6,    25.00,   -135.2,2,      3.3,     0.56,2,  -999.00,  -999.00,9,   5.6587,2
  49NZ20031209,  I3I4,   487,  1,     23,  12047,2,20040109,0021,-19.9997,  87.3332, 2013,    997.8,   5.0201,  34.5751,2,  34.5757,2,    118.9,1,    121.9,2,    68.96,2,    34.87,2,     0.00,2,     2.49,2,    0.074,6,    0.036,6,    0.000,4,   2260.0,2,   2338.6,2,   7.5583,2,    25.00,   -149.8,2,      3.2,     0.47,2,  -999.00,  -999.00,9,   5.0200,2
  49NZ20031209,  I3I4,   487,  1,     22,  12046,2,20040109,0021,-19.9997,  87.3332, 2013,   1200.4,   4.2140,  34.6320,2,  34.6321,2,    114.9,1,    117.6,2,    85.92,2,    35.76,2,    -0.01,2,     2.57,2,    0.010,2,    0.001,2,    0.000,4,   2280.4,2,   2355.9,2,   7.5460,2,    25.00,   -173.3,2,      3.3,     0.34,2,  -999.00,  -999.00,9,   4.2144,2
  49NZ20031209,  I3I4,   487,  1,     21,  12045,2,20040109,0021,-19.9997,  87.3332, 2013,   1802.4,   2.9505,  34.7170,2,  34.7170,2,    134.4,1,    137.3,2,   105.48,2,    34.98,2,     0.00,2,     2.49,2,    0.002,2,    0.000,2,    0.000,4,   2294.4,2,   2375.7,2,   7.5682,2,    25.00,   -189.4,2,      3.1,     0.32,2,  -999.00,  -999.00,9,   2.9508,2
  49NZ20031209,  I3I4,   487,  1,     20,  12044,2,20040109,0021,-19.9997,  87.3332, 2013,   1599.8,   3.3361,  34.7033,2,  34.7033,2,    126.1,1,    129.0,2,   100.50,2,    35.31,2,     0.00,2,     2.53,2,   -0.009,2,   -0.003,2,    0.000,4,   2289.7,2,   2374.8,2,   7.5585,2,    25.00,   -192.2,2,      3.1,     0.28,2,  -999.00,  -999.00,9,   3.3364,2
  49NZ20031209,  I3I4,   487,  1,     19,  12043,2,20040109,0021,-19.9997,  87.3332, 2013,   1802.5,   2.9515,  34.7169,2,  34.7175,2,    134.3,1,    137.3,2,   105.70,2,    34.97,2,    -0.01,2,     2.49,2,    0.005,2,    0.001,2,    0.000,4,   2293.1,2,   2375.6,2,   7.5671,2,    25.00,   -188.4,2,      3.1,     0.32,2,  -999.00,  -999.00,9,   2.9519,2
  49NZ20031209,  I3I4,   487,  1,     18,  12042,2,20040109,0021,-19.9997,  87.3332, 2013,   2021.9,   2.6378,  34.7222,2,  34.7226,2,    142.2,1,    145.1,2,   109.13,2,    34.64,2,     0.00,2,     2.46,2,   -0.002,4,    0.000,4,    0.000,4,   2292.5,2,   2379.3,2,   7.5766,6,    25.00,   -193.6,2,      3.1,     0.34,2,  -999.00,  -999.00,9,   2.6390,2
  49NZ20031209,  I3I4,   487,  1,     17,  12041,9,20040109,0021,-19.9997,  87.3332, 2013,     10.3,  25.7889,  34.9735,2,-999.0000,9,    197.8,1,   -999.0,9,  -999.00,9,  -999.00,9,  -999.00,9,  -999.00,9, -999.000,9, -999.000,9, -999.000,9,   -999.0,9,   -999.0,9,-999.0000,9,  -999.00,   -999.0,9,   -999.0,  -999.00,9,  -999.00,  -999.00,9,  25.7877,2
  49NZ20031209,  I3I4,   487,  1,     16,  12040,9,20040109,0021,-19.9997,  87.3332, 2013,    998.9,   5.0188,  34.5752,2,-999.0000,9,    118.9,1,   -999.0,9,  -999.00,9,  -999.00,9,  -999.00,9,  -999.00,9, -999.000,9, -999.000,9, -999.000,9,   -999.0,9,   -999.0,9,-999.0000,9,  -999.00,   -999.0,9,   -999.0,  -999.00,9,  -999.00,  -999.00,9,   5.0203,2
  49NZ20031209,  I3I4,   487,  1,     15,  12039,9,20040109,0021,-19.9997,  87.3332, 2013,    998.6,   5.0195,  34.5753,2,-999.0000,9,    118.9,1,   -999.0,9,  -999.00,9,  -999.00,9,  -999.00,9,  -999.00,9, -999.000,9, -999.000,9, -999.000,9,   -999.0,9,   -999.0,9,-999.0000,9,  -999.00,   -999.0,9,   -999.0,  -999.00,9,  -999.00,  -999.00,9,   5.0197,2
  49NZ20031209,  I3I4,   487,  1,     14,  12038,9,20040109,0021,-19.9997,  87.3332, 2013,    999.0,   5.0196,  34.5754,2,-999.0000,9,    118.9,1,   -999.0,9,  -999.00,9,  -999.00,9,  -999.00,9,  -999.00,9, -999.000,9, -999.000,9, -999.000,9,   -999.0,9,   -999.0,9,-999.0000,9,  -999.00,   -999.0,9,   -999.0,  -999.00,9,  -999.00,  -999.00,9,   5.0202,2
  49NZ20031209,  I3I4,   487,  1,     13,  12037,9,20040109,0021,-19.9997,  87.3332, 2013,    998.9,   5.0194,  34.5754,2,-999.0000,9,    118.9,1,   -999.0,9,  -999.00,9,  -999.00,9,  -999.00,9,  -999.00,9, -999.000,9, -999.000,9, -999.000,9,   -999.0,9,   -999.0,9,-999.0000,9,  -999.00,   -999.0,9,   -999.0,  -999.00,9,  -999.00,  -999.00,9,   5.0206,2
  49NZ20031209,  I3I4,   487,  1,     12,  12036,9,20040109,0021,-19.9997,  87.3332, 2013,    998.2,   5.0220,  34.5752,2,-999.0000,9,    118.9,1,   -999.0,9,  -999.00,9,  -999.00,9,  -999.00,9,  -999.00,9, -999.000,9, -999.000,9, -999.000,9,   -999.0,9,   -999.0,9,-999.0000,9,  -999.00,   -999.0,9,   -999.0,  -999.00,9,  -999.00,  -999.00,9,   5.0219,2
  49NZ20031209,  I3I4,   487,  1,     11,  12035,9,20040109,0021,-19.9997,  87.3332, 2013,    998.8,   5.0214,  34.5752,2,-999.0000,9,    118.8,1,   -999.0,9,  -999.00,9,  -999.00,9,  -999.00,9,  -999.00,9, -999.000,9, -999.000,9, -999.000,9,   -999.0,9,   -999.0,9,-999.0000,9,  -999.00,   -999.0,9,   -999.0,  -999.00,9,  -999.00,  -999.00,9,   5.0218,2
  49NZ20031209,  I3I4,   487,  1,     10,  12034,9,20040109,0021,-19.9997,  87.3332, 2013,    998.6,   5.0217,  34.5754,2,-999.0000,9,    118.9,1,   -999.0,9,  -999.00,9,  -999.00,9,  -999.00,9,  -999.00,9, -999.000,9, -999.000,9, -999.000,9,   -999.0,9,   -999.0,9,-999.0000,9,  -999.00,   -999.0,9,   -999.0,  -999.00,9,  -999.00,  -999.00,9,   5.0220,2
  49NZ20031209,  I3I4,   487,  1,      9,  12033,9,20040109,0021,-19.9997,  87.3332, 2013,    998.6,   5.0216,  34.5753,2,-999.0000,9,    118.9,1,   -999.0,9,  -999.00,9,  -999.00,9,  -999.00,9,  -999.00,9, -999.000,9, -999.000,9, -999.000,9,   -999.0,9,   -999.0,9,-999.0000,9,  -999.00,   -999.0,9,   -999.0,  -999.00,9,  -999.00,  -999.00,9,   5.0218,2
  49NZ20031209,  I3I4,   487,  1,      8,  12032,9,20040109,0021,-19.9997,  87.3332, 2013,    999.3,   5.0214,  34.5753,2,-999.0000,9,    118.8,1,   -999.0,9,  -999.00,9,  -999.00,9,  -999.00,9,  -999.00,9, -999.000,9, -999.000,9, -999.000,9,   -999.0,9,   -999.0,9,-999.0000,9,  -999.00,   -999.0,9,   -999.0,  -999.00,9,  -999.00,  -999.00,9,   5.0216,2
  49NZ20031209,  I3I4,   487,  1,      7,  12031,9,20040109,0021,-19.9997,  87.3332, 2013,    998.9,   5.0215,  34.5754,2,-999.0000,9,    118.8,1,   -999.0,9,  -999.00,9,  -999.00,9,  -999.00,9,  -999.00,9, -999.000,9, -999.000,9, -999.000,9,   -999.0,9,   -999.0,9,-999.0000,9,  -999.00,   -999.0,9,   -999.0,  -999.00,9,  -999.00,  -999.00,9,   5.0219,2
  49NZ20031209,  I3I4,   487,  1,      6,  12030,9,20040109,0021,-19.9997,  87.3332, 2013,    997.9,   5.0205,  34.5754,2,-999.0000,9,    118.8,1,   -999.0,9,  -999.00,9,  -999.00,9,  -999.00,9,  -999.00,9, -999.000,9, -999.000,9, -999.000,9,   -999.0,9,   -999.0,9,-999.0000,9,  -999.00,   -999.0,9,   -999.0,  -999.00,9,  -999.00,  -999.00,9,   5.0206,2
  49NZ20031209,  I3I4,   487,  1,      5,  12029,9,20040109,0021,-19.9997,  87.3332, 2013,    998.1,   5.0204,  34.5755,2,-999.0000,9,    118.8,1,   -999.0,9,  -999.00,9,  -999.00,9,  -999.00,9,  -999.00,9, -999.000,9, -999.000,9, -999.000,9,   -999.0,9,   -999.0,9,-999.0000,9,  -999.00,   -999.0,9,   -999.0,  -999.00,9,  -999.00,  -999.00,9,   5.0214,2
  49NZ20031209,  I3I4,   487,  1,      4,  12028,2,20040109,0021,-19.9997,  87.3332, 2013,      4.3,  25.7865,  34.9742,2,-999.0000,9,    197.6,1,   -999.0,9,  -999.00,9,  -999.00,9,  -999.00,9,  -999.00,9, -999.000,9, -999.000,9, -999.000,9,   -999.0,9,   -999.0,9,-999.0000,9,  -999.00,   -999.0,9,   -999.0,  -999.00,9,  -999.00,  -999.00,9,  25.7868,2
  49NZ20031209,  I3I4,   487,  1,      3,  12027,2,20040109,0021,-19.9997,  87.3332, 2013,      4.7,  25.7869,  34.9743,2,-999.0000,9,    197.7,1,   -999.0,9,  -999.00,9,  -999.00,9,  -999.00,9,  -999.00,9, -999.000,9, -999.000,9, -999.000,9,   -999.0,9,   -999.0,9,-999.0000,9,  -999.00,   -999.0,9,   -999.0,  -999.00,9,  -999.00,  -999.00,9,  25.7868,2
  49NZ20031209,  I3I4,   487,  1,      2,  12026,2,20040109,0021,-19.9997,  87.3332, 2013,    129.1,  21.3730,  35.4136,2,-999.0000,9,    209.5,1,   -999.0,9,  -999.00,9,  -999.00,9,  -999.00,9,  -999.00,9, -999.000,9, -999.000,9, -999.000,9,   -999.0,9,   -999.0,9,-999.0000,9,  -999.00,   -999.0,9,   -999.0,  -999.00,9,  -999.00,  -999.00,9,  21.3699,2
  49NZ20031209,  I3I4,   487,  1,      1,  12025,2,20040109,0021,-19.9997,  87.3332, 2013,   1402.0,   3.8069,  34.6827,2,  34.6830,2,    117.8,1,    120.5,2,    94.21,2,    35.68,2,    -0.01,2,     2.57,2,    0.004,2,    0.001,2,    0.000,4,   2287.4,2,   2367.6,2,   7.5502,2,    25.00,   -180.6,6,      2.3,     0.32,6,  -999.00,  -999.00,9,   3.8070,2