BOTTLE,20141204PRINUNIVRMK
EXPOCODE,SECT_ID,STNNBR,CASTNO,SAMPNO,BTLNBR,BTLNBR_FLAG_W,DATE,TIME,LATITUDE,LONGITUDE,DEPTH,CTDPRS,CTDTMP,CTDSAL,CTDSAL_FLAG_W,SALNTY,SALNTY_FLAG_W,CTDOXY,CTDOXY_FLAG_W,OXYGEN,OXYGEN_FLAG_W,SILCAT,SILCAT_FLAG_W,NITRAT,NITRAT_FLAG_W,NITRIT,NITRIT_FLAG_W,PHSPHT,PHSPHT_FLAG_W,CFC-11,CFC-11_FLAG_W,CFC-12,CFC-12_FLAG_W,CFC113,CFC113_FLAG_W,TCARBN,TCARBN_FLAG_W,ALKALI,ALKALI_FLAG_W,PH_TOT,PH_TOT_FLAG_W,PH_TMP,DELC14,DELC14_FLAG_W,C14ERR,DELC13,DELC13_FLAG_W,CS-137,CS137ER,CS-137_FLAG_W,SBE35,SBE35_FLAG_W
,,,,,,,,,,,METERS,DBAR,ITS-90,PSS-78,,PSS-78,,UMOL/KG,,UMOL/KG,,UMOL/KG,,UMOL/KG,,UMOL/KG,,UMOL/KG,,PMOL/KG,,PMOL/KG,,PMOL/KG,,UMOL/KG,,UMOL/KG,,,,DEG C,/MILLE,,/MILLE,/MILLE,,DM/.1MG,DM/.1MG,,ITS-90,
  49NZ20031209,  I3I4,   543,  1,     36,  12024,2,20031224,0526,-19.9945,  57.0408, 4372,      9.4,  27.2895,  34.9291,2,  34.9283,2,    194.5,1,    203.4,2,     1.65,2,    -0.01,2,     0.01,2,     0.13,2,    1.590,2,    1.027,2, -999.000,5,   1962.6,2,   2283.4,2,   8.0863,2,    25.00,   -999.0,9,   -999.0,  -999.00,9,  -999.00,  -999.00,9,  27.3006,2
  49NZ20031209,  I3I4,   543,  1,     35,  12023,2,20031224,0526,-19.9945,  57.0408, 4372,     50.3,  25.9146,  34.8997,2,  34.8998,2,    205.2,1,    215.0,2,     1.84,2,    -0.02,2,     0.01,2,     0.10,2,    1.772,2,    1.064,2, -999.000,5,   1960.2,6,   2283.5,2,   8.0901,2,    25.00,   -999.0,9,   -999.0,  -999.00,9,  -999.00,  -999.00,9,  25.9135,2
  49NZ20031209,  I3I4,   543,  1,     34,  12022,2,20031224,0526,-19.9945,  57.0408, 4372,     99.9,  23.7306,  34.8927,2,  34.8927,2,    173.4,1,    181.5,2,     4.32,2,     2.94,2,     0.37,2,     0.37,2,    1.725,2,    1.070,2,    0.299,4,   2001.6,2,   2285.3,6,   8.0231,2,    25.00,   -999.0,9,   -999.0,  -999.00,9,  -999.00,  -999.00,9,  23.7256,2
  49NZ20031209,  I3I4,   543,  1,     33,  12015,2,20031224,0526,-19.9945,  57.0408, 4372,    150.3,  22.1255,  35.2360,2,  35.2360,2,    197.5,1,    206.7,2,     2.22,2,     0.31,2,     0.18,2,     0.19,2,    1.923,2,    1.176,2,    0.599,4,   2002.1,2,   2305.5,2,   8.0486,6,    25.00,   -999.0,9,   -999.0,  -999.00,9,  -999.00,  -999.00,9,  22.1290,2
  49NZ20031209,  I3I4,   543,  1,     32,  12020,2,20031224,0526,-19.9945,  57.0408, 4372,    198.3,  21.1054,  35.3898,2,  35.3959,2,    185.9,1,    193.1,2,     3.10,2,     2.38,2,     0.06,2,     0.30,2, -999.000,5, -999.000,5, -999.000,5,   2030.1,2,   2311.7,2,   8.0119,2,    25.00,   -999.0,9,   -999.0,  -999.00,9,  -999.00,  -999.00,9,  21.0993,2
  49NZ20031209,  I3I4,   543,  1,     31,  12019,2,20031224,0526,-19.9945,  57.0408, 4372,    250.4,  19.2437,  35.6175,2,  35.6152,2,    172.8,1,    180.0,2,     4.69,2,     4.85,2,     0.02,2,     0.45,2,    2.118,6,    1.251,6,    0.136,4,   2076.0,2,   2328.3,2,   7.9569,2,    25.00,   -999.0,9,   -999.0,  -999.00,9,  -999.00,  -999.00,9,  19.2410,2
  49NZ20031209,  I3I4,   543,  1,     30,  12018,2,20031224,0526,-19.9945,  57.0408, 4372,    299.3,  16.6373,  35.5041,2,  35.5034,2,    162.3,1,    168.7,2,     8.75,2,     8.79,2,     0.01,2,     0.72,2,    2.106,2,    1.290,2,    0.029,4,   2111.6,2,   2327.1,2,   7.8905,2,    25.00,   -999.0,9,   -999.0,  -999.00,9,  -999.00,  -999.00,9,  16.6383,2
  49NZ20031209,  I3I4,   543,  1,     29,  12021,2,20031224,0526,-19.9945,  57.0408, 4372,    400.5,  13.2427,  35.2676,2,  35.2664,2,    206.4,1,    214.4,2,     4.44,2,     9.19,2,     0.01,2,     0.76,2,    2.846,2,    1.554,2,    0.039,4,   2109.5,2,   2316.2,2,   7.8677,2,    25.00,   -999.0,9,   -999.0,  -999.00,9,  -999.00,  -999.00,9,  13.2427,2
  49NZ20031209,  I3I4,   543,  1,     28,  12016,2,20031224,0526,-19.9945,  57.0408, 4372,    500.1,  11.5699,  35.0444,2,  35.0427,2,    215.8,1,    224.1,2,     4.46,2,    11.80,2,     0.01,2,     0.91,2,    3.023,2,    1.596,2,    0.071,4,   2116.7,2,   2304.4,2,   7.8377,2,    25.00,   -999.0,9,   -999.0,  -999.00,9,  -999.00,  -999.00,9,  11.5701,2
  49NZ20031209,  I3I4,   543,  1,     27,  12012,2,20031224,0526,-19.9945,  57.0408, 4372,    600.9,   9.9677,  34.8228,2,  34.8219,2,    208.1,1,    216.6,2,     8.09,2,    16.31,2,     0.00,2,     1.19,2,    2.775,2,    1.420,2,    0.061,4,   2132.5,2,   2296.4,2,   7.7911,2,    25.00,   -999.0,9,   -999.0,  -999.00,9,  -999.00,  -999.00,9,   9.9682,2
  49NZ20031209,  I3I4,   543,  1,     26,  12014,2,20031224,0526,-19.9945,  57.0408, 4372,    701.0,   8.4949,  34.6510,2,  34.6531,2,    193.2,1,    200.8,2,    14.42,2,    21.44,2,    -0.01,2,     1.52,2,    2.065,2,    1.055,2,    0.049,4,   2152.3,6,   2292.9,2,   7.7370,2,    25.00,   -999.0,9,   -999.0,  -999.00,9,  -999.00,  -999.00,9,   8.4940,2
  49NZ20031209,  I3I4,   543,  1,     25,  12013,2,20031224,0526,-19.9945,  57.0408, 4372,    801.6,   7.2878,  34.6257,2,  34.6257,2,    151.5,1,    157.3,2,    35.16,2,    27.93,2,     0.00,2,     1.98,2,    0.950,2,    0.521,2,    0.014,4,   2200.4,2,   2307.8,6,   7.6538,2,    25.00,   -999.0,9,   -999.0,  -999.00,9,  -999.00,  -999.00,9,   7.2900,2
  49NZ20031209,  I3I4,   543,  1,     24,  12048,2,20031224,0526,-19.9945,  57.0408, 4372,    901.6,   6.3813,  34.6219,2,  34.6238,2,    128.5,1,    132.2,2,    51.08,2,    31.72,2,     0.01,2,     2.26,2,    0.386,2,    0.227,2,    0.006,4,   2233.0,2,   2319.9,2,   7.6024,6,    25.00,   -999.0,9,   -999.0,  -999.00,9,  -999.00,  -999.00,9,   6.3817,2
  49NZ20031209,  I3I4,   543,  1,     23,  12047,2,20031224,0526,-19.9945,  57.0408, 4372,   1001.4,   5.6132,  34.6505,2,  34.6461,2,    115.6,1,    119.7,2,    65.85,2,    33.88,2,     0.00,2,     2.43,2,    0.165,6,    0.077,6,    0.000,4,   2256.0,2,   2330.2,2,   7.5790,2,    25.00,   -999.0,9,   -999.0,  -999.00,9,  -999.00,  -999.00,9,   5.6134,2
  49NZ20031209,  I3I4,   543,  1,     22,  12046,2,20031224,0526,-19.9945,  57.0408, 4372,   1201.7,   4.5207,  34.6431,2,  34.6428,2,    124.0,1,    128.4,2,    76.14,2,    34.56,2,     0.00,2,     2.48,2,    0.049,2,    0.017,2,    0.000,4,   2268.6,2,   2343.2,2,   7.5738,2,    25.00,   -999.0,9,   -999.0,  -999.00,9,  -999.00,  -999.00,9,   4.5211,2
  49NZ20031209,  I3I4,   543,  1,     21,  12045,2,20031224,0526,-19.9945,  57.0408, 4372,   1402.1,   3.6744,  34.6482,2,  34.6478,2,    136.4,1,    142.0,2,    82.31,2,    34.44,2,     0.00,2,     2.46,2,    0.027,2,    0.016,2,    0.000,4,   2269.5,2,   2349.8,2,   7.5791,2,    25.00,   -999.0,9,   -999.0,  -999.00,9,  -999.00,  -999.00,9,   3.6744,2
  49NZ20031209,  I3I4,   543,  1,     20,  12044,2,20031224,0526,-19.9945,  57.0408, 4372,   1601.0,   3.0346,  34.6684,2,  34.6679,2,    148.4,1,    154.6,2,    88.17,2,    33.87,2,    -0.01,2,     2.41,2,    0.008,2,    0.004,2,    0.000,4,   2271.7,2,   2355.2,2,   7.5916,2,    25.00,   -999.0,9,   -999.0,  -999.00,9,  -999.00,  -999.00,9,   3.0345,2
  49NZ20031209,  I3I4,   543,  1,     19,  12043,2,20031224,0526,-19.9945,  57.0408, 4372,   1800.8,   2.6613,  34.6992,2,  34.6992,2,    152.3,1,    159.1,2,    97.12,2,    33.64,2,    -0.01,2,     2.38,2,    0.005,2,    0.000,2,    0.009,4,   2277.8,2,   2364.0,2,   7.5970,2,    25.00,   -999.0,9,   -999.0,  -999.00,9,  -999.00,  -999.00,9,   2.6612,2
  49NZ20031209,  I3I4,   543,  1,     18,  12042,2,20031224,0526,-19.9945,  57.0408, 4372,   2001.0,   2.4074,  34.7157,2,  34.7151,2,    154.3,1,    161.3,2,   104.66,2,    33.67,2,     0.00,2,     2.39,2,    0.002,2,   -0.001,2,    0.000,4,   2282.2,2,   2375.0,2,   7.6002,2,    25.00,   -999.0,9,   -999.0,  -999.00,9,  -999.00,  -999.00,9,   2.4074,2
  49NZ20031209,  I3I4,   543,  1,     17,  12041,2,20031224,0526,-19.9945,  57.0408, 4372,   2201.6,   2.2074,  34.7241,2,  34.7241,2,    156.1,1,    163.2,2,   110.42,2,    33.72,2,     0.01,2,     2.38,2,   -0.002,2,    0.000,2,    0.014,4,   2287.4,2,   2375.8,2,   7.6054,2,    25.00,   -999.0,9,   -999.0,  -999.00,9,  -999.00,  -999.00,9,   2.2074,2
  49NZ20031209,  I3I4,   543,  1,     16,  12040,2,20031224,0526,-19.9945,  57.0408, 4372,   2401.4,   2.0592,  34.7300,2,  34.7301,2,    157.5,1,    164.8,2,   114.71,2,    33.78,2,     0.01,2,     2.39,2,   -0.007,2,   -0.005,2,    0.000,4,   2290.5,6,   2379.8,2,   7.6059,2,    25.00,   -999.0,9,   -999.0,  -999.00,9,  -999.00,  -999.00,9,   2.0592,2
  49NZ20031209,  I3I4,   543,  1,     15,  12039,2,20031224,0526,-19.9945,  57.0408, 4372,   2600.2,   1.9482,  34.7321,2,  34.7317,2,    158.3,1,    165.7,2,   118.71,2,    33.90,2,     0.00,2,     2.39,2,   -0.006,2,   -0.003,2,    0.000,4,   2293.0,2,   2387.2,6,   7.6064,2,    25.00,   -999.0,9,   -999.0,  -999.00,9,  -999.00,  -999.00,9,   1.9481,2
  49NZ20031209,  I3I4,   543,  1,     14,  12038,2,20031224,0526,-19.9945,  57.0408, 4372,   2801.5,   1.8708,  34.7343,2,  34.7340,2,    158.0,1,    164.9,2,   122.46,2,    34.07,2,     0.00,2,     2.40,2,    0.003,2,    0.000,2,    0.019,4,   2295.8,2,   2389.6,2,   7.6068,6,    25.00,   -999.0,9,   -999.0,  -999.00,9,  -999.00,  -999.00,9,   1.8705,2
  49NZ20031209,  I3I4,   543,  1,     13,  12037,2,20031224,0526,-19.9945,  57.0408, 4372,   2999.9,   1.7836,  34.7344,2,  34.7341,2,    159.4,1,    166.2,2,   125.10,2,    34.13,2,     0.00,2,     2.41,2,   -0.002,2,    0.001,2,    0.000,4,   2299.6,2,   2392.6,2,   7.6077,2,    25.00,   -999.0,9,   -999.0,  -999.00,9,  -999.00,  -999.00,9,   1.7833,2
  49NZ20031209,  I3I4,   543,  1,     12,  12036,2,20031224,0526,-19.9945,  57.0408, 4372,   3251.0,   1.6927,  34.7324,2,  34.7321,2,    162.4,1,    169.2,2,   126.38,2,    33.97,2,     0.00,2,     2.40,2,    0.005,2,    0.001,2,    0.000,4,   2298.2,2,   2391.7,2,   7.6121,2,    25.00,   -999.0,9,   -999.0,  -999.00,9,  -999.00,  -999.00,9,   1.6925,2
  49NZ20031209,  I3I4,   543,  1,     11,  12035,2,20031224,0526,-19.9945,  57.0408, 4372,   3501.0,   1.5942,  34.7297,2,  34.7297,2,    166.9,1,    173.4,2,   127.39,2,    33.85,2,     0.00,2,     2.38,2,    0.002,2,    0.002,2,    0.000,4,   2297.7,2,   2392.0,2,   7.6152,2,    25.00,   -999.0,9,   -999.0,  -999.00,9,  -999.00,  -999.00,9,   1.5944,2
  49NZ20031209,  I3I4,   543,  1,     10,  12034,2,20031224,0526,-19.9945,  57.0408, 4372,   3750.3,   1.4784,  34.7255,2,  34.7260,2,    173.2,1,    179.6,2,   127.30,2,    33.58,2,     0.01,2,     2.36,2,   -0.002,2,    0.000,2,    0.000,4,   2291.9,2,   2386.8,2,   7.6168,2,    25.00,   -999.0,9,   -999.0,  -999.00,9,  -999.00,  -999.00,9,   1.4784,2
  49NZ20031209,  I3I4,   543,  1,      9,  12033,2,20031224,0526,-19.9945,  57.0408, 4372,   3999.6,   1.3863,  34.7219,2,  34.7217,2,    179.2,1,    185.1,2,   126.47,2,    33.33,2,     0.00,2,     2.34,2,   -0.003,2,    0.000,2,    0.000,4,   2287.0,2,   2386.2,2,   7.6194,2,    25.00,   -999.0,9,   -999.0,  -999.00,9,  -999.00,  -999.00,9,   1.3861,2
  49NZ20031209,  I3I4,   543,  1,      8,  12032,2,20031224,0526,-19.9945,  57.0408, 4372,   4250.4,   1.2881,  34.7177,2,  34.7182,2,    185.8,1,    191.1,2,   125.59,2,    33.10,2,     0.01,2,     2.32,2,    0.002,2,   -0.001,2,    0.000,4,   2282.1,6,   2379.9,2,   7.6205,2,    25.00,   -999.0,9,   -999.0,  -999.00,9,  -999.00,  -999.00,9,   1.2879,2
  49NZ20031209,  I3I4,   543,  1,      7,  12031,2,20031224,0526,-19.9945,  57.0408, 4372,   4425.7,   1.2056,  34.7143,2,  34.7145,2,    191.3,1,    196.0,2,   125.00,2,    32.84,2,     0.01,2,     2.30,2,    0.009,2,    0.002,2,    0.011,4,   2279.2,2,   2379.8,2,   7.6232,2,    25.00,   -999.0,9,   -999.0,  -999.00,9,  -999.00,  -999.00,9,   1.2054,2
  49NZ20031209,  I3I4,   543,  1,      6,  12030,9,20031224,0526,-19.9945,  57.0408, 4372,      5.0,  27.3381,  34.9290,2,-999.0000,9,    194.3,1,   -999.0,9,  -999.00,9,  -999.00,9,  -999.00,9,  -999.00,9, -999.000,9, -999.000,9, -999.000,9,   -999.0,9,   -999.0,9,-999.0000,9,  -999.00,   -999.0,9,   -999.0,  -999.00,9,  -999.00,  -999.00,9,  27.3375,2
  49NZ20031209,  I3I4,   543,  1,      5,  12029,9,20031224,0526,-19.9945,  57.0408, 4372,      4.9,  27.3339,  34.9289,2,-999.0000,9,    194.4,1,   -999.0,9,  -999.00,9,  -999.00,9,  -999.00,9,  -999.00,9, -999.000,9, -999.000,9, -999.000,9,   -999.0,9,   -999.0,9,-999.0000,9,  -999.00,   -999.0,9,   -999.0,  -999.00,9,  -999.00,  -999.00,9,  27.3327,2
  49NZ20031209,  I3I4,   543,  1,      4,  12028,9,20031224,0526,-19.9945,  57.0408, 4372,    100.5,  23.7111,  34.8943,2,-999.0000,9,    173.3,1,   -999.0,9,  -999.00,9,  -999.00,9,  -999.00,9,  -999.00,9, -999.000,9, -999.000,9, -999.000,9,   -999.0,9,   -999.0,9,-999.0000,9,  -999.00,   -999.0,9,   -999.0,  -999.00,9,  -999.00,  -999.00,9,  23.7164,2
  49NZ20031209,  I3I4,   543,  1,      3,  12027,2,20031224,0526,-19.9945,  57.0408, 4372,   4250.0,   1.2881,  34.7178,2,  34.7176,2,    185.8,1,    190.7,2,   125.57,2,    33.09,2,     0.00,2,     2.31,2,   -0.002,2,    0.003,2,    0.000,4,   2284.0,2,   2379.1,2,   7.6211,2,    25.00,   -999.0,9,   -999.0,  -999.00,9,  -999.00,  -999.00,9,   1.2880,2
  49NZ20031209,  I3I4,   543,  1,      2,  12026,9,20031224,0526,-19.9945,  57.0408, 4372,   4249.9,   1.2882,  34.7178,2,-999.0000,9,    185.8,1,   -999.0,9,  -999.00,9,  -999.00,9,  -999.00,9,  -999.00,9, -999.000,9, -999.000,9, -999.000,9,   -999.0,9,   -999.0,9,-999.0000,9,  -999.00,   -999.0,9,   -999.0,  -999.00,9,  -999.00,  -999.00,9,   1.2880,2
  49NZ20031209,  I3I4,   543,  1,      1,  12025,9,20031224,0526,-19.9945,  57.0408, 4372,      5.3,  27.3317,  34.9289,2,-999.0000,9,    194.4,1,   -999.0,9,  -999.00,9,  -999.00,9,  -999.00,9,  -999.00,9, -999.000,9, -999.000,9, -999.000,9,   -999.0,9,   -999.0,9,-999.0000,9,  -999.00,   -999.0,9,   -999.0,  -999.00,9,  -999.00,  -999.00,9,  27.3320,2