BOTTLE,20141204PRINUNIVRMK
# File initialized 4/2/08  
# Updated data from CCHDO 1/30/14  
# Cruise dates:12/9/2003-1/24/2004 
# Chief Scientist:M. Fukasawa 
# Ship and cruise designation: Mirai BEAGLE2003 
# EXPOCODE: 49NZ20031209 
# Region:zonal Indian seection at 20S (I3/I4 repeat) 
# basename: i3i4.2003 
# 145 full depth stations with 36 place Rosette 
# Station numbers X07:X10 replaced with 1007:1010 so all stations would be numeric 
# Hydro: Who - H.Uchida;T.Kawano; Status - final 
# 	Notes: Surface sample given bottle # 0 
# 	12/3/14 eliminated 144 records with no data 
# Nutrients: Who - M.Aoyama; Status - final 
# 	Notes: 
# O2: Who - S.Watanabe; Status - final 
# 	Notes: 
# TCO2: Who - A.Murata; Status - final 
# 	Notes: CRM Batch 60 
# 	See page 74-78, vol. 2 of Data book referenced below 
# TA: Who - A.Murata; Status - final 
# 	Notes: CRM Batch 60 
# 	See page 79-84, vol. 2 of Data book referenced below 
# fCO2: Who - A.Murata; Status -   
# 	Notes: Underway only 
# pH: Who - A.Murata; Status - final 
# 	Notes: Spectrophotometric 
# 	See page 85-87, vol. 2 of Data book referenced below 
# CFC: Who - Y.Watanabe; Status - final 
# 	Notes: Includes CFC-113  
# C-14: Who - Y.Kumamoto; Status - final 
# 	Notes:  
# C-13: Who - ?; Status - final 
# 	Notes: average measurement error for listed values is 0.004 
# H-3/He-3: Who - S.Watanabe; Status - no data yet   
# 	Notes:  
# Other:  
# Cs-137,Pu,H3,Sr M. Aoyama 
# Reference: 
# WHP P6, A10, I3/I4 Revisit Data Book, Blue Earth Global Expedition 2003 (BEAGLE2003), Vol 1-3, H. Uchida and M. Fukasawa eds., JAMSTEC, Yokosuka, Kanagawa, 2005. 
EXPOCODE,SECT_ID,STNNBR,CASTNO,SAMPNO,BTLNBR,BTLNBR_FLAG_W,DATE,TIME,LATITUDE,LONGITUDE,DEPTH,CTDPRS,CTDTMP,CTDSAL,CTDSAL_FLAG_W,SALNTY,SALNTY_FLAG_W,CTDOXY,CTDOXY_FLAG_W,OXYGEN,OXYGEN_FLAG_W,SILCAT,SILCAT_FLAG_W,NITRAT,NITRAT_FLAG_W,NITRIT,NITRIT_FLAG_W,PHSPHT,PHSPHT_FLAG_W,CFC-11,CFC-11_FLAG_W,CFC-12,CFC-12_FLAG_W,CFC113,CFC113_FLAG_W,TCARBN,TCARBN_FLAG_W,ALKALI,ALKALI_FLAG_W,PH_TOT,PH_TOT_FLAG_W,PH_TMP,DELC14,DELC14_FLAG_W,C14ERR,DELC13,DELC13_FLAG_W,CS-137,CS137ER,CS-137_FLAG_W,SBE35,SBE35_FLAG_W
,,,,,,,,,,,METERS,DBAR,ITS-90,PSS-78,,PSS-78,,UMOL/KG,,UMOL/KG,,UMOL/KG,,UMOL/KG,,UMOL/KG,,UMOL/KG,,PMOL/KG,,PMOL/KG,,PMOL/KG,,UMOL/KG,,UMOL/KG,,,,DEG C,/MILLE,,/MILLE,/MILLE,,DM/.1MG,DM/.1MG,,ITS-90,
  49NZ20031209,  I3I4,   610,  1,     36,  12024,2,20031213,0902,-24.6670,  35.3647,  124,     10.8,  27.2233,  35.1372,2,  35.1363,2,    191.8,1,    204.4,2,     1.55,2,    -0.02,2,     0.00,2,     0.13,2, -999.000,9, -999.000,9, -999.000,9,   -999.0,9,   -999.0,9,-999.0000,9,  -999.00,   -999.0,9,   -999.0,  -999.00,9,  -999.00,  -999.00,9,  27.2221,2
  49NZ20031209,  I3I4,   610,  1,     35,  12023,2,20031213,0902,-24.6670,  35.3647,  124,     50.1,  22.5872,  35.2416,2,  35.2378,2,    171.6,1,    182.0,2,     4.58,2,     3.45,2,     0.44,2,     0.00,4, -999.000,9, -999.000,9, -999.000,9,   -999.0,9,   -999.0,9,-999.0000,9,  -999.00,   -999.0,9,   -999.0,  -999.00,9,  -999.00,  -999.00,9,  22.5871,2
  49NZ20031209,  I3I4,   610,  1,     34,  12022,2,20031213,0902,-24.6670,  35.3647,  124,    100.9,  19.2469,  35.3052,2,  35.2991,2,    145.5,1,    153.2,2,     8.73,2,     8.99,2,     0.36,2,     0.76,2, -999.000,9, -999.000,9, -999.000,9,   -999.0,9,   -999.0,9,-999.0000,9,  -999.00,   -999.0,9,   -999.0,  -999.00,9,  -999.00,  -999.00,9,  19.2472,2
  49NZ20031209,  I3I4,   610,  1,     33,  12015,2,20031213,0902,-24.6670,  35.3647,  124,    110.8,  18.8247,  35.3218,2,  35.3123,2,    140.4,1,    147.6,2,     9.49,2,     9.76,2,     0.36,2,     0.80,2, -999.000,9, -999.000,9, -999.000,9,   -999.0,9,   -999.0,9,-999.0000,9,  -999.00,   -999.0,9,   -999.0,  -999.00,9,  -999.00,  -999.00,9,  18.8229,2
  49NZ20031209,  I3I4,   610,  1,     18,  12042,2,20031213,0902,-24.6670,  35.3647,  124,     44.2,  23.8231,  35.2109,2,-999.0000,9,    184.0,1,   -999.0,9,  -999.00,9,  -999.00,9,  -999.00,9,  -999.00,9, -999.000,9, -999.000,9, -999.000,9,   -999.0,9,   -999.0,9,-999.0000,9,  -999.00,   -999.0,9,   -999.0,  -999.00,9,  -999.00,  -999.00,9,  23.8214,2
  49NZ20031209,  I3I4,   610,  1,     17,  12041,2,20031213,0902,-24.6670,  35.3647,  124,      4.3,  27.2915,  35.1381,2,-999.0000,9,    191.9,1,   -999.0,9,  -999.00,9,  -999.00,9,  -999.00,9,  -999.00,9, -999.000,9, -999.000,9, -999.000,9,   -999.0,9,   -999.0,9,-999.0000,9,  -999.00,   -999.0,9,   -999.0,  -999.00,9,  -999.00,  -999.00,9,  27.2992,2
  49NZ20031209,  I3I4,   610,  1,     16,  12040,2,20031213,0902,-24.6670,  35.3647,  124,      3.9,  27.3169,  35.1380,2,-999.0000,9,    191.6,1,   -999.0,9,  -999.00,9,  -999.00,9,  -999.00,9,  -999.00,9, -999.000,9, -999.000,9, -999.000,9,   -999.0,9,   -999.0,9,-999.0000,9,  -999.00,   -999.0,9,   -999.0,  -999.00,9,  -999.00,  -999.00,9,  27.3152,2
  49NZ20031209,  I3I4,   609,  1,     36,  12024,2,20031213,1012,-24.6677,  35.4855,  300,     10.2,  27.3058,  35.1580,2,  35.1600,2,    192.7,1,    207.1,2,     1.54,2,    -0.05,2,     0.00,2,     0.11,2, -999.000,9, -999.000,9, -999.000,9,   -999.0,9,   -999.0,9,-999.0000,9,  -999.00,   -999.0,9,   -999.0,  -999.00,9,  -999.00,  -999.00,9,  27.3037,2
  49NZ20031209,  I3I4,   609,  1,     35,  12023,2,20031213,1012,-24.6677,  35.4855,  300,     51.2,  24.5728,  35.1929,2,  35.1936,2,    188.0,1,    201.7,2,     2.73,2,     0.41,2,     0.33,2,     0.22,2, -999.000,9, -999.000,9, -999.000,9,   -999.0,9,   -999.0,9,-999.0000,9,  -999.00,   -999.0,9,   -999.0,  -999.00,9,  -999.00,  -999.00,9,  24.5772,2
  49NZ20031209,  I3I4,   609,  1,     34,  12022,2,20031213,1012,-24.6677,  35.4855,  300,    100.5,  19.6463,  35.3499,2,  35.3499,2,    138.7,1,    147.8,2,     7.96,2,     9.45,2,     0.06,2,     0.74,2, -999.000,9, -999.000,9, -999.000,9,   -999.0,9,   -999.0,9,-999.0000,9,  -999.00,   -999.0,9,   -999.0,  -999.00,9,  -999.00,  -999.00,9,  19.6261,2
  49NZ20031209,  I3I4,   609,  1,     33,  12015,2,20031213,1012,-24.6677,  35.4855,  300,    150.3,  17.1970,  35.3683,2,  35.3659,2,    134.1,1,    142.4,2,    10.54,2,    12.28,2,     0.02,2,     0.91,2, -999.000,9, -999.000,9, -999.000,9,   -999.0,9,   -999.0,9,-999.0000,9,  -999.00,   -999.0,9,   -999.0,  -999.00,9,  -999.00,  -999.00,9,  17.1930,2
  49NZ20031209,  I3I4,   609,  1,     18,  12042,2,20031213,1012,-24.6677,  35.4855,  300,    199.6,  15.5586,  35.3827,2,  35.3776,2,    150.6,1,    157.2,2,     9.87,2,    11.93,2,     0.01,2,     0.91,2, -999.000,9, -999.000,9, -999.000,9,   -999.0,9,   -999.0,9,-999.0000,9,  -999.00,   -999.0,9,   -999.0,  -999.00,9,  -999.00,  -999.00,9,  15.5559,2
  49NZ20031209,  I3I4,   609,  1,     17,  12041,2,20031213,1012,-24.6677,  35.4855,  300,    249.2,  14.5708,  35.3033,2,  35.2980,2,    154.7,1,    161.3,2,    10.34,2,    13.00,2,     0.01,2,     0.97,2, -999.000,9, -999.000,9, -999.000,9,   -999.0,9,   -999.0,9,-999.0000,9,  -999.00,   -999.0,9,   -999.0,  -999.00,9,  -999.00,  -999.00,9,  14.5681,2
  49NZ20031209,  I3I4,   609,  1,     16,  12040,2,20031213,1012,-24.6677,  35.4855,  300,    286.7,  13.0988,  35.1924,2,  35.2034,2,    169.8,1,    174.9,2,     9.98,2,    13.58,2,     0.04,2,     1.01,2, -999.000,9, -999.000,9, -999.000,9,   -999.0,9,   -999.0,9,-999.0000,9,  -999.00,   -999.0,9,   -999.0,  -999.00,9,  -999.00,  -999.00,9,  13.0883,2
  49NZ20031209,  I3I4,   608,  1,     36,  12024,2,20031213,1127,-24.6720,  35.5488,  588,      8.4,  27.3000,  35.1942,2,  35.1980,2,    193.4,1,    203.9,2,     1.59,2,    -0.05,2,     0.00,2,     0.11,2, -999.000,9, -999.000,9, -999.000,9,   -999.0,9,   -999.0,9,-999.0000,9,  -999.00,   -999.0,9,   -999.0,  -999.00,9,  -999.00,  -999.00,9,  27.2978,2
  49NZ20031209,  I3I4,   608,  1,     35,  12023,2,20031213,1127,-24.6720,  35.5488,  588,     50.1,  25.0450,  35.1912,2,  35.1933,2,    197.6,1,    208.7,2,     2.02,2,    -0.05,2,     0.01,2,     0.16,2, -999.000,9, -999.000,9, -999.000,9,   -999.0,9,   -999.0,9,-999.0000,9,  -999.00,   -999.0,9,   -999.0,  -999.00,9,  -999.00,  -999.00,9,  25.0312,2
  49NZ20031209,  I3I4,   608,  1,     34,  12022,2,20031213,1127,-24.6720,  35.5488,  588,    101.4,  18.7771,  35.3255,2,  35.3208,2,    137.5,1,    144.0,2,     9.18,2,    10.61,2,     0.07,2,     0.81,2, -999.000,9, -999.000,9, -999.000,9,   -999.0,9,   -999.0,9,-999.0000,9,  -999.00,   -999.0,9,   -999.0,  -999.00,9,  -999.00,  -999.00,9,  18.7760,2
  49NZ20031209,  I3I4,   608,  1,     33,  12015,2,20031213,1127,-24.6720,  35.5488,  588,    149.5,  16.4869,  35.3167,2,  35.3152,2,    130.9,1,    136.3,2,    11.80,2,    13.53,2,     0.02,2,     1.00,2, -999.000,9, -999.000,9, -999.000,9,   -999.0,9,   -999.0,9,-999.0000,9,  -999.00,   -999.0,9,   -999.0,  -999.00,9,  -999.00,  -999.00,9,  16.4877,2
  49NZ20031209,  I3I4,   608,  1,     32,  12020,2,20031213,1127,-24.6720,  35.5488,  588,    201.4,  15.3200,  35.3770,2,  35.3766,2,    154.2,1,    160.9,2,     9.47,2,    11.74,2,     0.01,2,     0.89,2, -999.000,9, -999.000,9, -999.000,9,   -999.0,9,   -999.0,9,-999.0000,9,  -999.00,   -999.0,9,   -999.0,  -999.00,9,  -999.00,  -999.00,9,  15.3152,2
  49NZ20031209,  I3I4,   608,  1,     18,  12042,2,20031213,1127,-24.6720,  35.5488,  588,    250.4,  14.3435,  35.3247,2,  35.3153,2,    165.6,1,   -999.0,5,     9.07,2,    12.01,2,     0.01,2,     0.90,2, -999.000,9, -999.000,9, -999.000,9,   -999.0,9,   -999.0,9,-999.0000,9,  -999.00,   -999.0,9,   -999.0,  -999.00,9,  -999.00,  -999.00,9,  14.3438,2
  49NZ20031209,  I3I4,   608,  1,     17,  12041,2,20031213,1127,-24.6720,  35.5488,  588,    301.4,  13.4846,  35.2327,2,  35.2315,2,    165.0,1,    171.6,2,    10.00,2,    13.47,2,     0.01,2,     1.01,2, -999.000,9, -999.000,9, -999.000,9,   -999.0,9,   -999.0,9,-999.0000,9,  -999.00,   -999.0,9,   -999.0,  -999.00,9,  -999.00,  -999.00,9,  13.4853,2
  49NZ20031209,  I3I4,   608,  1,     16,  12040,2,20031213,1127,-24.6720,  35.5488,  588,    399.3,  12.2217,  35.1039,2,  35.1031,2,    177.8,1,    184.8,2,     9.68,2,    14.52,2,     0.01,2,     1.07,2, -999.000,9, -999.000,9, -999.000,9,   -999.0,9,   -999.0,9,-999.0000,9,  -999.00,   -999.0,9,   -999.0,  -999.00,9,  -999.00,  -999.00,9,  12.2224,2
  49NZ20031209,  I3I4,   608,  1,     15,  12039,2,20031213,1127,-24.6720,  35.5488,  588,    500.3,  10.8227,  34.9380,2,  34.9354,2,    184.7,1,    191.8,2,    10.96,2,    16.86,2,     0.01,2,     1.21,2, -999.000,9, -999.000,9, -999.000,9,   -999.0,9,   -999.0,9,-999.0000,9,  -999.00,   -999.0,9,   -999.0,  -999.00,9,  -999.00,  -999.00,9,  10.8219,2
  49NZ20031209,  I3I4,   608,  1,     14,  12038,2,20031213,1127,-24.6720,  35.5488,  588,    578.8,   9.5898,  34.8131,2,  34.8222,3,    172.0,1,    180.0,2,    16.42,2,    20.35,2,     0.01,2,     1.45,2, -999.000,9, -999.000,9, -999.000,9,   -999.0,9,   -999.0,9,-999.0000,9,  -999.00,   -999.0,9,   -999.0,  -999.00,9,  -999.00,  -999.00,9,   9.5753,2
  49NZ20031209,  I3I4,   607,  1,     36,  12024,2,20031213,1320,-24.6707,  35.7188,  927,     11.0,  27.5915,  35.2522,2,  35.2559,2,    192.1,1,    202.5,2,     1.63,2,    -0.02,2,     0.00,2,     0.14,2,    1.661,2,    1.014,2, -999.000,5,   1978.5,2,   2301.9,2,   8.0885,2,    25.00,   -999.0,9,   -999.0,  -999.00,9,  -999.00,  -999.00,9,  27.5902,2
  49NZ20031209,  I3I4,   607,  1,     35,  12023,2,20031213,1320,-24.6707,  35.7188,  927,     50.6,  23.1999,  35.2935,2,  35.2964,2,    213.0,1,    223.6,2,     1.81,2,    -0.01,2,     0.01,2,     0.13,2,    1.988,2,    1.147,2, -999.000,5,   1992.6,6,   2304.4,2,   8.0667,2,    25.00,   -999.0,9,   -999.0,  -999.00,9,  -999.00,  -999.00,9,  23.1735,2
  49NZ20031209,  I3I4,   607,  1,     34,  12022,2,20031213,1320,-24.6707,  35.7188,  927,     99.5,  20.0303,  35.3920,2,  35.3963,2,    154.0,1,    163.2,2,     6.16,2,     7.04,2,     0.04,2,     0.00,4,    2.040,2,    1.188,2,    0.127,4,   2070.7,2,   2312.3,6,   7.9411,2,    25.00,   -999.0,9,   -999.0,  -999.00,9,  -999.00,  -999.00,9,  20.0309,2
  49NZ20031209,  I3I4,   607,  1,     33,  12015,2,20031213,1320,-24.6707,  35.7188,  927,    150.5,  17.7272,  35.5325,2,  35.5338,2,    158.4,1,    166.5,2,     6.89,2,     8.07,2,     0.02,2,     0.66,2,    2.225,2,    1.249,2,    0.120,4,   2101.0,2,   2322.2,2,   7.9024,6,    25.00,   -999.0,9,   -999.0,  -999.00,9,  -999.00,  -999.00,9,  17.7219,2
  49NZ20031209,  I3I4,   607,  1,     32,  12020,2,20031213,1320,-24.6707,  35.7188,  927,    198.4,  16.1750,  35.4720,2,  35.4767,2,    161.7,1,    171.3,2,     7.64,2,     9.40,2,     0.01,2,     0.75,2,    2.359,2,    1.296,2,    0.080,4,   2114.0,2,   2322.1,2,   7.8752,2,    25.00,   -999.0,9,   -999.0,  -999.00,9,  -999.00,  -999.00,9,  16.1786,2
  49NZ20031209,  I3I4,   607,  1,     31,  12019,2,20031213,1320,-24.6707,  35.7188,  927,    248.4,  14.3840,  35.2811,2,  35.2816,2,    149.1,1,    155.0,2,    11.26,2,    13.93,2,     0.01,2,     1.05,2,    2.237,6,    1.213,6,    0.030,4,   2138.8,2,   2313.4,2,   7.8111,2,    25.00,   -999.0,9,   -999.0,  -999.00,9,  -999.00,  -999.00,9,  14.3925,2
  49NZ20031209,  I3I4,   607,  1,     30,  12018,2,20031213,1320,-24.6707,  35.7188,  927,    300.9,  13.4449,  35.2442,2,  35.2417,2,    173.6,1,    179.5,2,     9.08,2,    12.78,2,     0.01,2,     0.97,2,    2.490,2,    1.335,2,    0.047,4,   2131.2,2,   2312.4,2,   7.8232,2,    25.00,   -999.0,9,   -999.0,  -999.00,9,  -999.00,  -999.00,9,  13.4429,2
  49NZ20031209,  I3I4,   607,  1,     29,  12017,2,20031213,1320,-24.6707,  35.7188,  927,    398.8,  11.8870,  35.0658,2,  35.0672,2,    184.8,1,    192.6,2,     8.91,2,    14.48,2,     0.01,2,     1.07,2,    2.608,2,    1.371,2,    0.048,4,   2135.0,2,   2307.1,2,   7.8041,2,    25.00,   -999.0,9,   -999.0,  -999.00,9,  -999.00,  -999.00,9,  11.8872,2
  49NZ20031209,  I3I4,   607,  1,     28,  12016,2,20031213,1320,-24.6707,  35.7188,  927,    500.6,  10.6119,  34.8985,2,  34.8946,2,    207.4,1,    215.4,2,     6.61,2,    15.19,2,     0.01,2,     1.11,2,    2.838,2,    1.461,2,    0.095,4,   2128.4,2,   2297.1,2,   7.8016,2,    25.00,   -999.0,9,   -999.0,  -999.00,9,  -999.00,  -999.00,9,  10.6130,2
  49NZ20031209,  I3I4,   607,  1,     27,  12012,2,20031213,1320,-24.6707,  35.7188,  927,    602.7,   8.8297,  34.6972,2,  34.6964,2,    189.7,1,    197.4,2,    13.98,2,    21.08,2,     0.00,2,     1.48,2,    2.056,2,    1.067,2,    0.037,4,   2154.4,2,   2291.2,2,   7.7381,2,    25.00,   -999.0,9,   -999.0,  -999.00,9,  -999.00,  -999.00,9,   8.8282,2
  49NZ20031209,  I3I4,   607,  1,     26,  12014,2,20031213,1320,-24.6707,  35.7188,  927,    701.4,   7.9269,  34.6682,2,  34.6682,2,    160.5,1,    166.1,2,    26.43,2,    25.98,2,     0.00,2,     1.83,2,    1.226,2,    0.687,2,    0.024,4,   2185.7,6,   2302.5,2,   7.6766,2,    25.00,   -999.0,9,   -999.0,  -999.00,9,  -999.00,  -999.00,9,   7.9315,2
  49NZ20031209,  I3I4,   607,  1,     25,  12013,2,20031213,1320,-24.6707,  35.7188,  927,    802.5,   6.8621,  34.6870,2,  34.6870,2,    130.5,1,    134.2,2,    44.58,2,    30.78,2,     0.00,2,     2.20,2,    0.579,2,    0.347,2,    0.021,4,   2226.0,2,   2318.9,6,   7.6104,2,    25.00,   -999.0,9,   -999.0,  -999.00,9,  -999.00,  -999.00,9,   6.8640,2
  49NZ20031209,  I3I4,   607,  1,     24,  12048,2,20031213,1320,-24.6707,  35.7188,  927,    921.2,   5.2792,  34.6164,2,  34.6153,2,    139.2,1,    142.7,2,    55.62,2,    32.76,2,     0.00,2,     2.34,2,    0.436,2,    0.277,2,    0.016,4,   2242.1,2,   2323.2,2,   7.5905,6,    25.00,   -999.0,9,   -999.0,  -999.00,9,  -999.00,  -999.00,9,   5.2809,2
  49NZ20031209,  I3I4,   607,  1,     23,  12047,2,20031213,1320,-24.6707,  35.7188,  927,    801.9,   6.8693,  34.6866,2,  34.6864,2,    130.7,1,    134.1,2,    44.56,2,    30.76,2,     0.00,2,     2.20,2,    0.577,2,    0.358,2,    0.017,4,   2226.7,2,   2316.7,2,   7.6107,2,    25.00,   -999.0,9,   -999.0,  -999.00,9,  -999.00,  -999.00,9,   6.8672,2