BOTTLE,20141204PRINUNIVRMK
EXPOCODE,SECT_ID,STNNBR,CASTNO,SAMPNO,BTLNBR,BTLNBR_FLAG_W,DATE,TIME,LATITUDE,LONGITUDE,DEPTH,CTDPRS,CTDTMP,CTDSAL,CTDSAL_FLAG_W,SALNTY,SALNTY_FLAG_W,CTDOXY,CTDOXY_FLAG_W,OXYGEN,OXYGEN_FLAG_W,SILCAT,SILCAT_FLAG_W,NITRAT,NITRAT_FLAG_W,NITRIT,NITRIT_FLAG_W,PHSPHT,PHSPHT_FLAG_W,CFC-11,CFC-11_FLAG_W,CFC-12,CFC-12_FLAG_W,CFC113,CFC113_FLAG_W,TCARBN,TCARBN_FLAG_W,ALKALI,ALKALI_FLAG_W,PH_TOT,PH_TOT_FLAG_W,PH_TMP,DELC14,DELC14_FLAG_W,C14ERR,DELC13,DELC13_FLAG_W,CS-137,CS137ER,CS-137_FLAG_W,SBE35,SBE35_FLAG_W
,,,,,,,,,,,METERS,DBAR,ITS-90,PSS-78,,PSS-78,,UMOL/KG,,UMOL/KG,,UMOL/KG,,UMOL/KG,,UMOL/KG,,UMOL/KG,,PMOL/KG,,PMOL/KG,,PMOL/KG,,UMOL/KG,,UMOL/KG,,,,DEG C,/MILLE,,/MILLE,/MILLE,,DM/.1MG,DM/.1MG,,ITS-90,
  49NZ20031209,  I3I4,   460,  1,     36,  12024,2,20040117,1056,-19.9928, 105.7583, 5305,      9.0,  24.4837,  35.0911,2,  35.0924,2,    201.0,1,    211.5,2,     2.12,2,     0.03,2,     0.00,2,     0.07,2, -999.000,9, -999.000,9, -999.000,9,   -999.0,9,   -999.0,9,-999.0000,9,  -999.00,   -999.0,9,   -999.0,  -999.00,9,  -999.00,  -999.00,9,  24.4821,2
  49NZ20031209,  I3I4,   460,  1,     35,  12023,2,20040117,1056,-19.9928, 105.7583, 5305,     49.6,  23.1595,  35.2657,2,  35.2666,2,    207.5,1,    218.2,2,     2.32,2,     0.01,2,     0.00,2,     0.08,2, -999.000,9, -999.000,9, -999.000,9,   -999.0,9,   -999.0,9,-999.0000,9,  -999.00,   -999.0,9,   -999.0,  -999.00,9,  -999.00,  -999.00,9,  23.1413,2
  49NZ20031209,  I3I4,   460,  1,     34,  12022,2,20040117,1056,-19.9928, 105.7583, 5305,     98.6,  20.9790,  35.2819,2,  35.2935,2,    179.2,1,    188.1,2,     4.46,2,     2.92,2,     0.12,2,     0.31,2, -999.000,9, -999.000,9, -999.000,9,   -999.0,9,   -999.0,9,-999.0000,9,  -999.00,   -999.0,9,   -999.0,  -999.00,9,  -999.00,  -999.00,9,  20.9800,2
  49NZ20031209,  I3I4,   460,  1,     33,  12015,2,20040117,1056,-19.9928, 105.7583, 5305,    150.1,  19.7895,  35.5985,2,  35.5933,2,    186.6,1,    194.9,2,     3.43,2,     2.50,2,     0.08,2,     0.28,2, -999.000,9, -999.000,9, -999.000,9,   -999.0,9,   -999.0,9,-999.0000,9,  -999.00,   -999.0,9,   -999.0,  -999.00,9,  -999.00,  -999.00,9,  19.7890,2
  49NZ20031209,  I3I4,   460,  1,     32,  12020,2,20040117,1056,-19.9928, 105.7583, 5305,    200.4,  18.1300,  35.6550,2,  35.6547,2,    180.0,1,    188.5,2,     4.53,2,     4.51,2,     0.01,2,     0.41,2, -999.000,9, -999.000,9, -999.000,9,   -999.0,9,   -999.0,9,-999.0000,9,  -999.00,   -999.0,9,   -999.0,  -999.00,9,  -999.00,  -999.00,9,  18.1293,2
  49NZ20031209,  I3I4,   460,  1,     31,  12019,2,20040117,1056,-19.9928, 105.7583, 5305,    249.4,  16.1288,  35.5984,2,  35.5950,2,    191.6,1,    200.4,2,     4.36,2,     5.11,2,     0.01,2,     0.48,2, -999.000,9, -999.000,9, -999.000,9,   -999.0,9,   -999.0,9,-999.0000,9,  -999.00,   -999.0,9,   -999.0,  -999.00,9,  -999.00,  -999.00,9,  16.1308,2
  49NZ20031209,  I3I4,   460,  1,     30,  12018,2,20040117,1056,-19.9928, 105.7583, 5305,    299.8,  14.4605,  35.4285,2,  35.4275,2,    197.2,1,    206.6,2,     4.39,2,     6.98,2,     0.01,2,     0.60,2, -999.000,9, -999.000,9, -999.000,9,   -999.0,9,   -999.0,9,-999.0000,9,  -999.00,   -999.0,9,   -999.0,  -999.00,9,  -999.00,  -999.00,9,  14.4603,2
  49NZ20031209,  I3I4,   460,  1,     29,  12017,2,20040117,1056,-19.9928, 105.7583, 5305,    400.5,  11.1281,  34.9687,2,  34.9653,2,    215.0,1,    225.3,2,     4.65,2,    12.19,2,     0.00,2,     0.92,2, -999.000,9, -999.000,9, -999.000,9,   -999.0,9,   -999.0,9,-999.0000,9,  -999.00,   -999.0,9,   -999.0,  -999.00,9,  -999.00,  -999.00,9,  11.1380,2
  49NZ20031209,  I3I4,   460,  1,     28,  12016,2,20040117,1056,-19.9928, 105.7583, 5305,    501.8,   9.1738,  34.6879,2,  34.6850,2,    216.0,1,    226.4,2,     6.67,2,    17.60,2,     0.00,2,     1.25,2, -999.000,9, -999.000,9, -999.000,9,   -999.0,9,   -999.0,9,-999.0000,9,  -999.00,   -999.0,9,   -999.0,  -999.00,9,  -999.00,  -999.00,9,   9.1740,2
  49NZ20031209,  I3I4,   460,  1,     27,  12012,2,20040117,1056,-19.9928, 105.7583, 5305,    600.7,   7.7055,  34.5611,2,  34.5592,2,    178.4,1,    187.3,2,    20.26,2,    24.75,2,     0.00,2,     1.72,2, -999.000,9, -999.000,9, -999.000,9,   -999.0,9,   -999.0,9,-999.0000,9,  -999.00,   -999.0,9,   -999.0,  -999.00,9,  -999.00,  -999.00,9,   7.7058,2
  49NZ20031209,  I3I4,   460,  1,     26,  12014,2,20040117,1056,-19.9928, 105.7583, 5305,    701.5,   6.5056,  34.5743,2,  34.5719,2,    124.4,1,    129.4,2,    48.66,2,    32.04,2,     0.00,2,     2.26,2, -999.000,9, -999.000,9, -999.000,9,   -999.0,9,   -999.0,9,-999.0000,9,  -999.00,   -999.0,9,   -999.0,  -999.00,9,  -999.00,  -999.00,9,   6.5090,2
  49NZ20031209,  I3I4,   460,  1,     25,  12013,2,20040117,1056,-19.9928, 105.7583, 5305,    801.9,   5.8333,  34.6280,2,  34.6274,2,     95.8,1,     99.4,2,    70.98,2,    35.26,2,     0.00,2,     2.53,2, -999.000,9, -999.000,9, -999.000,9,   -999.0,9,   -999.0,9,-999.0000,9,  -999.00,   -999.0,9,   -999.0,  -999.00,9,  -999.00,  -999.00,9,   5.8352,2
  49NZ20031209,  I3I4,   460,  1,     24,  12048,2,20040117,1056,-19.9928, 105.7583, 5305,    899.4,   5.4388,  34.6439,2,  34.6434,2,     91.6,1,     94.8,2,    80.37,2,    36.04,2,     0.00,2,     2.60,2, -999.000,9, -999.000,9, -999.000,9,   -999.0,9,   -999.0,9,-999.0000,9,  -999.00,   -999.0,9,   -999.0,  -999.00,9,  -999.00,  -999.00,9,   5.4390,2
  49NZ20031209,  I3I4,   460,  1,     23,  12047,2,20040117,1056,-19.9928, 105.7583, 5305,   1000.8,   5.1307,  34.6523,2,  34.6525,2,     91.8,1,     95.0,2,    86.26,2,    36.13,2,     0.00,2,     2.62,2, -999.000,9, -999.000,9, -999.000,9,   -999.0,9,   -999.0,9,-999.0000,9,  -999.00,   -999.0,9,   -999.0,  -999.00,9,  -999.00,  -999.00,9,   5.1309,2
  49NZ20031209,  I3I4,   460,  1,     22,  12046,2,20040117,1056,-19.9928, 105.7583, 5305,   1200.1,   4.4185,  34.6507,2,  34.6509,2,    101.2,1,    105.1,2,    92.76,2,    36.24,2,     0.00,2,     2.62,2, -999.000,9, -999.000,9, -999.000,9,   -999.0,9,   -999.0,9,-999.0000,9,  -999.00,   -999.0,9,   -999.0,  -999.00,9,  -999.00,  -999.00,9,   4.4187,2
  49NZ20031209,  I3I4,   460,  1,     21,  12045,2,20040117,1056,-19.9928, 105.7583, 5305,   1402.1,   3.8053,  34.6589,2,  34.6589,2,    112.2,1,    117.0,2,    96.70,2,    35.95,2,     0.00,2,     2.59,2, -999.000,9, -999.000,9, -999.000,9,   -999.0,9,   -999.0,9,-999.0000,9,  -999.00,   -999.0,9,   -999.0,  -999.00,9,  -999.00,  -999.00,9,   3.8074,2
  49NZ20031209,  I3I4,   460,  1,     20,  12044,2,20040117,1056,-19.9928, 105.7583, 5305,   1600.7,   3.2286,  34.6821,2,  34.6824,2,    124.3,1,    130.2,2,   101.09,2,    35.39,2,     0.00,2,     2.54,2, -999.000,9, -999.000,9, -999.000,9,   -999.0,9,   -999.0,9,-999.0000,9,  -999.00,   -999.0,9,   -999.0,  -999.00,9,  -999.00,  -999.00,9,   3.2287,2
  49NZ20031209,  I3I4,   460,  1,     19,  12043,2,20040117,1056,-19.9928, 105.7583, 5305,   1801.9,   2.7625,  34.7049,2,  34.7049,2,    133.1,1,    139.7,2,   107.58,2,    35.06,2,     0.00,2,     2.49,2, -999.000,9, -999.000,9, -999.000,9,   -999.0,9,   -999.0,9,-999.0000,9,  -999.00,   -999.0,9,   -999.0,  -999.00,9,  -999.00,  -999.00,9,   2.7624,2
  49NZ20031209,  I3I4,   460,  1,     18,  12042,2,20040117,1056,-19.9928, 105.7583, 5305,   2001.7,   2.4442,  34.7195,2,  34.7194,2,    138.3,1,    145.6,2,   114.65,2,    34.77,2,     0.00,2,     2.47,2, -999.000,9, -999.000,9, -999.000,9,   -999.0,9,   -999.0,9,-999.0000,9,  -999.00,   -999.0,9,   -999.0,  -999.00,9,  -999.00,  -999.00,9,   2.4440,2
  49NZ20031209,  I3I4,   460,  1,     17,  12041,2,20040117,1056,-19.9928, 105.7583, 5305,   2200.3,   2.2149,  34.7257,2,  34.7257,2,    142.7,1,    150.4,2,   119.20,2,    34.53,2,     0.00,2,     2.46,2, -999.000,9, -999.000,9, -999.000,9,   -999.0,9,   -999.0,9,-999.0000,9,  -999.00,   -999.0,9,   -999.0,  -999.00,9,  -999.00,  -999.00,9,   2.2150,2
  49NZ20031209,  I3I4,   460,  1,     16,  12040,2,20040117,1056,-19.9928, 105.7583, 5305,   2399.4,   2.0335,  34.7274,2,  34.7273,2,    147.1,1,    155.3,2,   122.02,2,    34.46,2,     0.00,2,     2.44,2, -999.000,9, -999.000,9, -999.000,9,   -999.0,9,   -999.0,9,-999.0000,9,  -999.00,   -999.0,9,   -999.0,  -999.00,9,  -999.00,  -999.00,9,   2.0336,2
  49NZ20031209,  I3I4,   460,  1,     15,  12039,2,20040117,1056,-19.9928, 105.7583, 5305,   2599.6,   1.8896,  34.7266,2,  34.7263,2,    152.4,1,    161.0,2,   122.83,2,    34.18,2,     0.00,2,     2.41,2, -999.000,9, -999.000,9, -999.000,9,   -999.0,9,   -999.0,9,-999.0000,9,  -999.00,   -999.0,9,   -999.0,  -999.00,9,  -999.00,  -999.00,9,   1.8895,2
  49NZ20031209,  I3I4,   460,  1,     14,  12038,2,20040117,1056,-19.9928, 105.7583, 5305,   2801.0,   1.7385,  34.7256,2,  34.7262,2,    158.8,1,    168.2,2,   122.55,2,    33.83,2,     0.00,2,     2.37,2, -999.000,9, -999.000,9, -999.000,9,   -999.0,9,   -999.0,9,-999.0000,9,  -999.00,   -999.0,9,   -999.0,  -999.00,9,  -999.00,  -999.00,9,   1.7383,2
  49NZ20031209,  I3I4,   460,  1,     13,  12037,2,20040117,1056,-19.9928, 105.7583, 5305,   3001.0,   1.5980,  34.7241,2,  34.7242,2,    164.7,1,    174.3,2,   123.05,2,    33.55,2,     0.00,2,     2.35,2, -999.000,9, -999.000,9, -999.000,9,   -999.0,9,   -999.0,9,-999.0000,9,  -999.00,   -999.0,9,   -999.0,  -999.00,9,  -999.00,  -999.00,9,   1.5979,2
  49NZ20031209,  I3I4,   460,  1,     12,  12036,2,20040117,1056,-19.9928, 105.7583, 5305,   3249.9,   1.4561,  34.7220,2,  34.7220,2,    170.4,1,    180.3,2,   123.49,2,    33.25,2,     0.00,2,     2.32,2, -999.000,9, -999.000,9, -999.000,9,   -999.0,9,   -999.0,9,-999.0000,9,  -999.00,   -999.0,9,   -999.0,  -999.00,9,  -999.00,  -999.00,9,   1.4561,2
  49NZ20031209,  I3I4,   460,  1,     11,  12035,2,20040117,1056,-19.9928, 105.7583, 5305,   3500.4,   1.3401,  34.7192,2,  34.7185,2,    174.3,1,    184.3,2,   125.33,2,    33.14,2,     0.00,2,     2.31,2, -999.000,9, -999.000,9, -999.000,9,   -999.0,9,   -999.0,9,-999.0000,9,  -999.00,   -999.0,9,   -999.0,  -999.00,9,  -999.00,  -999.00,9,   1.3403,2
  49NZ20031209,  I3I4,   460,  1,     10,  12034,2,20040117,1056,-19.9928, 105.7583, 5305,   3750.5,   1.2634,  34.7167,2,  34.7165,2,    176.7,1,    186.7,2,   127.11,2,    33.10,2,     0.01,2,     2.31,2, -999.000,9, -999.000,9, -999.000,9,   -999.0,9,   -999.0,9,-999.0000,9,  -999.00,   -999.0,9,   -999.0,  -999.00,9,  -999.00,  -999.00,9,   1.2631,2
  49NZ20031209,  I3I4,   460,  1,      9,  12033,2,20040117,1056,-19.9928, 105.7583, 5305,   3999.3,   1.2152,  34.7150,2,  34.7153,2,    179.5,1,    189.4,2,   127.58,2,    33.10,2,     0.00,2,     2.30,2, -999.000,9, -999.000,9, -999.000,9,   -999.0,9,   -999.0,9,-999.0000,9,  -999.00,   -999.0,9,   -999.0,  -999.00,9,  -999.00,  -999.00,9,   1.2151,2
  49NZ20031209,  I3I4,   460,  1,      8,  12032,2,20040117,1056,-19.9928, 105.7583, 5305,   4249.9,   1.1948,  34.7142,2,  34.7142,2,    182.0,1,    191.4,2,   127.79,2,    33.04,2,     0.00,2,     2.29,2, -999.000,9, -999.000,9, -999.000,9,   -999.0,9,   -999.0,9,-999.0000,9,  -999.00,   -999.0,9,   -999.0,  -999.00,9,  -999.00,  -999.00,9,   1.1948,2
  49NZ20031209,  I3I4,   460,  1,      7,  12031,2,20040117,1056,-19.9928, 105.7583, 5305,   4501.9,   1.1832,  34.7133,2,  34.7139,3,    184.7,1,    193.6,2,   127.09,2,    32.86,2,     0.00,2,     2.28,2, -999.000,9, -999.000,9, -999.000,9,   -999.0,9,   -999.0,9,-999.0000,9,  -999.00,   -999.0,9,   -999.0,  -999.00,9,  -999.00,  -999.00,9,   1.1831,2
  49NZ20031209,  I3I4,   460,  1,      6,  12030,2,20040117,1056,-19.9928, 105.7583, 5305,   4751.7,   1.1745,  34.7126,2,  34.7126,2,    187.4,1,    195.5,2,   126.87,2,    32.83,2,     0.00,2,     2.27,2, -999.000,9, -999.000,9, -999.000,9,   -999.0,9,   -999.0,9,-999.0000,9,  -999.00,   -999.0,9,   -999.0,  -999.00,9,  -999.00,  -999.00,9,   1.1745,2
  49NZ20031209,  I3I4,   460,  1,      5,  12029,2,20040117,1056,-19.9928, 105.7583, 5305,   5000.9,   1.1715,  34.7116,2,  34.7116,2,    190.6,1,    197.7,2,   126.04,2,    32.66,2,     0.00,2,     2.26,2, -999.000,9, -999.000,9, -999.000,9,   -999.0,9,   -999.0,9,-999.0000,9,  -999.00,   -999.0,9,   -999.0,  -999.00,9,  -999.00,  -999.00,9,   1.1714,2
  49NZ20031209,  I3I4,   460,  1,      4,  12028,2,20040117,1056,-19.9928, 105.7583, 5305,   5250.9,   1.1575,  34.7105,2,  34.7109,2,    194.4,1,    200.6,2,   124.71,2,    32.50,2,     0.00,2,     2.25,2, -999.000,9, -999.000,9, -999.000,9,   -999.0,9,   -999.0,9,-999.0000,9,  -999.00,   -999.0,9,   -999.0,  -999.00,9,  -999.00,  -999.00,9,   1.1574,2
  49NZ20031209,  I3I4,   460,  1,      3,  12027,2,20040117,1056,-19.9928, 105.7583, 5305,   5405.2,   1.1517,  34.7097,2,  34.7102,2,    197.4,1,    202.1,2,   123.80,2,    32.38,2,     0.00,2,     2.25,2, -999.000,9, -999.000,9, -999.000,9,   -999.0,9,   -999.0,9,-999.0000,9,  -999.00,   -999.0,9,   -999.0,  -999.00,9,  -999.00,  -999.00,9,   1.1518,2
  49NZ20031209,  I3I4,   460,  1,      2,  12026,9,20040117,1056,-19.9928, 105.7583, 5305,      8.6,  24.4831,  35.0914,2,-999.0000,9,    201.0,1,   -999.0,9,  -999.00,9,  -999.00,9,  -999.00,9,  -999.00,9, -999.000,9, -999.000,9, -999.000,9,   -999.0,9,   -999.0,9,-999.0000,9,  -999.00,   -999.0,9,   -999.0,  -999.00,9,  -999.00,  -999.00,9,  24.4824,2
  49NZ20031209,  I3I4,   460,  1,      1,  12025,9,20040117,1056,-19.9928, 105.7583, 5305,   1001.3,   5.1305,  34.6523,2,-999.0000,9,     91.8,1,   -999.0,9,  -999.00,9,  -999.00,9,  -999.00,9,  -999.00,9, -999.000,9, -999.000,9, -999.000,9,   -999.0,9,   -999.0,9,-999.0000,9,  -999.00,   -999.0,9,   -999.0,  -999.00,9,  -999.00,  -999.00,9,   5.1308,2