BOTTLE,20141204PRINUNIVRMK
EXPOCODE,SECT_ID,STNNBR,CASTNO,SAMPNO,BTLNBR,BTLNBR_FLAG_W,DATE,TIME,LATITUDE,LONGITUDE,DEPTH,CTDPRS,CTDTMP,CTDSAL,CTDSAL_FLAG_W,SALNTY,SALNTY_FLAG_W,CTDOXY,CTDOXY_FLAG_W,OXYGEN,OXYGEN_FLAG_W,SILCAT,SILCAT_FLAG_W,NITRAT,NITRAT_FLAG_W,NITRIT,NITRIT_FLAG_W,PHSPHT,PHSPHT_FLAG_W,CFC-11,CFC-11_FLAG_W,CFC-12,CFC-12_FLAG_W,CFC113,CFC113_FLAG_W,TCARBN,TCARBN_FLAG_W,ALKALI,ALKALI_FLAG_W,PH_TOT,PH_TOT_FLAG_W,PH_TMP,DELC14,DELC14_FLAG_W,C14ERR,DELC13,DELC13_FLAG_W,CS-137,CS137ER,CS-137_FLAG_W,SBE35,SBE35_FLAG_W
,,,,,,,,,,,METERS,DBAR,ITS-90,PSS-78,,PSS-78,,UMOL/KG,,UMOL/KG,,UMOL/KG,,UMOL/KG,,UMOL/KG,,UMOL/KG,,PMOL/KG,,PMOL/KG,,PMOL/KG,,UMOL/KG,,UMOL/KG,,,,DEG C,/MILLE,,/MILLE,/MILLE,,DM/.1MG,DM/.1MG,,ITS-90,
  49NZ20031209,  I3I4,   554,  1,     36,  12024,2,20031221,1800,-19.9960,  51.2977, 4900,     10.3,  27.5945,  35.0528,2,  35.0574,2,    194.0,1,    203.0,2,     1.99,2,     0.03,2,    -0.01,2,     0.10,2, -999.000,9, -999.000,9, -999.000,9,   -999.0,9,   -999.0,9,-999.0000,9,  -999.00,   -999.0,9,   -999.0,  -999.00,9,  -999.00,  -999.00,9,  27.5826,2
  49NZ20031209,  I3I4,   554,  1,     35,  12023,2,20031221,1800,-19.9960,  51.2977, 4900,     50.1,  24.2905,  35.0939,2,  35.0960,2,    211.1,1,    220.7,2,     1.97,2,     0.03,2,    -0.01,2,     0.10,2, -999.000,9, -999.000,9, -999.000,9,   -999.0,9,   -999.0,9,-999.0000,9,  -999.00,   -999.0,9,   -999.0,  -999.00,9,  -999.00,  -999.00,9,  24.2872,2
  49NZ20031209,  I3I4,   554,  1,     34,  12022,2,20031221,1800,-19.9960,  51.2977, 4900,     99.8,  22.5021,  35.1996,2,  35.1974,2,    202.4,1,    207.4,2,     2.26,2,     0.52,2,     0.05,2,     0.18,2, -999.000,9, -999.000,9, -999.000,9,   -999.0,9,   -999.0,9,-999.0000,9,  -999.00,   -999.0,9,   -999.0,  -999.00,9,  -999.00,  -999.00,9,  22.5013,2
  49NZ20031209,  I3I4,   554,  1,     33,  12015,2,20031221,1800,-19.9960,  51.2977, 4900,    148.6,  20.9799,  35.3451,2,  35.3457,2,    157.1,1,    164.0,2,     5.50,2,     5.95,2,     0.02,2,     0.50,2, -999.000,9, -999.000,9, -999.000,9,   -999.0,9,   -999.0,9,-999.0000,9,  -999.00,   -999.0,9,   -999.0,  -999.00,9,  -999.00,  -999.00,9,  20.9757,2
  49NZ20031209,  I3I4,   554,  1,     32,  12020,2,20031221,1800,-19.9960,  51.2977, 4900,    200.0,  19.2619,  35.5788,2,  35.5804,2,    166.4,1,    173.3,2,     5.66,2,     5.84,2,     0.00,2,     0.49,2, -999.000,9, -999.000,9, -999.000,9,   -999.0,9,   -999.0,9,-999.0000,9,  -999.00,   -999.0,9,   -999.0,  -999.00,9,  -999.00,  -999.00,9,  19.2586,2
  49NZ20031209,  I3I4,   554,  1,     31,  12019,2,20031221,1800,-19.9960,  51.2977, 4900,    249.4,  17.5121,  35.6016,2,  35.5963,2,    171.5,1,    178.2,2,     6.17,2,     6.70,2,     0.00,2,     0.56,2, -999.000,9, -999.000,9, -999.000,9,   -999.0,9,   -999.0,9,-999.0000,9,  -999.00,   -999.0,9,   -999.0,  -999.00,9,  -999.00,  -999.00,9,  17.5107,2
  49NZ20031209,  I3I4,   554,  1,     30,  12018,2,20031221,1800,-19.9960,  51.2977, 4900,    300.5,  16.0541,  35.5602,2,  35.5568,2,    185.9,1,    194.0,2,     5.15,2,     6.48,2,    -0.01,2,     0.57,2, -999.000,9, -999.000,9, -999.000,9,   -999.0,9,   -999.0,9,-999.0000,9,  -999.00,   -999.0,9,   -999.0,  -999.00,9,  -999.00,  -999.00,9,  16.0554,2
  49NZ20031209,  I3I4,   554,  1,     29,  12017,2,20031221,1800,-19.9960,  51.2977, 4900,    401.5,  13.4817,  35.3124,2,  35.3111,2,    207.7,1,    216.1,4,     4.21,2,     8.59,2,    -0.01,2,     0.69,2, -999.000,9, -999.000,9, -999.000,9,   -999.0,9,   -999.0,9,-999.0000,9,  -999.00,   -999.0,9,   -999.0,  -999.00,9,  -999.00,  -999.00,9,  13.4807,2
  49NZ20031209,  I3I4,   554,  1,     28,  12016,2,20031221,1800,-19.9960,  51.2977, 4900,    500.0,  11.9581,  35.0982,2,  35.0909,2,    218.7,1,    227.4,2,     3.83,2,    10.97,2,    -0.01,2,     0.82,2, -999.000,9, -999.000,9, -999.000,9,   -999.0,9,   -999.0,9,-999.0000,9,  -999.00,   -999.0,9,   -999.0,  -999.00,9,  -999.00,  -999.00,9,  11.9580,2
  49NZ20031209,  I3I4,   554,  1,     27,  12012,2,20031221,1800,-19.9960,  51.2977, 4900,    600.5,  10.4935,  34.8811,2,  34.8759,2,    215.8,1,    224.8,2,     5.43,2,    14.52,2,    -0.01,2,     1.05,2, -999.000,9, -999.000,9, -999.000,9,   -999.0,9,   -999.0,9,-999.0000,9,  -999.00,   -999.0,9,   -999.0,  -999.00,9,  -999.00,  -999.00,9,  10.4940,2
  49NZ20031209,  I3I4,   554,  1,     26,  12014,2,20031221,1800,-19.9960,  51.2977, 4900,    700.6,   8.9000,  34.6726,2,  34.6678,2,    206.3,1,    214.2,2,     9.59,2,    19.58,2,    -0.01,2,     1.37,2, -999.000,9, -999.000,9, -999.000,9,   -999.0,9,   -999.0,9,-999.0000,9,  -999.00,   -999.0,9,   -999.0,  -999.00,9,  -999.00,  -999.00,9,   8.9004,2
  49NZ20031209,  I3I4,   554,  1,     25,  12013,2,20031221,1800,-19.9960,  51.2977, 4900,    799.9,   7.3052,  34.5406,2,  34.5406,2,    185.7,1,    193.3,2,    20.03,2,    25.24,2,    -0.01,2,     1.74,2, -999.000,9, -999.000,9, -999.000,9,   -999.0,9,   -999.0,9,-999.0000,9,  -999.00,   -999.0,9,   -999.0,  -999.00,9,  -999.00,  -999.00,9,   7.3057,2
  49NZ20031209,  I3I4,   554,  1,     24,  12048,2,20031221,1800,-19.9960,  51.2977, 4900,    900.8,   6.2160,  34.5505,2,  34.5495,2,    152.8,1,    159.0,2,    40.77,2,    30.23,2,    -0.01,2,     2.12,2, -999.000,9, -999.000,9, -999.000,9,   -999.0,9,   -999.0,9,-999.0000,9,  -999.00,   -999.0,9,   -999.0,  -999.00,9,  -999.00,  -999.00,9,   6.2161,2
  49NZ20031209,  I3I4,   554,  1,     23,  12047,2,20031221,1800,-19.9960,  51.2977, 4900,   1001.0,   5.3370,  34.5617,2,  34.5623,2,    139.3,1,    144.2,2,    56.14,2,    32.85,2,    -0.01,2,     2.32,2, -999.000,9, -999.000,9, -999.000,9,   -999.0,9,   -999.0,9,-999.0000,9,  -999.00,   -999.0,9,   -999.0,  -999.00,9,  -999.00,  -999.00,9,   5.3383,2
  49NZ20031209,  I3I4,   554,  1,     22,  12046,2,20031221,1800,-19.9960,  51.2977, 4900,   1199.7,   4.0591,  34.6023,2,  34.6027,2,    134.6,1,    139.9,2,    75.27,2,    34.62,2,    -0.01,2,     2.45,2, -999.000,9, -999.000,9, -999.000,9,   -999.0,9,   -999.0,9,-999.0000,9,  -999.00,   -999.0,9,   -999.0,  -999.00,9,  -999.00,  -999.00,9,   4.0600,2
  49NZ20031209,  I3I4,   554,  1,     21,  12045,2,20031221,1800,-19.9960,  51.2977, 4900,   1401.1,   3.2760,  34.6390,2,  34.6398,2,    146.2,1,    152.6,2,    82.42,2,    34.14,2,    -0.01,2,     2.40,2, -999.000,9, -999.000,9, -999.000,9,   -999.0,9,   -999.0,9,-999.0000,9,  -999.00,   -999.0,9,   -999.0,  -999.00,9,  -999.00,  -999.00,9,   3.2761,2
  49NZ20031209,  I3I4,   554,  1,     20,  12044,2,20031221,1800,-19.9960,  51.2977, 4900,   1600.0,   2.7821,  34.6734,2,  34.6747,2,    155.6,1,    162.8,2,    88.25,2,    33.46,2,    -0.01,2,     2.34,2, -999.000,9, -999.000,9, -999.000,9,   -999.0,9,   -999.0,9,-999.0000,9,  -999.00,   -999.0,9,   -999.0,  -999.00,9,  -999.00,  -999.00,9,   2.7821,2
  49NZ20031209,  I3I4,   554,  1,     19,  12043,2,20031221,1800,-19.9960,  51.2977, 4900,   1801.1,   2.5563,  34.7086,2,  34.7090,2,    153.9,1,    161.0,2,    99.00,2,    33.63,2,    -0.01,2,     2.36,2, -999.000,9, -999.000,9, -999.000,9,   -999.0,9,   -999.0,9,-999.0000,9,  -999.00,   -999.0,9,   -999.0,  -999.00,9,  -999.00,  -999.00,9,   2.5563,2
  49NZ20031209,  I3I4,   554,  1,     18,  12042,2,20031221,1800,-19.9960,  51.2977, 4900,   2001.3,   2.3763,  34.7260,2,  34.7256,2,    153.2,1,    160.6,2,   106.52,2,    33.77,2,    -0.01,2,     2.37,2, -999.000,9, -999.000,9, -999.000,9,   -999.0,9,   -999.0,9,-999.0000,9,  -999.00,   -999.0,9,   -999.0,  -999.00,9,  -999.00,  -999.00,9,   2.3763,2
  49NZ20031209,  I3I4,   554,  1,     17,  12041,2,20031221,1800,-19.9960,  51.2977, 4900,   2200.9,   2.2351,  34.7356,2,  34.7354,2,    151.5,1,    158.8,2,   113.55,2,    34.03,2,    -0.01,2,     2.39,2, -999.000,9, -999.000,9, -999.000,9,   -999.0,9,   -999.0,9,-999.0000,9,  -999.00,   -999.0,9,   -999.0,  -999.00,9,  -999.00,  -999.00,9,   2.2351,2
  49NZ20031209,  I3I4,   554,  1,     16,  12040,2,20031221,1800,-19.9960,  51.2977, 4900,   2399.7,   2.1245,  34.7398,2,  34.7397,2,    150.6,1,    157.8,2,   118.85,2,    34.27,2,    -0.01,2,     2.41,2, -999.000,9, -999.000,9, -999.000,9,   -999.0,9,   -999.0,9,-999.0000,9,  -999.00,   -999.0,9,   -999.0,  -999.00,9,  -999.00,  -999.00,9,   2.1246,2
  49NZ20031209,  I3I4,   554,  1,     15,  12039,2,20031221,1800,-19.9960,  51.2977, 4900,   2599.3,   2.0094,  34.7395,2,  34.7395,2,    152.8,1,    160.1,2,   121.15,2,    34.31,2,    -0.01,2,     2.41,2, -999.000,9, -999.000,9, -999.000,9,   -999.0,9,   -999.0,9,-999.0000,9,  -999.00,   -999.0,9,   -999.0,  -999.00,9,  -999.00,  -999.00,9,   2.0094,2
  49NZ20031209,  I3I4,   554,  1,     14,  12038,2,20031221,1800,-19.9960,  51.2977, 4900,   2799.2,   1.9230,  34.7390,2,  34.7390,2,    154.0,1,    161.4,2,   123.61,2,    34.34,2,    -0.01,2,     2.41,2, -999.000,9, -999.000,9, -999.000,9,   -999.0,9,   -999.0,9,-999.0000,9,  -999.00,   -999.0,9,   -999.0,  -999.00,9,  -999.00,  -999.00,9,   1.9231,2
  49NZ20031209,  I3I4,   554,  1,     13,  12037,2,20031221,1800,-19.9960,  51.2977, 4900,   2999.6,   1.8500,  34.7383,2,  34.7383,2,    155.4,1,    162.7,2,   125.66,2,    34.39,2,    -0.01,2,     2.41,2, -999.000,9, -999.000,9, -999.000,9,   -999.0,9,   -999.0,9,-999.0000,9,  -999.00,   -999.0,9,   -999.0,  -999.00,9,  -999.00,  -999.00,9,   1.8500,2
  49NZ20031209,  I3I4,   554,  1,     12,  12036,2,20031221,1800,-19.9960,  51.2977, 4900,   3249.8,   1.7564,  34.7355,2,  34.7352,2,    158.8,1,    166.1,2,   127.08,2,    34.26,2,    -0.01,2,     2.40,2, -999.000,9, -999.000,9, -999.000,9,   -999.0,9,   -999.0,9,-999.0000,9,  -999.00,   -999.0,9,   -999.0,  -999.00,9,  -999.00,  -999.00,9,   1.7565,2
  49NZ20031209,  I3I4,   554,  1,     11,  12035,2,20031221,1800,-19.9960,  51.2977, 4900,   3500.4,   1.6216,  34.7313,2,  34.7305,2,    164.7,1,    172.0,2,   127.68,2,    34.02,2,    -0.01,2,     2.38,2, -999.000,9, -999.000,9, -999.000,9,   -999.0,9,   -999.0,9,-999.0000,9,  -999.00,   -999.0,9,   -999.0,  -999.00,9,  -999.00,  -999.00,9,   1.6217,2
  49NZ20031209,  I3I4,   554,  1,     10,  12034,2,20031221,1800,-19.9960,  51.2977, 4900,   3750.1,   1.4451,  34.7251,2,  34.7252,2,    173.9,1,    181.6,2,   126.46,2,    33.61,2,    -0.01,2,     2.34,2, -999.000,9, -999.000,9, -999.000,9,   -999.0,9,   -999.0,9,-999.0000,9,  -999.00,   -999.0,9,   -999.0,  -999.00,9,  -999.00,  -999.00,9,   1.4452,2
  49NZ20031209,  I3I4,   554,  1,      9,  12033,2,20031221,1800,-19.9960,  51.2977, 4900,   3999.8,   1.2535,  34.7181,2,  34.7178,2,    184.8,1,    192.7,2,   124.35,2,    33.03,2,    -0.01,2,     2.29,2, -999.000,9, -999.000,9, -999.000,9,   -999.0,9,   -999.0,9,-999.0000,9,  -999.00,   -999.0,9,   -999.0,  -999.00,9,  -999.00,  -999.00,9,   1.2534,2
  49NZ20031209,  I3I4,   554,  1,      8,  12032,2,20031221,1800,-19.9960,  51.2977, 4900,   4250.5,   1.1072,  34.7127,2,  34.7127,2,    193.0,1,    200.7,2,   123.07,2,    32.59,2,    -0.01,2,     2.26,2, -999.000,9, -999.000,9, -999.000,9,   -999.0,9,   -999.0,9,-999.0000,9,  -999.00,   -999.0,9,   -999.0,  -999.00,9,  -999.00,  -999.00,9,   1.1071,2
  49NZ20031209,  I3I4,   554,  1,      7,  12031,2,20031221,1800,-19.9960,  51.2977, 4900,   4499.8,   1.0163,  34.7086,2,  34.7084,2,    198.0,1,    205.5,2,   123.14,2,    32.46,2,    -0.01,2,     2.25,2, -999.000,9, -999.000,9, -999.000,9,   -999.0,9,   -999.0,9,-999.0000,9,  -999.00,   -999.0,9,   -999.0,  -999.00,9,  -999.00,  -999.00,9,   1.0163,2
  49NZ20031209,  I3I4,   554,  1,      6,  12030,2,20031221,1800,-19.9960,  51.2977, 4900,   4749.4,   1.0027,  34.7067,2,  34.7067,2,    200.6,1,    206.8,2,   123.37,2,    32.43,2,    -0.01,2,     2.24,2, -999.000,9, -999.000,9, -999.000,9,   -999.0,9,   -999.0,9,-999.0000,9,  -999.00,   -999.0,9,   -999.0,  -999.00,9,  -999.00,  -999.00,9,   1.0027,2
  49NZ20031209,  I3I4,   554,  1,      5,  12029,2,20031221,1800,-19.9960,  51.2977, 4900,   4965.5,   1.0075,  34.7056,2,  34.7058,2,    202.8,1,    207.6,2,   123.34,2,    32.42,2,    -0.01,2,     2.24,2, -999.000,9, -999.000,9, -999.000,9,   -999.0,9,   -999.0,9,-999.0000,9,  -999.00,   -999.0,9,   -999.0,  -999.00,9,  -999.00,  -999.00,9,   1.0074,2
  49NZ20031209,  I3I4,   554,  1,      4,  12028,9,20031221,1800,-19.9960,  51.2977, 4900,   1000.4,   5.3389,  34.5618,2,-999.0000,9,    139.4,1,   -999.0,9,  -999.00,9,  -999.00,9,  -999.00,9,  -999.00,9, -999.000,9, -999.000,9, -999.000,9,   -999.0,9,   -999.0,9,-999.0000,9,  -999.00,   -999.0,9,   -999.0,  -999.00,9,  -999.00,  -999.00,9,   5.3378,2
  49NZ20031209,  I3I4,   554,  1,      3,  12027,9,20031221,1800,-19.9960,  51.2977, 4900,   1000.6,   5.3364,  34.5618,2,-999.0000,9,    139.3,1,   -999.0,9,  -999.00,9,  -999.00,9,  -999.00,9,  -999.00,9, -999.000,9, -999.000,9, -999.000,9,   -999.0,9,   -999.0,9,-999.0000,9,  -999.00,   -999.0,9,   -999.0,  -999.00,9,  -999.00,  -999.00,9,   5.3378,2
  49NZ20031209,  I3I4,   554,  1,      2,  12026,9,20031221,1800,-19.9960,  51.2977, 4900,   1000.8,   5.3384,  34.5617,2,-999.0000,9,    139.3,1,   -999.0,9,  -999.00,9,  -999.00,9,  -999.00,9,  -999.00,9, -999.000,9, -999.000,9, -999.000,9,   -999.0,9,   -999.0,9,-999.0000,9,  -999.00,   -999.0,9,   -999.0,  -999.00,9,  -999.00,  -999.00,9,   5.3397,2
  49NZ20031209,  I3I4,   554,  1,      1,  12025,9,20031221,1800,-19.9960,  51.2977, 4900,     10.1,  27.7340,  35.0524,2,-999.0000,9,    192.6,1,   -999.0,9,  -999.00,9,  -999.00,9,  -999.00,9,  -999.00,9, -999.000,9, -999.000,9, -999.000,9,   -999.0,9,   -999.0,9,-999.0000,9,  -999.00,   -999.0,9,   -999.0,  -999.00,9,  -999.00,  -999.00,9,  27.7368,2