BOTTLE,20141204PRINUNIVRMK
EXPOCODE,SECT_ID,STNNBR,CASTNO,SAMPNO,BTLNBR,BTLNBR_FLAG_W,DATE,TIME,LATITUDE,LONGITUDE,DEPTH,CTDPRS,CTDTMP,CTDSAL,CTDSAL_FLAG_W,SALNTY,SALNTY_FLAG_W,CTDOXY,CTDOXY_FLAG_W,OXYGEN,OXYGEN_FLAG_W,SILCAT,SILCAT_FLAG_W,NITRAT,NITRAT_FLAG_W,NITRIT,NITRIT_FLAG_W,PHSPHT,PHSPHT_FLAG_W,CFC-11,CFC-11_FLAG_W,CFC-12,CFC-12_FLAG_W,CFC113,CFC113_FLAG_W,TCARBN,TCARBN_FLAG_W,ALKALI,ALKALI_FLAG_W,PH_TOT,PH_TOT_FLAG_W,PH_TMP,DELC14,DELC14_FLAG_W,C14ERR,DELC13,DELC13_FLAG_W,CS-137,CS137ER,CS-137_FLAG_W,SBE35,SBE35_FLAG_W
,,,,,,,,,,,METERS,DBAR,ITS-90,PSS-78,,PSS-78,,UMOL/KG,,UMOL/KG,,UMOL/KG,,UMOL/KG,,UMOL/KG,,UMOL/KG,,PMOL/KG,,PMOL/KG,,PMOL/KG,,UMOL/KG,,UMOL/KG,,,,DEG C,/MILLE,,/MILLE,/MILLE,,DM/.1MG,DM/.1MG,,ITS-90,
  49NZ20031209,  I3I4,   590,  1,     36,  12024,2,20031216,1232,-24.6627,  42.4885, 3557,     10.1,  28.2569,  35.2662,2,  35.2686,2,    190.3,1,    199.6,2,     1.74,3,    -0.01,2,    -0.01,2,     0.14,2, -999.000,9, -999.000,9, -999.000,9,   -999.0,9,   -999.0,9,-999.0000,9,  -999.00,   -999.0,9,   -999.0,  -999.00,9,  -999.00,  -999.00,9,  28.2540,2
  49NZ20031209,  I3I4,   590,  1,     35,  12023,2,20031216,1232,-24.6627,  42.4885, 3557,     49.8,  24.0622,  35.2100,2,  35.2000,2,    199.9,1,    209.6,2,     1.99,3,    -0.04,2,     0.01,2,     0.18,2, -999.000,9, -999.000,9, -999.000,9,   -999.0,9,   -999.0,9,-999.0000,9,  -999.00,   -999.0,9,   -999.0,  -999.00,9,  -999.00,  -999.00,9,  24.0723,2
  49NZ20031209,  I3I4,   590,  1,     34,  12022,2,20031216,1232,-24.6627,  42.4885, 3557,    100.0,  20.9588,  35.3373,2,  35.3494,2,    163.9,1,    174.3,2,     4.67,3,     5.11,2,     0.06,2,     0.48,2, -999.000,9, -999.000,9, -999.000,9,   -999.0,9,   -999.0,9,-999.0000,9,  -999.00,   -999.0,9,   -999.0,  -999.00,9,  -999.00,  -999.00,9,  20.9495,2
  49NZ20031209,  I3I4,   590,  1,     33,  12015,2,20031216,1232,-24.6627,  42.4885, 3557,    150.9,  19.2053,  35.5347,2,  35.5348,2,    168.4,1,    175.5,2,     5.60,3,     5.71,2,     0.02,2,     0.50,2, -999.000,9, -999.000,9, -999.000,9,   -999.0,9,   -999.0,9,-999.0000,9,  -999.00,   -999.0,9,   -999.0,  -999.00,9,  -999.00,  -999.00,9,  19.2041,2
  49NZ20031209,  I3I4,   590,  1,     32,  12020,2,20031216,1232,-24.6627,  42.4885, 3557,    200.0,  17.3202,  35.6368,2,  35.6396,2,    191.1,1,    200.4,2,     4.30,3,     4.39,2,     0.02,2,     0.44,2, -999.000,9, -999.000,9, -999.000,9,   -999.0,9,   -999.0,9,-999.0000,9,  -999.00,   -999.0,9,   -999.0,  -999.00,9,  -999.00,  -999.00,9,  17.3177,2
  49NZ20031209,  I3I4,   590,  1,     31,  12019,2,20031216,1232,-24.6627,  42.4885, 3557,    249.7,  15.1268,  35.4794,2,  35.4788,2,    192.6,1,    200.8,2,     4.84,3,     7.09,2,     0.00,2,     0.61,2, -999.000,9, -999.000,9, -999.000,9,   -999.0,9,   -999.0,9,-999.0000,9,  -999.00,   -999.0,9,   -999.0,  -999.00,9,  -999.00,  -999.00,9,  15.1271,2
  49NZ20031209,  I3I4,   590,  1,     30,  12018,2,20031216,1232,-24.6627,  42.4885, 3557,    300.5,  14.1162,  35.3889,2,  35.3897,2,    203.0,1,    211.6,2,     4.15,3,     7.65,2,     0.00,2,     0.65,2, -999.000,9, -999.000,9, -999.000,9,   -999.0,9,   -999.0,9,-999.0000,9,  -999.00,   -999.0,9,   -999.0,  -999.00,9,  -999.00,  -999.00,9,  14.1149,2
  49NZ20031209,  I3I4,   590,  1,     29,  12017,2,20031216,1232,-24.6627,  42.4885, 3557,    399.1,  12.5107,  35.1958,2,  35.1987,2,    216.3,1,    225.7,2,     3.66,3,     9.72,2,     0.01,2,     0.75,2, -999.000,9, -999.000,9, -999.000,9,   -999.0,9,   -999.0,9,-999.0000,9,  -999.00,   -999.0,9,   -999.0,  -999.00,9,  -999.00,  -999.00,9,  12.5207,2
  49NZ20031209,  I3I4,   590,  1,     28,  12016,2,20031216,1232,-24.6627,  42.4885, 3557,    500.4,  11.1002,  34.9633,2,  34.9598,2,    217.2,1,    226.4,2,     4.51,3,    12.89,2,     0.01,2,     0.96,2, -999.000,9, -999.000,9, -999.000,9,   -999.0,9,   -999.0,9,-999.0000,9,  -999.00,   -999.0,9,   -999.0,  -999.00,9,  -999.00,  -999.00,9,  11.0979,2
  49NZ20031209,  I3I4,   590,  1,     27,  12012,2,20031216,1232,-24.6627,  42.4885, 3557,    600.5,   9.5966,  34.7644,2,  34.7620,2,    206.5,1,    215.0,2,     8.44,3,    17.45,2,     0.00,2,     1.24,2, -999.000,9, -999.000,9, -999.000,9,   -999.0,9,   -999.0,9,-999.0000,9,  -999.00,   -999.0,9,   -999.0,  -999.00,9,  -999.00,  -999.00,9,   9.5917,2
  49NZ20031209,  I3I4,   590,  1,     26,  12014,2,20031216,1232,-24.6627,  42.4885, 3557,    701.6,   7.9665,  34.6019,2,  34.6022,2,    192.6,1,    200.4,2,    15.92,3,    22.70,2,    -0.01,2,     1.58,2, -999.000,9, -999.000,9, -999.000,9,   -999.0,9,   -999.0,9,-999.0000,9,  -999.00,   -999.0,9,   -999.0,  -999.00,9,  -999.00,  -999.00,9,   7.9691,2
  49NZ20031209,  I3I4,   590,  1,     25,  12013,2,20031216,1232,-24.6627,  42.4885, 3557,    801.6,   6.5499,  34.5153,2,  34.5145,2,    181.0,1,    188.3,2,    26.50,3,    27.06,2,     0.00,2,     1.88,2, -999.000,9, -999.000,9, -999.000,9,   -999.0,9,   -999.0,9,-999.0000,9,  -999.00,   -999.0,9,   -999.0,  -999.00,9,  -999.00,  -999.00,9,   6.5493,2
  49NZ20031209,  I3I4,   590,  1,     24,  12048,2,20031216,1232,-24.6627,  42.4885, 3557,    903.5,   6.1743,  34.6143,2,  34.6142,2,    142.6,1,    147.8,2,    44.83,3,    30.92,2,    -0.01,2,     2.19,2, -999.000,9, -999.000,9, -999.000,9,   -999.0,9,   -999.0,9,-999.0000,9,  -999.00,   -999.0,9,   -999.0,  -999.00,9,  -999.00,  -999.00,9,   6.1748,2
  49NZ20031209,  I3I4,   590,  1,     23,  12047,2,20031216,1232,-24.6627,  42.4885, 3557,   1002.9,   5.8336,  34.6881,2,  34.6945,2,    120.0,1,    123.5,2,     0.00,3,    33.10,2,     0.01,2,     2.38,2, -999.000,9, -999.000,9, -999.000,9,   -999.0,9,   -999.0,9,-999.0000,9,  -999.00,   -999.0,9,   -999.0,  -999.00,9,  -999.00,  -999.00,9,   5.8331,2
  49NZ20031209,  I3I4,   590,  1,     22,  12046,2,20031216,1232,-24.6627,  42.4885, 3557,   1200.7,   4.8436,  34.7093,2,  34.7087,2,    118.8,1,    122.5,2,    73.29,3,    34.46,2,     0.00,2,     2.47,2, -999.000,9, -999.000,9, -999.000,9,   -999.0,9,   -999.0,9,-999.0000,9,  -999.00,   -999.0,9,   -999.0,  -999.00,9,  -999.00,  -999.00,9,   4.8437,2
  49NZ20031209,  I3I4,   590,  1,     21,  12045,2,20031216,1232,-24.6627,  42.4885, 3557,   1400.9,   4.0829,  34.7196,2,  34.7192,2,    126.9,1,    131.1,2,    81.49,3,    34.41,2,     0.00,2,     2.45,2, -999.000,9, -999.000,9, -999.000,9,   -999.0,9,   -999.0,9,-999.0000,9,  -999.00,   -999.0,9,   -999.0,  -999.00,9,  -999.00,  -999.00,9,   4.0834,2
  49NZ20031209,  I3I4,   590,  1,     20,  12044,2,20031216,1232,-24.6627,  42.4885, 3557,   1599.7,   3.4748,  34.7339,2,  34.7351,2,    138.1,1,    143.3,2,    87.12,3,    33.75,2,     0.00,2,     2.39,2, -999.000,9, -999.000,9, -999.000,9,   -999.0,9,   -999.0,9,-999.0000,9,  -999.00,   -999.0,9,   -999.0,  -999.00,9,  -999.00,  -999.00,9,   3.4747,2
  49NZ20031209,  I3I4,   590,  1,     19,  12043,2,20031216,1232,-24.6627,  42.4885, 3557,   1800.2,   2.9586,  34.7358,2,  34.7348,2,    155.8,1,    162.0,2,    85.21,3,    32.42,2,     0.00,2,     2.28,2, -999.000,9, -999.000,9, -999.000,9,   -999.0,9,   -999.0,9,-999.0000,9,  -999.00,   -999.0,9,   -999.0,  -999.00,9,  -999.00,  -999.00,9,   2.9586,2
  49NZ20031209,  I3I4,   590,  1,     18,  12042,2,20031216,1232,-24.6627,  42.4885, 3557,   2001.8,   2.7700,  34.7498,2,  34.7496,2,    161.0,1,    167.3,2,    86.90,3,    32.01,2,     0.01,2,     2.25,2, -999.000,9, -999.000,9, -999.000,9,   -999.0,9,   -999.0,9,-999.0000,9,  -999.00,   -999.0,9,   -999.0,  -999.00,9,  -999.00,  -999.00,9,   2.7695,2
  49NZ20031209,  I3I4,   590,  1,     17,  12041,2,20031216,1232,-24.6627,  42.4885, 3557,   2202.6,   2.5975,  34.7609,2,  34.7609,2,    170.1,1,    176.6,2,     0.00,3,    31.04,2,     0.00,2,     2.17,2, -999.000,9, -999.000,9, -999.000,9,   -999.0,9,   -999.0,9,-999.0000,9,  -999.00,   -999.0,9,   -999.0,  -999.00,9,  -999.00,  -999.00,9,   2.5977,2
  49NZ20031209,  I3I4,   590,  1,     16,  12040,2,20031216,1232,-24.6627,  42.4885, 3557,   2400.8,   2.4532,  34.7722,2,  34.7723,2,    177.9,1,    184.7,4,    83.21,3,    30.28,2,     0.00,2,     2.11,2, -999.000,9, -999.000,9, -999.000,9,   -999.0,9,   -999.0,9,-999.0000,9,  -999.00,   -999.0,9,   -999.0,  -999.00,9,  -999.00,  -999.00,9,   2.4537,2
  49NZ20031209,  I3I4,   590,  1,     15,  12039,2,20031216,1232,-24.6627,  42.4885, 3557,   2600.7,   2.3444,  34.7838,2,  34.7833,2,    188.1,1,    195.4,2,    78.95,3,    29.19,2,     0.01,2,     2.02,2, -999.000,9, -999.000,9, -999.000,9,   -999.0,9,   -999.0,9,-999.0000,9,  -999.00,   -999.0,9,   -999.0,  -999.00,9,  -999.00,  -999.00,9,   2.3445,2
  49NZ20031209,  I3I4,   590,  1,     14,  12038,2,20031216,1232,-24.6627,  42.4885, 3557,   2799.9,   2.2480,  34.7916,2,  34.7924,2,    195.7,1,    203.1,2,    76.42,3,    28.55,2,     0.00,2,     1.97,2, -999.000,9, -999.000,9, -999.000,9,   -999.0,9,   -999.0,9,-999.0000,9,  -999.00,   -999.0,9,   -999.0,  -999.00,9,  -999.00,  -999.00,9,   2.2482,2
  49NZ20031209,  I3I4,   590,  1,     13,  12037,2,20031216,1232,-24.6627,  42.4885, 3557,   3002.2,   2.1406,  34.7964,2,  34.7964,2,    202.4,1,    209.6,2,    75.07,3,    28.00,2,     0.00,2,     1.94,2, -999.000,9, -999.000,9, -999.000,9,   -999.0,9,   -999.0,9,-999.0000,9,  -999.00,   -999.0,9,   -999.0,  -999.00,9,  -999.00,  -999.00,9,   2.1408,2
  49NZ20031209,  I3I4,   590,  1,     12,  12036,2,20031216,1232,-24.6627,  42.4885, 3557,   3249.5,   1.9516,  34.7911,2,  34.7913,2,    206.0,1,    212.9,2,    78.65,3,    28.06,2,     0.00,2,     1.92,2, -999.000,9, -999.000,9, -999.000,9,   -999.0,9,   -999.0,9,-999.0000,9,  -999.00,   -999.0,9,   -999.0,  -999.00,9,  -999.00,  -999.00,9,   1.9518,2
  49NZ20031209,  I3I4,   590,  1,     11,  12035,2,20031216,1232,-24.6627,  42.4885, 3557,   3604.7,   1.5616,  34.7684,2,  34.7681,2,    209.6,1,    215.3,2,    90.35,3,    29.03,2,     0.00,2,     2.00,2, -999.000,9, -999.000,9, -999.000,9,   -999.0,9,   -999.0,9,-999.0000,9,  -999.00,   -999.0,9,   -999.0,  -999.00,9,  -999.00,  -999.00,9,   1.5617,2
  49NZ20031209,  I3I4,   590,  1,     10,  12034,9,20031216,1232,-24.6627,  42.4885, 3557,   2901.6,   2.1905,  34.7956,2,-999.0000,9,    200.2,1,   -999.0,9,  -999.00,9,  -999.00,9,  -999.00,9,  -999.00,9, -999.000,9, -999.000,9, -999.000,9,   -999.0,9,   -999.0,9,-999.0000,9,  -999.00,   -999.0,9,   -999.0,  -999.00,9,  -999.00,  -999.00,9,   2.1907,2
  49NZ20031209,  I3I4,   590,  1,      9,  12033,9,20031216,1232,-24.6627,  42.4885, 3557,   3099.9,   2.0759,  34.7955,2,-999.0000,9,    204.0,1,   -999.0,9,  -999.00,9,  -999.00,9,  -999.00,9,  -999.00,9, -999.000,9, -999.000,9, -999.000,9,   -999.0,9,   -999.0,9,-999.0000,9,  -999.00,   -999.0,9,   -999.0,  -999.00,9,  -999.00,  -999.00,9,   2.0758,2
  49NZ20031209,  I3I4,   590,  1,      8,  12032,9,20031216,1232,-24.6627,  42.4885, 3557,   3353.2,   1.8887,  34.7878,2,-999.0000,9,    206.9,1,   -999.0,9,  -999.00,9,  -999.00,9,  -999.00,9,  -999.00,9, -999.000,9, -999.000,9, -999.000,9,   -999.0,9,   -999.0,9,-999.0000,9,  -999.00,   -999.0,9,   -999.0,  -999.00,9,  -999.00,  -999.00,9,   1.8888,2
  49NZ20031209,  I3I4,   590,  1,      7,  12031,9,20031216,1232,-24.6627,  42.4885, 3557,   1005.2,   5.8627,  34.6932,2,-999.0000,9,    120.4,1,   -999.0,9,  -999.00,9,  -999.00,9,  -999.00,9,  -999.00,9, -999.000,9, -999.000,9, -999.000,9,   -999.0,9,   -999.0,9,-999.0000,9,  -999.00,   -999.0,9,   -999.0,  -999.00,9,  -999.00,  -999.00,9,   5.8575,2
  49NZ20031209,  I3I4,   590,  1,      6,  12030,9,20031216,1232,-24.6627,  42.4885, 3557,   1004.6,   5.8493,  34.6908,2,-999.0000,9,    120.7,1,   -999.0,9,  -999.00,9,  -999.00,9,  -999.00,9,  -999.00,9, -999.000,9, -999.000,9, -999.000,9,   -999.0,9,   -999.0,9,-999.0000,9,  -999.00,   -999.0,9,   -999.0,  -999.00,9,  -999.00,  -999.00,9,   5.8604,2
  49NZ20031209,  I3I4,   590,  1,      5,  12029,9,20031216,1232,-24.6627,  42.4885, 3557,   1004.1,   5.8459,  34.6899,2,-999.0000,9,    120.3,1,   -999.0,9,  -999.00,9,  -999.00,9,  -999.00,9,  -999.00,9, -999.000,9, -999.000,9, -999.000,9,   -999.0,9,   -999.0,9,-999.0000,9,  -999.00,   -999.0,9,   -999.0,  -999.00,9,  -999.00,  -999.00,9,   5.8368,2
  49NZ20031209,  I3I4,   590,  1,      4,  12028,9,20031216,1232,-24.6627,  42.4885, 3557,   1004.2,   5.8208,  34.6847,2,-999.0000,9,    121.9,1,   -999.0,9,  -999.00,9,  -999.00,9,  -999.00,9,  -999.00,9, -999.000,9, -999.000,9, -999.000,9,   -999.0,9,   -999.0,9,-999.0000,9,  -999.00,   -999.0,9,   -999.0,  -999.00,9,  -999.00,  -999.00,9,   5.8221,2
  49NZ20031209,  I3I4,   590,  1,      3,  12027,9,20031216,1232,-24.6627,  42.4885, 3557,   1003.8,   5.8267,  34.6861,2,-999.0000,9,    121.4,1,   -999.0,9,  -999.00,9,  -999.00,9,  -999.00,9,  -999.00,9, -999.000,9, -999.000,9, -999.000,9,   -999.0,9,   -999.0,9,-999.0000,9,  -999.00,   -999.0,9,   -999.0,  -999.00,9,  -999.00,  -999.00,9,   5.8252,2
  49NZ20031209,  I3I4,   590,  1,      2,  12026,9,20031216,1232,-24.6627,  42.4885, 3557,   1003.9,   5.8521,  34.6904,2,-999.0000,9,    120.6,1,   -999.0,9,  -999.00,9,  -999.00,9,  -999.00,9,  -999.00,9, -999.000,9, -999.000,9, -999.000,9,   -999.0,9,   -999.0,9,-999.0000,9,  -999.00,   -999.0,9,   -999.0,  -999.00,9,  -999.00,  -999.00,9,   5.8458,2
  49NZ20031209,  I3I4,   590,  1,      1,  12025,9,20031216,1232,-24.6627,  42.4885, 3557,   1003.0,   5.8194,  34.6852,2,-999.0000,9,    121.4,1,   -999.0,9,  -999.00,9,  -999.00,9,  -999.00,9,  -999.00,9, -999.000,9, -999.000,9, -999.000,9,   -999.0,9,   -999.0,9,-999.0000,9,  -999.00,   -999.0,9,   -999.0,  -999.00,9,  -999.00,  -999.00,9,   5.8205,2