BOTTLE,20141204PRINUNIVRMK
EXPOCODE,SECT_ID,STNNBR,CASTNO,SAMPNO,BTLNBR,BTLNBR_FLAG_W,DATE,TIME,LATITUDE,LONGITUDE,DEPTH,CTDPRS,CTDTMP,CTDSAL,CTDSAL_FLAG_W,SALNTY,SALNTY_FLAG_W,CTDOXY,CTDOXY_FLAG_W,OXYGEN,OXYGEN_FLAG_W,SILCAT,SILCAT_FLAG_W,NITRAT,NITRAT_FLAG_W,NITRIT,NITRIT_FLAG_W,PHSPHT,PHSPHT_FLAG_W,CFC-11,CFC-11_FLAG_W,CFC-12,CFC-12_FLAG_W,CFC113,CFC113_FLAG_W,TCARBN,TCARBN_FLAG_W,ALKALI,ALKALI_FLAG_W,PH_TOT,PH_TOT_FLAG_W,PH_TMP,DELC14,DELC14_FLAG_W,C14ERR,DELC13,DELC13_FLAG_W,CS-137,CS137ER,CS-137_FLAG_W,SBE35,SBE35_FLAG_W
,,,,,,,,,,,METERS,DBAR,ITS-90,PSS-78,,PSS-78,,UMOL/KG,,UMOL/KG,,UMOL/KG,,UMOL/KG,,UMOL/KG,,UMOL/KG,,PMOL/KG,,PMOL/KG,,PMOL/KG,,UMOL/KG,,UMOL/KG,,,,DEG C,/MILLE,,/MILLE,/MILLE,,DM/.1MG,DM/.1MG,,ITS-90,
  49NZ20031209,  I3I4,   513,  1,     36,  12024,2,20040101,1512,-19.9970,  71.2558, 4189,      9.9,  26.2092,  35.0353,2,  35.0372,2,    197.3,1,    206.5,2,     1.97,2,     0.00,2,     0.01,2,     0.11,2,    1.789,2,    1.076,2,    0.329,4,   1970.2,2,   2294.2,2,   8.0840,2,    25.00,     50.3,2,      3.6,     1.05,2,  -999.00,  -999.00,9,  26.2083,2
  49NZ20031209,  I3I4,   513,  1,     35,  12023,2,20040101,1512,-19.9970,  71.2558, 4189,     49.7,  25.3279,  34.9764,2,  34.9846,2,    202.9,1,    211.7,2,     1.98,2,    -0.01,2,     0.01,2,     0.10,2, -999.000,5, -999.000,5, -999.000,5,   1969.0,6,   2292.8,2,   8.0838,2,    25.00,     60.5,2,      3.5,     1.08,2,  -999.00,  -999.00,9,  25.3228,2
  49NZ20031209,  I3I4,   513,  1,     34,  12022,2,20040101,1512,-19.9970,  71.2558, 4189,    100.6,  22.7068,  35.1564,2,  35.1364,3,    203.7,1,    214.7,2,     2.25,2,    -0.02,2,     0.00,2,     0.12,2,    2.050,2,    1.202,2, -999.000,5,   1985.5,2,   2302.6,6,   8.0683,2,    25.00,     54.1,2,      3.6,     1.01,2,  -999.00,  -999.00,9,  22.6790,2
  49NZ20031209,  I3I4,   513,  1,     33,  12015,2,20040101,1512,-19.9970,  71.2558, 4189,    149.0,  21.2636,  35.4322,2,  35.4356,2,    189.6,1,    199.9,2,     2.88,2,     1.54,2,     0.20,2,     0.24,2,    2.101,2,    1.225,2,    0.356,4,   2026.1,2,   2320.8,2,   8.0241,2,    25.00,     76.3,2,      3.6,     0.87,2,  -999.00,  -999.00,9,  21.2921,2
  49NZ20031209,  I3I4,   513,  1,     32,  12020,2,20040101,1512,-19.9970,  71.2558, 4189,    199.3,  19.9807,  35.5918,2,  35.6084,3,    173.2,1,    180.2,2,     4.40,2,     4.11,2,     0.02,2,     0.40,2,    2.170,2,    1.242,2,    0.115,4,   2066.4,2,   2334.3,2,   7.9715,2,    25.00,     79.3,2,      3.5,     0.71,6,  -999.00,  -999.00,9,  19.9902,2
  49NZ20031209,  I3I4,   513,  1,     31,  12019,2,20040101,1512,-19.9970,  71.2558, 4189,    249.7,  18.4801,  35.7524,2,  35.7583,2,    181.8,1,    189.7,2,     3.80,2,     3.77,2,     0.01,2,     0.39,2,    2.350,6,    1.333,6,    0.079,4,   2083.1,2,   2345.9,2,   7.9562,2,    25.00,     84.4,2,      3.5,     0.85,2,  -999.00,  -999.00,9,  18.4802,2
  49NZ20031209,  I3I4,   513,  1,     30,  12018,2,20040101,1512,-19.9970,  71.2558, 4189,    299.6,  16.7609,  35.7186,2,  35.7176,2,    194.2,1,    202.2,2,     3.08,2,     3.84,2,     0.01,2,     0.41,2,    2.578,2,    1.450,2,    0.061,4,   2094.2,2,   2342.5,2,   7.9368,2,    25.00,     78.6,2,      3.6,     0.84,3,  -999.00,  -999.00,9,  16.7560,2
  49NZ20031209,  I3I4,   513,  1,     29,  12021,2,20040101,1512,-19.9970,  71.2558, 4189,    401.1,  13.0860,  35.2809,2,  35.2758,2,    214.1,1,    222.5,2,     2.94,2,     8.25,2,     0.00,2,     0.67,2,    3.122,2,    1.648,2,    0.083,4,   2108.3,2,   2319.9,2,   7.8717,2,    25.00,     81.5,2,      3.5,     1.13,2,  -999.00,  -999.00,9,  13.0867,2
  49NZ20031209,  I3I4,   513,  1,     28,  12016,2,20040101,1512,-19.9970,  71.2558, 4189,    500.6,  11.2864,  35.0041,2,  35.0039,2,    223.4,1,    231.8,2,     3.43,2,    11.49,2,     0.00,2,     0.87,2,    3.355,2,    1.753,2,    0.119,4,   2113.5,2,   2303.7,2,   7.8372,2,    25.00,     71.9,2,      3.4,     1.20,2,  -999.00,  -999.00,9,  11.2877,2
  49NZ20031209,  I3I4,   513,  1,     27,  12012,2,20040101,1512,-19.9970,  71.2558, 4189,    600.2,  10.0387,  34.8110,2,  34.8071,2,    223.6,1,    232.1,2,     4.40,2,    14.72,2,     0.01,2,     1.06,2,    3.407,2,    1.733,2,    0.133,4,   2122.5,2,   2292.2,2,   7.8058,2,    25.00,     66.7,2,      3.6,     1.22,2,  -999.00,  -999.00,9,  10.0241,2
  49NZ20031209,  I3I4,   513,  1,     26,  12014,2,20040101,1512,-19.9970,  71.2558, 4189,    700.1,   8.8708,  34.6557,2,  34.6506,2,    209.6,1,    217.0,2,     8.84,2,    19.30,2,     0.00,2,     1.35,2,    2.825,2,    1.394,2,    0.097,4,   2137.4,6,   2308.0,3,   7.7579,2,    25.00,     43.4,2,      3.5,     1.17,2,  -999.00,  -999.00,9,   8.8678,2
  49NZ20031209,  I3I4,   513,  1,     25,  12013,2,20040101,1512,-19.9970,  71.2558, 4189,    799.6,   7.2917,  34.5234,2,  34.5193,2,    185.4,1,    192.0,2,    19.28,2,    25.42,2,     0.00,2,     1.75,2,    1.439,2,    0.702,2,    0.048,4,   2171.3,2,   2293.5,6,   7.6904,2,    25.00,    -17.8,2,      3.3,     1.04,2,  -999.00,  -999.00,9,   7.2912,2
  49NZ20031209,  I3I4,   513,  1,     24,  12048,2,20040101,1512,-19.9970,  71.2558, 4189,    900.7,   5.5472,  34.4933,2,  34.4946,2,    152.0,1,    157.0,2,    44.32,2,    31.68,2,     0.00,2,     2.21,2,    0.396,2,    0.195,2,    0.018,4,   2217.6,2,   2316.6,2,   7.6108,6,    25.00,    -97.5,2,      3.0,     0.70,2,  -999.00,  -999.00,9,   5.5430,2
  49NZ20031209,  I3I4,   513,  1,     23,  12047,2,20040101,1512,-19.9970,  71.2558, 4189,    999.9,   5.0733,  34.5401,2,  34.5417,2,    130.5,1,    134.3,2,    60.87,2,    34.03,2,     0.00,2,     2.41,2,    0.123,6,    0.061,6,    0.000,4,   2246.5,2,   2331.6,2,   7.5740,2,    25.00,   -122.1,2,      3.1,     0.55,2,  -999.00,  -999.00,9,   5.0742,2
  49NZ20031209,  I3I4,   513,  1,     22,  12046,2,20040101,1512,-19.9970,  71.2558, 4189,   1199.9,   4.2835,  34.6368,2,  34.6345,2,    115.5,1,    119.0,2,    83.11,2,    35.63,2,     0.00,2,     2.54,2,    0.012,2,    0.008,2,    0.000,4,   2277.5,2,   2357.2,2,   7.5519,2,    25.00,   -157.8,2,      3.0,     0.30,2,  -999.00,  -999.00,9,   4.2847,2
  49NZ20031209,  I3I4,   513,  1,     21,  12045,2,20040101,1512,-19.9970,  71.2558, 4189,   1399.2,   3.9261,  34.6937,2,  34.6941,2,    114.4,1,    118.0,2,    94.12,2,    35.72,2,     0.00,2,     2.55,2,    0.001,2,   -0.001,2,    0.000,4,   2290.6,2,   2369.7,2,   7.5541,2,    25.00,   -167.6,6,      3.7,     0.24,6,  -999.00,  -999.00,9,   3.9265,2
  49NZ20031209,  I3I4,   513,  1,     20,  12044,2,20040101,1512,-19.9970,  71.2558, 4189,   1599.0,   3.4806,  34.7128,2,  34.7125,2,    122.1,1,    126.3,2,    99.65,2,    35.42,2,     0.00,2,     2.53,2,    0.003,2,   -0.002,2,    0.000,4,   2289.9,2,   2373.3,2,   7.5595,2,    25.00,   -175.7,2,      3.0,     0.26,2,  -999.00,  -999.00,9,   3.4802,2
  49NZ20031209,  I3I4,   513,  1,     19,  12043,2,20040101,1512,-19.9970,  71.2558, 4189,   1799.1,   3.1137,  34.7196,2,  34.7196,2,    130.5,1,    134.7,2,   103.08,2,    35.03,2,     0.00,2,     2.49,2,   -0.003,2,    0.001,2,    0.000,4,   2292.4,2,   2376.4,2,   7.5680,2,    25.00,   -177.5,2,      2.9,     0.27,2,  -999.00,  -999.00,9,   3.1160,2
  49NZ20031209,  I3I4,   513,  1,     18,  12042,2,20040101,1512,-19.9970,  71.2558, 4189,   1998.8,   2.6816,  34.7272,2,  34.7267,2,    140.5,1,    145.7,2,   107.97,2,    34.54,2,    -0.01,2,     2.44,2,    0.002,2,    0.007,2,    0.000,4,   2292.1,2,   2377.9,2,   7.5798,6,    25.00,   -175.9,2,      3.0,     0.30,2,  -999.00,  -999.00,9,   2.6844,2
  49NZ20031209,  I3I4,   513,  1,     17,  12041,2,20040101,1512,-19.9970,  71.2558, 4189,   2199.5,   2.3728,  34.7242,2,  34.7246,2,    152.3,1,    158.4,2,   107.76,2,    33.84,2,     0.00,2,     2.38,2,    0.004,2,    0.001,2,    0.000,4,   2285.2,2,   2376.4,2,   7.5926,2,    25.00,   -179.3,2,      3.0,     0.30,2,  -999.00,  -999.00,9,   2.3722,2
  49NZ20031209,  I3I4,   513,  1,     16,  12040,2,20040101,1512,-19.9970,  71.2558, 4189,   2400.3,   2.0295,  34.7225,2,  34.7225,2,    166.3,1,    173.3,2,   106.65,2,    32.95,2,     0.00,2,     2.29,2,    0.002,2,    0.005,2,    0.000,4,   2276.3,6,   2374.7,2,   7.6050,2,    25.00,   -170.9,2,      2.9,     0.41,2,  -999.00,  -999.00,9,   2.0299,2
  49NZ20031209,  I3I4,   513,  1,     15,  12039,2,20040101,1512,-19.9970,  71.2558, 4189,   2600.3,   1.8302,  34.7256,2,  34.7252,2,    172.7,1,    180.1,2,   108.43,2,    32.54,2,     0.00,2,     2.26,2,   -0.001,2,    0.004,2,    0.000,4,   2272.2,2,   2374.6,6,   7.6131,2,    25.00,   -161.4,2,      2.9,     0.29,3,  -999.00,  -999.00,9,   1.8298,2
  49NZ20031209,  I3I4,   513,  1,     14,  12038,2,20040101,1512,-19.9970,  71.2558, 4189,   2800.7,   1.6984,  34.7272,2,  34.7275,2,    175.7,1,    183.1,2,   111.68,2,    32.55,2,     0.00,2,     2.26,2,   -0.002,2,   -0.003,2,    0.000,4,   2275.8,2,   2379.7,2,   7.6174,6,    25.00,   -165.6,2,      2.9,     0.38,3,  -999.00,  -999.00,9,   1.6988,2
  49NZ20031209,  I3I4,   513,  1,     13,  12037,2,20040101,1512,-19.9970,  71.2558, 4189,   2999.3,   1.6104,  34.7272,2,  34.7271,3,    177.0,1,    184.2,2,   114.58,2,    32.66,2,     0.00,2,     2.26,2,    0.000,2,   -0.001,2,    0.000,4,   2278.8,2,   2382.2,2,   7.6198,2,    25.00,   -172.3,2,      3.0,     0.44,2,  -999.00,  -999.00,9,   1.6105,2
  49NZ20031209,  I3I4,   513,  1,     12,  12036,2,20040101,1512,-19.9970,  71.2558, 4189,   3250.7,   1.5010,  34.7259,2,  34.7259,2,    179.4,1,    186.3,2,   117.71,2,    32.63,2,     0.00,2,     2.26,2,   -0.001,2,   -0.001,2,    0.000,4,   2281.9,2,   2387.5,2,   7.6244,2,    25.00,   -173.2,2,      3.0,     0.40,2,  -999.00,  -999.00,9,   1.5013,2
  49NZ20031209,  I3I4,   513,  1,     11,  12035,2,20040101,1512,-19.9970,  71.2558, 4189,   3999.6,   1.4728,  34.7231,2,  34.7231,2,    179.9,1,    184.8,2,   123.79,2,    33.01,2,     0.01,2,     2.28,2,   -0.004,2,   -0.004,2,    0.000,4,   2291.2,2,   2393.6,2,   7.6265,2,    25.00,   -177.1,2,      3.0,     0.37,2,  -999.00,  -999.00,9,   1.4729,2
  49NZ20031209,  I3I4,   513,  1,     10,  12034,2,20040101,1512,-19.9970,  71.2558, 4189,   3749.8,   1.4621,  34.7237,2,  34.7235,2,    179.2,1,    185.0,2,   122.98,2,    33.00,2,     0.00,2,     2.28,2,   -0.001,2,    0.000,2,    0.000,4,   2288.6,2,   2393.6,2,   7.6276,2,    25.00,   -172.9,2,      3.0,     0.33,3,  -999.00,  -999.00,9,   1.4623,2
  49NZ20031209,  I3I4,   513,  1,      9,  12033,2,20040101,1512,-19.9970,  71.2558, 4189,   4000.0,   1.4728,  34.7232,2,  34.7232,2,    180.0,1,    184.8,2,   123.90,2,    32.99,2,     0.00,2,     2.28,2,    0.001,2,   -0.002,2,    0.000,4,   2288.0,2,   2395.7,2,   7.6264,2,    25.00,   -176.2,2,      2.9,     0.30,3,  -999.00,  -999.00,9,   1.4729,2
  49NZ20031209,  I3I4,   513,  1,      8,  12032,2,20040101,1512,-19.9970,  71.2558, 4189,   4239.5,   1.4984,  34.7230,2,  34.7234,2,    181.2,1,    184.6,2,   124.11,2,    32.97,2,     0.01,2,     2.28,2,   -0.002,2,   -0.003,2,    0.000,4,   2290.1,6,   2395.5,2,   7.6252,2,    25.00,   -174.6,2,      2.8,     0.39,2,  -999.00,  -999.00,9,   1.4985,2
  49NZ20031209,  I3I4,   513,  1,      7,  12031,9,20040101,1512,-19.9970,  71.2558, 4189,      9.9,  26.2124,  35.0356,2,-999.0000,9,    197.4,1,   -999.0,9,  -999.00,9,  -999.00,9,  -999.00,9,  -999.00,9, -999.000,9, -999.000,9, -999.000,9,   -999.0,9,   -999.0,9,-999.0000,9,  -999.00,   -999.0,9,   -999.0,  -999.00,9,  -999.00,  -999.00,9,  26.2111,2
  49NZ20031209,  I3I4,   513,  1,      6,  12030,9,20040101,1512,-19.9970,  71.2558, 4189,      9.8,  26.2100,  35.0354,2,-999.0000,9,    197.4,1,   -999.0,9,  -999.00,9,  -999.00,9,  -999.00,9,  -999.00,9, -999.000,9, -999.000,9, -999.000,9,   -999.0,9,   -999.0,9,-999.0000,9,  -999.00,   -999.0,9,   -999.0,  -999.00,9,  -999.00,  -999.00,9,  26.2095,2
  49NZ20031209,  I3I4,   513,  1,      5,  12029,9,20040101,1512,-19.9970,  71.2558, 4189,   1000.3,   5.0738,  34.5400,2,-999.0000,9,    130.6,1,   -999.0,9,  -999.00,9,  -999.00,9,  -999.00,9,  -999.00,9, -999.000,9, -999.000,9, -999.000,9,   -999.0,9,   -999.0,9,-999.0000,9,  -999.00,   -999.0,9,   -999.0,  -999.00,9,  -999.00,  -999.00,9,   5.0745,2
  49NZ20031209,  I3I4,   513,  1,      4,  12028,9,20040101,1512,-19.9970,  71.2558, 4189,   1000.1,   5.0744,  34.5400,2,-999.0000,9,    130.6,1,   -999.0,9,  -999.00,9,  -999.00,9,  -999.00,9,  -999.00,9, -999.000,9, -999.000,9, -999.000,9,   -999.0,9,   -999.0,9,-999.0000,9,  -999.00,   -999.0,9,   -999.0,  -999.00,9,  -999.00,  -999.00,9,   5.0748,2
  49NZ20031209,  I3I4,   513,  1,      3,  12027,9,20040101,1512,-19.9970,  71.2558, 4189,    999.9,   5.0739,  34.5401,2,-999.0000,9,    130.6,1,   -999.0,9,  -999.00,9,  -999.00,9,  -999.00,9,  -999.00,9, -999.000,9, -999.000,9, -999.000,9,   -999.0,9,   -999.0,9,-999.0000,9,  -999.00,   -999.0,9,   -999.0,  -999.00,9,  -999.00,  -999.00,9,   5.0741,2
  49NZ20031209,  I3I4,   513,  1,      2,  12026,9,20040101,1512,-19.9970,  71.2558, 4189,   1000.1,   5.0744,  34.5400,2,-999.0000,9,    130.5,1,   -999.0,9,  -999.00,9,  -999.00,9,  -999.00,9,  -999.00,9, -999.000,9, -999.000,9, -999.000,9,   -999.0,9,   -999.0,9,-999.0000,9,  -999.00,   -999.0,9,   -999.0,  -999.00,9,  -999.00,  -999.00,9,   5.0750,2
  49NZ20031209,  I3I4,   513,  1,      1,  12025,2,20040101,1512,-19.9970,  71.2558, 4189,   3500.6,   1.4742,  34.7246,2,  34.7236,2,    179.2,1,    185.6,2,   120.79,2,    32.82,2,     0.00,2,     2.27,2,    0.000,2,   -0.002,2,    0.000,4,   2287.5,2,   2392.4,2,   7.6277,2,    25.00,   -173.3,2,      2.9,     0.40,2,  -999.00,  -999.00,9,   1.4744,2