BOTTLE,20141204PRINUNIVRMK
EXPOCODE,SECT_ID,STNNBR,CASTNO,SAMPNO,BTLNBR,BTLNBR_FLAG_W,DATE,TIME,LATITUDE,LONGITUDE,DEPTH,CTDPRS,CTDTMP,CTDSAL,CTDSAL_FLAG_W,SALNTY,SALNTY_FLAG_W,CTDOXY,CTDOXY_FLAG_W,OXYGEN,OXYGEN_FLAG_W,SILCAT,SILCAT_FLAG_W,NITRAT,NITRAT_FLAG_W,NITRIT,NITRIT_FLAG_W,PHSPHT,PHSPHT_FLAG_W,CFC-11,CFC-11_FLAG_W,CFC-12,CFC-12_FLAG_W,CFC113,CFC113_FLAG_W,TCARBN,TCARBN_FLAG_W,ALKALI,ALKALI_FLAG_W,PH_TOT,PH_TOT_FLAG_W,PH_TMP,DELC14,DELC14_FLAG_W,C14ERR,DELC13,DELC13_FLAG_W,CS-137,CS137ER,CS-137_FLAG_W,SBE35,SBE35_FLAG_W
,,,,,,,,,,,METERS,DBAR,ITS-90,PSS-78,,PSS-78,,UMOL/KG,,UMOL/KG,,UMOL/KG,,UMOL/KG,,UMOL/KG,,UMOL/KG,,PMOL/KG,,PMOL/KG,,PMOL/KG,,UMOL/KG,,UMOL/KG,,,,DEG C,/MILLE,,/MILLE,/MILLE,,DM/.1MG,DM/.1MG,,ITS-90,
  49NZ20031209,  I3I4,   447,  1,     36,  12024,2,20040120,1752,-22.1788, 113.4415, 1279,      9.5,  25.8382,  35.1683,2,  35.1689,2,    195.9,1,    206.3,2,     2.62,2,    -0.02,2,     0.00,2,     0.08,2,    1.765,2,    0.987,4, -999.000,5,   1982.6,2,   2302.1,2,   8.0865,2,    25.00,   -999.0,9,   -999.0,  -999.00,9,  -999.00,  -999.00,9,  25.8367,2
  49NZ20031209,  I3I4,   447,  1,     35,  12023,2,20040120,1752,-22.1788, 113.4415, 1279,     50.2,  23.6534,  35.2630,2,  35.2684,2,    206.7,1,    218.3,2,     2.68,2,    -0.03,2,     0.01,2,     0.08,2,    1.934,2,    1.088,4, -999.000,5,   1994.2,6,   2308.5,2,   8.0790,2,    25.00,   -999.0,9,   -999.0,  -999.00,9,  -999.00,  -999.00,9,  23.6541,2
  49NZ20031209,  I3I4,   447,  1,     34,  12022,2,20040120,1752,-22.1788, 113.4415, 1279,     99.5,  21.1363,  35.2100,2,  35.2146,2,    171.1,1,    179.4,2,     5.46,2,     3.96,2,     0.06,2,     0.37,2,    2.000,2,    1.106,4,    0.292,4,   2036.8,2,   2304.5,6,   7.9984,2,    25.00,   -999.0,9,   -999.0,  -999.00,9,  -999.00,  -999.00,9,  21.1353,2
  49NZ20031209,  I3I4,   447,  1,     33,  12015,2,20040120,1752,-22.1788, 113.4415, 1279,    150.5,  19.1276,  35.3533,2,  35.3543,2,    160.3,1,    167.5,2,     8.45,2,     7.03,2,     0.02,2,     0.56,2,    2.025,2,    1.112,4,    0.203,4,   2075.0,2,   2323.3,2,   7.9429,2,    25.00,   -999.0,9,   -999.0,  -999.00,9,  -999.00,  -999.00,9,  19.1286,2
  49NZ20031209,  I3I4,   447,  1,     32,  12020,2,20040120,1752,-22.1788, 113.4415, 1279,    200.5,  17.2185,  35.4960,2,  35.5166,3,    176.7,1,    185.8,2,     7.49,2,     6.25,2,     0.02,2,     0.53,2,    2.283,2,    1.260,4,    0.218,4,   2089.9,2,   2330.3,2,   7.9359,2,    25.00,   -999.0,9,   -999.0,  -999.00,9,  -999.00,  -999.00,9,  17.2206,2
  49NZ20031209,  I3I4,   447,  1,     31,  12019,2,20040120,1752,-22.1788, 113.4415, 1279,    250.8,  15.4955,  35.5570,2,  35.5575,2,    204.1,1,    213.5,2,     3.73,2,     4.37,2,     0.01,2,     0.42,2,    2.655,6,    1.466,4,    0.238,4,   2090.6,2,   2332.5,2,   7.9375,2,    25.00,   -999.0,9,   -999.0,  -999.00,9,  -999.00,  -999.00,9,  15.5580,2
  49NZ20031209,  I3I4,   447,  1,     30,  12018,2,20040120,1752,-22.1788, 113.4415, 1279,    299.9,  13.4493,  35.3007,2,  35.3007,2,    214.8,1,    224.6,2,     3.12,2,     6.58,2,     0.01,2,     0.57,2,    2.982,2,    1.628,4,    0.174,4,   2102.0,2,   2316.4,2,   7.8964,2,    25.00,   -999.0,9,   -999.0,  -999.00,9,  -999.00,  -999.00,9,  13.4420,2
  49NZ20031209,  I3I4,   447,  1,     29,  12017,2,20040120,1752,-22.1788, 113.4415, 1279,    400.5,  10.5007,  34.8612,2,  34.8597,2,    232.4,1,    242.7,2,     2.98,2,    12.06,2,     0.00,2,     0.90,2,    3.449,2,    1.881,4,    0.187,4,   2113.4,2,   2293.0,2,   7.8341,2,    25.00,   -999.0,9,   -999.0,  -999.00,9,  -999.00,  -999.00,9,  10.5008,2
  49NZ20031209,  I3I4,   447,  1,     28,  12016,2,20040120,1752,-22.1788, 113.4415, 1279,    501.0,   9.0521,  34.6496,2,  34.6465,2,    225.6,1,    235.2,2,     4.90,2,    17.36,2,     0.01,2,     1.22,2,    3.446,2,    1.711,4,    0.200,4,   2127.2,2,   2286.7,2,   7.7835,2,    25.00,   -999.0,9,   -999.0,  -999.00,9,  -999.00,  -999.00,9,   9.0521,2
  49NZ20031209,  I3I4,   447,  1,     27,  12012,2,20040120,1752,-22.1788, 113.4415, 1279,    601.6,   7.4828,  34.5286,2,  34.5302,2,    188.8,1,    196.5,2,    18.57,2,    24.41,2,     0.00,2,     1.69,2,    2.051,2,    0.942,4,    0.118,4,   2165.5,2,   2289.6,2,   7.7016,2,    25.00,   -999.0,9,   -999.0,  -999.00,9,  -999.00,  -999.00,9,   7.4734,2
  49NZ20031209,  I3I4,   447,  1,     26,  12014,2,20040120,1752,-22.1788, 113.4415, 1279,    699.1,   6.2942,  34.5272,2,  34.5272,2,    142.6,1,    147.5,2,    43.53,2,    30.94,2,     0.01,2,     2.16,2,    0.725,2,    0.283,4,    0.066,4,   2217.8,6,   2311.0,2,   7.6138,2,    25.00,   -999.0,9,   -999.0,  -999.00,9,  -999.00,  -999.00,9,   6.2938,2
  49NZ20031209,  I3I4,   447,  1,     25,  12013,2,20040120,1752,-22.1788, 113.4415, 1279,    802.6,   5.7934,  34.6188,2,  34.6173,2,     94.9,1,     97.3,2,    74.44,2,    35.22,2,     0.01,2,     2.53,2,    0.086,2,   -0.024,4,    0.026,4,   2273.3,2,   2340.8,6,   7.5462,2,    25.00,   -999.0,9,   -999.0,  -999.00,9,  -999.00,  -999.00,9,   5.7939,2
  49NZ20031209,  I3I4,   447,  1,     24,  12048,2,20040120,1752,-22.1788, 113.4415, 1279,    901.0,   5.4634,  34.6280,2,  34.6278,2,     90.4,1,     92.5,2,    84.29,2,    35.97,2,     0.01,2,     2.59,2,    0.051,2,   -0.045,4,    0.026,4,   2283.8,2,   2353.8,2,   7.5370,6,    25.00,   -999.0,9,   -999.0,  -999.00,9,  -999.00,  -999.00,9,   5.4634,2
  49NZ20031209,  I3I4,   447,  1,     23,  12047,2,20040120,1752,-22.1788, 113.4415, 1279,   1001.6,   5.2522,  34.6294,2,  34.6296,2,     91.3,1,     93.3,2,    87.33,2,    36.10,2,     0.00,2,     2.61,2,    0.039,6,   -0.044,4,    0.025,4,   2288.5,2,   2352.2,2,   7.5352,2,    25.00,   -999.0,9,   -999.0,  -999.00,9,  -999.00,  -999.00,9,   5.2524,2
  49NZ20031209,  I3I4,   447,  1,     22,  12046,2,20040120,1752,-22.1788, 113.4415, 1279,   1200.4,   4.3534,  34.6390,2,  34.6402,2,    100.6,1,    102.9,2,    97.11,2,    36.42,2,     0.00,2,     2.62,2,    0.010,2,   -0.061,4,    0.025,4,   2297.7,2,   2365.4,2,   7.5383,2,    25.00,   -999.0,9,   -999.0,  -999.00,9,  -999.00,  -999.00,9,   4.3537,2
  49NZ20031209,  I3I4,   447,  1,     21,  12045,2,20040120,1752,-22.1788, 113.4415, 1279,   1287.9,   4.0948,  34.6445,2,  34.6441,2,    104.8,1,    106.7,2,    99.27,2,    36.35,2,     0.01,2,     2.62,2,    0.008,2,   -0.047,4,    0.024,4,   2298.9,2,   2370.7,2,   7.5409,2,    25.00,   -999.0,9,   -999.0,  -999.00,9,  -999.00,  -999.00,9,   4.0959,2
  49NZ20031209,  I3I4,   447,  1,     20,  12044,9,20040120,1752,-22.1788, 113.4415, 1279,      9.8,  25.8443,  35.1683,2,-999.0000,9,    195.8,1,   -999.0,9,  -999.00,9,  -999.00,9,  -999.00,9,  -999.00,9, -999.000,9, -999.000,9, -999.000,9,   -999.0,9,   -999.0,9,-999.0000,9,  -999.00,   -999.0,9,   -999.0,  -999.00,9,  -999.00,  -999.00,9,  25.8391,2
  49NZ20031209,  I3I4,   447,  1,     19,  12043,9,20040120,1752,-22.1788, 113.4415, 1279,     50.0,  23.6723,  35.2633,2,-999.0000,9,    206.9,1,   -999.0,9,  -999.00,9,  -999.00,9,  -999.00,9,  -999.00,9, -999.000,9, -999.000,9, -999.000,9,   -999.0,9,   -999.0,9,-999.0000,9,  -999.00,   -999.0,9,   -999.0,  -999.00,9,  -999.00,  -999.00,9,  23.6783,2
  49NZ20031209,  I3I4,   447,  1,     18,  12042,9,20040120,1752,-22.1788, 113.4415, 1279,     99.6,  21.1361,  35.2106,2,-999.0000,9,    171.2,1,   -999.0,9,  -999.00,9,  -999.00,9,  -999.00,9,  -999.00,9, -999.000,9, -999.000,9, -999.000,9,   -999.0,9,   -999.0,9,-999.0000,9,  -999.00,   -999.0,9,   -999.0,  -999.00,9,  -999.00,  -999.00,9,  21.1348,2
  49NZ20031209,  I3I4,   447,  1,     17,  12041,9,20040120,1752,-22.1788, 113.4415, 1279,    150.1,  19.1352,  35.3542,2,-999.0000,9,    160.2,1,   -999.0,9,  -999.00,9,  -999.00,9,  -999.00,9,  -999.00,9, -999.000,9, -999.000,9, -999.000,9,   -999.0,9,   -999.0,9,-999.0000,9,  -999.00,   -999.0,9,   -999.0,  -999.00,9,  -999.00,  -999.00,9,  19.1342,2
  49NZ20031209,  I3I4,   447,  1,     16,  12040,9,20040120,1752,-22.1788, 113.4415, 1279,    201.0,  17.2011,  35.5093,2,-999.0000,9,    177.4,1,   -999.0,9,  -999.00,9,  -999.00,9,  -999.00,9,  -999.00,9, -999.000,9, -999.000,9, -999.000,9,   -999.0,9,   -999.0,9,-999.0000,9,  -999.00,   -999.0,9,   -999.0,  -999.00,9,  -999.00,  -999.00,9,  17.2040,2
  49NZ20031209,  I3I4,   447,  1,     15,  12039,9,20040120,1752,-22.1788, 113.4415, 1279,    251.5,  15.4916,  35.5537,2,-999.0000,9,    204.8,1,   -999.0,9,  -999.00,9,  -999.00,9,  -999.00,9,  -999.00,9, -999.000,9, -999.000,9, -999.000,9,   -999.0,9,   -999.0,9,-999.0000,9,  -999.00,   -999.0,9,   -999.0,  -999.00,9,  -999.00,  -999.00,9,  15.5097,2
  49NZ20031209,  I3I4,   447,  1,     14,  12038,9,20040120,1752,-22.1788, 113.4415, 1279,    300.4,  13.4224,  35.2978,2,-999.0000,9,    214.8,1,   -999.0,9,  -999.00,9,  -999.00,9,  -999.00,9,  -999.00,9, -999.000,9, -999.000,9, -999.000,9,   -999.0,9,   -999.0,9,-999.0000,9,  -999.00,   -999.0,9,   -999.0,  -999.00,9,  -999.00,  -999.00,9,  13.4234,2
  49NZ20031209,  I3I4,   447,  1,     13,  12037,9,20040120,1752,-22.1788, 113.4415, 1279,    400.2,  10.5022,  34.8616,2,-999.0000,9,    232.5,1,   -999.0,9,  -999.00,9,  -999.00,9,  -999.00,9,  -999.00,9, -999.000,9, -999.000,9, -999.000,9,   -999.0,9,   -999.0,9,-999.0000,9,  -999.00,   -999.0,9,   -999.0,  -999.00,9,  -999.00,  -999.00,9,  10.5025,2
  49NZ20031209,  I3I4,   447,  1,     12,  12036,9,20040120,1752,-22.1788, 113.4415, 1279,    501.0,   9.0509,  34.6497,2,-999.0000,9,    225.4,1,   -999.0,9,  -999.00,9,  -999.00,9,  -999.00,9,  -999.00,9, -999.000,9, -999.000,9, -999.000,9,   -999.0,9,   -999.0,9,-999.0000,9,  -999.00,   -999.0,9,   -999.0,  -999.00,9,  -999.00,  -999.00,9,   9.0514,2
  49NZ20031209,  I3I4,   447,  1,     11,  12035,9,20040120,1752,-22.1788, 113.4415, 1279,    601.5,   7.4709,  34.5277,2,-999.0000,9,    188.8,1,   -999.0,9,  -999.00,9,  -999.00,9,  -999.00,9,  -999.00,9, -999.000,9, -999.000,9, -999.000,9,   -999.0,9,   -999.0,9,-999.0000,9,  -999.00,   -999.0,9,   -999.0,  -999.00,9,  -999.00,  -999.00,9,   7.4675,2
  49NZ20031209,  I3I4,   447,  1,     10,  12034,9,20040120,1752,-22.1788, 113.4415, 1279,    699.1,   6.2964,  34.5272,2,-999.0000,9,    142.6,1,   -999.0,9,  -999.00,9,  -999.00,9,  -999.00,9,  -999.00,9, -999.000,9, -999.000,9, -999.000,9,   -999.0,9,   -999.0,9,-999.0000,9,  -999.00,   -999.0,9,   -999.0,  -999.00,9,  -999.00,  -999.00,9,   6.2949,2
  49NZ20031209,  I3I4,   447,  1,      9,  12033,9,20040120,1752,-22.1788, 113.4415, 1279,    802.6,   5.7926,  34.6190,2,-999.0000,9,     94.7,1,   -999.0,9,  -999.00,9,  -999.00,9,  -999.00,9,  -999.00,9, -999.000,9, -999.000,9, -999.000,9,   -999.0,9,   -999.0,9,-999.0000,9,  -999.00,   -999.0,9,   -999.0,  -999.00,9,  -999.00,  -999.00,9,   5.7927,2
  49NZ20031209,  I3I4,   447,  1,      8,  12032,9,20040120,1752,-22.1788, 113.4415, 1279,    901.1,   5.4616,  34.6282,2,-999.0000,9,     90.4,1,   -999.0,9,  -999.00,9,  -999.00,9,  -999.00,9,  -999.00,9, -999.000,9, -999.000,9, -999.000,9,   -999.0,9,   -999.0,9,-999.0000,9,  -999.00,   -999.0,9,   -999.0,  -999.00,9,  -999.00,  -999.00,9,   5.4619,2
  49NZ20031209,  I3I4,   447,  1,      7,  12010,9,20040120,1752,-22.1788, 113.4415, 1279,    900.8,   5.4632,  34.6281,2,-999.0000,9,     90.4,1,   -999.0,9,  -999.00,9,  -999.00,9,  -999.00,9,  -999.00,9, -999.000,9, -999.000,9, -999.000,9,   -999.0,9,   -999.0,9,-999.0000,9,  -999.00,   -999.0,9,   -999.0,  -999.00,9,  -999.00,  -999.00,9,   5.4634,2
  49NZ20031209,  I3I4,   447,  1,      6,  12030,2,20040120,1752,-22.1788, 113.4415, 1279,   1200.7,   4.3534,  34.6389,2,  34.6384,2,    100.6,1,    103.0,2,    97.25,2,    36.45,2,     0.00,2,     2.63,2,    0.013,2,   -0.056,4,    0.024,4,   2299.1,2,   2366.2,2,   7.5372,2,    25.00,   -999.0,9,   -999.0,  -999.00,9,  -999.00,  -999.00,9,   4.3534,2
  49NZ20031209,  I3I4,   447,  1,      5,  12029,9,20040120,1752,-22.1788, 113.4415, 1279,   1000.5,   5.2522,  34.6294,2,-999.0000,9,     91.3,1,   -999.0,9,  -999.00,9,  -999.00,9,  -999.00,9,  -999.00,9, -999.000,9, -999.000,9, -999.000,9,   -999.0,9,   -999.0,9,-999.0000,9,  -999.00,   -999.0,9,   -999.0,  -999.00,9,  -999.00,  -999.00,9,   5.2524,2
  49NZ20031209,  I3I4,   447,  1,      4,  12028,9,20040120,1752,-22.1788, 113.4415, 1279,   1000.6,   5.2522,  34.6295,2,-999.0000,9,     91.4,1,   -999.0,9,  -999.00,9,  -999.00,9,  -999.00,9,  -999.00,9, -999.000,9, -999.000,9, -999.000,9,   -999.0,9,   -999.0,9,-999.0000,9,  -999.00,   -999.0,9,   -999.0,  -999.00,9,  -999.00,  -999.00,9,   5.2523,2
  49NZ20031209,  I3I4,   447,  1,      3,  12027,9,20040120,1752,-22.1788, 113.4415, 1279,   1201.0,   4.3484,  34.6390,2,-999.0000,9,    100.6,1,   -999.0,9,  -999.00,9,  -999.00,9,  -999.00,9,  -999.00,9, -999.000,9, -999.000,9, -999.000,9,   -999.0,9,   -999.0,9,-999.0000,9,  -999.00,   -999.0,9,   -999.0,  -999.00,9,  -999.00,  -999.00,9,   4.3486,2
  49NZ20031209,  I3I4,   447,  1,      2,  12026,9,20040120,1752,-22.1788, 113.4415, 1279,   1201.0,   4.3487,  34.6390,2,-999.0000,9,    100.6,1,   -999.0,9,  -999.00,9,  -999.00,9,  -999.00,9,  -999.00,9, -999.000,9, -999.000,9, -999.000,9,   -999.0,9,   -999.0,9,-999.0000,9,  -999.00,   -999.0,9,   -999.0,  -999.00,9,  -999.00,  -999.00,9,   4.3492,2
  49NZ20031209,  I3I4,   447,  1,      1,  12025,9,20040120,1752,-22.1788, 113.4415, 1279,   1288.1,   4.0966,  34.6444,2,-999.0000,9,    105.0,1,   -999.0,9,  -999.00,9,  -999.00,9,  -999.00,9,  -999.00,9, -999.000,9, -999.000,9, -999.000,9,   -999.0,9,   -999.0,9,-999.0000,9,  -999.00,   -999.0,9,   -999.0,  -999.00,9,  -999.00,  -999.00,9,   4.0967,2
  49NZ20031209,  I3I4,   446,  1,     36,  12024,2,20040120,2002,-22.2022, 113.6007,  858,     10.0,  25.4792,  35.1616,2,  35.1624,2,    197.2,1,    207.6,2,     2.46,2,     0.00,2,     0.01,2,     0.08,2, -999.000,9, -999.000,9, -999.000,9,   -999.0,9,   -999.0,9,-999.0000,9,  -999.00,   -999.0,9,   -999.0,  -999.00,9,  -999.00,  -999.00,9,  25.4770,2
  49NZ20031209,  I3I4,   446,  1,     35,  12023,2,20040120,2002,-22.2022, 113.6007,  858,     49.3,  23.1469,  35.2936,2,  35.2948,2,    208.2,1,    219.4,2,     2.64,2,    -0.02,2,     0.00,2,     0.09,2, -999.000,9, -999.000,9, -999.000,9,   -999.0,9,   -999.0,9,-999.0000,9,  -999.00,   -999.0,9,   -999.0,  -999.00,9,  -999.00,  -999.00,9,  23.1477,2
  49NZ20031209,  I3I4,   446,  1,     34,  12022,2,20040120,2002,-22.2022, 113.6007,  858,    104.1,  21.4907,  35.1883,2,  35.1893,2,    176.1,1,    184.8,2,     4.93,2,     3.01,2,     0.12,2,     0.31,2, -999.000,9, -999.000,9, -999.000,9,   -999.0,9,   -999.0,9,-999.0000,9,  -999.00,   -999.0,9,   -999.0,  -999.00,9,  -999.00,  -999.00,9,  21.4979,2
  49NZ20031209,  I3I4,   446,  1,     33,  12015,2,20040120,2002,-22.2022, 113.6007,  858,    152.5,  19.7998,  35.4436,2,  35.4433,2,    172.9,1,    181.1,2,     5.58,2,     4.63,2,     0.03,2,     0.40,2, -999.000,9, -999.000,9, -999.000,9,   -999.0,9,   -999.0,9,-999.0000,9,  -999.00,   -999.0,9,   -999.0,  -999.00,9,  -999.00,  -999.00,9,  19.8031,2
  49NZ20031209,  I3I4,   446,  1,     32,  12020,2,20040120,2002,-22.2022, 113.6007,  858,    202.2,  17.4713,  35.3802,2,  35.3789,2,    162.9,1,    168.8,2,    10.13,2,     8.51,2,     0.02,2,     0.67,2, -999.000,9, -999.000,9, -999.000,9,   -999.0,9,   -999.0,9,-999.0000,9,  -999.00,   -999.0,9,   -999.0,  -999.00,9,  -999.00,  -999.00,9,  17.4715,2
  49NZ20031209,  I3I4,   446,  1,     31,  12019,2,20040120,2002,-22.2022, 113.6007,  858,    252.6,  16.1239,  35.6952,2,  35.6947,2,    214.5,1,    224.2,2,     1.78,2,     2.17,2,     0.02,2,     0.28,2, -999.000,9, -999.000,9, -999.000,9,   -999.0,9,   -999.0,9,-999.0000,9,  -999.00,   -999.0,9,   -999.0,  -999.00,9,  -999.00,  -999.00,9,  16.1235,2
  49NZ20031209,  I3I4,   446,  1,     30,  12018,2,20040120,2002,-22.2022, 113.6007,  858,    302.5,  14.3248,  35.4434,2,  35.4454,2,    216.7,1,    226.7,2,     1.87,2,     4.59,2,     0.01,2,     0.45,2, -999.000,9, -999.000,9, -999.000,9,   -999.0,9,   -999.0,9,-999.0000,9,  -999.00,   -999.0,9,   -999.0,  -999.00,9,  -999.00,  -999.00,9,  14.3249,2
  49NZ20031209,  I3I4,   446,  1,     20,  12044,2,20040120,2002,-22.2022, 113.6007,  858,    401.3,  10.5905,  34.8704,2,  34.8621,2,    232.4,1,    242.6,2,     3.00,2,    12.01,2,     0.01,2,     0.90,2, -999.000,9, -999.000,9, -999.000,9,   -999.0,9,   -999.0,9,-999.0000,9,  -999.00,   -999.0,9,   -999.0,  -999.00,9,  -999.00,  -999.00,9,  10.6005,2
  49NZ20031209,  I3I4,   446,  1,     19,  12043,2,20040120,2002,-22.2022, 113.6007,  858,    499.9,   8.7504,  34.6196,2,  34.6175,2,    220.8,1,    229.8,2,     7.06,2,    18.69,2,     0.01,2,     1.31,2, -999.000,9, -999.000,9, -999.000,9,   -999.0,9,   -999.0,9,-999.0000,9,  -999.00,   -999.0,9,   -999.0,  -999.00,9,  -999.00,  -999.00,9,   8.7532,2
  49NZ20031209,  I3I4,   446,  1,     18,  12042,2,20040120,2002,-22.2022, 113.6007,  858,    600.9,   7.0763,  34.5259,2,  34.5287,2,    171.1,1,    175.2,2,    28.06,2,    27.14,2,     0.01,2,     1.88,2, -999.000,9, -999.000,9, -999.000,9,   -999.0,9,   -999.0,9,-999.0000,9,  -999.00,   -999.0,9,   -999.0,  -999.00,9,  -999.00,  -999.00,9,   7.0764,2
  49NZ20031209,  I3I4,   446,  1,     17,  12041,2,20040120,2002,-22.2022, 113.6007,  858,    699.6,   6.6701,  34.5887,2,  34.5902,2,    125.1,1,    127.6,2,    52.97,2,    31.56,2,     0.01,2,     2.24,2, -999.000,9, -999.000,9, -999.000,9,   -999.0,9,   -999.0,9,-999.0000,9,  -999.00,   -999.0,9,   -999.0,  -999.00,9,  -999.00,  -999.00,9,   6.6699,2
  49NZ20031209,  I3I4,   446,  1,     16,  12040,2,20040120,2002,-22.2022, 113.6007,  858,    800.9,   5.9367,  34.6135,2,  34.6151,2,     98.1,1,     99.8,2,    72.72,2,    34.89,2,     0.00,2,     2.50,2, -999.000,9, -999.000,9, -999.000,9,   -999.0,9,   -999.0,9,-999.0000,9,  -999.00,   -999.0,9,   -999.0,  -999.00,9,  -999.00,  -999.00,9,   5.9366,2
  49NZ20031209,  I3I4,   446,  1,     15,  12039,2,20040120,2002,-22.2022, 113.6007,  858,    855.2,   5.6590,  34.6206,2,  34.6213,2,     94.1,1,     95.6,2,    79.03,2,    35.47,2,     0.00,2,     2.55,2, -999.000,9, -999.000,9, -999.000,9,   -999.0,9,   -999.0,9,-999.0000,9,  -999.00,   -999.0,9,   -999.0,  -999.00,9,  -999.00,  -999.00,9,   5.6582,2