BOTTLE,20141204PRINUNIVRMK
EXPOCODE,SECT_ID,STNNBR,CASTNO,SAMPNO,BTLNBR,BTLNBR_FLAG_W,DATE,TIME,LATITUDE,LONGITUDE,DEPTH,CTDPRS,CTDTMP,CTDSAL,CTDSAL_FLAG_W,SALNTY,SALNTY_FLAG_W,CTDOXY,CTDOXY_FLAG_W,OXYGEN,OXYGEN_FLAG_W,SILCAT,SILCAT_FLAG_W,NITRAT,NITRAT_FLAG_W,NITRIT,NITRIT_FLAG_W,PHSPHT,PHSPHT_FLAG_W,CFC-11,CFC-11_FLAG_W,CFC-12,CFC-12_FLAG_W,CFC113,CFC113_FLAG_W,TCARBN,TCARBN_FLAG_W,ALKALI,ALKALI_FLAG_W,PH_TOT,PH_TOT_FLAG_W,PH_TMP,DELC14,DELC14_FLAG_W,C14ERR,DELC13,DELC13_FLAG_W,CS-137,CS137ER,CS-137_FLAG_W,SBE35,SBE35_FLAG_W
,,,,,,,,,,,METERS,DBAR,ITS-90,PSS-78,,PSS-78,,UMOL/KG,,UMOL/KG,,UMOL/KG,,UMOL/KG,,UMOL/KG,,UMOL/KG,,PMOL/KG,,PMOL/KG,,PMOL/KG,,UMOL/KG,,UMOL/KG,,,,DEG C,/MILLE,,/MILLE,/MILLE,,DM/.1MG,DM/.1MG,,ITS-90,
  49NZ20031209,  I3I4,   492,  1,     36,  12024,2,20040106,2312,-19.9978,  84.6657, 4941,     10.5,  26.6847,  34.6024,2,  34.6058,2,    194.7,1,    203.6,2,     1.81,2,     0.03,2,     0.01,2,     0.08,2, -999.000,9, -999.000,9, -999.000,9,   -999.0,9,   -999.0,9,-999.0000,9,  -999.00,   -999.0,9,   -999.0,  -999.00,9,  -999.00,  -999.00,9,  26.6837,2
  49NZ20031209,  I3I4,   492,  1,     35,  12023,2,20040106,2312,-19.9978,  84.6657, 4941,     50.9,  24.8677,  35.3143,2,  35.3094,2,    204.4,1,    213.6,2,     1.92,2,     0.01,2,     0.00,2,     0.09,2, -999.000,9, -999.000,9, -999.000,9,   -999.0,9,   -999.0,9,-999.0000,9,  -999.00,   -999.0,9,   -999.0,  -999.00,9,  -999.00,  -999.00,9,  24.8857,2
  49NZ20031209,  I3I4,   492,  1,     34,  12022,2,20040106,2312,-19.9978,  84.6657, 4941,    100.4,  21.6213,  35.4191,2,  35.4193,2,    216.0,1,    225.7,2,     1.94,2,    -0.03,2,     0.01,2,     0.09,2, -999.000,9, -999.000,9, -999.000,9,   -999.0,9,   -999.0,9,-999.0000,9,  -999.00,   -999.0,9,   -999.0,  -999.00,9,  -999.00,  -999.00,9,  21.6204,2
  49NZ20031209,  I3I4,   492,  1,     33,  12015,2,20040106,2312,-19.9978,  84.6657, 4941,    148.3,  20.6747,  35.5675,2,  35.5739,2,    193.8,1,    202.1,2,     2.44,2,     0.81,2,     0.26,2,     0.20,2, -999.000,9, -999.000,9, -999.000,9,   -999.0,9,   -999.0,9,-999.0000,9,  -999.00,   -999.0,9,   -999.0,  -999.00,9,  -999.00,  -999.00,9,  20.6706,2
  49NZ20031209,  I3I4,   492,  1,     32,  12020,2,20040106,2312,-19.9978,  84.6657, 4941,    200.6,  19.1800,  35.8052,2,  35.8038,2,    195.3,1,    203.8,2,     2.29,2,     1.69,2,     0.04,2,     0.24,2, -999.000,9, -999.000,9, -999.000,9,   -999.0,9,   -999.0,9,-999.0000,9,  -999.00,   -999.0,9,   -999.0,  -999.00,9,  -999.00,  -999.00,9,  19.1756,2
  49NZ20031209,  I3I4,   492,  1,     31,  12019,2,20040106,2312,-19.9978,  84.6657, 4941,    248.8,  17.7335,  35.7901,2,  35.7874,2,    193.7,1,    202.0,2,     2.78,2,     2.94,2,     0.01,2,     0.34,2, -999.000,9, -999.000,9, -999.000,9,   -999.0,9,   -999.0,9,-999.0000,9,  -999.00,   -999.0,9,   -999.0,  -999.00,9,  -999.00,  -999.00,9,  17.7327,2
  49NZ20031209,  I3I4,   492,  1,     30,  12018,2,20040106,2312,-19.9978,  84.6657, 4941,    300.9,  15.9210,  35.6672,2,  35.6623,2,    207.1,1,    215.8,2,     1.87,2,     3.33,2,     0.01,2,     0.39,2, -999.000,9, -999.000,9, -999.000,9,   -999.0,9,   -999.0,9,-999.0000,9,  -999.00,   -999.0,9,   -999.0,  -999.00,9,  -999.00,  -999.00,9,  15.9204,2
  49NZ20031209,  I3I4,   492,  1,     29,  12017,2,20040106,2312,-19.9978,  84.6657, 4941,    398.9,  12.9103,  35.2569,2,  35.2527,2,    217.1,1,    225.9,2,     2.51,2,     8.05,2,     0.01,2,     0.66,2, -999.000,9, -999.000,9, -999.000,9,   -999.0,9,   -999.0,9,-999.0000,9,  -999.00,   -999.0,9,   -999.0,  -999.00,9,  -999.00,  -999.00,9,  12.9065,2
  49NZ20031209,  I3I4,   492,  1,     28,  12016,2,20040106,2312,-19.9978,  84.6657, 4941,    499.8,  10.6338,  34.9030,2,  34.8995,2,    224.6,1,    233.8,2,     3.55,2,    12.82,2,     0.00,2,     0.95,2, -999.000,9, -999.000,9, -999.000,9,   -999.0,9,   -999.0,9,-999.0000,9,  -999.00,   -999.0,9,   -999.0,  -999.00,9,  -999.00,  -999.00,9,  10.6330,2
  49NZ20031209,  I3I4,   492,  1,     27,  12012,2,20040106,2312,-19.9978,  84.6657, 4941,    600.2,   9.2380,  34.6948,2,  34.6955,2,    220.7,1,    229.9,2,     5.74,2,    17.09,2,     0.01,2,     1.21,2, -999.000,9, -999.000,9, -999.000,9,   -999.0,9,   -999.0,9,-999.0000,9,  -999.00,   -999.0,9,   -999.0,  -999.00,9,  -999.00,  -999.00,9,   9.2379,2
  49NZ20031209,  I3I4,   492,  1,     26,  12014,2,20040106,2312,-19.9978,  84.6657, 4941,    699.9,   7.9212,  34.5629,2,  34.5620,2,    196.0,1,    204.1,2,    13.86,2,    22.86,2,     0.00,2,     1.58,2, -999.000,9, -999.000,9, -999.000,9,   -999.0,9,   -999.0,9,-999.0000,9,  -999.00,   -999.0,9,   -999.0,  -999.00,9,  -999.00,  -999.00,9,   7.9216,2
  49NZ20031209,  I3I4,   492,  1,     25,  12013,2,20040106,2312,-19.9978,  84.6657, 4941,    800.9,   6.0961,  34.4569,2,  34.4570,2,    176.0,1,    183.6,2,    27.99,2,    28.60,2,     0.01,2,     1.99,2, -999.000,9, -999.000,9, -999.000,9,   -999.0,9,   -999.0,9,-999.0000,9,  -999.00,   -999.0,9,   -999.0,  -999.00,9,  -999.00,  -999.00,9,   6.0961,2
  49NZ20031209,  I3I4,   492,  1,     24,  12048,2,20040106,2312,-19.9978,  84.6657, 4941,    899.0,   5.2555,  34.5037,2,  34.5037,2,    141.6,1,    147.3,2,    51.97,2,    33.10,2,     0.01,2,     2.31,2, -999.000,9, -999.000,9, -999.000,9,   -999.0,9,   -999.0,9,-999.0000,9,  -999.00,   -999.0,9,   -999.0,  -999.00,9,  -999.00,  -999.00,9,   5.2556,2
  49NZ20031209,  I3I4,   492,  1,     23,  12047,2,20040106,2312,-19.9978,  84.6657, 4941,   1001.0,   4.8221,  34.5836,2,  34.5836,2,    116.6,1,    121.0,2,    72.41,2,    35.25,2,     0.01,2,     2.52,2, -999.000,9, -999.000,9, -999.000,9,   -999.0,9,   -999.0,9,-999.0000,9,  -999.00,   -999.0,9,   -999.0,  -999.00,9,  -999.00,  -999.00,9,   4.8225,2
  49NZ20031209,  I3I4,   492,  1,     22,  12046,2,20040106,2312,-19.9978,  84.6657, 4941,   1199.5,   4.1161,  34.6363,2,  34.6363,2,    116.3,1,    120.8,2,    85.71,2,    35.73,2,     0.01,2,     2.56,2, -999.000,9, -999.000,9, -999.000,9,   -999.0,9,   -999.0,9,-999.0000,9,  -999.00,   -999.0,9,   -999.0,  -999.00,9,  -999.00,  -999.00,9,   4.1161,2
  49NZ20031209,  I3I4,   492,  1,     21,  12045,2,20040106,2312,-19.9978,  84.6657, 4941,   1400.7,   3.6658,  34.6841,2,  34.6838,2,    120.2,1,    125.3,2,    94.08,2,    35.62,2,     0.01,2,     2.54,2, -999.000,9, -999.000,9, -999.000,9,   -999.0,9,   -999.0,9,-999.0000,9,  -999.00,   -999.0,9,   -999.0,  -999.00,9,  -999.00,  -999.00,9,   3.6658,2
  49NZ20031209,  I3I4,   492,  1,     20,  12044,2,20040106,2312,-19.9978,  84.6657, 4941,   1600.3,   3.2576,  34.7087,2,  34.7081,2,    127.0,1,    132.1,2,   100.35,2,    35.30,2,     0.01,2,     2.52,2, -999.000,9, -999.000,9, -999.000,9,   -999.0,9,   -999.0,9,-999.0000,9,  -999.00,   -999.0,9,   -999.0,  -999.00,9,  -999.00,  -999.00,9,   3.2576,2
  49NZ20031209,  I3I4,   492,  1,     19,  12043,2,20040106,2312,-19.9978,  84.6657, 4941,   1800.5,   2.8499,  34.7226,2,  34.7223,2,    134.5,1,    140.4,2,   106.23,2,    34.92,2,     0.00,2,     2.49,2, -999.000,9, -999.000,9, -999.000,9,   -999.0,9,   -999.0,9,-999.0000,9,  -999.00,   -999.0,9,   -999.0,  -999.00,9,  -999.00,  -999.00,9,   2.8502,2
  49NZ20031209,  I3I4,   492,  1,     18,  12042,2,20040106,2312,-19.9978,  84.6657, 4941,   2000.4,   2.5079,  34.7265,2,  34.7256,2,    142.8,1,    149.4,2,   110.01,2,    34.60,2,     0.01,2,     2.45,2, -999.000,9, -999.000,9, -999.000,9,   -999.0,9,   -999.0,9,-999.0000,9,  -999.00,   -999.0,9,   -999.0,  -999.00,9,  -999.00,  -999.00,9,   2.5081,2
  49NZ20031209,  I3I4,   492,  1,     17,  12041,2,20040106,2312,-19.9978,  84.6657, 4941,   2199.6,   2.2453,  34.7273,2,  34.7277,2,    151.6,1,    158.9,2,   111.28,2,    34.05,2,     0.01,2,     2.39,2, -999.000,9, -999.000,9, -999.000,9,   -999.0,9,   -999.0,9,-999.0000,9,  -999.00,   -999.0,9,   -999.0,  -999.00,9,  -999.00,  -999.00,9,   2.2451,2
  49NZ20031209,  I3I4,   492,  1,     16,  12040,2,20040106,2312,-19.9978,  84.6657, 4941,   2400.5,   2.0454,  34.7287,2,  34.7289,2,    157.1,1,    165.1,2,   113.53,2,    33.71,2,     0.01,2,     2.37,2, -999.000,9, -999.000,9, -999.000,9,   -999.0,9,   -999.0,9,-999.0000,9,  -999.00,   -999.0,9,   -999.0,  -999.00,9,  -999.00,  -999.00,9,   2.0453,2
  49NZ20031209,  I3I4,   492,  1,     15,  12039,2,20040106,2312,-19.9978,  84.6657, 4941,   2600.4,   1.9023,  34.7292,2,  34.7292,2,    160.7,1,    168.9,2,   115.90,2,    33.54,2,     0.00,2,     2.35,2, -999.000,9, -999.000,9, -999.000,9,   -999.0,9,   -999.0,9,-999.0000,9,  -999.00,   -999.0,9,   -999.0,  -999.00,9,  -999.00,  -999.00,9,   1.9023,2
  49NZ20031209,  I3I4,   492,  1,     14,  12038,2,20040106,2312,-19.9978,  84.6657, 4941,   2800.9,   1.7752,  34.7288,2,  34.7288,2,    164.0,1,    172.3,2,   118.30,2,    33.52,2,     0.01,2,     2.34,2, -999.000,9, -999.000,9, -999.000,9,   -999.0,9,   -999.0,9,-999.0000,9,  -999.00,   -999.0,9,   -999.0,  -999.00,9,  -999.00,  -999.00,9,   1.7753,2
  49NZ20031209,  I3I4,   492,  1,     13,  12037,2,20040106,2312,-19.9978,  84.6657, 4941,   2999.8,   1.6609,  34.7278,2,  34.7278,2,    166.6,1,    175.1,2,   120.64,2,    33.44,2,     0.00,2,     2.34,2, -999.000,9, -999.000,9, -999.000,9,   -999.0,9,   -999.0,9,-999.0000,9,  -999.00,   -999.0,9,   -999.0,  -999.00,9,  -999.00,  -999.00,9,   1.6609,2
  49NZ20031209,  I3I4,   492,  1,     12,  12036,2,20040106,2312,-19.9978,  84.6657, 4941,   3250.3,   1.5671,  34.7260,2,  34.7256,2,    167.2,1,    175.6,2,   124.28,2,    33.68,2,     0.00,2,     2.33,2, -999.000,9, -999.000,9, -999.000,9,   -999.0,9,   -999.0,9,-999.0000,9,  -999.00,   -999.0,9,   -999.0,  -999.00,9,  -999.00,  -999.00,9,   1.5670,2
  49NZ20031209,  I3I4,   492,  1,     11,  12035,2,20040106,2312,-19.9978,  84.6657, 4941,   3500.1,   1.4778,  34.7241,2,  34.7235,2,    170.2,1,    178.4,2,   126.45,2,    33.48,2,     0.01,2,     2.33,2, -999.000,9, -999.000,9, -999.000,9,   -999.0,9,   -999.0,9,-999.0000,9,  -999.00,   -999.0,9,   -999.0,  -999.00,9,  -999.00,  -999.00,9,   1.4778,2
  49NZ20031209,  I3I4,   492,  1,     10,  12034,2,20040106,2312,-19.9978,  84.6657, 4941,   3750.9,   1.4108,  34.7219,2,  34.7214,2,    172.8,1,    180.6,2,   128.19,2,    33.50,2,     0.00,2,     2.33,2, -999.000,9, -999.000,9, -999.000,9,   -999.0,9,   -999.0,9,-999.0000,9,  -999.00,   -999.0,9,   -999.0,  -999.00,9,  -999.00,  -999.00,9,   1.4109,2
  49NZ20031209,  I3I4,   492,  1,      9,  12033,2,20040106,2312,-19.9978,  84.6657, 4941,   4000.8,   1.3846,  34.7207,2,  34.7203,2,    175.0,1,    182.4,2,   128.53,2,    33.47,2,     0.00,2,     2.32,2, -999.000,9, -999.000,9, -999.000,9,   -999.0,9,   -999.0,9,-999.0000,9,  -999.00,   -999.0,9,   -999.0,  -999.00,9,  -999.00,  -999.00,9,   1.3846,2
  49NZ20031209,  I3I4,   492,  1,      8,  12032,2,20040106,2312,-19.9978,  84.6657, 4941,   4249.6,   1.3698,  34.7195,2,  34.7197,2,    176.7,1,    183.6,2,   129.55,2,    33.50,2,     0.00,2,     2.32,2, -999.000,9, -999.000,9, -999.000,9,   -999.0,9,   -999.0,9,-999.0000,9,  -999.00,   -999.0,9,   -999.0,  -999.00,9,  -999.00,  -999.00,9,   1.3699,2
  49NZ20031209,  I3I4,   492,  1,      7,  12031,2,20040106,2312,-19.9978,  84.6657, 4941,   4499.5,   1.3752,  34.7184,2,  34.7184,2,    177.8,1,    183.9,2,   130.13,2,    33.51,2,     0.00,2,     2.32,2, -999.000,9, -999.000,9, -999.000,9,   -999.0,9,   -999.0,9,-999.0000,9,  -999.00,   -999.0,9,   -999.0,  -999.00,9,  -999.00,  -999.00,9,   1.3752,2
  49NZ20031209,  I3I4,   492,  1,      6,  12030,2,20040106,2312,-19.9978,  84.6657, 4941,   4749.4,   1.3938,  34.7181,2,  34.7179,2,    179.2,1,    184.1,2,   130.32,2,    33.48,2,     0.00,2,     2.32,2, -999.000,9, -999.000,9, -999.000,9,   -999.0,9,   -999.0,9,-999.0000,9,  -999.00,   -999.0,9,   -999.0,  -999.00,9,  -999.00,  -999.00,9,   1.3939,2
  49NZ20031209,  I3I4,   492,  1,      5,  12029,2,20040106,2312,-19.9978,  84.6657, 4941,   5011.9,   1.4215,  34.7177,2,  34.7181,2,    180.9,1,    184.2,2,   130.24,2,    33.36,2,     0.00,2,     2.32,2, -999.000,9, -999.000,9, -999.000,9,   -999.0,9,   -999.0,9,-999.0000,9,  -999.00,   -999.0,9,   -999.0,  -999.00,9,  -999.00,  -999.00,9,   1.4216,2
  49NZ20031209,  I3I4,   492,  1,      4,  12028,9,20040106,2312,-19.9978,  84.6657, 4941,   1000.9,   4.8227,  34.5838,2,-999.0000,9,    116.6,1,   -999.0,9,  -999.00,9,  -999.00,9,  -999.00,9,  -999.00,9, -999.000,9, -999.000,9, -999.000,9,   -999.0,9,   -999.0,9,-999.0000,9,  -999.00,   -999.0,9,   -999.0,  -999.00,9,  -999.00,  -999.00,9,   4.8227,2
  49NZ20031209,  I3I4,   492,  1,      3,  12027,9,20040106,2312,-19.9978,  84.6657, 4941,      5.3,  26.6857,  34.6036,2,-999.0000,9,    194.7,1,   -999.0,9,  -999.00,9,  -999.00,9,  -999.00,9,  -999.00,9, -999.000,9, -999.000,9, -999.000,9,   -999.0,9,   -999.0,9,-999.0000,9,  -999.00,   -999.0,9,   -999.0,  -999.00,9,  -999.00,  -999.00,9,  26.6851,2
  49NZ20031209,  I3I4,   492,  1,      2,  12026,9,20040106,2312,-19.9978,  84.6657, 4941,      4.5,  26.6836,  34.6033,2,-999.0000,9,    195.0,1,   -999.0,9,  -999.00,9,  -999.00,9,  -999.00,9,  -999.00,9, -999.000,9, -999.000,9, -999.000,9,   -999.0,9,   -999.0,9,-999.0000,9,  -999.00,   -999.0,9,   -999.0,  -999.00,9,  -999.00,  -999.00,9,  26.6827,2
  49NZ20031209,  I3I4,   492,  1,      1,  12025,9,20040106,2312,-19.9978,  84.6657, 4941,    115.5,  21.1768,  35.3878,2,-999.0000,9,    190.5,1,   -999.0,9,  -999.00,9,  -999.00,9,  -999.00,9,  -999.00,9, -999.000,9, -999.000,9, -999.000,9,   -999.0,9,   -999.0,9,-999.0000,9,  -999.00,   -999.0,9,   -999.0,  -999.00,9,  -999.00,  -999.00,9,  21.1786,2