BOTTLE,20141204PRINUNIVRMK
EXPOCODE,SECT_ID,STNNBR,CASTNO,SAMPNO,BTLNBR,BTLNBR_FLAG_W,DATE,TIME,LATITUDE,LONGITUDE,DEPTH,CTDPRS,CTDTMP,CTDSAL,CTDSAL_FLAG_W,SALNTY,SALNTY_FLAG_W,CTDOXY,CTDOXY_FLAG_W,OXYGEN,OXYGEN_FLAG_W,SILCAT,SILCAT_FLAG_W,NITRAT,NITRAT_FLAG_W,NITRIT,NITRIT_FLAG_W,PHSPHT,PHSPHT_FLAG_W,CFC-11,CFC-11_FLAG_W,CFC-12,CFC-12_FLAG_W,CFC113,CFC113_FLAG_W,TCARBN,TCARBN_FLAG_W,ALKALI,ALKALI_FLAG_W,PH_TOT,PH_TOT_FLAG_W,PH_TMP,DELC14,DELC14_FLAG_W,C14ERR,DELC13,DELC13_FLAG_W,CS-137,CS137ER,CS-137_FLAG_W,SBE35,SBE35_FLAG_W
,,,,,,,,,,,METERS,DBAR,ITS-90,PSS-78,,PSS-78,,UMOL/KG,,UMOL/KG,,UMOL/KG,,UMOL/KG,,UMOL/KG,,UMOL/KG,,PMOL/KG,,PMOL/KG,,PMOL/KG,,UMOL/KG,,UMOL/KG,,,,DEG C,/MILLE,,/MILLE,/MILLE,,DM/.1MG,DM/.1MG,,ITS-90,
  49NZ20031209,  I3I4,   449,  1,     36,  12024,2,20040120,1212,-22.0807, 112.8192, 2204,      9.5,  25.6446,  35.1800,2,  35.1815,2,    196.5,1,    207.0,2,     2.53,2,     0.06,2,    -0.01,2,     0.10,2,    1.584,2,    1.093,2, -999.000,5,   1985.0,2,   2305.9,2,   8.0878,2,    25.00,   -999.0,9,   -999.0,  -999.00,9,  -999.00,  -999.00,9,  25.6404,2
  49NZ20031209,  I3I4,   449,  1,     35,  12023,2,20040120,1212,-22.0807, 112.8192, 2204,     50.6,  22.1657,  35.2593,2,  35.2490,2,    202.0,1,    212.3,2,     3.21,2,     0.04,2,    -0.01,2,     0.14,2,    1.865,2,    1.205,2, -999.000,5,   2005.8,6,   2309.4,2,   8.0570,2,    25.00,   -999.0,9,   -999.0,  -999.00,9,  -999.00,  -999.00,9,  22.1644,2
  49NZ20031209,  I3I4,   449,  1,     34,  12022,2,20040120,1212,-22.0807, 112.8192, 2204,    101.4,  20.2428,  35.4240,2,  35.4215,2,    181.3,1,    189.2,2,     4.58,2,     3.38,2,     0.02,2,     0.33,2,    1.958,2,    1.235,2,    0.427,4,   2047.1,2,   2317.1,6,   7.9999,2,    25.00,   -999.0,9,   -999.0,  -999.00,9,  -999.00,  -999.00,9,  20.2479,2
  49NZ20031209,  I3I4,   449,  1,     33,  12015,2,20040120,1212,-22.0807, 112.8192, 2204,    149.6,  19.2254,  35.7520,2,  35.7558,2,    199.3,1,    209.6,2,     2.30,2,     1.34,2,     0.02,2,     0.19,2,    2.110,2,    1.286,4,    0.431,4,   2052.7,2,   2339.5,2,   8.0173,6,    25.00,   -999.0,9,   -999.0,  -999.00,9,  -999.00,  -999.00,9,  19.2238,2
  49NZ20031209,  I3I4,   449,  1,     32,  12020,2,20040120,1212,-22.0807, 112.8192, 2204,    201.1,  18.2959,  35.7378,2,  35.7368,2,    195.4,1,    204.9,2,     3.03,2,     2.52,2,     0.01,2,     0.29,2,    2.183,4,    1.486,4,    0.302,4,   2071.6,2,   2339.5,2,   7.9858,2,    25.00,   -999.0,9,   -999.0,  -999.00,9,  -999.00,  -999.00,9,  18.2967,2
  49NZ20031209,  I3I4,   449,  1,     31,  12019,2,20040120,1212,-22.0807, 112.8192, 2204,    253.3,  16.0103,  35.6229,2,  35.6313,2,    204.9,1,    214.2,2,     2.62,2,     3.35,2,     0.00,2,     0.37,2,    2.490,6,    1.495,6,    0.255,4,   2086.5,2,   2334.0,2,   7.9498,2,    25.00,   -999.0,9,   -999.0,  -999.00,9,  -999.00,  -999.00,9,  15.9776,2
  49NZ20031209,  I3I4,   449,  1,     30,  12018,2,20040120,1212,-22.0807, 112.8192, 2204,    301.2,  13.8449,  35.3718,2,  35.3662,2,    216.4,1,    226.3,2,     2.05,2,     5.50,2,     0.00,2,     0.51,2,    2.820,2,    1.657,2,    0.186,4,   2098.0,2,   2319.1,2,   7.9094,2,    25.00,   -999.0,9,   -999.0,  -999.00,9,  -999.00,  -999.00,9,  13.8458,2
  49NZ20031209,  I3I4,   449,  1,     29,  12017,2,20040120,1212,-22.0807, 112.8192, 2204,    400.7,  10.6450,  34.8816,2,  34.8763,2,    229.8,1,    240.3,2,     3.23,2,    11.94,2,     0.00,2,     0.90,2,    3.281,2,    1.833,2,    0.174,4,   2113.2,2,   2296.6,2,   7.8363,2,    25.00,   -999.0,9,   -999.0,  -999.00,9,  -999.00,  -999.00,9,  10.6503,2
  49NZ20031209,  I3I4,   449,  1,     28,  12016,2,20040120,1212,-22.0807, 112.8192, 2204,    499.8,   9.2328,  34.6734,2,  34.6674,2,    226.3,1,    236.1,2,     5.01,2,    16.71,2,    -0.01,2,     1.18,2,    3.399,2,    1.808,2,    0.146,4,   2125.1,2,   2286.2,2,   7.7891,2,    25.00,   -999.0,9,   -999.0,  -999.00,9,  -999.00,  -999.00,9,   9.2330,2
  49NZ20031209,  I3I4,   449,  1,     27,  12012,2,20040120,1212,-22.0807, 112.8192, 2204,    600.5,   7.8550,  34.5724,2,  34.5716,2,    179.9,1,    187.4,2,    20.64,2,    24.27,2,    -0.01,2,     1.69,2,    1.958,2,    1.022,2,    0.058,4,   2169.0,2,   2288.7,2,   7.6999,2,    25.00,   -999.0,9,   -999.0,  -999.00,9,  -999.00,  -999.00,9,   7.8515,2
  49NZ20031209,  I3I4,   449,  1,     26,  12014,2,20040120,1212,-22.0807, 112.8192, 2204,    699.8,   6.5639,  34.5491,2,  34.5492,2,    137.7,1,    142.4,2,    43.85,2,    30.74,2,    -0.01,2,     2.16,2,    0.664,2,    0.379,2,    0.027,4,   2217.8,6,   2310.4,2,   7.6146,2,    25.00,   -999.0,9,   -999.0,  -999.00,9,  -999.00,  -999.00,9,   6.5623,2
  49NZ20031209,  I3I4,   449,  1,     25,  12013,2,20040120,1212,-22.0807, 112.8192, 2204,    799.6,   5.7675,  34.5686,2,  34.5683,2,    115.1,1,    118.8,2,    62.33,2,    33.96,2,    -0.01,2,     2.42,2,    0.227,2,    0.136,2,    0.014,4,   2250.8,2,   2328.3,6,   7.5694,2,    25.00,   -999.0,9,   -999.0,  -999.00,9,  -999.00,  -999.00,9,   5.7660,2
  49NZ20031209,  I3I4,   449,  1,     24,  12048,2,20040120,1212,-22.0807, 112.8192, 2204,    899.2,   5.2886,  34.5997,2,  34.6000,2,    102.2,1,    104.8,2,    76.54,2,    35.51,2,    -0.01,2,     2.54,2,    0.071,2,    0.044,2,    0.010,4,   2274.0,2,   2342.5,2,   7.5455,2,    25.00,   -999.0,9,   -999.0,  -999.00,9,  -999.00,  -999.00,9,   5.2882,2
  49NZ20031209,  I3I4,   449,  1,     23,  12047,2,20040120,1212,-22.0807, 112.8192, 2204,   1001.7,   4.8924,  34.6173,2,  34.6198,2,     99.4,1,    101.3,2,    85.75,2,    36.03,2,    -0.01,2,     2.60,2,    0.026,6,    0.018,6,    0.000,4,   2284.9,2,   2354.4,2,   7.5390,2,    25.00,   -999.0,9,   -999.0,  -999.00,9,  -999.00,  -999.00,9,   4.8927,2
  49NZ20031209,  I3I4,   449,  1,     22,  12046,2,20040120,1212,-22.0807, 112.8192, 2204,   1199.7,   4.3396,  34.6355,2,  34.6352,2,    102.5,1,    105.3,2,    94.71,2,    36.25,2,    -0.01,2,     2.63,2,    0.005,2,    0.004,2,    0.000,4,   2294.1,2,   2364.3,2,   7.5390,2,    25.00,   -999.0,9,   -999.0,  -999.00,9,  -999.00,  -999.00,9,   4.3424,2
  49NZ20031209,  I3I4,   449,  1,     21,  12045,2,20040120,1212,-22.0807, 112.8192, 2204,   1400.0,   3.7136,  34.6559,2,  34.6563,2,    111.6,1,    114.9,2,   101.93,2,    36.03,2,    -0.01,2,     2.60,2,    0.004,2,    0.004,2,    0.000,4,   2299.7,2,   2368.7,2,   7.5465,2,    25.00,   -999.0,9,   -999.0,  -999.00,9,  -999.00,  -999.00,9,   3.7163,2
  49NZ20031209,  I3I4,   449,  1,     20,  12044,2,20040120,1212,-22.0807, 112.8192, 2204,   1600.7,   3.1281,  34.6817,2,  34.6811,2,    125.1,1,    128.8,2,   105.63,2,    35.48,2,    -0.01,2,     2.54,2,    0.001,2,    0.001,2,    0.000,4,   2298.4,2,   2374.7,2,   7.5610,2,    25.00,   -999.0,9,   -999.0,  -999.00,9,  -999.00,  -999.00,9,   3.1279,2
  49NZ20031209,  I3I4,   449,  1,     19,  12043,2,20040120,1212,-22.0807, 112.8192, 2204,   1800.2,   2.6398,  34.7086,2,  34.7085,2,    135.3,1,    139.2,2,   112.44,2,    35.00,2,    -0.01,2,     2.49,2,    0.000,2,    0.000,2,    0.000,4,   2300.4,2,   2383.4,2,   7.5719,2,    25.00,   -999.0,9,   -999.0,  -999.00,9,  -999.00,  -999.00,9,   2.6393,2
  49NZ20031209,  I3I4,   449,  1,     18,  12042,2,20040120,1212,-22.0807, 112.8192, 2204,   1999.3,   2.3497,  34.7195,2,  34.7193,2,    141.6,1,    145.7,2,   117.36,2,    34.71,2,    -0.01,2,     2.48,2,    0.002,2,    0.000,2,    0.000,4,   2301.0,2,   2390.7,2,   7.5811,6,    25.00,   -999.0,9,   -999.0,  -999.00,9,  -999.00,  -999.00,9,   2.3493,2
  49NZ20031209,  I3I4,   449,  1,     17,  12041,2,20040120,1212,-22.0807, 112.8192, 2204,   2199.4,   2.1285,  34.7244,2,  34.7252,2,    147.4,1,    151.5,2,   121.13,2,    34.49,2,    -0.01,2,     2.45,2,   -0.002,2,   -0.003,2,    0.000,4,   2303.7,2,   2395.5,2,   7.5871,2,    25.00,   -999.0,9,   -999.0,  -999.00,9,  -999.00,  -999.00,9,   2.1289,2
  49NZ20031209,  I3I4,   449,  1,     16,  12040,2,20040120,1212,-22.0807, 112.8192, 2204,   2220.7,   2.0877,  34.7247,2,  34.7247,2,    148.6,1,    152.2,2,   121.21,2,    34.49,2,    -0.01,2,     2.44,2,   -0.003,2,    0.001,2,    0.000,4,   2301.5,6,   2391.9,2,   7.5881,2,    25.00,   -999.0,9,   -999.0,  -999.00,9,  -999.00,  -999.00,9,   2.0879,2
  49NZ20031209,  I3I4,   449,  1,     15,  12039,9,20040120,1212,-22.0807, 112.8192, 2204,      9.7,  25.6439,  35.1805,2,-999.0000,9,    196.6,1,   -999.0,9,  -999.00,9,  -999.00,9,  -999.00,9,  -999.00,9, -999.000,9, -999.000,9, -999.000,9,   -999.0,9,   -999.0,9,-999.0000,9,  -999.00,   -999.0,9,   -999.0,  -999.00,9,  -999.00,  -999.00,9,  25.6409,2
  49NZ20031209,  I3I4,   449,  1,     14,  12038,9,20040120,1212,-22.0807, 112.8192, 2204,    301.7,  13.8367,  35.3706,2,-999.0000,9,    216.6,1,   -999.0,9,  -999.00,9,  -999.00,9,  -999.00,9,  -999.00,9, -999.000,9, -999.000,9, -999.000,9,   -999.0,9,   -999.0,9,-999.0000,9,  -999.00,   -999.0,9,   -999.0,  -999.00,9,  -999.00,  -999.00,9,  13.8381,2
  49NZ20031209,  I3I4,   449,  1,     13,  12037,9,20040120,1212,-22.0807, 112.8192, 2204,    400.7,  10.6407,  34.8806,2,-999.0000,9,    229.9,1,   -999.0,9,  -999.00,9,  -999.00,9,  -999.00,9,  -999.00,9, -999.000,9, -999.000,9, -999.000,9,   -999.0,9,   -999.0,9,-999.0000,9,  -999.00,   -999.0,9,   -999.0,  -999.00,9,  -999.00,  -999.00,9,  10.6436,2
  49NZ20031209,  I3I4,   449,  1,     12,  12036,9,20040120,1212,-22.0807, 112.8192, 2204,    499.5,   9.2321,  34.6736,2,-999.0000,9,    226.4,1,   -999.0,9,  -999.00,9,  -999.00,9,  -999.00,9,  -999.00,9, -999.000,9, -999.000,9, -999.000,9,   -999.0,9,   -999.0,9,-999.0000,9,  -999.00,   -999.0,9,   -999.0,  -999.00,9,  -999.00,  -999.00,9,   9.2333,2
  49NZ20031209,  I3I4,   449,  1,     11,  12035,9,20040120,1212,-22.0807, 112.8192, 2204,    600.8,   7.8381,  34.5715,2,-999.0000,9,    180.0,1,   -999.0,9,  -999.00,9,  -999.00,9,  -999.00,9,  -999.00,9, -999.000,9, -999.000,9, -999.000,9,   -999.0,9,   -999.0,9,-999.0000,9,  -999.00,   -999.0,9,   -999.0,  -999.00,9,  -999.00,  -999.00,9,   7.8411,2
  49NZ20031209,  I3I4,   449,  1,     10,  12034,9,20040120,1212,-22.0807, 112.8192, 2204,    699.6,   6.5629,  34.5500,2,-999.0000,9,    137.6,1,   -999.0,9,  -999.00,9,  -999.00,9,  -999.00,9,  -999.00,9, -999.000,9, -999.000,9, -999.000,9,   -999.0,9,   -999.0,9,-999.0000,9,  -999.00,   -999.0,9,   -999.0,  -999.00,9,  -999.00,  -999.00,9,   6.5644,2
  49NZ20031209,  I3I4,   449,  1,      9,  12033,9,20040120,1212,-22.0807, 112.8192, 2204,    799.5,   5.7610,  34.5684,2,-999.0000,9,    115.0,1,   -999.0,9,  -999.00,9,  -999.00,9,  -999.00,9,  -999.00,9, -999.000,9, -999.000,9, -999.000,9,   -999.0,9,   -999.0,9,-999.0000,9,  -999.00,   -999.0,9,   -999.0,  -999.00,9,  -999.00,  -999.00,9,   5.7626,2
  49NZ20031209,  I3I4,   449,  1,      8,  12032,9,20040120,1212,-22.0807, 112.8192, 2204,   1999.5,   2.3486,  34.7197,2,-999.0000,9,    141.7,1,   -999.0,9,  -999.00,9,  -999.00,9,  -999.00,9,  -999.00,9, -999.000,9, -999.000,9, -999.000,9,   -999.0,9,   -999.0,9,-999.0000,9,  -999.00,   -999.0,9,   -999.0,  -999.00,9,  -999.00,  -999.00,9,   2.3484,2
  49NZ20031209,  I3I4,   449,  1,      7,  12010,2,20040120,1212,-22.0807, 112.8192, 2204,   2199.5,   2.1308,  34.7246,2,  34.7246,2,    147.1,1,    151.3,2,   120.81,2,    34.58,2,    -0.01,2,     2.46,2,   -0.003,2,   -0.002,2,    0.000,4,   2300.8,2,   2392.4,2,   7.5870,2,    25.00,   -999.0,9,   -999.0,  -999.00,9,  -999.00,  -999.00,9,   2.1322,2
  49NZ20031209,  I3I4,   449,  1,      6,  12030,9,20040120,1212,-22.0807, 112.8192, 2204,   1001.4,   4.8921,  34.6173,2,-999.0000,9,     99.6,1,   -999.0,9,  -999.00,9,  -999.00,9,  -999.00,9,  -999.00,9, -999.000,9, -999.000,9, -999.000,9,   -999.0,9,   -999.0,9,-999.0000,9,  -999.00,   -999.0,9,   -999.0,  -999.00,9,  -999.00,  -999.00,9,   4.8923,2
  49NZ20031209,  I3I4,   449,  1,      5,  12029,9,20040120,1212,-22.0807, 112.8192, 2204,   1200.2,   4.3453,  34.6350,2,-999.0000,9,    102.5,1,   -999.0,9,  -999.00,9,  -999.00,9,  -999.00,9,  -999.00,9, -999.000,9, -999.000,9, -999.000,9,   -999.0,9,   -999.0,9,-999.0000,9,  -999.00,   -999.0,9,   -999.0,  -999.00,9,  -999.00,  -999.00,9,   4.3450,2
  49NZ20031209,  I3I4,   449,  1,      4,  12028,9,20040120,1212,-22.0807, 112.8192, 2204,   1399.6,   3.7178,  34.6556,2,-999.0000,9,    111.7,1,   -999.0,9,  -999.00,9,  -999.00,9,  -999.00,9,  -999.00,9, -999.000,9, -999.000,9, -999.000,9,   -999.0,9,   -999.0,9,-999.0000,9,  -999.00,   -999.0,9,   -999.0,  -999.00,9,  -999.00,  -999.00,9,   3.7178,2
  49NZ20031209,  I3I4,   449,  1,      3,  12027,9,20040120,1212,-22.0807, 112.8192, 2204,   1600.9,   3.1312,  34.6813,2,-999.0000,9,    125.0,1,   -999.0,9,  -999.00,9,  -999.00,9,  -999.00,9,  -999.00,9, -999.000,9, -999.000,9, -999.000,9,   -999.0,9,   -999.0,9,-999.0000,9,  -999.00,   -999.0,9,   -999.0,  -999.00,9,  -999.00,  -999.00,9,   3.1302,2
  49NZ20031209,  I3I4,   449,  1,      2,  12026,9,20040120,1212,-22.0807, 112.8192, 2204,   1800.1,   2.6400,  34.7086,2,-999.0000,9,    135.2,1,   -999.0,9,  -999.00,9,  -999.00,9,  -999.00,9,  -999.00,9, -999.000,9, -999.000,9, -999.000,9,   -999.0,9,   -999.0,9,-999.0000,9,  -999.00,   -999.0,9,   -999.0,  -999.00,9,  -999.00,  -999.00,9,   2.6396,2
  49NZ20031209,  I3I4,   449,  1,      1,  12025,9,20040120,1212,-22.0807, 112.8192, 2204,    899.2,   5.2876,  34.5997,2,-999.0000,9,    102.2,1,   -999.0,9,  -999.00,9,  -999.00,9,  -999.00,9,  -999.00,9, -999.000,9, -999.000,9, -999.000,9,   -999.0,9,   -999.0,9,-999.0000,9,  -999.00,   -999.0,9,   -999.0,  -999.00,9,  -999.00,  -999.00,9,   5.2879,2
  49NZ20031209,  I3I4,   448,  1,     36,  12024,2,20040120,1525,-22.1373, 113.1707, 1313,      9.6,  25.8490,  35.1799,2,  35.1806,2,    195.8,1,    206.4,2,     2.71,2,     0.02,2,     0.01,2,     0.10,2, -999.000,9, -999.000,9, -999.000,9,   -999.0,9,   -999.0,9,-999.0000,9,  -999.00,   -999.0,9,   -999.0,  -999.00,9,  -999.00,  -999.00,9,  25.8465,2
  49NZ20031209,  I3I4,   448,  1,     35,  12023,2,20040120,1525,-22.1373, 113.1707, 1313,     50.3,  22.5267,  35.2680,2,  35.2622,2,    203.9,1,    214.1,2,     2.95,2,     0.02,2,     0.01,2,     0.12,2, -999.000,9, -999.000,9, -999.000,9,   -999.0,9,   -999.0,9,-999.0000,9,  -999.00,   -999.0,9,   -999.0,  -999.00,9,  -999.00,  -999.00,9,  22.5255,2
  49NZ20031209,  I3I4,   448,  1,     34,  12022,2,20040120,1525,-22.1373, 113.1707, 1313,     99.6,  20.4806,  35.2100,2,  35.2090,2,    161.0,1,    167.6,2,     7.26,2,     6.05,2,     0.04,2,     0.50,2, -999.000,9, -999.000,9, -999.000,9,   -999.0,9,   -999.0,9,-999.0000,9,  -999.00,   -999.0,9,   -999.0,  -999.00,9,  -999.00,  -999.00,9,  20.4757,2
  49NZ20031209,  I3I4,   448,  1,     33,  12015,2,20040120,1525,-22.1373, 113.1707, 1313,    151.4,  19.3072,  35.4014,2,  35.4036,2,    164.8,1,    172.8,2,     7.28,2,     6.18,2,     0.02,2,     0.51,2, -999.000,9, -999.000,9, -999.000,9,   -999.0,9,   -999.0,9,-999.0000,9,  -999.00,   -999.0,9,   -999.0,  -999.00,9,  -999.00,  -999.00,9,  19.3063,2
  49NZ20031209,  I3I4,   448,  1,     32,  12020,2,20040120,1525,-22.1373, 113.1707, 1313,    200.5,  17.5385,  35.5805,2,  35.6037,2,    185.1,1,    196.1,2,     5.20,2,     4.42,2,     0.02,2,     0.42,2, -999.000,9, -999.000,9, -999.000,9,   -999.0,9,   -999.0,9,-999.0000,9,  -999.00,   -999.0,9,   -999.0,  -999.00,9,  -999.00,  -999.00,9,  17.5388,2
  49NZ20031209,  I3I4,   448,  1,     31,  12019,2,20040120,1525,-22.1373, 113.1707, 1313,    250.1,  16.2737,  35.6323,2,  35.6285,2,    204.1,1,    213.6,2,     3.43,2,     3.57,2,     0.01,2,     0.37,2, -999.000,9, -999.000,9, -999.000,9,   -999.0,9,   -999.0,9,-999.0000,9,  -999.00,   -999.0,9,   -999.0,  -999.00,9,  -999.00,  -999.00,9,  16.2589,2
  49NZ20031209,  I3I4,   448,  1,     30,  12018,2,20040120,1525,-22.1373, 113.1707, 1313,    300.3,  12.9121,  35.2350,2,  35.2345,2,    221.6,1,    231.4,2,     2.10,2,     6.94,2,     0.01,2,     0.60,2, -999.000,9, -999.000,9, -999.000,9,   -999.0,9,   -999.0,9,-999.0000,9,  -999.00,   -999.0,9,   -999.0,  -999.00,9,  -999.00,  -999.00,9,  12.9113,2
  49NZ20031209,  I3I4,   448,  1,     29,  12017,2,20040120,1525,-22.1373, 113.1707, 1313,    399.7,  10.1917,  34.8122,2,  34.8085,2,    233.7,1,    243.6,2,     3.13,2,    12.90,2,     0.01,2,     0.95,2, -999.000,9, -999.000,9, -999.000,9,   -999.0,9,   -999.0,9,-999.0000,9,  -999.00,   -999.0,9,   -999.0,  -999.00,9,  -999.00,  -999.00,9,  10.1918,2
  49NZ20031209,  I3I4,   448,  1,     28,  12016,2,20040120,1525,-22.1373, 113.1707, 1313,    500.8,   9.0544,  34.6474,2,  34.6469,2,    226.5,1,    236.2,2,     4.96,2,    17.23,2,     0.00,2,     1.22,2, -999.000,9, -999.000,9, -999.000,9,   -999.0,9,   -999.0,9,-999.0000,9,  -999.00,   -999.0,9,   -999.0,  -999.00,9,  -999.00,  -999.00,9,   9.0547,2
  49NZ20031209,  I3I4,   448,  1,     17,  12041,2,20040120,1525,-22.1373, 113.1707, 1313,    599.6,   7.5657,  34.5532,2,  34.5487,2,    178.6,1,    185.4,2,    23.11,2,    25.32,2,     0.00,2,     1.75,2, -999.000,9, -999.000,9, -999.000,9,   -999.0,9,   -999.0,9,-999.0000,9,  -999.00,   -999.0,9,   -999.0,  -999.00,9,  -999.00,  -999.00,9,   7.5649,2
  49NZ20031209,  I3I4,   448,  1,     16,  12040,2,20040120,1525,-22.1373, 113.1707, 1313,    702.7,   6.2905,  34.5244,2,  34.5187,2,    145.4,1,    152.5,2,    41.34,2,    30.61,2,     0.00,2,     2.13,2, -999.000,9, -999.000,9, -999.000,9,   -999.0,9,   -999.0,9,-999.0000,9,  -999.00,   -999.0,9,   -999.0,  -999.00,9,  -999.00,  -999.00,9,   6.2902,2
  49NZ20031209,  I3I4,   448,  1,     15,  12039,2,20040120,1525,-22.1373, 113.1707, 1313,    800.6,   5.6982,  34.5534,2,  34.5545,2,    121.2,1,    124.8,2,    59.74,2,    33.73,2,     0.00,2,     2.39,2, -999.000,9, -999.000,9, -999.000,9,   -999.0,9,   -999.0,9,-999.0000,9,  -999.00,   -999.0,9,   -999.0,  -999.00,9,  -999.00,  -999.00,9,   5.6995,2
  49NZ20031209,  I3I4,   448,  1,     14,  12038,3,20040120,1525,-22.1373, 113.1707, 1313,    898.3,   5.4110,  34.6227,2,  34.6234,2,     94.1,1,     96.2,2,    80.90,2,    35.91,2,     0.00,2,     2.56,2, -999.000,9, -999.000,9, -999.000,9,   -999.0,9,   -999.0,9,-999.0000,9,  -999.00,   -999.0,9,   -999.0,  -999.00,9,  -999.00,  -999.00,9,   5.4119,2
  49NZ20031209,  I3I4,   448,  1,     13,  12037,2,20040120,1525,-22.1373, 113.1707, 1313,   1000.5,   5.0433,  34.6302,2,  34.6301,2,     94.7,1,     96.8,2,    86.83,2,    36.31,2,     0.00,2,     2.60,2, -999.000,9, -999.000,9, -999.000,9,   -999.0,9,   -999.0,9,-999.0000,9,  -999.00,   -999.0,9,   -999.0,  -999.00,9,  -999.00,  -999.00,9,   5.0409,2
  49NZ20031209,  I3I4,   448,  1,     12,  12036,2,20040120,1525,-22.1373, 113.1707, 1313,   1200.2,   4.3713,  34.6378,2,  34.6380,2,    101.5,1,    103.5,2,    95.35,2,    36.43,2,     0.00,2,     2.61,2, -999.000,9, -999.000,9, -999.000,9,   -999.0,9,   -999.0,9,-999.0000,9,  -999.00,   -999.0,9,   -999.0,  -999.00,9,  -999.00,  -999.00,9,   4.3715,2
  49NZ20031209,  I3I4,   448,  1,     11,  12035,2,20040120,1525,-22.1373, 113.1707, 1313,   1311.2,   3.9358,  34.6475,2,  34.6476,2,    108.4,1,    110.5,2,    99.54,2,    36.27,2,     0.00,2,     2.60,2, -999.000,9, -999.000,9, -999.000,9,   -999.0,9,   -999.0,9,-999.0000,9,  -999.00,   -999.0,9,   -999.0,  -999.00,9,  -999.00,  -999.00,9,   3.9357,2
  49NZ20031209,  I3I4,   448,  1,     10,  12034,9,20040120,1525,-22.1373, 113.1707, 1313,   1311.4,   3.9346,  34.6476,2,-999.0000,9,    108.4,1,   -999.0,9,  -999.00,9,  -999.00,9,  -999.00,9,  -999.00,9, -999.000,9, -999.000,9, -999.000,9,   -999.0,9,   -999.0,9,-999.0000,9,  -999.00,   -999.0,9,   -999.0,  -999.00,9,  -999.00,  -999.00,9,   3.9352,2
  49NZ20031209,  I3I4,   448,  1,      9,  12033,9,20040120,1525,-22.1373, 113.1707, 1313,      9.5,  25.8509,  35.1804,2,-999.0000,9,    196.1,1,   -999.0,9,  -999.00,9,  -999.00,9,  -999.00,9,  -999.00,9, -999.000,9, -999.000,9, -999.000,9,   -999.0,9,   -999.0,9,-999.0000,9,  -999.00,   -999.0,9,   -999.0,  -999.00,9,  -999.00,  -999.00,9,  25.8490,2