BOTTLE,20141204PRINUNIVRMK
EXPOCODE,SECT_ID,STNNBR,CASTNO,SAMPNO,BTLNBR,BTLNBR_FLAG_W,DATE,TIME,LATITUDE,LONGITUDE,DEPTH,CTDPRS,CTDTMP,CTDSAL,CTDSAL_FLAG_W,SALNTY,SALNTY_FLAG_W,CTDOXY,CTDOXY_FLAG_W,OXYGEN,OXYGEN_FLAG_W,SILCAT,SILCAT_FLAG_W,NITRAT,NITRAT_FLAG_W,NITRIT,NITRIT_FLAG_W,PHSPHT,PHSPHT_FLAG_W,CFC-11,CFC-11_FLAG_W,CFC-12,CFC-12_FLAG_W,CFC113,CFC113_FLAG_W,TCARBN,TCARBN_FLAG_W,ALKALI,ALKALI_FLAG_W,PH_TOT,PH_TOT_FLAG_W,PH_TMP,DELC14,DELC14_FLAG_W,C14ERR,DELC13,DELC13_FLAG_W,CS-137,CS137ER,CS-137_FLAG_W,SBE35,SBE35_FLAG_W
,,,,,,,,,,,METERS,DBAR,ITS-90,PSS-78,,PSS-78,,UMOL/KG,,UMOL/KG,,UMOL/KG,,UMOL/KG,,UMOL/KG,,UMOL/KG,,PMOL/KG,,PMOL/KG,,PMOL/KG,,UMOL/KG,,UMOL/KG,,,,DEG C,/MILLE,,/MILLE,/MILLE,,DM/.1MG,DM/.1MG,,ITS-90,
  49NZ20031209,  I3I4,   549,  1,     36,  12024,2,20031222,2159,-19.9943,  53.8817, 4878,      9.7,  27.2429,  35.0849,2,  35.0902,2,    193.9,1,    203.0,2,     1.81,2,     0.02,2,    -0.01,2,     0.13,2,    1.733,2,    1.002,2,    0.289,4,   1972.4,2,   2298.9,2,   8.0888,2,    25.00,   -999.0,9,   -999.0,  -999.00,9,  -999.00,  -999.00,9,  27.2399,2
  49NZ20031209,  I3I4,   549,  1,     35,  12023,2,20031222,2159,-19.9943,  53.8817, 4878,     50.3,  25.3872,  35.1694,2,  35.1697,2,    207.2,1,    217.5,2,     1.78,2,    -0.01,2,    -0.01,2,     0.11,2,    1.937,2,    1.102,2, -999.000,5,   1977.9,6,   2305.3,2,   8.0855,2,    25.00,   -999.0,9,   -999.0,  -999.00,9,  -999.00,  -999.00,9,  25.3992,2
  49NZ20031209,  I3I4,   549,  1,     34,  12022,2,20031222,2159,-19.9943,  53.8817, 4878,     99.8,  22.4308,  35.1996,2,  35.2003,2,    205.3,1,    214.4,2,     2.05,2,    -0.01,2,     0.00,2,     0.17,2,    2.020,2,    1.188,2, -999.000,5,   1993.1,2,   2307.2,6,   8.0622,2,    25.00,   -999.0,9,   -999.0,  -999.00,9,  -999.00,  -999.00,9,  22.4088,2
  49NZ20031209,  I3I4,   549,  1,     33,  12015,2,20031222,2159,-19.9943,  53.8817, 4878,    150.9,  21.4386,  35.3375,2,  35.3389,2,    186.8,1,    195.2,2,     2.83,2,     2.07,2,     0.08,2,     0.29,2,    2.092,2,    1.207,2,    0.321,4,   2022.5,2,   2314.8,2,   8.0232,6,    25.00,   -999.0,9,   -999.0,  -999.00,9,  -999.00,  -999.00,9,  21.4377,2
  49NZ20031209,  I3I4,   549,  1,     32,  12020,2,20031222,2159,-19.9943,  53.8817, 4878,    201.2,  19.9453,  35.5173,2,  35.5229,2,    168.8,1,    175.8,2,     4.89,2,     5.09,2,     0.01,2,     0.48,2,    2.161,2,    1.217,2,    0.135,4,   2066.7,2,   2327.5,2,   7.9628,2,    25.00,   -999.0,9,   -999.0,  -999.00,9,  -999.00,  -999.00,9,  19.9431,2
  49NZ20031209,  I3I4,   549,  1,     31,  12019,2,20031222,2159,-19.9943,  53.8817, 4878,    250.6,  17.7352,  35.6600,2,  35.6565,2,    181.3,1,    188.7,2,     4.51,2,     4.98,2,     0.01,2,     0.49,2,    2.406,6,    1.341,6,    0.089,4,   2090.8,2,   2340.6,2,   7.9374,2,    25.00,   -999.0,9,   -999.0,  -999.00,9,  -999.00,  -999.00,9,  17.7340,2
  49NZ20031209,  I3I4,   549,  1,     30,  12018,2,20031222,2159,-19.9943,  53.8817, 4878,    299.9,  16.2206,  35.5979,2,  35.6011,2,    190.3,1,    199.1,2,     4.10,2,     5.41,2,     0.01,2,     0.53,2,    2.540,2,    1.386,2,    0.073,4,   2100.0,2,   2333.8,2,   7.9194,2,    25.00,   -999.0,9,   -999.0,  -999.00,9,  -999.00,  -999.00,9,  16.2202,2
  49NZ20031209,  I3I4,   549,  1,     29,  12021,2,20031222,2159,-19.9943,  53.8817, 4878,    399.9,  13.5138,  35.3215,2,  35.3196,2,    210.9,1,    219.0,2,     3.49,2,     8.19,2,     0.00,2,     0.70,2,    2.987,2,    1.573,2,    0.071,4,   2109.0,2,   2319.6,2,   7.8782,2,    25.00,   -999.0,9,   -999.0,  -999.00,9,  -999.00,  -999.00,9,  13.5140,2
  49NZ20031209,  I3I4,   549,  1,     28,  12016,2,20031222,2159,-19.9943,  53.8817, 4878,    501.1,  11.7177,  35.0622,2,  35.0631,2,    217.4,1,    225.8,2,     3.95,2,    11.44,2,     0.01,2,     0.88,2,    3.138,2,    1.607,2,    0.096,4,   2115.3,2,   2310.5,2,   7.8424,2,    25.00,   -999.0,9,   -999.0,  -999.00,9,  -999.00,  -999.00,9,  11.7194,2
  49NZ20031209,  I3I4,   549,  1,     27,  12012,2,20031222,2159,-19.9943,  53.8817, 4878,    602.2,  10.2733,  34.8446,2,  34.8463,2,    220.4,1,    229.4,2,     4.56,2,    14.53,2,     0.00,2,     1.07,2,    3.183,2,    1.598,2,    0.097,4,   2121.1,2,   2298.2,2,   7.8112,2,    25.00,   -999.0,9,   -999.0,  -999.00,9,  -999.00,  -999.00,9,  10.2744,2
  49NZ20031209,  I3I4,   549,  1,     26,  12014,2,20031222,2159,-19.9943,  53.8817, 4878,    700.1,   9.0567,  34.6971,2,  34.6982,2,    206.0,1,    214.3,2,     9.54,2,    19.02,2,    -0.01,2,     1.35,2,    2.560,2,    1.244,2,    0.070,4,   2139.1,6,   2295.8,2,   7.7660,2,    25.00,   -999.0,9,   -999.0,  -999.00,9,  -999.00,  -999.00,9,   9.0599,2
  49NZ20031209,  I3I4,   549,  1,     25,  12013,2,20031222,2159,-19.9943,  53.8817, 4878,    800.6,   7.7190,  34.5875,2,  34.5875,2,    185.5,1,    191.9,2,    19.92,2,    24.32,2,     0.00,2,     1.70,2,    1.627,2,    0.792,2,    0.042,4,   2166.5,2,   2298.9,6,   7.7050,2,    25.00,   -999.0,9,   -999.0,  -999.00,9,  -999.00,  -999.00,9,   7.7192,2
  49NZ20031209,  I3I4,   549,  1,     24,  12048,2,20031222,2159,-19.9943,  53.8817, 4878,    901.1,   6.2483,  34.5233,2,  34.5276,3,    160.5,1,    165.7,2,    36.67,2,    29.78,2,    -0.01,2,     2.08,2,    0.743,2,    0.363,2,    0.026,4,   2204.2,2,   2311.7,2,   7.6401,2,    25.00,   -999.0,9,   -999.0,  -999.00,9,  -999.00,  -999.00,9,   6.2520,2
  49NZ20031209,  I3I4,   549,  1,     23,  12047,2,20031222,2159,-19.9943,  53.8817, 4878,   1000.7,   5.1519,  34.5349,2,  34.5338,2,    144.8,1,    150.8,2,    53.70,2,    32.82,2,    -0.01,2,     2.31,2,    0.311,6,    0.148,6,    0.009,4,   2230.2,2,   2323.8,2,   7.5995,2,    25.00,   -999.0,9,   -999.0,  -999.00,9,  -999.00,  -999.00,9,   5.1514,2
  49NZ20031209,  I3I4,   549,  1,     22,  12046,2,20031222,2159,-19.9943,  53.8817, 4878,   1200.6,   4.1877,  34.6338,2,  34.6334,2,    127.8,1,    132.9,2,    78.69,2,    34.90,2,    -0.01,2,     2.48,2,    0.049,2,    0.020,2,    0.007,4,   2268.4,2,   2351.7,2,   7.5712,2,    25.00,   -999.0,9,   -999.0,  -999.00,9,  -999.00,  -999.00,9,   4.1869,2
  49NZ20031209,  I3I4,   549,  1,     21,  12045,2,20031222,2159,-19.9943,  53.8817, 4878,   1400.7,   3.3249,  34.6536,2,  34.6539,2,    142.2,1,    148.4,2,    85.56,2,    34.38,2,    -0.01,2,     2.43,2,    0.026,2,    0.008,2,    0.000,4,   2269.2,2,   2356.0,2,   7.5832,2,    25.00,   -999.0,9,   -999.0,  -999.00,9,  -999.00,  -999.00,9,   3.3248,2
  49NZ20031209,  I3I4,   549,  1,     20,  12044,2,20031222,2159,-19.9943,  53.8817, 4878,   1601.2,   2.8098,  34.6761,2,  34.6778,2,    153.9,1,    160.8,2,    89.25,2,    33.67,2,    -0.01,2,     2.37,2,    0.018,2,    0.005,2,    0.000,4,   2268.8,2,   2361.7,2,   7.5951,2,    25.00,   -999.0,9,   -999.0,  -999.00,9,  -999.00,  -999.00,9,   2.8097,2
  49NZ20031209,  I3I4,   549,  1,     19,  12043,2,20031222,2159,-19.9943,  53.8817, 4878,   1801.3,   2.5579,  34.7061,2,  34.7068,2,    154.6,1,    161.7,2,    97.73,2,    33.61,2,    -0.01,2,     2.37,2,    0.020,2,    0.003,2,    0.000,4,   2275.8,2,   2370.0,2,   7.5988,2,    25.00,   -999.0,9,   -999.0,  -999.00,9,  -999.00,  -999.00,9,   2.5578,2
  49NZ20031209,  I3I4,   549,  1,     18,  12042,2,20031222,2159,-19.9943,  53.8817, 4878,   2003.0,   2.3442,  34.7233,2,  34.7227,2,    155.8,1,    163.2,2,   104.58,2,    33.61,2,     0.00,2,     2.37,2,    0.015,2,    0.000,2,    0.000,4,   2282.7,2,   2378.3,2,   7.6034,6,    25.00,   -999.0,9,   -999.0,  -999.00,9,  -999.00,  -999.00,9,   2.3441,2
  49NZ20031209,  I3I4,   549,  1,     17,  12041,2,20031222,2159,-19.9943,  53.8817, 4878,   2199.6,   2.1877,  34.7302,2,  34.7301,2,    155.1,1,    162.5,2,   111.58,2,    33.94,2,    -0.01,2,     2.39,2,    0.015,2,   -0.003,2,    0.000,4,   2290.4,2,   2385.6,2,   7.6039,2,    25.00,   -999.0,9,   -999.0,  -999.00,9,  -999.00,  -999.00,9,   2.1875,2
  49NZ20031209,  I3I4,   549,  1,     16,  12040,2,20031222,2159,-19.9943,  53.8817, 4878,   2401.4,   2.0729,  34.7343,2,  34.7345,2,    155.0,1,    162.4,2,   116.45,2,    34.04,2,    -0.01,2,     2.40,2,    0.004,2,    0.002,2,    0.000,4,   2293.8,6,   2389.4,2,   7.6025,2,    25.00,   -999.0,9,   -999.0,  -999.00,9,  -999.00,  -999.00,9,   2.0728,2
  49NZ20031209,  I3I4,   549,  1,     15,  12039,2,20031222,2159,-19.9943,  53.8817, 4878,   2601.3,   1.9480,  34.7341,2,  34.7341,2,    156.6,1,    164.2,2,   119.50,2,    34.14,2,    -0.01,2,     2.40,2,    0.001,2,   -0.001,2,    0.000,4,   2296.3,2,   2392.5,6,   7.6074,2,    25.00,   -999.0,9,   -999.0,  -999.00,9,  -999.00,  -999.00,9,   1.9478,2
  49NZ20031209,  I3I4,   549,  1,     14,  12038,2,20031222,2159,-19.9943,  53.8817, 4878,   2799.9,   1.8574,  34.7350,2,  34.7350,2,    157.3,1,    164.6,2,   122.99,2,    34.22,2,    -0.01,2,     2.41,2,   -0.002,2,   -0.003,2,    0.000,4,   2297.7,2,   2393.4,2,   7.6075,6,    25.00,   -999.0,9,   -999.0,  -999.00,9,  -999.00,  -999.00,9,   1.8573,2
  49NZ20031209,  I3I4,   549,  1,     13,  12037,2,20031222,2159,-19.9943,  53.8817, 4878,   3000.0,   1.7875,  34.7352,2,  34.7355,2,    158.1,1,    165.5,2,   125.68,2,    34.31,2,    -0.01,2,     2.42,2,   -0.001,2,   -0.001,2,    0.000,4,   2300.2,2,   2397.6,2,   7.6074,2,    25.00,   -999.0,9,   -999.0,  -999.00,9,  -999.00,  -999.00,9,   1.7875,2
  49NZ20031209,  I3I4,   549,  1,     12,  12036,2,20031222,2159,-19.9943,  53.8817, 4878,   3250.6,   1.7006,  34.7334,2,  34.7333,2,    161.0,1,    168.3,2,   127.06,2,    34.21,2,    -0.01,2,     2.39,2,    0.000,2,    0.003,2,    0.000,4,   2299.6,2,   2397.1,2,   7.6088,2,    25.00,   -999.0,9,   -999.0,  -999.00,9,  -999.00,  -999.00,9,   1.7010,2
  49NZ20031209,  I3I4,   549,  1,     11,  12035,2,20031222,2159,-19.9943,  53.8817, 4878,   3501.0,   1.5936,  34.7300,2,  34.7300,2,    165.9,1,    173.2,2,   127.51,2,    34.07,2,    -0.01,2,     2.38,2,    0.002,2,    0.002,2,    0.000,4,   2297.1,2,   2394.7,2,   7.6119,2,    25.00,   -999.0,9,   -999.0,  -999.00,9,  -999.00,  -999.00,9,   1.5935,2
  49NZ20031209,  I3I4,   549,  1,     10,  12034,2,20031222,2159,-19.9943,  53.8817, 4878,   3749.9,   1.4472,  34.7248,2,  34.7246,2,    173.6,1,    180.9,2,   126.74,2,    33.72,2,    -0.01,2,     2.34,2,   -0.005,4,   -0.001,4,    0.000,4,   2289.7,2,   2392.2,2,   7.6171,2,    25.00,   -999.0,9,   -999.0,  -999.00,9,  -999.00,  -999.00,9,   1.4472,2
  49NZ20031209,  I3I4,   549,  1,      9,  12033,2,20031222,2159,-19.9943,  53.8817, 4878,   3999.5,   1.3116,  34.7197,2,  34.7196,2,    181.1,1,    188.6,2,   125.73,2,    33.36,2,    -0.01,2,     2.32,2,    0.002,2,    0.004,2,    0.000,4,   2282.4,2,   2385.2,2,   7.6195,2,    25.00,   -999.0,9,   -999.0,  -999.00,9,  -999.00,  -999.00,9,   1.3118,2
  49NZ20031209,  I3I4,   549,  1,      8,  12032,4,20031222,2159,-19.9943,  53.8817, 4878,   4250.7,   1.1808,  34.7147,2,  35.0587,4,    189.3,1,    226.3,4,     4.11,4,    11.56,4,    -0.01,4,     0.90,4,    3.193,4,    1.668,4,    0.097,4,   2114.7,4,   2310.2,4,-999.0000,4,  -999.00,   -999.0,9,   -999.0,  -999.00,9,  -999.00,  -999.00,9,   1.1808,2
  49NZ20031209,  I3I4,   549,  1,      7,  12031,2,20031222,2159,-19.9943,  53.8817, 4878,   4500.1,   1.0858,  34.7106,2,  34.7108,2,    195.1,1,    202.1,2,   123.24,2,    32.72,2,    -0.01,2,     2.27,2,    0.017,2,    0.008,2,    0.000,4,   2269.4,2,   2374.3,6,   7.6219,2,    25.00,   -999.0,9,   -999.0,  -999.00,9,  -999.00,  -999.00,9,   1.0857,2
  49NZ20031209,  I3I4,   549,  1,      6,  12030,2,20031222,2159,-19.9943,  53.8817, 4878,   4750.3,   1.0392,  34.7079,2,  34.7083,2,    199.5,1,    205.4,2,   122.95,2,    32.54,2,    -0.01,2,     2.25,2,    0.022,2,    0.011,2,    0.000,4,   2265.8,2,   2371.2,2,   7.6237,2,    25.00,   -999.0,9,   -999.0,  -999.00,9,  -999.00,  -999.00,9,   1.0391,2
  49NZ20031209,  I3I4,   549,  1,      5,  12029,2,20031222,2159,-19.9943,  53.8817, 4878,   4938.0,   0.9944,  34.7053,2,  34.7056,2,    203.1,1,    207.9,2,   123.25,2,    32.48,2,    -0.01,2,     2.25,2,    0.035,2,    0.016,2,    0.000,4,   2264.4,2,   2368.1,2,   7.6236,2,    25.00,   -999.0,9,   -999.0,  -999.00,9,  -999.00,  -999.00,9,   0.9944,2
  49NZ20031209,  I3I4,   549,  1,      4,  12028,9,20031222,2159,-19.9943,  53.8817, 4878,   1000.9,   5.1487,  34.5351,2,-999.0000,9,    144.9,1,   -999.0,9,  -999.00,9,  -999.00,9,  -999.00,9,  -999.00,9, -999.000,9, -999.000,9, -999.000,9,   -999.0,9,   -999.0,9,-999.0000,9,  -999.00,   -999.0,9,   -999.0,  -999.00,9,  -999.00,  -999.00,9,   5.1500,2
  49NZ20031209,  I3I4,   549,  1,      3,  12027,9,20031222,2159,-19.9943,  53.8817, 4878,   1000.7,   5.1515,  34.5351,2,-999.0000,9,    144.9,1,   -999.0,9,  -999.00,9,  -999.00,9,  -999.00,9,  -999.00,9, -999.000,9, -999.000,9, -999.000,9,   -999.0,9,   -999.0,9,-999.0000,9,  -999.00,   -999.0,9,   -999.0,  -999.00,9,  -999.00,  -999.00,9,   5.1512,2
  49NZ20031209,  I3I4,   549,  1,      2,  12026,9,20031222,2159,-19.9943,  53.8817, 4878,      9.7,  27.1836,  35.0959,2,-999.0000,9,    194.2,1,   -999.0,9,  -999.00,9,  -999.00,9,  -999.00,9,  -999.00,9, -999.000,9, -999.000,9, -999.000,9,   -999.0,9,   -999.0,9,-999.0000,9,  -999.00,   -999.0,9,   -999.0,  -999.00,9,  -999.00,  -999.00,9,  27.1923,2
  49NZ20031209,  I3I4,   549,  1,      1,  12025,2,20031222,2159,-19.9943,  53.8817, 4878,   4750.1,   1.0390,  34.7078,2,  34.7077,2,    199.4,1,    205.5,2,   123.18,2,    32.57,2,    -0.01,2,     2.27,2,    0.019,2,    0.013,2,    0.000,4,   2265.7,2,   2368.9,2,   7.6249,6,    25.00,   -999.0,9,   -999.0,  -999.00,9,  -999.00,  -999.00,9,   1.0388,2