BOTTLE,20141204PRINUNIVRMK
EXPOCODE,SECT_ID,STNNBR,CASTNO,SAMPNO,BTLNBR,BTLNBR_FLAG_W,DATE,TIME,LATITUDE,LONGITUDE,DEPTH,CTDPRS,CTDTMP,CTDSAL,CTDSAL_FLAG_W,SALNTY,SALNTY_FLAG_W,CTDOXY,CTDOXY_FLAG_W,OXYGEN,OXYGEN_FLAG_W,SILCAT,SILCAT_FLAG_W,NITRAT,NITRAT_FLAG_W,NITRIT,NITRIT_FLAG_W,PHSPHT,PHSPHT_FLAG_W,CFC-11,CFC-11_FLAG_W,CFC-12,CFC-12_FLAG_W,CFC113,CFC113_FLAG_W,TCARBN,TCARBN_FLAG_W,ALKALI,ALKALI_FLAG_W,PH_TOT,PH_TOT_FLAG_W,PH_TMP,DELC14,DELC14_FLAG_W,C14ERR,DELC13,DELC13_FLAG_W,CS-137,CS137ER,CS-137_FLAG_W,SBE35,SBE35_FLAG_W
,,,,,,,,,,,METERS,DBAR,ITS-90,PSS-78,,PSS-78,,UMOL/KG,,UMOL/KG,,UMOL/KG,,UMOL/KG,,UMOL/KG,,UMOL/KG,,PMOL/KG,,PMOL/KG,,PMOL/KG,,UMOL/KG,,UMOL/KG,,,,DEG C,/MILLE,,/MILLE,/MILLE,,DM/.1MG,DM/.1MG,,ITS-90,
  49NZ20031209,  I3I4,   541,  1,     36,  12024,2,20031224,1341,-19.9952,  57.4117, 2681,     10.2,  27.2785,  34.9360,2,  34.9363,2,    194.9,1,    203.7,2,     1.64,2,     0.03,2,     0.01,2,     0.12,2,    1.698,2,    1.031,2,    0.449,4,   1963.6,2,   2290.5,2,   8.0880,2,    25.00,   -999.0,9,   -999.0,  -999.00,9,  -999.00,  -999.00,9,  27.2758,2
  49NZ20031209,  I3I4,   541,  1,     35,  12023,2,20031224,1341,-19.9952,  57.4117, 2681,     49.8,  26.6719,  34.9912,2,  34.9922,2,    201.2,1,    211.3,2,     1.76,2,     0.03,2,     0.01,2,     0.11,2,    1.791,2,    1.081,2, -999.000,5,   1965.7,6,   2284.9,2,   8.0897,2,    25.00,   -999.0,9,   -999.0,  -999.00,9,  -999.00,  -999.00,9,  26.7499,2
  49NZ20031209,  I3I4,   541,  1,     34,  12022,2,20031224,1341,-19.9952,  57.4117, 2681,    100.7,  23.5406,  35.0828,2,  35.0847,2,    212.6,1,    221.8,2,     1.94,2,     0.02,2,     0.01,2,     0.11,2,    1.997,2,    1.190,2, -999.000,5,   1975.6,2,   2294.5,6,   8.0813,2,    25.00,   -999.0,9,   -999.0,  -999.00,9,  -999.00,  -999.00,9,  23.5250,2
  49NZ20031209,  I3I4,   541,  1,     33,  12015,2,20031224,1341,-19.9952,  57.4117, 2681,    151.1,  21.1718,  35.1830,2,  35.1827,2,    158.9,1,    165.6,2,     6.17,2,     6.04,2,     0.03,2,     0.53,2,    1.941,2,    1.156,2,    0.188,4,   2046.6,2,   2300.6,2,   7.9697,6,    25.00,   -999.0,9,   -999.0,  -999.00,9,  -999.00,  -999.00,9,  21.1755,2
  49NZ20031209,  I3I4,   541,  1,     32,  12020,2,20031224,1341,-19.9952,  57.4117, 2681,    200.8,  19.6748,  35.4814,2,  35.4834,2,    161.4,1,    168.3,2,     6.07,2,     6.29,2,     0.02,2,     0.54,2,    2.090,2,    1.217,2,    0.137,4,   2074.7,2,   2317.2,2,   7.9489,2,    25.00,   -999.0,9,   -999.0,  -999.00,9,  -999.00,  -999.00,9,  19.6746,2
  49NZ20031209,  I3I4,   541,  1,     31,  12019,2,20031224,1341,-19.9952,  57.4117, 2681,    252.5,  18.0119,  35.5544,2,  35.5526,2,    165.8,1,    172.2,2,     6.75,2,     7.13,2,     0.01,2,     0.61,2,    2.211,6,    1.277,6,    0.086,4,   2093.6,2,   2324.5,2,   7.9212,2,    25.00,   -999.0,9,   -999.0,  -999.00,9,  -999.00,  -999.00,9,  18.0066,2
  49NZ20031209,  I3I4,   541,  1,     30,  12018,2,20031224,1341,-19.9952,  57.4117, 2681,    299.8,  16.8887,  35.4757,2,  35.4724,2,    165.8,1,    173.3,2,     7.81,2,     8.58,2,     0.01,2,     0.70,2,    2.280,2,    1.295,2,    0.061,4,   2105.5,2,   2327.6,2,   7.8962,2,    25.00,   -999.0,9,   -999.0,  -999.00,9,  -999.00,  -999.00,9,  16.9396,2
  49NZ20031209,  I3I4,   541,  1,     29,  12021,2,20031224,1341,-19.9952,  57.4117, 2681,    400.5,  13.4338,  35.2458,2,  35.2446,2,    188.8,1,    195.8,2,     7.47,2,    11.07,2,     0.01,2,     0.86,2,    2.598,2,    1.383,2,    0.066,4,   2121.0,2,   2314.0,2,   7.8489,2,    25.00,   -999.0,9,   -999.0,  -999.00,9,  -999.00,  -999.00,9,  13.4328,2
  49NZ20031209,  I3I4,   541,  1,     28,  12016,2,20031224,1341,-19.9952,  57.4117, 2681,    500.7,  12.1660,  35.1130,2,  35.1070,2,    203.0,1,    210.6,2,     6.34,2,    12.13,2,     0.01,2,     0.93,2,    2.864,2,    1.511,2,    0.085,4,   2119.9,2,   2305.8,2,   7.8363,2,    25.00,   -999.0,9,   -999.0,  -999.00,9,  -999.00,  -999.00,9,  12.1633,2
  49NZ20031209,  I3I4,   541,  1,     27,  12012,2,20031224,1341,-19.9952,  57.4117, 2681,    600.3,  10.0068,  34.8291,2,  34.8299,2,    207.1,1,    214.6,2,     8.49,2,    16.52,2,     0.01,2,     1.20,2,    2.806,2,    1.439,2,    0.102,4,   2131.6,2,   2300.8,2,   7.7902,2,    25.00,   -999.0,9,   -999.0,  -999.00,9,  -999.00,  -999.00,9,   9.9919,2
  49NZ20031209,  I3I4,   541,  1,     26,  12014,2,20031224,1341,-19.9952,  57.4117, 2681,    702.6,   8.5052,  34.6385,2,  34.6368,2,    201.0,1,    207.8,2,    12.06,2,    21.05,2,     0.01,2,     1.49,2,    2.216,2,    1.110,2,    0.068,4,   2146.2,6,   2291.8,2,   7.7455,2,    25.00,   -999.0,9,   -999.0,  -999.00,9,  -999.00,  -999.00,9,   8.4998,2
  49NZ20031209,  I3I4,   541,  1,     25,  12013,2,20031224,1341,-19.9952,  57.4117, 2681,    801.2,   7.1387,  34.5793,2,  34.5678,4,    163.0,1,    169.7,2,    30.13,2,    27.72,2,     0.01,2,     1.95,2,    1.000,2,    0.501,2,    0.025,4,   2191.1,2,   2299.6,6,   7.6639,2,    25.00,   -999.0,9,   -999.0,  -999.00,9,  -999.00,  -999.00,9,   7.1084,2
  49NZ20031209,  I3I4,   541,  1,     24,  12048,2,20031224,1341,-19.9952,  57.4117, 2681,    900.6,   6.0220,  34.6233,2,  34.6243,2,    125.0,1,    128.2,2,    56.61,2,    32.83,2,     0.01,2,     2.35,2,    0.295,2,    0.145,2,    0.018,4,   2242.0,2,   2326.8,2,   7.5933,6,    25.00,   -999.0,9,   -999.0,  -999.00,9,  -999.00,  -999.00,9,   6.0210,2
  49NZ20031209,  I3I4,   541,  1,     23,  12047,2,20031224,1341,-19.9952,  57.4117, 2681,   1001.9,   5.4721,  34.6300,2,  34.6306,2,    121.2,1,    124.5,2,    65.46,2,    33.84,2,     0.01,2,     2.42,2,    0.192,6,    0.093,6,    0.006,4,   2254.3,2,   2332.7,2,   7.5806,2,    25.00,   -999.0,9,   -999.0,  -999.00,9,  -999.00,  -999.00,9,   5.4732,2
  49NZ20031209,  I3I4,   541,  1,     22,  12046,2,20031224,1341,-19.9952,  57.4117, 2681,   1202.3,   4.4395,  34.6469,2,  34.6470,2,    125.0,1,    128.3,2,    77.99,2,    34.79,2,     0.01,2,     2.49,2,    0.049,2,    0.024,2,    0.008,4,   2268.4,2,   2345.0,2,   7.5708,2,    25.00,   -999.0,9,   -999.0,  -999.00,9,  -999.00,  -999.00,9,   4.4398,2
  49NZ20031209,  I3I4,   541,  1,     21,  12045,2,20031224,1341,-19.9952,  57.4117, 2681,   1401.1,   3.5543,  34.6495,2,  34.6500,2,    139.2,1,    143.3,2,    84.07,2,    34.57,2,     0.01,2,     2.45,2,    0.017,2,    0.009,2,   -0.001,4,   2269.8,2,   2346.4,2,   7.5794,2,    25.00,   -999.0,9,   -999.0,  -999.00,9,  -999.00,  -999.00,9,   3.5544,2
  49NZ20031209,  I3I4,   541,  1,     20,  12044,2,20031224,1341,-19.9952,  57.4117, 2681,   1601.9,   2.9378,  34.6828,2,  34.6831,2,    149.3,1,    154.2,2,    92.51,2,    34.06,2,     0.01,2,     2.41,2,    0.005,2,    0.002,2,   -0.001,4,   2273.7,2,   2359.6,2,   7.5920,2,    25.00,   -999.0,9,   -999.0,  -999.00,9,  -999.00,  -999.00,9,   2.9375,2
  49NZ20031209,  I3I4,   541,  1,     19,  12043,2,20031224,1341,-19.9952,  57.4117, 2681,   1801.3,   2.5608,  34.7061,2,  34.7061,2,    154.7,1,    159.6,2,   100.34,2,    33.80,2,     0.01,2,     2.39,2,   -0.003,2,    0.001,2,   -0.001,4,   2279.7,2,   2366.1,2,   7.5981,2,    25.00,   -999.0,9,   -999.0,  -999.00,9,  -999.00,  -999.00,9,   2.5610,2
  49NZ20031209,  I3I4,   541,  1,     18,  12042,2,20031224,1341,-19.9952,  57.4117, 2681,   2000.0,   2.3906,  34.7167,2,  34.7169,2,    157.1,1,    161.8,2,   104.84,2,    33.78,2,    -0.01,2,     2.38,2,   -0.002,2,   -0.001,2,   -0.001,4,   2283.1,2,   2372.4,2,   7.6024,2,    25.00,   -999.0,9,   -999.0,  -999.00,9,  -999.00,  -999.00,9,   2.3911,2
  49NZ20031209,  I3I4,   541,  1,     17,  12041,2,20031224,1341,-19.9952,  57.4117, 2681,   2201.7,   2.2031,  34.7249,2,  34.7249,2,    158.2,1,    162.5,2,   111.20,2,    33.88,2,     0.00,2,     2.40,2,    0.003,2,   -0.001,2,   -0.001,4,   2287.7,2,   2381.1,2,   7.6034,2,    25.00,   -999.0,9,   -999.0,  -999.00,9,  -999.00,  -999.00,9,   2.2031,2
  49NZ20031209,  I3I4,   541,  1,     16,  12040,2,20031224,1341,-19.9952,  57.4117, 2681,   2401.3,   2.0065,  34.7292,2,  34.7296,2,    160.7,1,    164.9,2,   116.49,2,    33.95,2,     0.01,2,     2.40,2,   -0.001,2,    0.002,2,   -0.001,4,   2291.8,6,   2384.7,2,   7.6073,2,    25.00,   -999.0,9,   -999.0,  -999.00,9,  -999.00,  -999.00,9,   2.0062,2
  49NZ20031209,  I3I4,   541,  1,     15,  12039,2,20031224,1341,-19.9952,  57.4117, 2681,   2650.9,   1.9151,  34.7312,2,  34.7306,2,    162.2,1,    165.9,2,   119.50,2,    34.04,2,     0.00,2,     2.40,2,    0.005,2,    0.000,2,   -0.001,4,   2293.8,2,   2390.4,6,   7.6085,2,    25.00,   -999.0,9,   -999.0,  -999.00,9,  -999.00,  -999.00,9,   1.9150,2
  49NZ20031209,  I3I4,   541,  1,     14,  12038,9,20031224,1341,-19.9952,  57.4117, 2681,   2100.1,   2.2634,  34.7227,2,-999.0000,9,    157.7,1,   -999.0,9,  -999.00,9,  -999.00,9,  -999.00,9,  -999.00,9, -999.000,9, -999.000,9, -999.000,9,   -999.0,9,   -999.0,9,-999.0000,9,  -999.00,   -999.0,9,   -999.0,  -999.00,9,  -999.00,  -999.00,9,   2.2636,2
  49NZ20031209,  I3I4,   541,  1,     13,  12037,9,20031224,1341,-19.9952,  57.4117, 2681,   2301.2,   2.1246,  34.7262,2,-999.0000,9,    159.3,1,   -999.0,9,  -999.00,9,  -999.00,9,  -999.00,9,  -999.00,9, -999.000,9, -999.000,9, -999.000,9,   -999.0,9,   -999.0,9,-999.0000,9,  -999.00,   -999.0,9,   -999.0,  -999.00,9,  -999.00,  -999.00,9,   2.1245,2
  49NZ20031209,  I3I4,   541,  1,     12,  12036,9,20031224,1341,-19.9952,  57.4117, 2681,   1002.9,   5.4711,  34.6300,2,-999.0000,9,    121.3,1,   -999.0,9,  -999.00,9,  -999.00,9,  -999.00,9,  -999.00,9, -999.000,9, -999.000,9, -999.000,9,   -999.0,9,   -999.0,9,-999.0000,9,  -999.00,   -999.0,9,   -999.0,  -999.00,9,  -999.00,  -999.00,9,   5.4711,2
  49NZ20031209,  I3I4,   541,  1,     11,  12035,9,20031224,1341,-19.9952,  57.4117, 2681,   1002.5,   5.4710,  34.6298,2,-999.0000,9,    121.2,1,   -999.0,9,  -999.00,9,  -999.00,9,  -999.00,9,  -999.00,9, -999.000,9, -999.000,9, -999.000,9,   -999.0,9,   -999.0,9,-999.0000,9,  -999.00,   -999.0,9,   -999.0,  -999.00,9,  -999.00,  -999.00,9,   5.4706,2
  49NZ20031209,  I3I4,   541,  1,     10,  12034,9,20031224,1341,-19.9952,  57.4117, 2681,   1003.6,   5.4693,  34.6300,2,-999.0000,9,    121.2,1,   -999.0,9,  -999.00,9,  -999.00,9,  -999.00,9,  -999.00,9, -999.000,9, -999.000,9, -999.000,9,   -999.0,9,   -999.0,9,-999.0000,9,  -999.00,   -999.0,9,   -999.0,  -999.00,9,  -999.00,  -999.00,9,   5.4709,2
  49NZ20031209,  I3I4,   541,  1,      9,  12033,9,20031224,1341,-19.9952,  57.4117, 2681,   1001.7,   5.4715,  34.6299,2,-999.0000,9,    121.2,1,   -999.0,9,  -999.00,9,  -999.00,9,  -999.00,9,  -999.00,9, -999.000,9, -999.000,9, -999.000,9,   -999.0,9,   -999.0,9,-999.0000,9,  -999.00,   -999.0,9,   -999.0,  -999.00,9,  -999.00,  -999.00,9,   5.4719,2
  49NZ20031209,  I3I4,   541,  1,      8,  12032,9,20031224,1341,-19.9952,  57.4117, 2681,   1003.8,   5.4676,  34.6299,2,-999.0000,9,    121.2,1,   -999.0,9,  -999.00,9,  -999.00,9,  -999.00,9,  -999.00,9, -999.000,9, -999.000,9, -999.000,9,   -999.0,9,   -999.0,9,-999.0000,9,  -999.00,   -999.0,9,   -999.0,  -999.00,9,  -999.00,  -999.00,9,   5.4687,2
  49NZ20031209,  I3I4,   541,  1,      7,  12031,9,20031224,1341,-19.9952,  57.4117, 2681,   1001.6,   5.4725,  34.6300,2,-999.0000,9,    121.2,1,   -999.0,9,  -999.00,9,  -999.00,9,  -999.00,9,  -999.00,9, -999.000,9, -999.000,9, -999.000,9,   -999.0,9,   -999.0,9,-999.0000,9,  -999.00,   -999.0,9,   -999.0,  -999.00,9,  -999.00,  -999.00,9,   5.4727,2
  49NZ20031209,  I3I4,   541,  1,      6,  12030,9,20031224,1341,-19.9952,  57.4117, 2681,   1003.2,   5.4694,  34.6301,2,-999.0000,9,    121.3,1,   -999.0,9,  -999.00,9,  -999.00,9,  -999.00,9,  -999.00,9, -999.000,9, -999.000,9, -999.000,9,   -999.0,9,   -999.0,9,-999.0000,9,  -999.00,   -999.0,9,   -999.0,  -999.00,9,  -999.00,  -999.00,9,   5.4698,2
  49NZ20031209,  I3I4,   541,  1,      5,  12029,9,20031224,1341,-19.9952,  57.4117, 2681,   1001.9,   5.4721,  34.6300,2,-999.0000,9,    121.3,1,   -999.0,9,  -999.00,9,  -999.00,9,  -999.00,9,  -999.00,9, -999.000,9, -999.000,9, -999.000,9,   -999.0,9,   -999.0,9,-999.0000,9,  -999.00,   -999.0,9,   -999.0,  -999.00,9,  -999.00,  -999.00,9,   5.4733,2
  49NZ20031209,  I3I4,   541,  1,      4,  12028,9,20031224,1341,-19.9952,  57.4117, 2681,   1002.1,   5.4725,  34.6299,2,-999.0000,9,    121.3,1,   -999.0,9,  -999.00,9,  -999.00,9,  -999.00,9,  -999.00,9, -999.000,9, -999.000,9, -999.000,9,   -999.0,9,   -999.0,9,-999.0000,9,  -999.00,   -999.0,9,   -999.0,  -999.00,9,  -999.00,  -999.00,9,   5.4719,2
  49NZ20031209,  I3I4,   541,  1,      3,  12027,9,20031224,1341,-19.9952,  57.4117, 2681,   1002.7,   5.4681,  34.6301,2,-999.0000,9,    121.3,1,   -999.0,9,  -999.00,9,  -999.00,9,  -999.00,9,  -999.00,9, -999.000,9, -999.000,9, -999.000,9,   -999.0,9,   -999.0,9,-999.0000,9,  -999.00,   -999.0,9,   -999.0,  -999.00,9,  -999.00,  -999.00,9,   5.4703,2
  49NZ20031209,  I3I4,   541,  1,      2,  12026,2,20031224,1341,-19.9952,  57.4117, 2681,   2401.2,   2.0051,  34.7293,2,  34.7295,2,    160.7,1,    164.8,2,   116.56,2,    33.96,2,     0.00,2,     2.40,2,   -0.002,2,   -0.001,2,   -0.001,4,   2292.0,2,   2382.7,2,   7.6067,2,    25.00,   -999.0,9,   -999.0,  -999.00,9,  -999.00,  -999.00,9,   2.0051,2
  49NZ20031209,  I3I4,   541,  1,      1,  12025,9,20031224,1341,-19.9952,  57.4117, 2681,     10.2,  27.2787,  34.9363,2,-999.0000,9,    195.1,1,   -999.0,9,  -999.00,9,  -999.00,9,  -999.00,9,  -999.00,9, -999.000,9, -999.000,9, -999.000,9,   -999.0,9,   -999.0,9,-999.0000,9,  -999.00,   -999.0,9,   -999.0,  -999.00,9,  -999.00,  -999.00,9,  27.2777,2
  49NZ20031209,  I3I4,   540,  1,     36,  12024,2,20031224,1645,-19.9980,  57.4873, 1651,      9.9,  27.1661,  34.9320,2,  34.9321,2,    195.2,1,    203.8,2,     1.79,2,     0.02,2,    -0.01,2,     0.12,2, -999.000,9, -999.000,9, -999.000,9,   -999.0,9,   -999.0,9,-999.0000,9,  -999.00,   -999.0,9,   -999.0,  -999.00,9,  -999.00,  -999.00,9,  27.1643,2
  49NZ20031209,  I3I4,   540,  1,     35,  12023,2,20031224,1645,-19.9980,  57.4873, 1651,     50.9,  26.2960,  34.9769,2,  34.9811,2,    202.8,1,    212.1,2,     1.97,2,     0.01,2,    -0.01,2,     0.10,2, -999.000,9, -999.000,9, -999.000,9,   -999.0,9,   -999.0,9,-999.0000,9,  -999.00,   -999.0,9,   -999.0,  -999.00,9,  -999.00,  -999.00,9,  26.2895,2
  49NZ20031209,  I3I4,   540,  1,     34,  12022,2,20031224,1645,-19.9980,  57.4873, 1651,    102.0,  22.6564,  34.9878,2,  35.0129,4,    172.6,1,    183.1,2,     4.62,2,     3.48,2,     0.09,2,     0.35,2, -999.000,9, -999.000,9, -999.000,9,   -999.0,9,   -999.0,9,-999.0000,9,  -999.00,   -999.0,9,   -999.0,  -999.00,9,  -999.00,  -999.00,9,  22.6553,2
  49NZ20031209,  I3I4,   540,  1,     33,  12015,2,20031224,1645,-19.9980,  57.4873, 1651,    149.5,  20.7033,  35.3333,2,  35.3156,4,    166.6,1,    172.7,2,     5.56,2,     5.35,2,     0.02,2,     0.46,2, -999.000,9, -999.000,9, -999.000,9,   -999.0,9,   -999.0,9,-999.0000,9,  -999.00,   -999.0,9,   -999.0,  -999.00,9,  -999.00,  -999.00,9,  20.6939,2
  49NZ20031209,  I3I4,   540,  1,     32,  12020,2,20031224,1645,-19.9980,  57.4873, 1651,    201.4,  18.8682,  35.5982,2,  35.5988,2,    168.4,1,    175.3,2,     5.63,2,     5.90,2,     0.00,2,     0.49,2, -999.000,9, -999.000,9, -999.000,9,   -999.0,9,   -999.0,9,-999.0000,9,  -999.00,   -999.0,9,   -999.0,  -999.00,9,  -999.00,  -999.00,9,  18.8575,2
  49NZ20031209,  I3I4,   540,  1,     31,  12019,2,20031224,1645,-19.9980,  57.4873, 1651,    249.6,  16.6729,  35.4824,2,  35.4625,4,    169.2,1,    176.2,2,     7.75,2,     8.68,2,     0.00,2,     0.69,2, -999.000,9, -999.000,9, -999.000,9,   -999.0,9,   -999.0,9,-999.0000,9,  -999.00,   -999.0,9,   -999.0,  -999.00,9,  -999.00,  -999.00,9,  16.6782,2
  49NZ20031209,  I3I4,   540,  1,     30,  12018,2,20031224,1645,-19.9980,  57.4873, 1651,    300.3,  15.0347,  35.3598,2,  35.3585,2,    177.1,1,    183.2,2,     8.10,2,    10.07,2,     0.00,2,     0.78,2, -999.000,9, -999.000,9, -999.000,9,   -999.0,9,   -999.0,9,-999.0000,9,  -999.00,   -999.0,9,   -999.0,  -999.00,9,  -999.00,  -999.00,9,  15.0340,2
  49NZ20031209,  I3I4,   540,  1,     29,  12021,2,20031224,1645,-19.9980,  57.4873, 1651,    400.9,  13.3605,  35.2487,2,  35.2455,2,    193.2,1,    200.4,2,     6.95,2,    10.83,2,     0.00,2,     0.83,2, -999.000,9, -999.000,9, -999.000,9,   -999.0,9,   -999.0,9,-999.0000,9,  -999.00,   -999.0,9,   -999.0,  -999.00,9,  -999.00,  -999.00,9,  13.3602,2
  49NZ20031209,  I3I4,   540,  1,     18,  12042,2,20031224,1645,-19.9980,  57.4873, 1651,    500.8,  12.0074,  35.0920,2,  35.0919,2,    206.8,1,    213.9,2,     6.08,2,    12.27,2,     0.00,2,     0.91,2, -999.000,9, -999.000,9, -999.000,9,   -999.0,9,   -999.0,9,-999.0000,9,  -999.00,   -999.0,9,   -999.0,  -999.00,9,  -999.00,  -999.00,9,  12.0075,2
  49NZ20031209,  I3I4,   540,  1,     17,  12041,2,20031224,1645,-19.9980,  57.4873, 1651,    600.2,  10.5115,  34.8949,2,  34.8942,2,    207.3,1,    214.2,2,     8.05,2,    15.61,2,    -0.01,2,     1.12,2, -999.000,9, -999.000,9, -999.000,9,   -999.0,9,   -999.0,9,-999.0000,9,  -999.00,   -999.0,9,   -999.0,  -999.00,9,  -999.00,  -999.00,9,  10.5150,2
  49NZ20031209,  I3I4,   540,  1,     16,  12040,2,20031224,1645,-19.9980,  57.4873, 1651,    703.0,   9.0338,  34.7118,2,  34.7066,2,    200.6,1,    206.9,2,    12.45,2,    20.00,2,    -0.01,2,     1.39,2, -999.000,9, -999.000,9, -999.000,9,   -999.0,9,   -999.0,9,-999.0000,9,  -999.00,   -999.0,9,   -999.0,  -999.00,9,  -999.00,  -999.00,9,   9.0364,2
  49NZ20031209,  I3I4,   540,  1,     15,  12039,2,20031224,1645,-19.9980,  57.4873, 1651,    800.3,   7.3723,  34.5948,2,  34.5941,2,    171.1,1,    175.6,2,    27.78,2,    26.60,2,    -0.01,2,     1.85,2, -999.000,9, -999.000,9, -999.000,9,   -999.0,9,   -999.0,9,-999.0000,9,  -999.00,   -999.0,9,   -999.0,  -999.00,9,  -999.00,  -999.00,9,   7.3730,2
  49NZ20031209,  I3I4,   540,  1,     14,  12038,2,20031224,1645,-19.9980,  57.4873, 1651,    900.7,   6.0871,  34.5741,2,  34.5742,2,    142.5,1,    146.3,2,    47.08,2,    31.56,2,    -0.01,2,     2.20,2, -999.000,9, -999.000,9, -999.000,9,   -999.0,9,   -999.0,9,-999.0000,9,  -999.00,   -999.0,9,   -999.0,  -999.00,9,  -999.00,  -999.00,9,   6.0880,2
  49NZ20031209,  I3I4,   540,  1,     13,  12037,2,20031224,1645,-19.9980,  57.4873, 1651,   1000.5,   5.5760,  34.6063,2,  34.6060,2,    127.8,1,    130.7,2,    60.08,2,    33.46,2,    -0.01,2,     2.36,2, -999.000,9, -999.000,9, -999.000,9,   -999.0,9,   -999.0,9,-999.0000,9,  -999.00,   -999.0,9,   -999.0,  -999.00,9,  -999.00,  -999.00,9,   5.5766,2
  49NZ20031209,  I3I4,   540,  1,     12,  12036,2,20031224,1645,-19.9980,  57.4873, 1651,   1199.7,   4.6956,  34.6451,2,  34.6456,2,    123.1,1,    125.5,2,    75.43,2,    34.87,2,    -0.01,2,     2.46,2, -999.000,9, -999.000,9, -999.000,9,   -999.0,9,   -999.0,9,-999.0000,9,  -999.00,   -999.0,9,   -999.0,  -999.00,9,  -999.00,  -999.00,9,   4.6964,2
  49NZ20031209,  I3I4,   540,  1,     11,  12035,2,20031224,1645,-19.9980,  57.4873, 1651,   1401.4,   3.7248,  34.6495,2,  34.6497,2,    137.1,1,    140.2,2,    82.77,2,    34.71,2,    -0.01,2,     2.44,2, -999.000,9, -999.000,9, -999.000,9,   -999.0,9,   -999.0,9,-999.0000,9,  -999.00,   -999.0,9,   -999.0,  -999.00,9,  -999.00,  -999.00,9,   3.7260,2
  49NZ20031209,  I3I4,   540,  1,     10,  12034,2,20031224,1645,-19.9980,  57.4873, 1651,   1682.5,   2.8941,  34.6874,2,  34.6865,2,    150.7,1,    154.2,2,    94.07,2,    34.11,2,    -0.01,2,     2.39,2, -999.000,9, -999.000,9, -999.000,9,   -999.0,9,   -999.0,9,-999.0000,9,  -999.00,   -999.0,9,   -999.0,  -999.00,9,  -999.00,  -999.00,9,   2.8934,2