BOTTLE,20141204PRINUNIVRMK
EXPOCODE,SECT_ID,STNNBR,CASTNO,SAMPNO,BTLNBR,BTLNBR_FLAG_W,DATE,TIME,LATITUDE,LONGITUDE,DEPTH,CTDPRS,CTDTMP,CTDSAL,CTDSAL_FLAG_W,SALNTY,SALNTY_FLAG_W,CTDOXY,CTDOXY_FLAG_W,OXYGEN,OXYGEN_FLAG_W,SILCAT,SILCAT_FLAG_W,NITRAT,NITRAT_FLAG_W,NITRIT,NITRIT_FLAG_W,PHSPHT,PHSPHT_FLAG_W,CFC-11,CFC-11_FLAG_W,CFC-12,CFC-12_FLAG_W,CFC113,CFC113_FLAG_W,TCARBN,TCARBN_FLAG_W,ALKALI,ALKALI_FLAG_W,PH_TOT,PH_TOT_FLAG_W,PH_TMP,DELC14,DELC14_FLAG_W,C14ERR,DELC13,DELC13_FLAG_W,CS-137,CS137ER,CS-137_FLAG_W,SBE35,SBE35_FLAG_W
,,,,,,,,,,,METERS,DBAR,ITS-90,PSS-78,,PSS-78,,UMOL/KG,,UMOL/KG,,UMOL/KG,,UMOL/KG,,UMOL/KG,,UMOL/KG,,PMOL/KG,,PMOL/KG,,PMOL/KG,,UMOL/KG,,UMOL/KG,,,,DEG C,/MILLE,,/MILLE,/MILLE,,DM/.1MG,DM/.1MG,,ITS-90,
  49NZ20031209,  I3I4,   504,  1,     36,  12024,2,20040103,1623,-19.9907,  76.1878, 4658,      9.7,  26.0130,  35.0472,2,  35.0496,2,    197.3,1,    206.8,2,     1.99,2,    -0.02,2,     0.01,2,     0.12,2, -999.000,9, -999.000,9, -999.000,9,   -999.0,9,   -999.0,9,-999.0000,9,  -999.00,   -999.0,9,   -999.0,  -999.00,9,  -999.00,  -999.00,9,  26.0121,2
  49NZ20031209,  I3I4,   504,  1,     35,  12023,2,20040103,1623,-19.9907,  76.1878, 4658,     50.7,  25.2150,  35.0336,2,  35.0370,2,    203.6,1,    213.1,2,     2.05,2,    -0.03,2,     0.00,2,     0.11,2, -999.000,9, -999.000,9, -999.000,9,   -999.0,9,   -999.0,9,-999.0000,9,  -999.00,   -999.0,9,   -999.0,  -999.00,9,  -999.00,  -999.00,9,  25.2126,2
  49NZ20031209,  I3I4,   504,  1,     34,  12022,2,20040103,1623,-19.9907,  76.1878, 4658,    101.7,  21.8619,  35.3887,2,  35.3811,2,    207.8,1,    217.9,2,     2.26,2,    -0.02,2,     0.01,2,     0.13,2, -999.000,9, -999.000,9, -999.000,9,   -999.0,9,   -999.0,9,-999.0000,9,  -999.00,   -999.0,9,   -999.0,  -999.00,9,  -999.00,  -999.00,9,  21.8604,2
  49NZ20031209,  I3I4,   504,  1,     33,  12015,2,20040103,1623,-19.9907,  76.1878, 4658,    152.1,  20.7351,  35.5109,2,  35.5169,2,    185.8,1,    194.0,2,     3.30,2,     2.01,2,     0.14,2,     0.29,2, -999.000,9, -999.000,9, -999.000,9,   -999.0,9,   -999.0,9,-999.0000,9,  -999.00,   -999.0,9,   -999.0,  -999.00,9,  -999.00,  -999.00,9,  20.7342,2
  49NZ20031209,  I3I4,   504,  1,     32,  12020,2,20040103,1623,-19.9907,  76.1878, 4658,    201.7,  19.5833,  35.7573,2,  35.7572,2,    191.5,1,    199.8,2,     2.57,2,     1.83,2,     0.02,2,     0.27,2, -999.000,9, -999.000,9, -999.000,9,   -999.0,9,   -999.0,9,-999.0000,9,  -999.00,   -999.0,9,   -999.0,  -999.00,9,  -999.00,  -999.00,9,  19.5811,2
  49NZ20031209,  I3I4,   504,  1,     31,  12019,2,20040103,1623,-19.9907,  76.1878, 4658,    253.5,  17.8638,  35.8103,2,  35.8117,2,    195.4,1,    203.4,2,     2.50,2,     2.51,2,     0.01,2,     0.33,2, -999.000,9, -999.000,9, -999.000,9,   -999.0,9,   -999.0,9,-999.0000,9,  -999.00,   -999.0,9,   -999.0,  -999.00,9,  -999.00,  -999.00,9,  17.8818,2
  49NZ20031209,  I3I4,   504,  1,     30,  12018,2,20040103,1623,-19.9907,  76.1878, 4658,    300.3,  16.2536,  35.6955,2,  35.6896,2,    204.5,1,    213.8,2,     2.10,2,     3.14,2,     0.01,2,     0.39,2, -999.000,9, -999.000,9, -999.000,9,   -999.0,9,   -999.0,9,-999.0000,9,  -999.00,   -999.0,9,   -999.0,  -999.00,9,  -999.00,  -999.00,9,  16.2556,2
  49NZ20031209,  I3I4,   504,  1,     29,  12021,2,20040103,1623,-19.9907,  76.1878, 4658,    401.3,  13.1105,  35.2848,2,  35.2845,2,    213.3,1,    221.9,2,     2.82,2,     7.94,2,     0.01,2,     0.67,2, -999.000,9, -999.000,9, -999.000,9,   -999.0,9,   -999.0,9,-999.0000,9,  -999.00,   -999.0,9,   -999.0,  -999.00,9,  -999.00,  -999.00,9,  13.1078,2
  49NZ20031209,  I3I4,   504,  1,     28,  12016,2,20040103,1623,-19.9907,  76.1878, 4658,    498.8,  10.9659,  34.9536,2,  34.9497,2,    224.2,1,    233.3,2,     3.38,2,    11.98,2,     0.01,2,     0.91,2, -999.000,9, -999.000,9, -999.000,9,   -999.0,9,   -999.0,9,-999.0000,9,  -999.00,   -999.0,9,   -999.0,  -999.00,9,  -999.00,  -999.00,9,  10.9658,2
  49NZ20031209,  I3I4,   504,  1,     27,  12012,2,20040103,1623,-19.9907,  76.1878, 4658,    599.7,   9.7258,  34.7611,2,  34.7596,2,    224.0,1,    233.2,2,     4.64,2,    15.58,2,     0.00,2,     1.12,2, -999.000,9, -999.000,9, -999.000,9,   -999.0,9,   -999.0,9,-999.0000,9,  -999.00,   -999.0,9,   -999.0,  -999.00,9,  -999.00,  -999.00,9,   9.7263,2
  49NZ20031209,  I3I4,   504,  1,     26,  12014,2,20040103,1623,-19.9907,  76.1878, 4658,    700.8,   8.5828,  34.6235,2,  34.6201,2,    205.6,1,    213.2,2,    10.13,2,    20.48,2,     0.00,2,     1.43,2, -999.000,9, -999.000,9, -999.000,9,   -999.0,9,   -999.0,9,-999.0000,9,  -999.00,   -999.0,9,   -999.0,  -999.00,9,  -999.00,  -999.00,9,   8.5847,2
  49NZ20031209,  I3I4,   504,  1,     25,  12013,2,20040103,1623,-19.9907,  76.1878, 4658,    799.2,   6.7011,  34.4848,2,  34.4844,2,    180.4,1,    187.1,2,    23.38,2,    27.23,2,     0.00,2,     1.88,2, -999.000,9, -999.000,9, -999.000,9,   -999.0,9,   -999.0,9,-999.0000,9,  -999.00,   -999.0,9,   -999.0,  -999.00,9,  -999.00,  -999.00,9,   6.7011,2
  49NZ20031209,  I3I4,   504,  1,     24,  12048,2,20040103,1623,-19.9907,  76.1878, 4658,    900.0,   5.2454,  34.4781,2,  34.4792,2,    152.2,1,    157.7,2,    47.03,2,    32.39,2,     0.00,2,     2.26,2, -999.000,9, -999.000,9, -999.000,9,   -999.0,9,   -999.0,9,-999.0000,9,  -999.00,   -999.0,9,   -999.0,  -999.00,9,  -999.00,  -999.00,9,   5.2451,2
  49NZ20031209,  I3I4,   504,  1,     23,  12047,2,20040103,1623,-19.9907,  76.1878, 4658,   1001.1,   4.6465,  34.5361,2,  34.5371,2,    130.4,1,    134.7,2,    66.51,2,    34.75,2,     0.00,2,     2.46,2, -999.000,9, -999.000,9, -999.000,9,   -999.0,9,   -999.0,9,-999.0000,9,  -999.00,   -999.0,9,   -999.0,  -999.00,9,  -999.00,  -999.00,9,   4.6465,2
  49NZ20031209,  I3I4,   504,  1,     22,  12046,2,20040103,1623,-19.9907,  76.1878, 4658,   1199.5,   3.9599,  34.6020,2,  34.6006,2,    124.7,1,    129.3,2,    81.30,2,    35.60,2,     0.00,2,     2.53,2, -999.000,9, -999.000,9, -999.000,9,   -999.0,9,   -999.0,9,-999.0000,9,  -999.00,   -999.0,9,   -999.0,  -999.00,9,  -999.00,  -999.00,9,   3.9597,2
  49NZ20031209,  I3I4,   504,  1,     21,  12045,2,20040103,1623,-19.9907,  76.1878, 4658,   1400.2,   3.6400,  34.6715,2,  34.6719,2,    123.4,1,    127.9,2,    92.06,2,    35.52,2,    -0.01,2,     2.54,2, -999.000,9, -999.000,9, -999.000,9,   -999.0,9,   -999.0,9,-999.0000,9,  -999.00,   -999.0,9,   -999.0,  -999.00,9,  -999.00,  -999.00,9,   3.6401,2
  49NZ20031209,  I3I4,   504,  1,     20,  12044,2,20040103,1623,-19.9907,  76.1878, 4658,   1601.3,   3.2696,  34.7065,2,  34.7065,2,    129.0,1,    133.8,2,    99.37,2,    35.15,2,     0.00,2,     2.51,2, -999.000,9, -999.000,9, -999.000,9,   -999.0,9,   -999.0,9,-999.0000,9,  -999.00,   -999.0,9,   -999.0,  -999.00,9,  -999.00,  -999.00,9,   3.2697,2
  49NZ20031209,  I3I4,   504,  1,     19,  12043,2,20040103,1623,-19.9907,  76.1878, 4658,   1800.2,   2.8811,  34.7166,2,  34.7166,2,    137.8,1,    143.4,2,   103.30,2,    34.68,2,     0.00,2,     2.47,2, -999.000,9, -999.000,9, -999.000,9,   -999.0,9,   -999.0,9,-999.0000,9,  -999.00,   -999.0,9,   -999.0,  -999.00,9,  -999.00,  -999.00,9,   2.8810,2
  49NZ20031209,  I3I4,   504,  1,     18,  12042,2,20040103,1623,-19.9907,  76.1878, 4658,   2000.0,   2.5088,  34.7207,2,  34.7206,2,    148.3,1,    154.5,2,   106.02,2,    34.12,2,     0.00,2,     2.40,2, -999.000,9, -999.000,9, -999.000,9,   -999.0,9,   -999.0,9,-999.0000,9,  -999.00,   -999.0,9,   -999.0,  -999.00,9,  -999.00,  -999.00,9,   2.5087,2
  49NZ20031209,  I3I4,   504,  1,     17,  12041,2,20040103,1623,-19.9907,  76.1878, 4658,   2200.2,   2.1316,  34.7222,2,  34.7218,2,    161.2,1,    168.6,2,   106.71,2,    33.39,2,     0.00,2,     2.33,2, -999.000,9, -999.000,9, -999.000,9,   -999.0,9,   -999.0,9,-999.0000,9,  -999.00,   -999.0,9,   -999.0,  -999.00,9,  -999.00,  -999.00,9,   2.1318,2
  49NZ20031209,  I3I4,   504,  1,     16,  12040,2,20040103,1623,-19.9907,  76.1878, 4658,   2399.5,   1.9035,  34.7253,2,  34.7248,2,    168.7,1,    176.7,2,   108.26,2,    32.92,2,     0.00,2,     2.29,2, -999.000,9, -999.000,9, -999.000,9,   -999.0,9,   -999.0,9,-999.0000,9,  -999.00,   -999.0,9,   -999.0,  -999.00,9,  -999.00,  -999.00,9,   1.9034,2
  49NZ20031209,  I3I4,   504,  1,     15,  12039,2,20040103,1623,-19.9907,  76.1878, 4658,   2600.0,   1.7519,  34.7268,2,  34.7277,2,    173.4,1,    181.8,2,   109.97,2,    32.67,2,     0.00,2,     2.27,2, -999.000,9, -999.000,9, -999.000,9,   -999.0,9,   -999.0,9,-999.0000,9,  -999.00,   -999.0,9,   -999.0,  -999.00,9,  -999.00,  -999.00,9,   1.7516,2
  49NZ20031209,  I3I4,   504,  1,     14,  12038,2,20040103,1623,-19.9907,  76.1878, 4658,   2799.5,   1.6341,  34.7280,2,  34.7281,2,    175.9,1,    184.5,2,   112.69,2,    32.62,2,     0.00,2,     2.26,2, -999.000,9, -999.000,9, -999.000,9,   -999.0,9,   -999.0,9,-999.0000,9,  -999.00,   -999.0,9,   -999.0,  -999.00,9,  -999.00,  -999.00,9,   1.6339,2
  49NZ20031209,  I3I4,   504,  1,     13,  12037,2,20040103,1623,-19.9907,  76.1878, 4658,   3000.5,   1.5401,  34.7281,2,  34.7282,2,    178.1,1,    186.9,2,   114.79,2,    32.57,2,     0.00,2,     2.26,2, -999.000,9, -999.000,9, -999.000,9,   -999.0,9,   -999.0,9,-999.0000,9,  -999.00,   -999.0,9,   -999.0,  -999.00,9,  -999.00,  -999.00,9,   1.5400,2
  49NZ20031209,  I3I4,   504,  1,     12,  12036,2,20040103,1623,-19.9907,  76.1878, 4658,   3250.5,   1.4282,  34.7254,2,  34.7249,2,    176.9,1,    185.3,2,   121.43,2,    33.03,2,     0.00,2,     2.27,2, -999.000,9, -999.000,9, -999.000,9,   -999.0,9,   -999.0,9,-999.0000,9,  -999.00,   -999.0,9,   -999.0,  -999.00,9,  -999.00,  -999.00,9,   1.4282,2
  49NZ20031209,  I3I4,   504,  1,     11,  12035,2,20040103,1623,-19.9907,  76.1878, 4658,   3501.2,   1.3769,  34.7236,2,  34.7235,2,    178.5,1,    186.5,2,   123.74,2,    33.09,2,     0.00,2,     2.28,2, -999.000,9, -999.000,9, -999.000,9,   -999.0,9,   -999.0,9,-999.0000,9,  -999.00,   -999.0,9,   -999.0,  -999.00,9,  -999.00,  -999.00,9,   1.3768,2
  49NZ20031209,  I3I4,   504,  1,     10,  12034,2,20040103,1623,-19.9907,  76.1878, 4658,   3749.9,   1.3710,  34.7218,2,  34.7220,2,    177.7,1,    185.1,2,   126.54,2,    33.29,2,     0.00,2,     2.29,2, -999.000,9, -999.000,9, -999.000,9,   -999.0,9,   -999.0,9,-999.0000,9,  -999.00,   -999.0,9,   -999.0,  -999.00,9,  -999.00,  -999.00,9,   1.3708,2
  49NZ20031209,  I3I4,   504,  1,      9,  12033,2,20040103,1623,-19.9907,  76.1878, 4658,   3999.8,   1.3810,  34.7207,2,  34.7207,2,    177.3,1,    184.2,2,   128.40,2,    33.42,2,    -0.01,2,     2.30,2, -999.000,9, -999.000,9, -999.000,9,   -999.0,9,   -999.0,9,-999.0000,9,  -999.00,   -999.0,9,   -999.0,  -999.00,9,  -999.00,  -999.00,9,   1.3808,2
  49NZ20031209,  I3I4,   504,  1,      8,  12032,2,20040103,1623,-19.9907,  76.1878, 4658,   4250.3,   1.4008,  34.7201,2,  34.7198,2,    177.6,1,    183.6,2,   129.23,2,    33.50,2,     0.00,2,     2.31,2, -999.000,9, -999.000,9, -999.000,9,   -999.0,9,   -999.0,9,-999.0000,9,  -999.00,   -999.0,9,   -999.0,  -999.00,9,  -999.00,  -999.00,9,   1.4006,2
  49NZ20031209,  I3I4,   504,  1,      7,  12031,2,20040103,1623,-19.9907,  76.1878, 4658,   4499.4,   1.4254,  34.7199,2,  34.7199,2,    178.6,1,    183.6,2,   129.44,2,    33.52,2,     0.00,2,     2.31,2, -999.000,9, -999.000,9, -999.000,9,   -999.0,9,   -999.0,9,-999.0000,9,  -999.00,   -999.0,9,   -999.0,  -999.00,9,  -999.00,  -999.00,9,   1.4253,2
  49NZ20031209,  I3I4,   504,  1,      6,  12030,2,20040103,1623,-19.9907,  76.1878, 4658,   4738.7,   1.4503,  34.7195,2,  34.7195,2,    180.1,1,    183.6,2,   129.48,2,    33.56,2,    -0.01,2,     2.31,2, -999.000,9, -999.000,9, -999.000,9,   -999.0,9,   -999.0,9,-999.0000,9,  -999.00,   -999.0,9,   -999.0,  -999.00,9,  -999.00,  -999.00,9,   1.4502,2
  49NZ20031209,  I3I4,   504,  1,      5,  12029,9,20040103,1623,-19.9907,  76.1878, 4658,   1000.8,   4.6459,  34.5365,2,-999.0000,9,    130.3,1,   -999.0,9,  -999.00,9,  -999.00,9,  -999.00,9,  -999.00,9, -999.000,9, -999.000,9, -999.000,9,   -999.0,9,   -999.0,9,-999.0000,9,  -999.00,   -999.0,9,   -999.0,  -999.00,9,  -999.00,  -999.00,9,   4.6462,2
  49NZ20031209,  I3I4,   504,  1,      4,  12028,9,20040103,1623,-19.9907,  76.1878, 4658,   1000.5,   4.6478,  34.5361,2,-999.0000,9,    130.3,1,   -999.0,9,  -999.00,9,  -999.00,9,  -999.00,9,  -999.00,9, -999.000,9, -999.000,9, -999.000,9,   -999.0,9,   -999.0,9,-999.0000,9,  -999.00,   -999.0,9,   -999.0,  -999.00,9,  -999.00,  -999.00,9,   4.6477,2
  49NZ20031209,  I3I4,   504,  1,      3,  12027,9,20040103,1623,-19.9907,  76.1878, 4658,   1000.5,   4.6477,  34.5361,2,-999.0000,9,    130.3,1,   -999.0,9,  -999.00,9,  -999.00,9,  -999.00,9,  -999.00,9, -999.000,9, -999.000,9, -999.000,9,   -999.0,9,   -999.0,9,-999.0000,9,  -999.00,   -999.0,9,   -999.0,  -999.00,9,  -999.00,  -999.00,9,   4.6476,2
  49NZ20031209,  I3I4,   504,  1,      2,  12026,9,20040103,1623,-19.9907,  76.1878, 4658,   1000.5,   4.6477,  34.5360,2,-999.0000,9,    130.2,1,   -999.0,9,  -999.00,9,  -999.00,9,  -999.00,9,  -999.00,9, -999.000,9, -999.000,9, -999.000,9,   -999.0,9,   -999.0,9,-999.0000,9,  -999.00,   -999.0,9,   -999.0,  -999.00,9,  -999.00,  -999.00,9,   4.6480,2
  49NZ20031209,  I3I4,   504,  1,      1,  12025,9,20040103,1623,-19.9907,  76.1878, 4658,      9.5,  26.0114,  35.0467,2,-999.0000,9,    197.6,1,   -999.0,9,  -999.00,9,  -999.00,9,  -999.00,9,  -999.00,9, -999.000,9, -999.000,9, -999.000,9,   -999.0,9,   -999.0,9,-999.0000,9,  -999.00,   -999.0,9,   -999.0,  -999.00,9,  -999.00,  -999.00,9,  26.0094,2