BOTTLE,20141204PRINUNIVRMK
EXPOCODE,SECT_ID,STNNBR,CASTNO,SAMPNO,BTLNBR,BTLNBR_FLAG_W,DATE,TIME,LATITUDE,LONGITUDE,DEPTH,CTDPRS,CTDTMP,CTDSAL,CTDSAL_FLAG_W,SALNTY,SALNTY_FLAG_W,CTDOXY,CTDOXY_FLAG_W,OXYGEN,OXYGEN_FLAG_W,SILCAT,SILCAT_FLAG_W,NITRAT,NITRAT_FLAG_W,NITRIT,NITRIT_FLAG_W,PHSPHT,PHSPHT_FLAG_W,CFC-11,CFC-11_FLAG_W,CFC-12,CFC-12_FLAG_W,CFC113,CFC113_FLAG_W,TCARBN,TCARBN_FLAG_W,ALKALI,ALKALI_FLAG_W,PH_TOT,PH_TOT_FLAG_W,PH_TMP,DELC14,DELC14_FLAG_W,C14ERR,DELC13,DELC13_FLAG_W,CS-137,CS137ER,CS-137_FLAG_W,SBE35,SBE35_FLAG_W
,,,,,,,,,,,METERS,DBAR,ITS-90,PSS-78,,PSS-78,,UMOL/KG,,UMOL/KG,,UMOL/KG,,UMOL/KG,,UMOL/KG,,UMOL/KG,,PMOL/KG,,PMOL/KG,,PMOL/KG,,UMOL/KG,,UMOL/KG,,,,DEG C,/MILLE,,/MILLE,/MILLE,,DM/.1MG,DM/.1MG,,ITS-90,
  49NZ20031209,  I3I4,   561,  1,     36,  12024,2,20031219,0808,-20.0075,  48.9883, 1290,     10.6,  27.4284,  34.5165,2,  34.5150,2,    195.6,1,    204.8,2,     2.38,2,    -0.02,2,     0.01,2,     0.12,2,    1.687,2,    1.010,2, -999.000,5,   1939.7,2,   2261.2,2,   8.0808,2,    25.00,   -999.0,9,   -999.0,  -999.00,9,  -999.00,  -999.00,9,  27.4243,2
  49NZ20031209,  I3I4,   561,  1,     35,  12023,2,20031219,0808,-20.0075,  48.9883, 1290,     49.3,  24.5223,  34.8361,2,  34.8373,2,    207.3,1,    217.0,2,     1.83,2,     0.01,2,     0.00,2,     0.12,2,    1.918,2,    1.140,2, -999.000,5,   1959.9,6,   2281.1,2,   8.0806,2,    25.00,   -999.0,9,   -999.0,  -999.00,9,  -999.00,  -999.00,9,  24.5210,2
  49NZ20031209,  I3I4,   561,  1,     34,  12022,2,20031219,0808,-20.0075,  48.9883, 1290,    100.5,  22.6550,  35.0825,2,  35.0892,2,    185.4,1,    194.2,2,     2.74,2,     1.76,2,     0.06,2,     0.26,2,    1.975,2,    1.166,2,    0.406,4,   1999.6,2,   2296.7,6,   8.0359,2,    25.00,   -999.0,9,   -999.0,  -999.00,9,  -999.00,  -999.00,9,  22.6548,2
  49NZ20031209,  I3I4,   561,  1,     33,  12015,2,20031219,0808,-20.0075,  48.9883, 1290,    149.8,  20.2885,  35.2550,2,  35.2545,2,    146.9,1,    152.5,2,     7.71,2,     8.08,2,     0.02,2,     0.66,2,    1.914,2,    1.115,2,    0.118,4,   2069.8,2,   2310.6,2,   7.9286,2,    25.00,   -999.0,9,   -999.0,  -999.00,9,  -999.00,  -999.00,9,  20.2908,2
  49NZ20031209,  I3I4,   561,  1,     32,  12020,2,20031219,0808,-20.0075,  48.9883, 1290,    200.3,  17.8513,  35.3877,2,  35.3938,2,    139.5,1,    145.3,2,    10.53,2,    10.83,2,     0.01,2,     0.84,2,    1.966,2,    1.112,2,    0.046,4,   2108.0,2,   2317.7,2,   7.8736,2,    25.00,   -999.0,9,   -999.0,  -999.00,9,  -999.00,  -999.00,9,  17.8470,2
  49NZ20031209,  I3I4,   561,  1,     31,  12019,2,20031219,0808,-20.0075,  48.9883, 1290,    249.7,  16.6542,  35.4177,2,  35.4103,2,    149.0,1,    152.9,2,    10.78,2,    11.10,2,     0.01,2,     0.86,2,    2.079,6,    1.155,6,    0.081,4,   2115.8,2,   2320.6,2,   7.8593,2,    25.00,   -999.0,9,   -999.0,  -999.00,9,  -999.00,  -999.00,9,  16.6532,2
  49NZ20031209,  I3I4,   561,  1,     30,  12018,2,20031219,0808,-20.0075,  48.9883, 1290,    300.7,  15.6265,  35.4622,2,  35.4660,2,    172.1,1,    179.1,2,     7.69,2,     8.82,2,     0.01,2,     0.73,2,    2.407,2,    1.306,2,    0.083,4,   2112.1,2,   2325.3,2,   7.8764,2,    25.00,   -999.0,9,   -999.0,  -999.00,9,  -999.00,  -999.00,9,  15.6259,2
  49NZ20031209,  I3I4,   561,  1,     18,  12042,2,20031219,0808,-20.0075,  48.9883, 1290,    400.8,  13.1052,  35.2477,2,  35.2420,2,    199.7,1,    207.5,2,     5.50,2,    10.16,2,     0.00,2,     0.81,2,    2.867,2,    1.493,2,    0.089,4,   2115.9,2,   2316.7,2,   7.8520,2,    25.00,   -999.0,9,   -999.0,  -999.00,9,  -999.00,  -999.00,9,  13.1046,2
  49NZ20031209,  I3I4,   561,  1,     17,  12041,2,20031219,0808,-20.0075,  48.9883, 1290,    500.7,  11.6169,  35.0431,2,  35.0422,2,    206.5,1,    213.8,2,     5.97,2,    12.67,2,     0.01,2,     0.95,2,    2.985,2,    1.509,2,    0.114,4,   2120.9,2,   2308.3,2,   7.8238,2,    25.00,   -999.0,9,   -999.0,  -999.00,9,  -999.00,  -999.00,9,  11.6180,2
  49NZ20031209,  I3I4,   561,  1,     16,  12040,2,20031219,0808,-20.0075,  48.9883, 1290,    601.0,  10.1022,  34.8282,2,  34.8261,2,    209.8,1,    216.9,2,     7.17,2,    16.02,2,     0.00,2,     1.16,2,    2.916,2,    1.438,2,    0.085,4,   2127.7,2,   2293.9,2,   7.7906,2,    25.00,   -999.0,9,   -999.0,  -999.00,9,  -999.00,  -999.00,9,  10.0977,2
  49NZ20031209,  I3I4,   561,  1,     15,  12039,2,20031219,0808,-20.0075,  48.9883, 1290,    699.9,   8.8660,  34.6873,2,  34.6854,2,    194.7,1,    200.5,2,    13.29,2,    20.64,2,     0.00,2,     1.45,2,    2.198,2,    1.084,2,    0.120,4,   2147.8,6,   2292.6,2,   7.7405,2,    25.00,   -999.0,9,   -999.0,  -999.00,9,  -999.00,  -999.00,9,   8.8675,2
  49NZ20031209,  I3I4,   561,  1,     14,  12038,2,20031219,0808,-20.0075,  48.9883, 1290,    800.5,   7.3005,  34.5691,2,  34.5700,2,    175.9,1,    180.9,2,    24.71,2,    26.03,2,     0.01,2,     1.82,2,    1.232,2,    0.632,2,    0.041,4,   2176.8,2,   2299.0,6,   7.6799,2,    25.00,   -999.0,9,   -999.0,  -999.00,9,  -999.00,  -999.00,9,   7.2975,2
  49NZ20031209,  I3I4,   561,  1,     13,  12037,2,20031219,0808,-20.0075,  48.9883, 1290,    901.2,   6.2390,  34.5610,2,  34.5607,2,    155.1,1,    159.4,2,    40.85,2,    29.89,2,     0.00,2,     2.10,2,    0.661,2,    0.358,2,    0.046,4,   2208.4,2,   2312.4,2,   7.6303,6,    25.00,   -999.0,9,   -999.0,  -999.00,9,  -999.00,  -999.00,9,   6.2397,2
  49NZ20031209,  I3I4,   561,  1,     12,  12036,2,20031219,0808,-20.0075,  48.9883, 1290,   1003.4,   5.1064,  34.5539,2,  34.5539,2,    145.9,1,    149.4,2,    55.60,2,    32.58,2,     0.01,2,     2.30,2,    0.314,2,    0.176,2,    0.021,4,   2232.9,2,   2325.3,2,   7.5958,2,    25.00,   -999.0,9,   -999.0,  -999.00,9,  -999.00,  -999.00,9,   5.1074,2
  49NZ20031209,  I3I4,   561,  1,     11,  12035,2,20031219,0808,-20.0075,  48.9883, 1290,   1002.8,   5.1157,  34.5536,2,  34.5539,2,    145.9,1,    149.3,2,    55.48,2,    32.57,2,     0.01,2,     2.30,2,    0.322,6,    0.177,6,    0.000,4,   2232.7,2,   2323.6,2,   7.5967,2,    25.00,   -999.0,9,   -999.0,  -999.00,9,  -999.00,  -999.00,9,   5.1132,2
  49NZ20031209,  I3I4,   561,  1,      1,  12025,2,20031219,0808,-20.0075,  48.9883, 1290,   1278.4,   3.8609,  34.6064,2,  34.6064,2,    143.0,1,    145.9,2,    74.90,2,    34.21,2,     0.00,2,     2.42,2,    0.081,2,    0.043,2,    0.000,4,   2258.1,2,   2343.6,2,   7.5792,2,    25.00,   -999.0,9,   -999.0,  -999.00,9,  -999.00,  -999.00,9,   3.8604,2
  49NZ20031209,  I3I4,   560,  1,     36,  12024,2,20031219,1033,-20.0117,  49.1443, 2140,     10.3,  27.7192,  34.7373,2,  34.7409,2,    193.2,1,    202.2,2,     2.12,2,     0.01,2,     0.00,2,     0.13,2, -999.000,9, -999.000,9, -999.000,9,   -999.0,9,   -999.0,9,-999.0000,9,  -999.00,   -999.0,9,   -999.0,  -999.00,9,  -999.00,  -999.00,9,  27.7170,2
  49NZ20031209,  I3I4,   560,  1,     35,  12023,2,20031219,1033,-20.0117,  49.1443, 2140,     50.3,  24.4693,  34.8375,2,  34.8375,2,    205.7,1,    215.4,2,     2.27,2,    -0.01,2,     0.01,2,     0.13,2, -999.000,9, -999.000,9, -999.000,9,   -999.0,9,   -999.0,9,-999.0000,9,  -999.00,   -999.0,9,   -999.0,  -999.00,9,  -999.00,  -999.00,9,  24.4668,2
  49NZ20031209,  I3I4,   560,  1,     34,  12022,2,20031219,1033,-20.0117,  49.1443, 2140,    100.2,  23.3700,  35.0093,2,  35.0071,2,    197.6,1,    206.7,2,     2.34,2,     0.02,2,     0.02,2,     0.17,2, -999.000,9, -999.000,9, -999.000,9,   -999.0,9,   -999.0,9,-999.0000,9,  -999.00,   -999.0,9,   -999.0,  -999.00,9,  -999.00,  -999.00,9,  23.3668,2
  49NZ20031209,  I3I4,   560,  1,     33,  12015,2,20031219,1033,-20.0117,  49.1443, 2140,    150.1,  21.1335,  35.0995,2,  35.1023,2,    144.4,1,    149.7,2,     7.81,2,     7.82,2,     0.03,2,     0.66,2, -999.000,9, -999.000,9, -999.000,9,   -999.0,9,   -999.0,9,-999.0000,9,  -999.00,   -999.0,9,   -999.0,  -999.00,9,  -999.00,  -999.00,9,  21.1389,2
  49NZ20031209,  I3I4,   560,  1,     32,  12020,2,20031219,1033,-20.0117,  49.1443, 2140,    200.0,  19.4204,  35.4376,2,  35.4525,2,    153.4,1,    160.2,2,     7.41,2,     7.37,2,     0.01,2,     0.61,2, -999.000,9, -999.000,9, -999.000,9,   -999.0,9,   -999.0,9,-999.0000,9,  -999.00,   -999.0,9,   -999.0,  -999.00,9,  -999.00,  -999.00,9,  19.4134,2
  49NZ20031209,  I3I4,   560,  1,     31,  12019,2,20031219,1033,-20.0117,  49.1443, 2140,    249.5,  18.0301,  35.6449,2,  35.6449,2,    180.9,1,    187.9,2,     4.86,2,     4.72,2,     0.01,2,     0.46,2, -999.000,9, -999.000,9, -999.000,9,   -999.0,9,   -999.0,9,-999.0000,9,  -999.00,   -999.0,9,   -999.0,  -999.00,9,  -999.00,  -999.00,9,  18.0234,2
  49NZ20031209,  I3I4,   560,  1,     30,  12018,2,20031219,1033,-20.0117,  49.1443, 2140,    300.3,  16.4320,  35.5478,2,  35.5448,2,    175.7,1,    182.7,2,     6.68,2,     7.22,2,     0.01,2,     0.65,2, -999.000,9, -999.000,9, -999.000,9,   -999.0,9,   -999.0,9,-999.0000,9,  -999.00,   -999.0,9,   -999.0,  -999.00,9,  -999.00,  -999.00,9,  16.4284,2
  49NZ20031209,  I3I4,   560,  1,     29,  12017,2,20031219,1033,-20.0117,  49.1443, 2140,    400.5,  13.5487,  35.2919,2,  35.2843,2,    190.2,1,    195.5,2,     7.43,2,    10.41,2,     0.01,2,     0.84,2, -999.000,9, -999.000,9, -999.000,9,   -999.0,9,   -999.0,9,-999.0000,9,  -999.00,   -999.0,9,   -999.0,  -999.00,9,  -999.00,  -999.00,9,  13.5486,2
  49NZ20031209,  I3I4,   560,  1,     28,  12016,2,20031219,1033,-20.0117,  49.1443, 2140,    499.7,  11.7066,  35.0559,2,  35.0527,2,    206.9,1,    214.7,2,     6.05,2,    12.28,2,     0.01,2,     0.95,2, -999.000,9, -999.000,9, -999.000,9,   -999.0,9,   -999.0,9,-999.0000,9,  -999.00,   -999.0,9,   -999.0,  -999.00,9,  -999.00,  -999.00,9,  11.7064,2
  49NZ20031209,  I3I4,   560,  1,     27,  12012,2,20031219,1033,-20.0117,  49.1443, 2140,    600.5,  10.1813,  34.8426,2,  34.8393,2,    197.0,1,    204.1,2,     9.87,2,    16.91,2,     0.01,2,     1.25,2, -999.000,9, -999.000,9, -999.000,9,   -999.0,9,   -999.0,9,-999.0000,9,  -999.00,   -999.0,9,   -999.0,  -999.00,9,  -999.00,  -999.00,9,  10.1815,2
  49NZ20031209,  I3I4,   560,  1,     26,  12014,2,20031219,1033,-20.0117,  49.1443, 2140,    700.6,   8.8200,  34.6938,2,  34.6945,2,    182.4,1,    188.8,2,    16.33,2,    21.61,2,     0.01,2,     1.55,2, -999.000,9, -999.000,9, -999.000,9,   -999.0,9,   -999.0,9,-999.0000,9,  -999.00,   -999.0,9,   -999.0,  -999.00,9,  -999.00,  -999.00,9,   8.8202,2
  49NZ20031209,  I3I4,   560,  1,     25,  12013,2,20031219,1033,-20.0117,  49.1443, 2140,    800.9,   7.5937,  34.6404,2,  34.6403,2,    150.5,1,    155.2,2,    31.73,2,    27.44,2,     0.00,2,     1.96,2, -999.000,9, -999.000,9, -999.000,9,   -999.0,9,   -999.0,9,-999.0000,9,  -999.00,   -999.0,9,   -999.0,  -999.00,9,  -999.00,  -999.00,9,   7.5953,2
  49NZ20031209,  I3I4,   560,  1,     24,  12048,2,20031219,1033,-20.0117,  49.1443, 2140,    901.3,   6.3255,  34.5981,2,  34.5970,2,    139.1,1,    143.1,2,    45.91,2,    30.88,2,     0.00,2,     2.21,2, -999.000,9, -999.000,9, -999.000,9,   -999.0,9,   -999.0,9,-999.0000,9,  -999.00,   -999.0,9,   -999.0,  -999.00,9,  -999.00,  -999.00,9,   6.3264,2
  49NZ20031209,  I3I4,   560,  1,     23,  12047,2,20031219,1033,-20.0117,  49.1443, 2140,   1001.5,   5.6726,  34.6412,2,  34.6407,2,    122.0,1,    125.0,2,    61.53,2,    33.23,2,     0.00,2,     2.40,2, -999.000,9, -999.000,9, -999.000,9,   -999.0,9,   -999.0,9,-999.0000,9,  -999.00,   -999.0,9,   -999.0,  -999.00,9,  -999.00,  -999.00,9,   5.6729,2
  49NZ20031209,  I3I4,   560,  1,     22,  12046,2,20031219,1033,-20.0117,  49.1443, 2140,   1199.4,   4.4116,  34.5859,2,  34.5890,3,    137.4,1,    140.2,2,    68.81,2,    33.97,2,     0.00,2,     2.43,2, -999.000,9, -999.000,9, -999.000,9,   -999.0,9,   -999.0,9,-999.0000,9,  -999.00,   -999.0,9,   -999.0,  -999.00,9,  -999.00,  -999.00,9,   4.4123,2
  49NZ20031209,  I3I4,   560,  1,     21,  12045,2,20031219,1033,-20.0117,  49.1443, 2140,   1400.6,   3.5775,  34.6276,2,  34.6274,2,    143.5,1,    147.3,2,    78.97,2,    34.06,2,     0.00,2,     2.43,2, -999.000,9, -999.000,9, -999.000,9,   -999.0,9,   -999.0,9,-999.0000,9,  -999.00,   -999.0,9,   -999.0,  -999.00,9,  -999.00,  -999.00,9,   3.5777,2
  49NZ20031209,  I3I4,   560,  1,     20,  12044,2,20031219,1033,-20.0117,  49.1443, 2140,   1601.3,   3.2164,  34.6426,2,  34.6426,2,    150.7,1,    154.6,2,    81.97,2,    33.66,2,     0.00,2,     2.40,2, -999.000,9, -999.000,9, -999.000,9,   -999.0,9,   -999.0,9,-999.0000,9,  -999.00,   -999.0,9,   -999.0,  -999.00,9,  -999.00,  -999.00,9,   3.2169,2
  49NZ20031209,  I3I4,   560,  1,     19,  12043,2,20031219,1033,-20.0117,  49.1443, 2140,   1801.2,   2.7872,  34.6827,2,  34.6825,2,    156.4,1,    160.6,2,    90.42,2,    33.28,2,     0.01,2,     2.37,2, -999.000,9, -999.000,9, -999.000,9,   -999.0,9,   -999.0,9,-999.0000,9,  -999.00,   -999.0,9,   -999.0,  -999.00,9,  -999.00,  -999.00,9,   2.7884,2
  49NZ20031209,  I3I4,   560,  1,     18,  12042,2,20031219,1033,-20.0117,  49.1443, 2140,   2000.9,   2.5749,  34.7027,2,  34.7037,2,    159.6,1,    163.3,2,    95.53,2,    33.06,2,     0.01,2,     2.35,2, -999.000,9, -999.000,9, -999.000,9,   -999.0,9,   -999.0,9,-999.0000,9,  -999.00,   -999.0,9,   -999.0,  -999.00,9,  -999.00,  -999.00,9,   2.5750,2
  49NZ20031209,  I3I4,   560,  1,     17,  12041,2,20031219,1033,-20.0117,  49.1443, 2140,   2159.0,   2.4534,  34.7163,2,  34.7163,2,    159.4,1,    162.9,2,   100.72,2,    33.16,2,     0.00,2,     2.36,2, -999.000,9, -999.000,9, -999.000,9,   -999.0,9,   -999.0,9,-999.0000,9,  -999.00,   -999.0,9,   -999.0,  -999.00,9,  -999.00,  -999.00,9,   2.4535,2
  49NZ20031209,  I3I4,   560,  1,     16,  12040,9,20031219,1033,-20.0117,  49.1443, 2140,   1003.2,   5.6536,  34.6401,2,-999.0000,9,    122.0,1,   -999.0,9,  -999.00,9,  -999.00,9,  -999.00,9,  -999.00,9, -999.000,9, -999.000,9, -999.000,9,   -999.0,9,   -999.0,9,-999.0000,9,  -999.00,   -999.0,9,   -999.0,  -999.00,9,  -999.00,  -999.00,9,   5.6542,2
  49NZ20031209,  I3I4,   560,  1,     15,  12039,9,20031219,1033,-20.0117,  49.1443, 2140,   1003.3,   5.6552,  34.6401,2,-999.0000,9,    122.0,1,   -999.0,9,  -999.00,9,  -999.00,9,  -999.00,9,  -999.00,9, -999.000,9, -999.000,9, -999.000,9,   -999.0,9,   -999.0,9,-999.0000,9,  -999.00,   -999.0,9,   -999.0,  -999.00,9,  -999.00,  -999.00,9,   5.6558,2
  49NZ20031209,  I3I4,   560,  1,     14,  12038,9,20031219,1033,-20.0117,  49.1443, 2140,   1003.3,   5.6564,  34.6402,2,-999.0000,9,    122.0,1,   -999.0,9,  -999.00,9,  -999.00,9,  -999.00,9,  -999.00,9, -999.000,9, -999.000,9, -999.000,9,   -999.0,9,   -999.0,9,-999.0000,9,  -999.00,   -999.0,9,   -999.0,  -999.00,9,  -999.00,  -999.00,9,   5.6572,2
  49NZ20031209,  I3I4,   560,  1,     13,  12037,9,20031219,1033,-20.0117,  49.1443, 2140,   1003.1,   5.6577,  34.6401,2,-999.0000,9,    122.0,1,   -999.0,9,  -999.00,9,  -999.00,9,  -999.00,9,  -999.00,9, -999.000,9, -999.000,9, -999.000,9,   -999.0,9,   -999.0,9,-999.0000,9,  -999.00,   -999.0,9,   -999.0,  -999.00,9,  -999.00,  -999.00,9,   5.6586,2
  49NZ20031209,  I3I4,   560,  1,     12,  12036,9,20031219,1033,-20.0117,  49.1443, 2140,   1002.9,   5.6595,  34.6403,2,-999.0000,9,    122.0,1,   -999.0,9,  -999.00,9,  -999.00,9,  -999.00,9,  -999.00,9, -999.000,9, -999.000,9, -999.000,9,   -999.0,9,   -999.0,9,-999.0000,9,  -999.00,   -999.0,9,   -999.0,  -999.00,9,  -999.00,  -999.00,9,   5.6602,2
  49NZ20031209,  I3I4,   560,  1,     11,  12035,9,20031219,1033,-20.0117,  49.1443, 2140,   1002.7,   5.6597,  34.6403,2,-999.0000,9,    122.0,1,   -999.0,9,  -999.00,9,  -999.00,9,  -999.00,9,  -999.00,9, -999.000,9, -999.000,9, -999.000,9,   -999.0,9,   -999.0,9,-999.0000,9,  -999.00,   -999.0,9,   -999.0,  -999.00,9,  -999.00,  -999.00,9,   5.6602,2
  49NZ20031209,  I3I4,   560,  1,     10,  12034,9,20031219,1033,-20.0117,  49.1443, 2140,   1002.7,   5.6615,  34.6405,2,-999.0000,9,    122.0,1,   -999.0,9,  -999.00,9,  -999.00,9,  -999.00,9,  -999.00,9, -999.000,9, -999.000,9, -999.000,9,   -999.0,9,   -999.0,9,-999.0000,9,  -999.00,   -999.0,9,   -999.0,  -999.00,9,  -999.00,  -999.00,9,   5.6625,2
  49NZ20031209,  I3I4,   560,  1,      9,  12033,9,20031219,1033,-20.0117,  49.1443, 2140,   1002.1,   5.6668,  34.6408,2,-999.0000,9,    122.0,1,   -999.0,9,  -999.00,9,  -999.00,9,  -999.00,9,  -999.00,9, -999.000,9, -999.000,9, -999.000,9,   -999.0,9,   -999.0,9,-999.0000,9,  -999.00,   -999.0,9,   -999.0,  -999.00,9,  -999.00,  -999.00,9,   5.6671,2
  49NZ20031209,  I3I4,   560,  1,      8,  12032,9,20031219,1033,-20.0117,  49.1443, 2140,   1002.0,   5.6707,  34.6411,2,-999.0000,9,    121.9,1,   -999.0,9,  -999.00,9,  -999.00,9,  -999.00,9,  -999.00,9, -999.000,9, -999.000,9, -999.000,9,   -999.0,9,   -999.0,9,-999.0000,9,  -999.00,   -999.0,9,   -999.0,  -999.00,9,  -999.00,  -999.00,9,   5.6706,2
  49NZ20031209,  I3I4,   560,  1,      7,  12031,9,20031219,1033,-20.0117,  49.1443, 2140,   1001.9,   5.6723,  34.6412,2,-999.0000,9,    121.9,1,   -999.0,9,  -999.00,9,  -999.00,9,  -999.00,9,  -999.00,9, -999.000,9, -999.000,9, -999.000,9,   -999.0,9,   -999.0,9,-999.0000,9,  -999.00,   -999.0,9,   -999.0,  -999.00,9,  -999.00,  -999.00,9,   5.6733,2
  49NZ20031209,  I3I4,   560,  1,      6,  12030,9,20031219,1033,-20.0117,  49.1443, 2140,   1002.2,   5.6687,  34.6411,2,-999.0000,9,    121.9,1,   -999.0,9,  -999.00,9,  -999.00,9,  -999.00,9,  -999.00,9, -999.000,9, -999.000,9, -999.000,9,   -999.0,9,   -999.0,9,-999.0000,9,  -999.00,   -999.0,9,   -999.0,  -999.00,9,  -999.00,  -999.00,9,   5.6697,2
  49NZ20031209,  I3I4,   560,  1,      5,  12029,9,20031219,1033,-20.0117,  49.1443, 2140,   1001.9,   5.6696,  34.6410,2,-999.0000,9,    121.9,1,   -999.0,9,  -999.00,9,  -999.00,9,  -999.00,9,  -999.00,9, -999.000,9, -999.000,9, -999.000,9,   -999.0,9,   -999.0,9,-999.0000,9,  -999.00,   -999.0,9,   -999.0,  -999.00,9,  -999.00,  -999.00,9,   5.6708,2
  49NZ20031209,  I3I4,   560,  1,      4,  12028,9,20031219,1033,-20.0117,  49.1443, 2140,      4.3,  28.1276,  34.7348,2,-999.0000,9,    192.6,1,   -999.0,9,  -999.00,9,  -999.00,9,  -999.00,9,  -999.00,9, -999.000,9, -999.000,9, -999.000,9,   -999.0,9,   -999.0,9,-999.0000,9,  -999.00,   -999.0,9,   -999.0,  -999.00,9,  -999.00,  -999.00,9,  28.1292,2
  49NZ20031209,  I3I4,   560,  1,      3,  12027,2,20031219,1033,-20.0117,  49.1443, 2140,      4.3,  28.1176,  34.7347,2,-999.0000,9,    192.7,1,   -999.0,9,  -999.00,9,  -999.00,9,  -999.00,9,  -999.00,9, -999.000,9, -999.000,9, -999.000,9,   -999.0,9,   -999.0,9,-999.0000,9,  -999.00,   -999.0,9,   -999.0,  -999.00,9,  -999.00,  -999.00,9,  28.1117,2
  49NZ20031209,  I3I4,   560,  1,      2,  12026,2,20031219,1033,-20.0117,  49.1443, 2140,      4.4,  28.0754,  34.7337,2,-999.0000,9,    192.6,1,   -999.0,9,  -999.00,9,  -999.00,9,  -999.00,9,  -999.00,9, -999.000,9, -999.000,9, -999.000,9,   -999.0,9,   -999.0,9,-999.0000,9,  -999.00,   -999.0,9,   -999.0,  -999.00,9,  -999.00,  -999.00,9,  28.0759,2
  49NZ20031209,  I3I4,   560,  1,      1,  12025,2,20031219,1033,-20.0117,  49.1443, 2140,     94.6,  23.5493,  34.9772,2,-999.0000,9,    200.5,1,   -999.0,9,  -999.00,9,  -999.00,9,  -999.00,9,  -999.00,9, -999.000,9, -999.000,9, -999.000,9,   -999.0,9,   -999.0,9,-999.0000,9,  -999.00,   -999.0,9,   -999.0,  -999.00,9,  -999.00,  -999.00,9,  23.5470,2