BOTTLE,20141204PRINUNIVRMK
EXPOCODE,SECT_ID,STNNBR,CASTNO,SAMPNO,BTLNBR,BTLNBR_FLAG_W,DATE,TIME,LATITUDE,LONGITUDE,DEPTH,CTDPRS,CTDTMP,CTDSAL,CTDSAL_FLAG_W,SALNTY,SALNTY_FLAG_W,CTDOXY,CTDOXY_FLAG_W,OXYGEN,OXYGEN_FLAG_W,SILCAT,SILCAT_FLAG_W,NITRAT,NITRAT_FLAG_W,NITRIT,NITRIT_FLAG_W,PHSPHT,PHSPHT_FLAG_W,CFC-11,CFC-11_FLAG_W,CFC-12,CFC-12_FLAG_W,CFC113,CFC113_FLAG_W,TCARBN,TCARBN_FLAG_W,ALKALI,ALKALI_FLAG_W,PH_TOT,PH_TOT_FLAG_W,PH_TMP,DELC14,DELC14_FLAG_W,C14ERR,DELC13,DELC13_FLAG_W,CS-137,CS137ER,CS-137_FLAG_W,SBE35,SBE35_FLAG_W
,,,,,,,,,,,METERS,DBAR,ITS-90,PSS-78,,PSS-78,,UMOL/KG,,UMOL/KG,,UMOL/KG,,UMOL/KG,,UMOL/KG,,UMOL/KG,,PMOL/KG,,PMOL/KG,,PMOL/KG,,UMOL/KG,,UMOL/KG,,,,DEG C,/MILLE,,/MILLE,/MILLE,,DM/.1MG,DM/.1MG,,ITS-90,
  49NZ20031209,  I3I4,   544,  1,     36,  12024,2,20031224,0023,-20.0010,  56.6337, 4367,      9.6,  27.2043,  34.9499,2,  34.9484,2,    194.3,1,    203.4,2,     1.64,2,    -0.02,2,     0.00,2,     0.14,2, -999.000,9, -999.000,9, -999.000,9,   -999.0,9,   -999.0,9,-999.0000,9,  -999.00,   -999.0,9,   -999.0,  -999.00,9,  -999.00,  -999.00,9,  27.2047,2
  49NZ20031209,  I3I4,   544,  1,     35,  12023,2,20031224,0023,-20.0010,  56.6337, 4367,     50.6,  26.5389,  34.9213,2,  35.0137,4,    198.9,1,    208.2,2,     2.15,2,     0.13,2,     0.03,2,     0.13,2, -999.000,9, -999.000,9, -999.000,9,   -999.0,9,   -999.0,9,-999.0000,9,  -999.00,   -999.0,9,   -999.0,  -999.00,9,  -999.00,  -999.00,9,  26.5475,2
  49NZ20031209,  I3I4,   544,  1,     34,  12022,2,20031224,0023,-20.0010,  56.6337, 4367,    100.7,  24.7228,  35.0132,2,  35.0148,2,    203.6,1,    214.5,2,     2.16,2,     0.11,2,     0.03,2,     0.13,2, -999.000,9, -999.000,9, -999.000,9,   -999.0,9,   -999.0,9,-999.0000,9,  -999.00,   -999.0,9,   -999.0,  -999.00,9,  -999.00,  -999.00,5,  24.7326,2
  49NZ20031209,  I3I4,   544,  1,     33,  12015,2,20031224,0023,-20.0010,  56.6337, 4367,    149.5,  22.5485,  35.1717,2,  35.1735,2,    203.8,1,    213.1,2,     2.18,2,    -0.03,2,     0.01,2,     0.15,2, -999.000,9, -999.000,9, -999.000,9,   -999.0,9,   -999.0,9,-999.0000,9,  -999.00,   -999.0,9,   -999.0,  -999.00,9,  -999.00,  -999.00,9,  22.5473,2
  49NZ20031209,  I3I4,   544,  1,     32,  12020,2,20031224,0023,-20.0010,  56.6337, 4367,    202.4,  21.3579,  35.3574,2,  35.3576,2,    183.7,1,    192.1,2,     3.17,2,     2.40,2,     0.04,2,     0.30,2, -999.000,9, -999.000,9, -999.000,9,   -999.0,9,   -999.0,9,-999.0000,9,  -999.00,   -999.0,9,   -999.0,  -999.00,9,  -999.00,  -999.00,1,  21.3570,2
  49NZ20031209,  I3I4,   544,  1,     31,  12019,2,20031224,0023,-20.0010,  56.6337, 4367,    250.6,  19.1330,  35.5314,2,  35.5310,2,    162.9,1,    169.8,2,     6.40,2,     6.37,2,     0.01,2,     0.55,2, -999.000,9, -999.000,9, -999.000,9,   -999.0,9,   -999.0,9,-999.0000,9,  -999.00,   -999.0,9,   -999.0,  -999.00,9,  -999.00,  -999.00,9,  19.1333,2
  49NZ20031209,  I3I4,   544,  1,     30,  12018,2,20031224,0023,-20.0010,  56.6337, 4367,    302.1,  17.4778,  35.6443,2,  35.6393,2,    180.1,1,    187.1,2,     5.01,2,     5.41,2,     0.01,2,     0.51,2, -999.000,9, -999.000,9, -999.000,9,   -999.0,9,   -999.0,9,-999.0000,9,  -999.00,   -999.0,9,   -999.0,  -999.00,9,  -999.00,  -999.00,9,  17.4789,2
  49NZ20031209,  I3I4,   544,  1,     29,  12021,2,20031224,0023,-20.0010,  56.6337, 4367,    401.3,  13.9235,  35.3114,2,  35.3103,2,    182.3,1,    189.2,2,     8.22,2,    10.48,2,     0.00,2,     0.83,2, -999.000,9, -999.000,9, -999.000,9,   -999.0,9,   -999.0,9,-999.0000,9,  -999.00,   -999.0,9,   -999.0,  -999.00,9,  -999.00,  -999.00,5,  13.9235,2
  49NZ20031209,  I3I4,   544,  1,     28,  12016,2,20031224,0023,-20.0010,  56.6337, 4367,    501.5,  11.9571,  35.0789,2,  35.0819,2,    191.6,1,    198.9,2,     8.88,2,    13.33,2,     0.00,2,     1.01,2, -999.000,9, -999.000,9, -999.000,9,   -999.0,9,   -999.0,9,-999.0000,9,  -999.00,   -999.0,9,   -999.0,  -999.00,9,  -999.00,  -999.00,9,  11.9603,2
  49NZ20031209,  I3I4,   544,  1,     27,  12012,2,20031224,0023,-20.0010,  56.6337, 4367,    600.4,   9.8489,  34.8047,2,  34.8067,2,    200.0,1,    208.1,2,    10.02,2,    17.31,2,    -0.01,2,     1.25,2, -999.000,9, -999.000,9, -999.000,9,   -999.0,9,   -999.0,9,-999.0000,9,  -999.00,   -999.0,9,   -999.0,  -999.00,9,  -999.00,  -999.00,1,   9.8478,2
  49NZ20031209,  I3I4,   544,  1,     26,  12014,2,20031224,0023,-20.0010,  56.6337, 4367,    701.4,   8.1722,  34.6440,2,  34.6450,2,    176.3,1,    184.0,2,    20.70,2,    23.60,2,     0.00,2,     1.67,2, -999.000,9, -999.000,9, -999.000,9,   -999.0,9,   -999.0,9,-999.0000,9,  -999.00,   -999.0,9,   -999.0,  -999.00,9,  -999.00,  -999.00,9,   8.1737,2
  49NZ20031209,  I3I4,   544,  1,     25,  12013,2,20031224,0023,-20.0010,  56.6337, 4367,    801.3,   6.7210,  34.5811,2,  34.5803,2,    151.3,1,    157.5,2,    37.35,2,    29.07,2,     0.00,2,     2.06,2, -999.000,9, -999.000,9, -999.000,9,   -999.0,9,   -999.0,9,-999.0000,9,  -999.00,   -999.0,9,   -999.0,  -999.00,9,  -999.00,  -999.00,5,   6.7212,2
  49NZ20031209,  I3I4,   544,  1,     24,  12048,2,20031224,0023,-20.0010,  56.6337, 4367,    900.9,   5.9372,  34.6132,2,  34.6134,2,    126.5,1,    131.2,2,    56.08,2,    32.48,2,     0.00,2,     2.33,2, -999.000,9, -999.000,9, -999.000,9,   -999.0,9,   -999.0,9,-999.0000,9,  -999.00,   -999.0,9,   -999.0,  -999.00,9,  -999.00,  -999.00,9,   5.9380,2
  49NZ20031209,  I3I4,   544,  1,     23,  12047,2,20031224,0023,-20.0010,  56.6337, 4367,   1002.9,   5.2499,  34.6403,2,  34.6406,2,    117.8,1,    121.9,2,    69.31,2,    34.08,2,     0.00,2,     2.46,2, -999.000,9, -999.000,9, -999.000,9,   -999.0,9,   -999.0,9,-999.0000,9,  -999.00,   -999.0,9,   -999.0,  -999.00,9,  -999.00,  -999.00,1,   5.2526,2
  49NZ20031209,  I3I4,   544,  1,     22,  12046,2,20031224,0023,-20.0010,  56.6337, 4367,   1201.2,   4.2796,  34.6558,2,  34.6564,2,    124.3,1,    128.6,2,    80.36,2,    34.59,2,     0.00,2,     2.49,2, -999.000,9, -999.000,9, -999.000,9,   -999.0,9,   -999.0,9,-999.0000,9,  -999.00,   -999.0,9,   -999.0,  -999.00,9,  -999.00,  -999.00,5,   4.2799,2
  49NZ20031209,  I3I4,   544,  1,     21,  12045,2,20031224,0023,-20.0010,  56.6337, 4367,   1404.4,   3.5419,  34.6714,2,  34.6707,2,    135.3,1,    140.4,2,    87.38,2,    34.32,2,    -0.01,2,     2.46,2, -999.000,9, -999.000,9, -999.000,9,   -999.0,9,   -999.0,9,-999.0000,9,  -999.00,   -999.0,9,   -999.0,  -999.00,9,  -999.00,  -999.00,1,   3.5438,2
  49NZ20031209,  I3I4,   544,  1,     20,  12044,2,20031224,0023,-20.0010,  56.6337, 4367,   1601.2,   2.8902,  34.6756,2,  34.6755,2,    151.5,1,    157.9,2,    89.53,2,    33.50,2,    -0.01,2,     2.38,2, -999.000,9, -999.000,9, -999.000,9,   -999.0,9,   -999.0,9,-999.0000,9,  -999.00,   -999.0,9,   -999.0,  -999.00,9,  -999.00,  -999.00,9,   2.8903,2
  49NZ20031209,  I3I4,   544,  1,     19,  12043,2,20031224,0023,-20.0010,  56.6337, 4367,   1799.9,   2.5447,  34.7055,2,  34.7060,2,    155.2,1,    162.2,2,    97.98,2,    33.31,2,     0.00,2,     2.36,2, -999.000,9, -999.000,9, -999.000,9,   -999.0,9,   -999.0,9,-999.0000,9,  -999.00,   -999.0,9,   -999.0,  -999.00,9,  -999.00,  -999.00,9,   2.5444,2
  49NZ20031209,  I3I4,   544,  1,     18,  12042,2,20031224,0023,-20.0010,  56.6337, 4367,   2000.6,   2.3225,  34.7216,2,  34.7219,2,    155.9,1,    162.8,2,   105.77,2,    33.41,2,     0.00,2,     2.37,2, -999.000,9, -999.000,9, -999.000,9,   -999.0,9,   -999.0,9,-999.0000,9,  -999.00,   -999.0,9,   -999.0,  -999.00,9,    -0.01,     0.01,2,   2.3223,2
  49NZ20031209,  I3I4,   544,  1,     17,  12041,2,20031224,0023,-20.0010,  56.6337, 4367,   2199.5,   2.1377,  34.7287,2,  34.7288,2,    156.4,1,    163.4,2,   112.53,2,    33.61,2,     0.00,2,     2.38,2, -999.000,9, -999.000,9, -999.000,9,   -999.0,9,   -999.0,9,-999.0000,9,  -999.00,   -999.0,9,   -999.0,  -999.00,9,  -999.00,  -999.00,9,   2.1376,2
  49NZ20031209,  I3I4,   544,  1,     16,  12040,2,20031224,0023,-20.0010,  56.6337, 4367,   2401.5,   2.0096,  34.7328,2,  34.7329,2,    156.9,1,    163.9,2,   117.14,2,    33.71,2,    -0.01,2,     2.40,2, -999.000,9, -999.000,9, -999.000,9,   -999.0,9,   -999.0,9,-999.0000,9,  -999.00,   -999.0,9,   -999.0,  -999.00,9,  -999.00,  -999.00,1,   2.0095,2
  49NZ20031209,  I3I4,   544,  1,     15,  12039,2,20031224,0023,-20.0010,  56.6337, 4367,   2601.6,   1.9122,  34.7338,2,  34.7335,2,    157.7,1,    164.6,2,   120.67,2,    33.87,2,     0.00,2,     2.40,2, -999.000,9, -999.000,9, -999.000,9,   -999.0,9,   -999.0,9,-999.0000,9,  -999.00,   -999.0,9,   -999.0,  -999.00,9,  -999.00,  -999.00,9,   1.9120,2
  49NZ20031209,  I3I4,   544,  1,     14,  12038,2,20031224,0023,-20.0010,  56.6337, 4367,   2801.7,   1.8507,  34.7345,2,  34.7347,2,    158.1,1,    165.1,2,   122.91,2,    33.91,2,    -0.01,2,     2.41,2, -999.000,9, -999.000,9, -999.000,9,   -999.0,9,   -999.0,9,-999.0000,9,  -999.00,   -999.0,9,   -999.0,  -999.00,9,  -999.00,  -999.00,9,   1.8505,2
  49NZ20031209,  I3I4,   544,  1,     13,  12037,2,20031224,0023,-20.0010,  56.6337, 4367,   3000.2,   1.7700,  34.7344,2,  34.7345,2,    159.6,1,    166.0,2,   125.63,2,    33.96,2,     0.00,2,     2.41,2, -999.000,9, -999.000,9, -999.000,9,   -999.0,9,   -999.0,9,-999.0000,9,  -999.00,   -999.0,9,   -999.0,  -999.00,9,  -999.00,  -999.00,1,   1.7699,2
  49NZ20031209,  I3I4,   544,  1,     12,  12036,2,20031224,0023,-20.0010,  56.6337, 4367,   3252.3,   1.7066,  34.7329,2,  34.7331,2,    161.8,1,    168.2,2,   127.35,2,    33.91,2,    -0.01,2,     2.40,2, -999.000,9, -999.000,9, -999.000,9,   -999.0,9,   -999.0,9,-999.0000,9,  -999.00,   -999.0,9,   -999.0,  -999.00,9,  -999.00,  -999.00,9,   1.7064,2
  49NZ20031209,  I3I4,   544,  1,     11,  12035,2,20031224,0023,-20.0010,  56.6337, 4367,   3499.8,   1.6196,  34.7304,2,  34.7304,2,    166.1,1,    172.4,2,   127.53,2,    33.80,2,    -0.01,2,     2.39,2, -999.000,9, -999.000,9, -999.000,9,   -999.0,9,   -999.0,9,-999.0000,9,  -999.00,   -999.0,9,   -999.0,  -999.00,9,  -999.00,  -999.00,1,   1.6196,2
  49NZ20031209,  I3I4,   544,  1,     10,  12034,2,20031224,0023,-20.0010,  56.6337, 4367,   3749.9,   1.5107,  34.7263,2,  34.7265,2,    172.1,1,    178.2,2,   127.45,2,    33.51,2,     0.00,2,     2.37,2, -999.000,9, -999.000,9, -999.000,9,   -999.0,9,   -999.0,9,-999.0000,9,  -999.00,   -999.0,9,   -999.0,  -999.00,9,  -999.00,  -999.00,9,   1.5107,2
  49NZ20031209,  I3I4,   544,  1,      9,  12033,2,20031224,0023,-20.0010,  56.6337, 4367,   3999.2,   1.4117,  34.7226,2,  34.7226,2,    178.1,1,    183.7,2,   126.93,2,    33.26,2,     0.00,2,     2.34,2, -999.000,9, -999.000,9, -999.000,9,   -999.0,9,   -999.0,9,-999.0000,9,  -999.00,   -999.0,9,   -999.0,  -999.00,9,     0.00,     0.01,2,   1.4112,2
  49NZ20031209,  I3I4,   544,  1,      8,  12032,2,20031224,0023,-20.0010,  56.6337, 4367,   4250.8,   1.2691,  34.7171,2,  34.7171,2,    186.7,1,    192.0,2,   125.40,2,    32.92,2,     0.00,2,     2.31,2, -999.000,9, -999.000,9, -999.000,9,   -999.0,9,   -999.0,9,-999.0000,9,  -999.00,   -999.0,9,   -999.0,  -999.00,9,  -999.00,  -999.00,9,   1.2691,2
  49NZ20031209,  I3I4,   544,  1,      7,  12031,2,20031224,0023,-20.0010,  56.6337, 4367,   4420.2,   1.1648,  34.7130,2,  34.7130,2,    193.0,1,    197.7,2,   124.58,2,    32.63,2,     0.00,2,     2.30,2, -999.000,9, -999.000,9, -999.000,9,   -999.0,9,   -999.0,9,-999.0000,9,  -999.00,   -999.0,9,   -999.0,  -999.00,9,     0.02,     0.01,2,   1.1649,2
  49NZ20031209,  I3I4,   544,  1,      6,  12030,2,20031224,0023,-20.0010,  56.6337, 4367,   4000.5,   1.4106,  34.7226,2,-999.0000,9,    178.2,1,   -999.0,9,  -999.00,9,  -999.00,9,  -999.00,9,  -999.00,9, -999.000,9, -999.000,9, -999.000,9,   -999.0,9,   -999.0,9,-999.0000,9,  -999.00,   -999.0,9,   -999.0,  -999.00,9,  -999.00,  -999.00,9,   1.4103,2
  49NZ20031209,  I3I4,   544,  1,      5,  12029,2,20031224,0023,-20.0010,  56.6337, 4367,   1999.9,   2.3224,  34.7218,2,-999.0000,9,    155.9,1,   -999.0,9,  -999.00,9,  -999.00,9,  -999.00,9,  -999.00,9, -999.000,9, -999.000,9, -999.000,9,   -999.0,9,   -999.0,9,-999.0000,9,  -999.00,   -999.0,9,   -999.0,  -999.00,9,  -999.00,  -999.00,9,   2.3223,2
  49NZ20031209,  I3I4,   544,  1,      4,  12028,2,20031224,0023,-20.0010,  56.6337, 4367,    203.3,  21.3566,  35.3572,2,-999.0000,9,    183.8,1,   -999.0,9,  -999.00,9,  -999.00,9,  -999.00,9,  -999.00,9, -999.000,9, -999.000,9, -999.000,9,   -999.0,9,   -999.0,9,-999.0000,9,  -999.00,   -999.0,9,   -999.0,  -999.00,9,  -999.00,  -999.00,9,  21.3548,2
  49NZ20031209,  I3I4,   544,  1,      3,  12027,2,20031224,0023,-20.0010,  56.6337, 4367,   1002.0,   5.2455,  34.6402,2,-999.0000,9,    117.9,1,   -999.0,9,  -999.00,9,  -999.00,9,  -999.00,9,  -999.00,9, -999.000,9, -999.000,9, -999.000,9,   -999.0,9,   -999.0,9,-999.0000,9,  -999.00,   -999.0,9,   -999.0,  -999.00,9,  -999.00,  -999.00,9,   5.2465,2
  49NZ20031209,  I3I4,   544,  1,      2,  12026,2,20031224,0023,-20.0010,  56.6337, 4367,    601.7,   9.8007,  34.7994,2,-999.0000,9,    200.2,1,   -999.0,9,  -999.00,9,  -999.00,9,  -999.00,9,  -999.00,9, -999.000,9, -999.000,9, -999.000,9,   -999.0,9,   -999.0,9,-999.0000,9,  -999.00,   -999.0,9,   -999.0,  -999.00,9,  -999.00,  -999.00,9,   9.7902,2
  49NZ20031209,  I3I4,   544,  1,      1,  12025,2,20031224,0023,-20.0010,  56.6337, 4367,   4420.1,   1.1647,  34.7129,2,-999.0000,9,    193.1,1,   -999.0,9,  -999.00,9,  -999.00,9,  -999.00,9,  -999.00,9, -999.000,9, -999.000,9, -999.000,9,   -999.0,9,   -999.0,9,-999.0000,9,  -999.00,   -999.0,9,   -999.0,  -999.00,9,  -999.00,  -999.00,9,   1.1644,2