BOTTLE,20141204PRINUNIVRMK
EXPOCODE,SECT_ID,STNNBR,CASTNO,SAMPNO,BTLNBR,BTLNBR_FLAG_W,DATE,TIME,LATITUDE,LONGITUDE,DEPTH,CTDPRS,CTDTMP,CTDSAL,CTDSAL_FLAG_W,SALNTY,SALNTY_FLAG_W,CTDOXY,CTDOXY_FLAG_W,OXYGEN,OXYGEN_FLAG_W,SILCAT,SILCAT_FLAG_W,NITRAT,NITRAT_FLAG_W,NITRIT,NITRIT_FLAG_W,PHSPHT,PHSPHT_FLAG_W,CFC-11,CFC-11_FLAG_W,CFC-12,CFC-12_FLAG_W,CFC113,CFC113_FLAG_W,TCARBN,TCARBN_FLAG_W,ALKALI,ALKALI_FLAG_W,PH_TOT,PH_TOT_FLAG_W,PH_TMP,DELC14,DELC14_FLAG_W,C14ERR,DELC13,DELC13_FLAG_W,CS-137,CS137ER,CS-137_FLAG_W,SBE35,SBE35_FLAG_W
,,,,,,,,,,,METERS,DBAR,ITS-90,PSS-78,,PSS-78,,UMOL/KG,,UMOL/KG,,UMOL/KG,,UMOL/KG,,UMOL/KG,,UMOL/KG,,PMOL/KG,,PMOL/KG,,PMOL/KG,,UMOL/KG,,UMOL/KG,,,,DEG C,/MILLE,,/MILLE,/MILLE,,DM/.1MG,DM/.1MG,,ITS-90,
  49NZ20031209,  I3I4,   588,  1,     36,  12024,2,20031216,2153,-24.6588,  43.3370, 3855,      9.9,  28.1077,  35.2848,2,  35.2873,2,    190.4,1,    199.7,2,     1.62,4,    -0.02,2,     0.01,2,     0.13,2, -999.000,9, -999.000,9, -999.000,9,   -999.0,9,   -999.0,9,-999.0000,9,  -999.00,   -999.0,9,   -999.0,  -999.00,9,  -999.00,  -999.00,9,  28.1071,2
  49NZ20031209,  I3I4,   588,  1,     35,  12023,2,20031216,2153,-24.6588,  43.3370, 3855,     50.3,  25.4240,  35.2145,2,  35.2251,2,    202.1,1,    212.9,2,     1.86,4,    -0.04,2,     0.02,2,     0.15,2, -999.000,9, -999.000,9, -999.000,9,   -999.0,9,   -999.0,9,-999.0000,9,  -999.00,   -999.0,9,   -999.0,  -999.00,9,  -999.00,  -999.00,9,  25.4481,2
  49NZ20031209,  I3I4,   588,  1,     34,  12022,2,20031216,2153,-24.6588,  43.3370, 3855,    100.2,  22.0428,  35.2961,2,  35.2983,2,    178.9,1,    187.1,2,     3.41,4,     3.06,2,     0.11,2,     0.37,2, -999.000,9, -999.000,9, -999.000,9,   -999.0,9,   -999.0,9,-999.0000,9,  -999.00,   -999.0,9,   -999.0,  -999.00,9,  -999.00,  -999.00,1,  22.0399,2
  49NZ20031209,  I3I4,   588,  1,     33,  12015,2,20031216,2153,-24.6588,  43.3370, 3855,    150.0,  19.5457,  35.5146,2,  35.5096,2,    169.0,1,    176.5,2,     4.98,4,     5.20,2,     0.08,2,     0.48,2, -999.000,9, -999.000,9, -999.000,9,   -999.0,9,   -999.0,9,-999.0000,9,  -999.00,   -999.0,9,   -999.0,  -999.00,9,  -999.00,  -999.00,9,  19.5509,2
  49NZ20031209,  I3I4,   588,  1,     32,  12020,2,20031216,2153,-24.6588,  43.3370, 3855,    199.2,  17.4196,  35.6252,2,  35.6252,2,    187.6,1,    195.8,2,     4.69,4,     4.86,2,     0.02,2,     0.47,2, -999.000,9, -999.000,9, -999.000,9,   -999.0,9,   -999.0,9,-999.0000,9,  -999.00,   -999.0,9,   -999.0,  -999.00,9,  -999.00,  -999.00,1,  17.4294,2
  49NZ20031209,  I3I4,   588,  1,     31,  12019,2,20031216,2153,-24.6588,  43.3370, 3855,    250.4,  15.9190,  35.5563,2,  35.5586,2,    192.2,1,    200.2,2,     4.43,4,     6.17,2,     0.02,2,     0.55,2, -999.000,9, -999.000,9, -999.000,9,   -999.0,9,   -999.0,9,-999.0000,9,  -999.00,   -999.0,9,   -999.0,  -999.00,9,  -999.00,  -999.00,9,  15.9213,2
  49NZ20031209,  I3I4,   588,  1,     30,  12018,2,20031216,2153,-24.6588,  43.3370, 3855,    300.7,  14.3865,  35.4174,2,  35.4247,2,    200.9,1,    208.9,2,     4.13,4,     7.42,2,     0.02,2,     0.64,2, -999.000,9, -999.000,9, -999.000,9,   -999.0,9,   -999.0,9,-999.0000,9,  -999.00,   -999.0,9,   -999.0,  -999.00,9,  -999.00,  -999.00,9,  14.3889,2
  49NZ20031209,  I3I4,   588,  1,     29,  12017,2,20031216,2153,-24.6588,  43.3370, 3855,    401.5,  12.8429,  35.2233,2,  35.2202,2,    212.1,1,    221.0,2,     4.02,4,     9.67,2,     0.02,2,     0.77,2, -999.000,9, -999.000,9, -999.000,9,   -999.0,9,   -999.0,9,-999.0000,9,  -999.00,   -999.0,9,   -999.0,  -999.00,9,  -999.00,  -999.00,1,  12.8416,2
  49NZ20031209,  I3I4,   588,  1,     28,  12016,2,20031216,2153,-24.6588,  43.3370, 3855,    500.7,  11.7201,  35.0539,2,  35.0535,2,    212.2,1,    221.2,2,     4.78,4,    12.09,2,     0.01,2,     0.91,2, -999.000,9, -999.000,9, -999.000,9,   -999.0,9,   -999.0,9,-999.0000,9,  -999.00,   -999.0,9,   -999.0,  -999.00,9,  -999.00,  -999.00,9,  11.7174,2
  49NZ20031209,  I3I4,   588,  1,     27,  12012,2,20031216,2153,-24.6588,  43.3370, 3855,    600.1,  10.2008,  34.8375,2,  34.8339,2,    209.6,1,    218.7,2,     6.76,4,    15.84,2,     0.01,2,     1.14,2, -999.000,9, -999.000,9, -999.000,9,   -999.0,9,   -999.0,9,-999.0000,9,  -999.00,   -999.0,9,   -999.0,  -999.00,9,  -999.00,  -999.00,1,  10.2159,2
  49NZ20031209,  I3I4,   588,  1,     26,  12014,2,20031216,2153,-24.6588,  43.3370, 3855,    700.3,   8.4918,  34.6477,2,  34.6465,2,    195.9,1,    204.1,2,    13.48,4,    21.28,2,     0.01,2,     1.49,2, -999.000,9, -999.000,9, -999.000,9,   -999.0,9,   -999.0,9,-999.0000,9,  -999.00,   -999.0,9,   -999.0,  -999.00,9,  -999.00,  -999.00,9,   8.4918,2
  49NZ20031209,  I3I4,   588,  1,     25,  12013,2,20031216,2153,-24.6588,  43.3370, 3855,    800.1,   6.9382,  34.5504,2,  34.5559,2,    178.0,1,    183.8,2,    26.32,4,    26.64,2,     0.01,2,     1.86,2, -999.000,9, -999.000,9, -999.000,9,   -999.0,9,   -999.0,9,-999.0000,9,  -999.00,   -999.0,9,   -999.0,  -999.00,9,  -999.00,  -999.00,1,   6.9384,2
  49NZ20031209,  I3I4,   588,  1,     24,  12048,2,20031216,2153,-24.6588,  43.3370, 3855,    900.2,   5.8923,  34.5253,2,  34.5279,2,    165.3,1,    171.3,2,    37.86,4,    29.77,2,     0.01,2,     2.10,2, -999.000,9, -999.000,9, -999.000,9,   -999.0,9,   -999.0,9,-999.0000,9,  -999.00,   -999.0,9,   -999.0,  -999.00,9,  -999.00,  -999.00,9,   5.8837,2
  49NZ20031209,  I3I4,   588,  1,     23,  12047,2,20031216,2153,-24.6588,  43.3370, 3855,   1001.6,   5.6465,  34.6319,2,  34.6470,4,    133.0,1,    135.3,2,    55.53,4,    32.61,2,     0.02,2,     2.33,2, -999.000,9, -999.000,9, -999.000,9,   -999.0,9,   -999.0,9,-999.0000,9,  -999.00,   -999.0,9,   -999.0,  -999.00,9,  -999.00,  -999.00,1,   5.6482,2
  49NZ20031209,  I3I4,   588,  1,     22,  12046,2,20031216,2153,-24.6588,  43.3370, 3855,   1200.5,   5.0761,  34.7421,2,  34.7425,2,    110.4,1,    113.7,2,    75.78,4,    34.71,2,     0.01,2,     2.51,2, -999.000,9, -999.000,9, -999.000,9,   -999.0,9,   -999.0,9,-999.0000,9,  -999.00,   -999.0,9,   -999.0,  -999.00,9,  -999.00,  -999.00,1,   5.0759,2
  49NZ20031209,  I3I4,   588,  1,     21,  12045,2,20031216,2153,-24.6588,  43.3370, 3855,   1400.5,   4.4527,  34.7518,2,  34.7518,2,    114.7,1,    118.2,2,    84.35,4,    34.90,2,     0.01,2,     2.52,2, -999.000,9, -999.000,9, -999.000,9,   -999.0,9,   -999.0,9,-999.0000,9,  -999.00,   -999.0,9,   -999.0,  -999.00,9,  -999.00,  -999.00,1,   4.4530,2
  49NZ20031209,  I3I4,   588,  1,     20,  12044,2,20031216,2153,-24.6588,  43.3370, 3855,   1600.1,   3.6497,  34.7276,2,  34.7271,2,    134.2,1,    139.1,2,    86.21,4,    34.04,2,     0.00,2,     2.43,2, -999.000,9, -999.000,9, -999.000,9,   -999.0,9,   -999.0,9,-999.0000,9,  -999.00,   -999.0,9,   -999.0,  -999.00,9,  -999.00,  -999.00,9,   3.6498,2
  49NZ20031209,  I3I4,   588,  1,     19,  12043,2,20031216,2153,-24.6588,  43.3370, 3855,   1801.1,   3.0990,  34.7294,2,  34.7294,2,    150.6,1,    156.4,2,    86.27,4,    32.87,2,     0.01,2,     2.33,2, -999.000,9, -999.000,9, -999.000,9,   -999.0,9,   -999.0,9,-999.0000,9,  -999.00,   -999.0,9,   -999.0,  -999.00,9,  -999.00,  -999.00,9,   3.0993,2
  49NZ20031209,  I3I4,   588,  1,     18,  12042,2,20031216,2153,-24.6588,  43.3370, 3855,   2000.4,   2.7640,  34.7475,2,  34.7471,2,    163.0,1,    169.8,2,    85.42,4,    31.72,2,     0.01,2,     2.24,2, -999.000,9, -999.000,9, -999.000,9,   -999.0,9,   -999.0,9,-999.0000,9,  -999.00,   -999.0,9,   -999.0,  -999.00,9,  -999.00,  -999.00,1,   2.7641,2
  49NZ20031209,  I3I4,   588,  1,     17,  12041,2,20031216,2153,-24.6588,  43.3370, 3855,   2199.9,   2.5736,  34.7630,2,  34.7628,2,    171.0,1,    178.0,2,    85.22,4,    30.95,2,     0.00,2,     2.17,2, -999.000,9, -999.000,9, -999.000,9,   -999.0,9,   -999.0,9,-999.0000,9,  -999.00,   -999.0,9,   -999.0,  -999.00,9,  -999.00,  -999.00,9,   2.5737,2
  49NZ20031209,  I3I4,   588,  1,     16,  12040,3,20031216,2153,-24.6588,  43.3370, 3855,   2399.6,   2.4276,  34.7738,2,  34.7744,2,    178.5,1,    185.8,2,     0.00,4,    30.22,2,     0.01,2,     2.11,2, -999.000,9, -999.000,9, -999.000,9,   -999.0,9,   -999.0,9,-999.0000,9,  -999.00,   -999.0,9,   -999.0,  -999.00,9,  -999.00,  -999.00,1,   2.4276,2
  49NZ20031209,  I3I4,   588,  1,     15,  12039,2,20031216,2153,-24.6588,  43.3370, 3855,   2600.4,   2.3136,  34.7839,2,  34.7838,2,    187.9,1,    195.8,2,    80.11,4,    29.20,2,     0.01,2,     2.03,2, -999.000,9, -999.000,9, -999.000,9,   -999.0,9,   -999.0,9,-999.0000,9,  -999.00,   -999.0,9,   -999.0,  -999.00,9,  -999.00,  -999.00,9,   2.3136,2
  49NZ20031209,  I3I4,   588,  1,     14,  12038,2,20031216,2153,-24.6588,  43.3370, 3855,   2800.7,   2.2532,  34.7899,2,  34.7904,2,    193.9,1,    201.9,2,    77.73,4,    28.66,2,     0.01,2,     1.98,2, -999.000,9, -999.000,9, -999.000,9,   -999.0,9,   -999.0,9,-999.0000,9,  -999.00,   -999.0,9,   -999.0,  -999.00,9,  -999.00,  -999.00,9,   2.2533,2
  49NZ20031209,  I3I4,   588,  1,     13,  12037,2,20031216,2153,-24.6588,  43.3370, 3855,   3000.8,   2.1879,  34.7945,2,  34.7953,2,    199.6,1,    207.6,2,     0.00,4,    28.16,2,     0.01,2,     1.94,2, -999.000,9, -999.000,9, -999.000,9,   -999.0,9,   -999.0,9,-999.0000,9,  -999.00,   -999.0,9,   -999.0,  -999.00,9,     0.00,     0.01,2,   2.1877,2
  49NZ20031209,  I3I4,   588,  1,     12,  12036,2,20031216,2153,-24.6588,  43.3370, 3855,   3249.4,   1.9730,  34.7906,2,  34.7906,2,    204.4,1,    212.1,2,    79.56,4,    28.18,2,     0.01,2,     1.95,2, -999.000,9, -999.000,9, -999.000,9,   -999.0,9,   -999.0,9,-999.0000,9,  -999.00,   -999.0,9,   -999.0,  -999.00,9,  -999.00,  -999.00,9,   1.9729,2
  49NZ20031209,  I3I4,   588,  1,     11,  12035,2,20031216,2153,-24.6588,  43.3370, 3855,   3501.4,   1.8684,  34.7848,2,  34.7850,2,    205.9,1,    213.2,2,    82.64,4,    28.39,2,     0.01,2,     1.95,2, -999.000,9, -999.000,9, -999.000,9,   -999.0,9,   -999.0,9,-999.0000,9,  -999.00,   -999.0,9,   -999.0,  -999.00,9,  -999.00,  -999.00,1,   1.8685,2
  49NZ20031209,  I3I4,   588,  1,     10,  12034,2,20031216,2153,-24.6588,  43.3370, 3855,   3749.4,   1.6427,  34.7712,2,  34.7714,2,    208.2,1,    214.5,2,    89.57,4,    28.94,2,     0.00,2,     2.00,2, -999.000,9, -999.000,9, -999.000,9,   -999.0,9,   -999.0,9,-999.0000,9,  -999.00,   -999.0,9,   -999.0,  -999.00,9,  -999.00,  -999.00,9,   1.6432,2
  49NZ20031209,  I3I4,   588,  1,      9,  12033,2,20031216,2153,-24.6588,  43.3370, 3855,   3899.2,   1.3195,  34.7512,2,  34.7506,2,    210.8,1,    216.4,2,    98.78,4,    29.71,2,     0.01,2,     2.06,2, -999.000,9, -999.000,9, -999.000,9,   -999.0,9,   -999.0,9,-999.0000,9,  -999.00,   -999.0,9,   -999.0,  -999.00,9,     0.03,     0.01,2,   1.3190,2
  49NZ20031209,  I3I4,   588,  1,      8,  12032,9,20031216,2153,-24.6588,  43.3370, 3855,   3601.2,   1.7978,  34.7810,2,-999.0000,9,    207.0,1,   -999.0,9,  -999.00,9,  -999.00,9,  -999.00,9,  -999.00,9, -999.000,9, -999.000,9, -999.000,9,   -999.0,9,   -999.0,9,-999.0000,9,  -999.00,   -999.0,9,   -999.0,  -999.00,9,  -999.00,  -999.00,9,   1.7983,2
  49NZ20031209,  I3I4,   588,  1,      7,  12031,2,20031216,2153,-24.6588,  43.3370, 3855,    800.6,   6.9397,  34.5486,2,-999.0000,9,    178.6,1,   -999.0,9,  -999.00,9,  -999.00,9,  -999.00,9,  -999.00,9, -999.000,9, -999.000,9, -999.000,9,   -999.0,9,   -999.0,9,-999.0000,9,  -999.00,   -999.0,9,   -999.0,  -999.00,9,  -999.00,  -999.00,9,   6.9400,2
  49NZ20031209,  I3I4,   588,  1,      6,  12030,2,20031216,2153,-24.6588,  43.3370, 3855,   3001.1,   2.1919,  34.7950,2,-999.0000,9,    199.5,1,   -999.0,9,  -999.00,9,  -999.00,9,  -999.00,9,  -999.00,9, -999.000,9, -999.000,9, -999.000,9,   -999.0,9,   -999.0,9,-999.0000,9,  -999.00,   -999.0,9,   -999.0,  -999.00,9,  -999.00,  -999.00,9,   2.1917,2
  49NZ20031209,  I3I4,   588,  1,      5,  12029,2,20031216,2153,-24.6588,  43.3370, 3855,   2000.5,   2.7639,  34.7474,2,-999.0000,9,    163.1,1,   -999.0,9,  -999.00,9,  -999.00,9,  -999.00,9,  -999.00,9, -999.000,9, -999.000,9, -999.000,9,   -999.0,9,   -999.0,9,-999.0000,9,  -999.00,   -999.0,9,   -999.0,  -999.00,9,  -999.00,  -999.00,9,   2.7641,2
  49NZ20031209,  I3I4,   588,  1,      4,  12028,2,20031216,2153,-24.6588,  43.3370, 3855,    199.0,  17.4232,  35.6247,2,-999.0000,9,    187.2,1,   -999.0,9,  -999.00,9,  -999.00,9,  -999.00,9,  -999.00,9, -999.000,9, -999.000,9, -999.000,9,   -999.0,9,   -999.0,9,-999.0000,9,  -999.00,   -999.0,9,   -999.0,  -999.00,9,  -999.00,  -999.00,9,  17.4148,2
  49NZ20031209,  I3I4,   588,  1,      3,  12027,2,20031216,2153,-24.6588,  43.3370, 3855,   1001.2,   5.6480,  34.6320,2,-999.0000,9,    133.4,1,   -999.0,9,  -999.00,9,  -999.00,9,  -999.00,9,  -999.00,9, -999.000,9, -999.000,9, -999.000,9,   -999.0,9,   -999.0,9,-999.0000,9,  -999.00,   -999.0,9,   -999.0,  -999.00,9,  -999.00,  -999.00,9,   5.6468,2
  49NZ20031209,  I3I4,   588,  1,      2,  12026,2,20031216,2153,-24.6588,  43.3370, 3855,    600.4,  10.2082,  34.8392,2,-999.0000,9,    210.1,1,   -999.0,9,  -999.00,9,  -999.00,9,  -999.00,9,  -999.00,9, -999.000,9, -999.000,9, -999.000,9,   -999.0,9,   -999.0,9,-999.0000,9,  -999.00,   -999.0,9,   -999.0,  -999.00,9,  -999.00,  -999.00,9,  10.2065,2
  49NZ20031209,  I3I4,   588,  1,      1,  12025,2,20031216,2153,-24.6588,  43.3370, 3855,   3898.8,   1.3201,  34.7514,2,-999.0000,9,    210.8,1,   -999.0,9,  -999.00,9,  -999.00,9,  -999.00,9,  -999.00,9, -999.000,9, -999.000,9, -999.000,9,   -999.0,9,   -999.0,9,-999.0000,9,  -999.00,   -999.0,9,   -999.0,  -999.00,9,  -999.00,  -999.00,9,   1.3197,2