BOTTLE,20141204PRINUNIVRMK
EXPOCODE,SECT_ID,STNNBR,CASTNO,SAMPNO,BTLNBR,BTLNBR_FLAG_W,DATE,TIME,LATITUDE,LONGITUDE,DEPTH,CTDPRS,CTDTMP,CTDSAL,CTDSAL_FLAG_W,SALNTY,SALNTY_FLAG_W,CTDOXY,CTDOXY_FLAG_W,OXYGEN,OXYGEN_FLAG_W,SILCAT,SILCAT_FLAG_W,NITRAT,NITRAT_FLAG_W,NITRIT,NITRIT_FLAG_W,PHSPHT,PHSPHT_FLAG_W,CFC-11,CFC-11_FLAG_W,CFC-12,CFC-12_FLAG_W,CFC113,CFC113_FLAG_W,TCARBN,TCARBN_FLAG_W,ALKALI,ALKALI_FLAG_W,PH_TOT,PH_TOT_FLAG_W,PH_TMP,DELC14,DELC14_FLAG_W,C14ERR,DELC13,DELC13_FLAG_W,CS-137,CS137ER,CS-137_FLAG_W,SBE35,SBE35_FLAG_W
,,,,,,,,,,,METERS,DBAR,ITS-90,PSS-78,,PSS-78,,UMOL/KG,,UMOL/KG,,UMOL/KG,,UMOL/KG,,UMOL/KG,,UMOL/KG,,PMOL/KG,,PMOL/KG,,PMOL/KG,,UMOL/KG,,UMOL/KG,,,,DEG C,/MILLE,,/MILLE,/MILLE,,DM/.1MG,DM/.1MG,,ITS-90,
  49NZ20031209,  I3I4,   542,  1,     36,  12024,2,20031224,1018,-19.9937,  57.2803, 3489,      9.0,  27.2114,  34.9328,2,  34.9346,2,    194.8,1,    203.8,2,     1.83,2,     0.05,2,    -0.01,2,     0.12,2, -999.000,9, -999.000,9, -999.000,9,   -999.0,9,   -999.0,9,-999.0000,9,  -999.00,   -999.0,9,   -999.0,  -999.00,9,  -999.00,  -999.00,9,  27.2116,2
  49NZ20031209,  I3I4,   542,  1,     35,  12023,2,20031224,1018,-19.9937,  57.2803, 3489,     49.6,  25.7945,  35.1501,2,  35.1397,2,    204.6,1,    214.7,2,     1.89,2,     0.04,2,    -0.01,2,     0.09,2, -999.000,9, -999.000,9, -999.000,9,   -999.0,9,   -999.0,9,-999.0000,9,  -999.00,   -999.0,9,   -999.0,  -999.00,9,  -999.00,  -999.00,9,  25.7853,2
  49NZ20031209,  I3I4,   542,  1,     34,  12022,2,20031224,1018,-19.9937,  57.2803, 3489,    100.9,  23.0521,  35.1513,2,  35.1538,2,    210.0,1,    219.7,2,     2.02,2,     0.02,2,    -0.01,2,     0.13,2, -999.000,9, -999.000,9, -999.000,9,   -999.0,9,   -999.0,9,-999.0000,9,  -999.00,   -999.0,9,   -999.0,  -999.00,9,  -999.00,  -999.00,9,  23.0579,2
  49NZ20031209,  I3I4,   542,  1,     33,  12015,2,20031224,1018,-19.9937,  57.2803, 3489,    152.0,  21.6213,  35.3107,2,  35.3102,2,    198.2,1,    206.7,2,     2.33,2,     0.84,2,     0.16,2,     0.20,2, -999.000,9, -999.000,9, -999.000,9,   -999.0,9,   -999.0,9,-999.0000,9,  -999.00,   -999.0,9,   -999.0,  -999.00,9,  -999.00,  -999.00,9,  21.6235,2
  49NZ20031209,  I3I4,   542,  1,     32,  12020,2,20031224,1018,-19.9937,  57.2803, 3489,    202.4,  19.6860,  35.4292,2,  35.4281,2,    157.6,1,    164.2,2,     6.77,2,     6.82,2,     0.01,2,     0.57,2, -999.000,9, -999.000,9, -999.000,9,   -999.0,9,   -999.0,9,-999.0000,9,  -999.00,   -999.0,9,   -999.0,  -999.00,9,  -999.00,  -999.00,9,  19.6928,2
  49NZ20031209,  I3I4,   542,  1,     31,  12019,2,20031224,1018,-19.9937,  57.2803, 3489,    251.5,  17.0134,  35.4308,2,  35.4282,2,    165.9,1,    172.5,2,     7.89,2,     8.58,2,     0.00,2,     0.70,2, -999.000,9, -999.000,9, -999.000,9,   -999.0,9,   -999.0,9,-999.0000,9,  -999.00,   -999.0,9,   -999.0,  -999.00,9,  -999.00,  -999.00,9,  17.0111,2
  49NZ20031209,  I3I4,   542,  1,     30,  12018,2,20031224,1018,-19.9937,  57.2803, 3489,    300.0,  15.3003,  35.3848,2,  35.3831,2,    171.4,1,    178.3,2,     8.51,2,     9.86,2,    -0.01,2,     0.79,2, -999.000,9, -999.000,9, -999.000,9,   -999.0,9,   -999.0,9,-999.0000,9,  -999.00,   -999.0,9,   -999.0,  -999.00,9,  -999.00,  -999.00,9,  15.2969,2
  49NZ20031209,  I3I4,   542,  1,     29,  12021,2,20031224,1018,-19.9937,  57.2803, 3489,    403.0,  12.9977,  35.2060,2,  35.2054,2,    192.5,1,    199.7,2,     7.31,2,    11.27,2,    -0.01,2,     0.88,2, -999.000,9, -999.000,9, -999.000,9,   -999.0,9,   -999.0,9,-999.0000,9,  -999.00,   -999.0,9,   -999.0,  -999.00,9,  -999.00,  -999.00,9,  12.9979,2
  49NZ20031209,  I3I4,   542,  1,     28,  12016,2,20031224,1018,-19.9937,  57.2803, 3489,    500.2,  11.7258,  35.0564,2,  35.0551,2,    207.0,1,    215.2,2,     6.08,2,    12.45,2,    -0.01,2,     0.95,2, -999.000,9, -999.000,9, -999.000,9,   -999.0,9,   -999.0,9,-999.0000,9,  -999.00,   -999.0,9,   -999.0,  -999.00,9,  -999.00,  -999.00,9,  11.7274,2
  49NZ20031209,  I3I4,   542,  1,     27,  12012,2,20031224,1018,-19.9937,  57.2803, 3489,    600.8,  10.1177,  34.8248,2,  34.8227,2,    219.2,1,    228.0,2,     5.04,2,    14.98,2,    -0.01,2,     1.10,2, -999.000,9, -999.000,9, -999.000,9,   -999.0,9,   -999.0,9,-999.0000,9,  -999.00,   -999.0,9,   -999.0,  -999.00,9,  -999.00,  -999.00,9,  10.1187,2
  49NZ20031209,  I3I4,   542,  1,     26,  12014,2,20031224,1018,-19.9937,  57.2803, 3489,    703.0,   8.5532,  34.6554,2,  34.6585,2,    193.2,1,    201.0,2,    13.99,2,    21.23,2,    -0.01,2,     1.50,2, -999.000,9, -999.000,9, -999.000,9,   -999.0,9,   -999.0,9,-999.0000,9,  -999.00,   -999.0,9,   -999.0,  -999.00,9,  -999.00,  -999.00,9,   8.5548,2
  49NZ20031209,  I3I4,   542,  1,     25,  12013,2,20031224,1018,-19.9937,  57.2803, 3489,    800.9,   7.5526,  34.6321,2,  34.6317,2,    158.4,1,    164.1,2,    31.33,2,    26.77,2,    -0.01,2,     1.90,2, -999.000,9, -999.000,9, -999.000,9,   -999.0,9,   -999.0,9,-999.0000,9,  -999.00,   -999.0,9,   -999.0,  -999.00,9,  -999.00,  -999.00,9,   7.5532,2
  49NZ20031209,  I3I4,   542,  1,     24,  12048,2,20031224,1018,-19.9937,  57.2803, 3489,    904.3,   6.4333,  34.6188,2,  34.6189,2,    128.7,1,    132.8,2,    49.84,2,    31.52,2,    -0.01,2,     2.24,2, -999.000,9, -999.000,9, -999.000,9,   -999.0,9,   -999.0,9,-999.0000,9,  -999.00,   -999.0,9,   -999.0,  -999.00,9,  -999.00,  -999.00,9,   6.4339,2
  49NZ20031209,  I3I4,   542,  1,     23,  12047,2,20031224,1018,-19.9937,  57.2803, 3489,   1002.1,   5.7967,  34.6215,2,  34.6206,2,    123.5,1,    127.6,2,    59.52,2,    32.92,2,    -0.01,2,     2.35,2, -999.000,9, -999.000,9, -999.000,9,   -999.0,9,   -999.0,9,-999.0000,9,  -999.00,   -999.0,9,   -999.0,  -999.00,9,  -999.00,  -999.00,9,   5.7976,2
  49NZ20031209,  I3I4,   542,  1,     22,  12046,2,20031224,1018,-19.9937,  57.2803, 3489,   1203.9,   4.3713,  34.6077,2,  34.6116,3,    130.2,1,    133.3,2,    73.95,2,    34.47,2,    -0.01,2,     2.46,2, -999.000,9, -999.000,9, -999.000,9,   -999.0,9,   -999.0,9,-999.0000,9,  -999.00,   -999.0,9,   -999.0,  -999.00,9,  -999.00,  -999.00,9,   4.3730,2
  49NZ20031209,  I3I4,   542,  1,     21,  12045,2,20031224,1018,-19.9937,  57.2803, 3489,   1401.7,   3.5519,  34.6427,2,  34.6430,2,    139.7,1,    144.7,2,    82.32,2,    34.27,2,    -0.01,2,     2.44,2, -999.000,9, -999.000,9, -999.000,9,   -999.0,9,   -999.0,9,-999.0000,9,  -999.00,   -999.0,9,   -999.0,  -999.00,9,  -999.00,  -999.00,9,   3.5515,2
  49NZ20031209,  I3I4,   542,  1,     20,  12044,2,20031224,1018,-19.9937,  57.2803, 3489,   1600.9,   3.0310,  34.6703,2,  34.6701,2,    148.5,1,    154.2,2,    88.77,2,    33.84,2,    -0.01,2,     2.40,2, -999.000,9, -999.000,9, -999.000,9,   -999.0,9,   -999.0,9,-999.0000,9,  -999.00,   -999.0,9,   -999.0,  -999.00,9,  -999.00,  -999.00,9,   3.0314,2
  49NZ20031209,  I3I4,   542,  1,     19,  12043,2,20031224,1018,-19.9937,  57.2803, 3489,   1800.5,   2.6637,  34.6990,2,  34.6988,2,    153.2,1,    159.2,2,    96.68,2,    33.59,2,    -0.01,2,     2.38,2, -999.000,9, -999.000,9, -999.000,9,   -999.0,9,   -999.0,9,-999.0000,9,  -999.00,   -999.0,9,   -999.0,  -999.00,9,  -999.00,  -999.00,9,   2.6637,2
  49NZ20031209,  I3I4,   542,  1,     18,  12042,2,20031224,1018,-19.9937,  57.2803, 3489,   2001.5,   2.3807,  34.7167,2,  34.7171,2,    155.6,1,    161.7,2,   105.19,2,    33.62,2,    -0.01,2,     2.38,2, -999.000,9, -999.000,9, -999.000,9,   -999.0,9,   -999.0,9,-999.0000,9,  -999.00,   -999.0,9,   -999.0,  -999.00,9,  -999.00,  -999.00,9,   2.3815,2
  49NZ20031209,  I3I4,   542,  1,     17,  12041,2,20031224,1018,-19.9937,  57.2803, 3489,   2199.9,   2.1712,  34.7253,2,  34.7254,2,    157.4,1,    163.4,2,   111.24,2,    33.71,2,    -0.01,2,     2.38,2, -999.000,9, -999.000,9, -999.000,9,   -999.0,9,   -999.0,9,-999.0000,9,  -999.00,   -999.0,9,   -999.0,  -999.00,9,  -999.00,  -999.00,9,   2.1711,2
  49NZ20031209,  I3I4,   542,  1,     16,  12040,2,20031224,1018,-19.9937,  57.2803, 3489,   2401.8,   2.0421,  34.7288,2,  34.7286,2,    159.1,1,    165.1,2,   114.96,2,    33.60,2,    -0.01,2,     2.38,2, -999.000,9, -999.000,9, -999.000,9,   -999.0,9,   -999.0,9,-999.0000,9,  -999.00,   -999.0,9,   -999.0,  -999.00,9,  -999.00,  -999.00,9,   2.0421,2
  49NZ20031209,  I3I4,   542,  1,     15,  12039,2,20031224,1018,-19.9937,  57.2803, 3489,   2600.4,   1.9463,  34.7321,2,  34.7319,2,    159.5,1,    165.4,2,   118.81,2,    33.87,2,    -0.01,2,     2.39,2, -999.000,9, -999.000,9, -999.000,9,   -999.0,9,   -999.0,9,-999.0000,9,  -999.00,   -999.0,9,   -999.0,  -999.00,9,  -999.00,  -999.00,9,   1.9462,2
  49NZ20031209,  I3I4,   542,  1,     14,  12038,2,20031224,1018,-19.9937,  57.2803, 3489,   2799.4,   1.8623,  34.7332,2,  34.7331,2,    160.6,1,    166.1,2,   121.78,2,    33.90,2,    -0.01,2,     2.39,2, -999.000,9, -999.000,9, -999.000,9,   -999.0,9,   -999.0,9,-999.0000,9,  -999.00,   -999.0,9,   -999.0,  -999.00,9,  -999.00,  -999.00,9,   1.8621,2
  49NZ20031209,  I3I4,   542,  1,     13,  12037,2,20031224,1018,-19.9937,  57.2803, 3489,   2999.4,   1.7636,  34.7333,2,  34.7329,2,    162.4,1,    167.5,2,   124.77,2,    34.01,2,    -0.01,2,     2.40,2, -999.000,9, -999.000,9, -999.000,9,   -999.0,9,   -999.0,9,-999.0000,9,  -999.00,   -999.0,9,   -999.0,  -999.00,9,  -999.00,  -999.00,9,   1.7635,2
  49NZ20031209,  I3I4,   542,  1,     12,  12036,2,20031224,1018,-19.9937,  57.2803, 3489,   3250.9,   1.6899,  34.7318,2,  34.7316,2,    165.4,1,    169.9,2,   125.93,2,    33.83,2,    -0.01,2,     2.38,2, -999.000,9, -999.000,9, -999.000,9,   -999.0,9,   -999.0,9,-999.0000,9,  -999.00,   -999.0,9,   -999.0,  -999.00,9,  -999.00,  -999.00,9,   1.6900,2
  49NZ20031209,  I3I4,   542,  1,     11,  12035,2,20031224,1018,-19.9937,  57.2803, 3489,   3477.6,   1.5929,  34.7295,2,  34.7291,2,    170.0,1,    173.8,2,   127.10,2,    33.78,2,    -0.01,2,     2.38,2, -999.000,9, -999.000,9, -999.000,9,   -999.0,9,   -999.0,9,-999.0000,9,  -999.00,   -999.0,9,   -999.0,  -999.00,9,  -999.00,  -999.00,9,   1.5929,2
  49NZ20031209,  I3I4,   542,  1,     10,  12034,9,20031224,1018,-19.9937,  57.2803, 3489,   2499.9,   1.9919,  34.7304,2,-999.0000,9,    159.4,1,   -999.0,9,  -999.00,9,  -999.00,9,  -999.00,9,  -999.00,9, -999.000,9, -999.000,9, -999.000,9,   -999.0,9,   -999.0,9,-999.0000,9,  -999.00,   -999.0,9,   -999.0,  -999.00,9,  -999.00,  -999.00,9,   1.9920,2
  49NZ20031209,  I3I4,   542,  1,      9,  12033,9,20031224,1018,-19.9937,  57.2803, 3489,   2699.2,   1.9121,  34.7326,2,-999.0000,9,    160.0,1,   -999.0,9,  -999.00,9,  -999.00,9,  -999.00,9,  -999.00,9, -999.000,9, -999.000,9, -999.000,9,   -999.0,9,   -999.0,9,-999.0000,9,  -999.00,   -999.0,9,   -999.0,  -999.00,9,  -999.00,  -999.00,9,   1.9122,2
  49NZ20031209,  I3I4,   542,  1,      8,  12032,9,20031224,1018,-19.9937,  57.2803, 3489,   2898.8,   1.8029,  34.7333,2,-999.0000,9,    161.4,1,   -999.0,9,  -999.00,9,  -999.00,9,  -999.00,9,  -999.00,9, -999.000,9, -999.000,9, -999.000,9,   -999.0,9,   -999.0,9,-999.0000,9,  -999.00,   -999.0,9,   -999.0,  -999.00,9,  -999.00,  -999.00,9,   1.8028,2
  49NZ20031209,  I3I4,   542,  1,      7,  12031,9,20031224,1018,-19.9937,  57.2803, 3489,   3099.1,   1.7400,  34.7329,2,-999.0000,9,    163.1,1,   -999.0,9,  -999.00,9,  -999.00,9,  -999.00,9,  -999.00,9, -999.000,9, -999.000,9, -999.000,9,   -999.0,9,   -999.0,9,-999.0000,9,  -999.00,   -999.0,9,   -999.0,  -999.00,9,  -999.00,  -999.00,9,   1.7400,2
  49NZ20031209,  I3I4,   542,  1,      6,  12030,9,20031224,1018,-19.9937,  57.2803, 3489,   1003.6,   5.7825,  34.6231,2,-999.0000,9,    123.0,1,   -999.0,9,  -999.00,9,  -999.00,9,  -999.00,9,  -999.00,9, -999.000,9, -999.000,9, -999.000,9,   -999.0,9,   -999.0,9,-999.0000,9,  -999.00,   -999.0,9,   -999.0,  -999.00,9,  -999.00,  -999.00,9,   5.7839,2
  49NZ20031209,  I3I4,   542,  1,      5,  12029,9,20031224,1018,-19.9937,  57.2803, 3489,   1003.4,   5.7847,  34.6226,2,-999.0000,9,    123.1,1,   -999.0,9,  -999.00,9,  -999.00,9,  -999.00,9,  -999.00,9, -999.000,9, -999.000,9, -999.000,9,   -999.0,9,   -999.0,9,-999.0000,9,  -999.00,   -999.0,9,   -999.0,  -999.00,9,  -999.00,  -999.00,9,   5.7853,2
  49NZ20031209,  I3I4,   542,  1,      4,  12028,9,20031224,1018,-19.9937,  57.2803, 3489,   1002.6,   5.7887,  34.6222,2,-999.0000,9,    123.2,1,   -999.0,9,  -999.00,9,  -999.00,9,  -999.00,9,  -999.00,9, -999.000,9, -999.000,9, -999.000,9,   -999.0,9,   -999.0,9,-999.0000,9,  -999.00,   -999.0,9,   -999.0,  -999.00,9,  -999.00,  -999.00,9,   5.7889,2
  49NZ20031209,  I3I4,   542,  1,      3,  12027,9,20031224,1018,-19.9937,  57.2803, 3489,   1002.6,   5.7893,  34.6220,2,-999.0000,9,    123.3,1,   -999.0,9,  -999.00,9,  -999.00,9,  -999.00,9,  -999.00,9, -999.000,9, -999.000,9, -999.000,9,   -999.0,9,   -999.0,9,-999.0000,9,  -999.00,   -999.0,9,   -999.0,  -999.00,9,  -999.00,  -999.00,9,   5.7890,2
  49NZ20031209,  I3I4,   542,  1,      2,  12026,9,20031224,1018,-19.9937,  57.2803, 3489,   1002.5,   5.7944,  34.6215,2,-999.0000,9,    123.4,1,   -999.0,9,  -999.00,9,  -999.00,9,  -999.00,9,  -999.00,9, -999.000,9, -999.000,9, -999.000,9,   -999.0,9,   -999.0,9,-999.0000,9,  -999.00,   -999.0,9,   -999.0,  -999.00,9,  -999.00,  -999.00,9,   5.7943,2
  49NZ20031209,  I3I4,   542,  1,      1,  12025,9,20031224,1018,-19.9937,  57.2803, 3489,      9.0,  27.2098,  34.9326,2,-999.0000,9,    195.1,1,   -999.0,9,  -999.00,9,  -999.00,9,  -999.00,9,  -999.00,9, -999.000,9, -999.000,9, -999.000,9,   -999.0,9,   -999.0,9,-999.0000,9,  -999.00,   -999.0,9,   -999.0,  -999.00,9,  -999.00,  -999.00,9,  27.2086,2