BOTTLE,20141204PRINUNIVRMK
EXPOCODE,SECT_ID,STNNBR,CASTNO,SAMPNO,BTLNBR,BTLNBR_FLAG_W,DATE,TIME,LATITUDE,LONGITUDE,DEPTH,CTDPRS,CTDTMP,CTDSAL,CTDSAL_FLAG_W,SALNTY,SALNTY_FLAG_W,CTDOXY,CTDOXY_FLAG_W,OXYGEN,OXYGEN_FLAG_W,SILCAT,SILCAT_FLAG_W,NITRAT,NITRAT_FLAG_W,NITRIT,NITRIT_FLAG_W,PHSPHT,PHSPHT_FLAG_W,CFC-11,CFC-11_FLAG_W,CFC-12,CFC-12_FLAG_W,CFC113,CFC113_FLAG_W,TCARBN,TCARBN_FLAG_W,ALKALI,ALKALI_FLAG_W,PH_TOT,PH_TOT_FLAG_W,PH_TMP,DELC14,DELC14_FLAG_W,C14ERR,DELC13,DELC13_FLAG_W,CS-137,CS137ER,CS-137_FLAG_W,SBE35,SBE35_FLAG_W
,,,,,,,,,,,METERS,DBAR,ITS-90,PSS-78,,PSS-78,,UMOL/KG,,UMOL/KG,,UMOL/KG,,UMOL/KG,,UMOL/KG,,UMOL/KG,,PMOL/KG,,PMOL/KG,,PMOL/KG,,UMOL/KG,,UMOL/KG,,,,DEG C,/MILLE,,/MILLE,/MILLE,,DM/.1MG,DM/.1MG,,ITS-90,
  49NZ20031209,  I3I4,   484,  1,     36,  12024,2,20040109,1058,-19.9972,  88.5197, 3159,     10.2,  25.9681,  35.0033,2,  35.0022,2,    197.9,1,    206.8,2,     1.90,2,     0.02,2,     0.00,2,     0.11,2, -999.000,9, -999.000,9, -999.000,9,   -999.0,9,   -999.0,9,-999.0000,9,  -999.00,   -999.0,9,   -999.0,  -999.00,9,  -999.00,  -999.00,9,  25.9702,2
  49NZ20031209,  I3I4,   484,  1,     35,  12023,2,20040109,1058,-19.9972,  88.5197, 3159,     49.5,  23.1987,  35.3142,2,  35.3138,2,    215.7,1,    225.7,2,     2.05,2,     0.01,2,     0.00,2,     0.11,2, -999.000,9, -999.000,9, -999.000,9,   -999.0,9,   -999.0,9,-999.0000,9,  -999.00,   -999.0,9,   -999.0,  -999.00,9,  -999.00,  -999.00,9,  23.1886,2
  49NZ20031209,  I3I4,   484,  1,     34,  12022,2,20040109,1058,-19.9972,  88.5197, 3159,     99.3,  21.8930,  35.4090,2,  35.4101,2,    215.9,1,    225.2,2,     2.04,2,     0.00,2,    -0.01,2,     0.10,2, -999.000,9, -999.000,9, -999.000,9,   -999.0,9,   -999.0,9,-999.0000,9,  -999.00,   -999.0,9,   -999.0,  -999.00,9,  -999.00,  -999.00,9,  21.8949,2
  49NZ20031209,  I3I4,   484,  1,     33,  12015,2,20040109,1058,-19.9972,  88.5197, 3159,    151.5,  20.5797,  35.5868,2,  35.5953,2,    204.0,1,    212.3,2,     2.19,2,     0.20,2,     0.05,2,     0.17,2, -999.000,9, -999.000,9, -999.000,9,   -999.0,9,   -999.0,9,-999.0000,9,  -999.00,   -999.0,9,   -999.0,  -999.00,9,  -999.00,  -999.00,9,  20.5790,2
  49NZ20031209,  I3I4,   484,  1,     32,  12020,2,20040109,1058,-19.9972,  88.5197, 3159,    202.6,  19.3006,  35.8041,2,  35.8031,2,    205.4,1,    213.3,2,     2.19,2,     0.67,2,     0.11,2,     0.22,2, -999.000,9, -999.000,9, -999.000,9,   -999.0,9,   -999.0,9,-999.0000,9,  -999.00,   -999.0,9,   -999.0,  -999.00,9,  -999.00,  -999.00,9,  19.3034,2
  49NZ20031209,  I3I4,   484,  1,     31,  12019,2,20040109,1058,-19.9972,  88.5197, 3159,    254.4,  17.8587,  35.7981,2,  35.7987,2,    196.3,1,    203.8,2,     2.63,2,     2.58,2,     0.01,2,     0.33,2, -999.000,9, -999.000,9, -999.000,9,   -999.0,9,   -999.0,9,-999.0000,9,  -999.00,   -999.0,9,   -999.0,  -999.00,9,  -999.00,  -999.00,9,  17.8627,2
  49NZ20031209,  I3I4,   484,  1,     30,  12018,2,20040109,1058,-19.9972,  88.5197, 3159,    300.5,  15.9904,  35.6592,2,  35.6484,2,    202.2,1,    210.2,2,     2.62,2,     4.08,2,     0.01,2,     0.43,2, -999.000,9, -999.000,9, -999.000,9,   -999.0,9,   -999.0,9,-999.0000,9,  -999.00,   -999.0,9,   -999.0,  -999.00,9,  -999.00,  -999.00,9,  15.9794,2
  49NZ20031209,  I3I4,   484,  1,     29,  12017,2,20040109,1058,-19.9972,  88.5197, 3159,    400.4,  12.8846,  35.2514,2,  35.2505,2,    218.7,1,    227.0,2,     2.54,2,     8.08,2,     0.00,2,     0.68,2, -999.000,9, -999.000,9, -999.000,9,   -999.0,9,   -999.0,9,-999.0000,9,  -999.00,   -999.0,9,   -999.0,  -999.00,9,  -999.00,  -999.00,9,  12.8852,2
  49NZ20031209,  I3I4,   484,  1,     28,  12016,2,20040109,1058,-19.9972,  88.5197, 3159,    500.3,  10.9955,  34.9573,2,  34.9533,2,    224.8,1,    233.0,2,     3.41,2,    11.99,2,     0.00,2,     0.91,2, -999.000,9, -999.000,9, -999.000,9,   -999.0,9,   -999.0,9,-999.0000,9,  -999.00,   -999.0,9,   -999.0,  -999.00,9,  -999.00,  -999.00,9,  10.9976,2
  49NZ20031209,  I3I4,   484,  1,     27,  12012,2,20040109,1058,-19.9972,  88.5197, 3159,    599.2,   9.4805,  34.7268,2,  34.7263,2,    223.3,1,    231.2,2,     5.21,2,    16.40,2,     0.00,2,     1.18,2, -999.000,9, -999.000,9, -999.000,9,   -999.0,9,   -999.0,9,-999.0000,9,  -999.00,   -999.0,9,   -999.0,  -999.00,9,  -999.00,  -999.00,9,   9.4813,2
  49NZ20031209,  I3I4,   484,  1,     26,  12014,2,20040109,1058,-19.9972,  88.5197, 3159,    700.8,   8.1535,  34.5737,2,  34.5726,2,    205.7,1,    213.0,2,    10.85,2,    21.62,2,     0.00,2,     1.51,2, -999.000,9, -999.000,9, -999.000,9,   -999.0,9,   -999.0,9,-999.0000,9,  -999.00,   -999.0,9,   -999.0,  -999.00,9,  -999.00,  -999.00,9,   8.1540,2
  49NZ20031209,  I3I4,   484,  1,     25,  12013,2,20040109,1058,-19.9972,  88.5197, 3159,    799.2,   6.1360,  34.4528,2,  34.4526,2,    180.3,1,    186.3,2,    26.59,2,    28.56,2,     0.00,2,     1.96,2, -999.000,9, -999.000,9, -999.000,9,   -999.0,9,   -999.0,9,-999.0000,9,  -999.00,   -999.0,9,   -999.0,  -999.00,9,  -999.00,  -999.00,9,   6.1362,2
  49NZ20031209,  I3I4,   484,  1,     24,  12048,2,20040109,1058,-19.9972,  88.5197, 3159,    899.4,   5.0553,  34.4961,2,  34.4976,2,    144.3,1,    148.5,2,    53.49,2,    33.32,2,     0.00,2,     2.34,2, -999.000,9, -999.000,9, -999.000,9,   -999.0,9,   -999.0,9,-999.0000,9,  -999.00,   -999.0,9,   -999.0,  -999.00,9,  -999.00,  -999.00,9,   5.0552,2
  49NZ20031209,  I3I4,   484,  1,     23,  12047,2,20040109,1058,-19.9972,  88.5197, 3159,   1000.8,   4.7492,  34.5664,2,  34.5672,2,    121.6,1,    125.0,2,    70.43,2,    35.13,2,     0.00,2,     2.51,2, -999.000,9, -999.000,9, -999.000,9,   -999.0,9,   -999.0,9,-999.0000,9,  -999.00,   -999.0,9,   -999.0,  -999.00,9,  -999.00,  -999.00,9,   4.7494,2
  49NZ20031209,  I3I4,   484,  1,     22,  12046,2,20040109,1058,-19.9972,  88.5197, 3159,   1199.7,   4.1861,  34.6282,2,  34.6290,2,    115.9,1,    119.4,3,    84.78,2,    35.86,2,     0.00,2,     2.57,2, -999.000,9, -999.000,9, -999.000,9,   -999.0,9,   -999.0,9,-999.0000,9,  -999.00,   -999.0,9,   -999.0,  -999.00,9,  -999.00,  -999.00,9,   4.1867,2
  49NZ20031209,  I3I4,   484,  1,     21,  12045,2,20040109,1058,-19.9972,  88.5197, 3159,   1400.7,   3.6944,  34.6891,2,  34.6891,2,    119.0,1,    122.2,2,    95.19,2,    35.74,2,     0.00,2,     2.57,2, -999.000,9, -999.000,9, -999.000,9,   -999.0,9,   -999.0,9,-999.0000,9,  -999.00,   -999.0,9,   -999.0,  -999.00,9,  -999.00,  -999.00,9,   3.6946,2
  49NZ20031209,  I3I4,   484,  1,     20,  12044,2,20040109,1058,-19.9972,  88.5197, 3159,   1600.4,   3.1962,  34.7061,2,  34.7061,2,    127.6,1,    131.4,2,   101.71,2,    35.38,2,     0.00,2,     2.53,2, -999.000,9, -999.000,9, -999.000,9,   -999.0,9,   -999.0,9,-999.0000,9,  -999.00,   -999.0,9,   -999.0,  -999.00,9,  -999.00,  -999.00,9,   3.1964,2
  49NZ20031209,  I3I4,   484,  1,     19,  12043,2,20040109,1058,-19.9972,  88.5197, 3159,   1800.6,   2.7692,  34.7201,2,  34.7197,2,    138.4,1,    142.6,2,   105.82,2,    34.84,2,     0.01,2,     2.48,2, -999.000,9, -999.000,9, -999.000,9,   -999.0,9,   -999.0,9,-999.0000,9,  -999.00,   -999.0,9,   -999.0,  -999.00,9,  -999.00,  -999.00,9,   2.7694,2
  49NZ20031209,  I3I4,   484,  1,     18,  12042,2,20040109,1058,-19.9972,  88.5197, 3159,   2001.0,   2.4639,  34.7251,2,  34.7246,2,    146.1,1,    150.6,2,   109.58,2,    34.46,2,     0.01,2,     2.44,2, -999.000,9, -999.000,9, -999.000,9,   -999.0,9,   -999.0,9,-999.0000,9,  -999.00,   -999.0,9,   -999.0,  -999.00,9,  -999.00,  -999.00,9,   2.4642,2
  49NZ20031209,  I3I4,   484,  1,     17,  12041,2,20040109,1058,-19.9972,  88.5197, 3159,   2199.8,   2.2572,  34.7259,2,  34.7255,2,    152.3,1,    157.0,2,   111.36,2,    34.13,2,     0.00,2,     2.41,2, -999.000,9, -999.000,9, -999.000,9,   -999.0,9,   -999.0,9,-999.0000,9,  -999.00,   -999.0,9,   -999.0,  -999.00,9,  -999.00,  -999.00,9,   2.2572,2
  49NZ20031209,  I3I4,   484,  1,     16,  12040,2,20040109,1058,-19.9972,  88.5197, 3159,   2400.2,   2.0789,  34.7276,2,  34.7276,2,    158.2,1,    163.2,2,   113.10,2,    33.76,2,     0.00,2,     2.38,2, -999.000,9, -999.000,9, -999.000,9,   -999.0,9,   -999.0,9,-999.0000,9,  -999.00,   -999.0,9,   -999.0,  -999.00,9,  -999.00,  -999.00,9,   2.0790,2
  49NZ20031209,  I3I4,   484,  1,     15,  12039,2,20040109,1058,-19.9972,  88.5197, 3159,   2600.3,   1.8972,  34.7281,2,  34.7281,2,    163.2,1,    168.2,2,   115.68,2,    33.67,2,    -0.01,2,     2.36,2, -999.000,9, -999.000,9, -999.000,9,   -999.0,9,   -999.0,9,-999.0000,9,  -999.00,   -999.0,9,   -999.0,  -999.00,9,  -999.00,  -999.00,9,   1.8973,2
  49NZ20031209,  I3I4,   484,  1,     14,  12038,2,20040109,1058,-19.9972,  88.5197, 3159,   2801.1,   1.7705,  34.7279,2,  34.7277,2,    167.5,1,    172.3,2,   117.18,2,    33.55,2,     0.01,2,     2.35,2, -999.000,9, -999.000,9, -999.000,9,   -999.0,9,   -999.0,9,-999.0000,9,  -999.00,   -999.0,9,   -999.0,  -999.00,9,  -999.00,  -999.00,9,   1.7706,2
  49NZ20031209,  I3I4,   484,  1,     13,  12037,2,20040109,1058,-19.9972,  88.5197, 3159,   3000.6,   1.6745,  34.7268,2,  34.7269,2,    169.9,1,    174.1,2,   119.85,2,    33.53,2,     0.00,2,     2.35,2, -999.000,9, -999.000,9, -999.000,9,   -999.0,9,   -999.0,9,-999.0000,9,  -999.00,   -999.0,9,   -999.0,  -999.00,9,  -999.00,  -999.00,9,   1.6746,2
  49NZ20031209,  I3I4,   484,  1,     12,  12036,2,20040109,1058,-19.9972,  88.5197, 3159,   3188.5,   1.5632,  34.7251,2,  34.7252,2,    174.1,1,    177.9,2,   121.02,2,    33.40,2,     0.00,2,     2.33,2, -999.000,9, -999.000,9, -999.000,9,   -999.0,9,   -999.0,9,-999.0000,9,  -999.00,   -999.0,9,   -999.0,  -999.00,9,  -999.00,  -999.00,9,   1.5631,2
  49NZ20031209,  I3I4,   484,  1,     11,  12035,9,20040109,1058,-19.9972,  88.5197, 3159,    999.9,   4.7489,  34.5661,2,-999.0000,9,    121.6,1,   -999.0,9,  -999.00,9,  -999.00,9,  -999.00,9,  -999.00,9, -999.000,9, -999.000,9, -999.000,9,   -999.0,9,   -999.0,9,-999.0000,9,  -999.00,   -999.0,9,   -999.0,  -999.00,9,  -999.00,  -999.00,9,   4.7490,2
  49NZ20031209,  I3I4,   484,  1,     10,  12034,9,20040109,1058,-19.9972,  88.5197, 3159,   1200.1,   4.1878,  34.6281,2,-999.0000,9,    115.8,1,   -999.0,9,  -999.00,9,  -999.00,9,  -999.00,9,  -999.00,9, -999.000,9, -999.000,9, -999.000,9,   -999.0,9,   -999.0,9,-999.0000,9,  -999.00,   -999.0,9,   -999.0,  -999.00,9,  -999.00,  -999.00,9,   4.1878,2
  49NZ20031209,  I3I4,   484,  1,      9,  12033,9,20040109,1058,-19.9972,  88.5197, 3159,   1400.1,   3.6952,  34.6886,2,-999.0000,9,    119.0,1,   -999.0,9,  -999.00,9,  -999.00,9,  -999.00,9,  -999.00,9, -999.000,9, -999.000,9, -999.000,9,   -999.0,9,   -999.0,9,-999.0000,9,  -999.00,   -999.0,9,   -999.0,  -999.00,9,  -999.00,  -999.00,9,   3.6947,2
  49NZ20031209,  I3I4,   484,  1,      8,  12032,9,20040109,1058,-19.9972,  88.5197, 3159,   1600.0,   3.1956,  34.7061,2,-999.0000,9,    127.6,1,   -999.0,9,  -999.00,9,  -999.00,9,  -999.00,9,  -999.00,9, -999.000,9, -999.000,9, -999.000,9,   -999.0,9,   -999.0,9,-999.0000,9,  -999.00,   -999.0,9,   -999.0,  -999.00,9,  -999.00,  -999.00,9,   3.1959,2
  49NZ20031209,  I3I4,   484,  1,      7,  12031,9,20040109,1058,-19.9972,  88.5197, 3159,   1800.1,   2.7698,  34.7202,2,-999.0000,9,    138.4,1,   -999.0,9,  -999.00,9,  -999.00,9,  -999.00,9,  -999.00,9, -999.000,9, -999.000,9, -999.000,9,   -999.0,9,   -999.0,9,-999.0000,9,  -999.00,   -999.0,9,   -999.0,  -999.00,9,  -999.00,  -999.00,9,   2.7701,2
  49NZ20031209,  I3I4,   484,  1,      6,  12030,9,20040109,1058,-19.9972,  88.5197, 3159,   2000.5,   2.4645,  34.7249,2,-999.0000,9,    146.1,1,   -999.0,9,  -999.00,9,  -999.00,9,  -999.00,9,  -999.00,9, -999.000,9, -999.000,9, -999.000,9,   -999.0,9,   -999.0,9,-999.0000,9,  -999.00,   -999.0,9,   -999.0,  -999.00,9,  -999.00,  -999.00,9,   2.4647,2
  49NZ20031209,  I3I4,   484,  1,      5,  12029,9,20040109,1058,-19.9972,  88.5197, 3159,   2199.3,   2.2573,  34.7258,2,-999.0000,9,    152.3,1,   -999.0,9,  -999.00,9,  -999.00,9,  -999.00,9,  -999.00,9, -999.000,9, -999.000,9, -999.000,9,   -999.0,9,   -999.0,9,-999.0000,9,  -999.00,   -999.0,9,   -999.0,  -999.00,9,  -999.00,  -999.00,9,   2.2573,2
  49NZ20031209,  I3I4,   484,  1,      4,  12028,9,20040109,1058,-19.9972,  88.5197, 3159,   2400.9,   2.0791,  34.7275,2,-999.0000,9,    158.2,1,   -999.0,9,  -999.00,9,  -999.00,9,  -999.00,9,  -999.00,9, -999.000,9, -999.000,9, -999.000,9,   -999.0,9,   -999.0,9,-999.0000,9,  -999.00,   -999.0,9,   -999.0,  -999.00,9,  -999.00,  -999.00,9,   2.0791,2
  49NZ20031209,  I3I4,   484,  1,      3,  12027,9,20040109,1058,-19.9972,  88.5197, 3159,   2600.0,   1.8972,  34.7282,2,-999.0000,9,    163.2,1,   -999.0,9,  -999.00,9,  -999.00,9,  -999.00,9,  -999.00,9, -999.000,9, -999.000,9, -999.000,9,   -999.0,9,   -999.0,9,-999.0000,9,  -999.00,   -999.0,9,   -999.0,  -999.00,9,  -999.00,  -999.00,9,   1.8974,2
  49NZ20031209,  I3I4,   484,  1,      2,  12026,9,20040109,1058,-19.9972,  88.5197, 3159,   2801.6,   1.7711,  34.7279,2,-999.0000,9,    167.6,1,   -999.0,9,  -999.00,9,  -999.00,9,  -999.00,9,  -999.00,9, -999.000,9, -999.000,9, -999.000,9,   -999.0,9,   -999.0,9,-999.0000,9,  -999.00,   -999.0,9,   -999.0,  -999.00,9,  -999.00,  -999.00,9,   1.7712,2
  49NZ20031209,  I3I4,   484,  1,      1,  12025,9,20040109,1058,-19.9972,  88.5197, 3159,     10.1,  25.7148,  35.0003,2,-999.0000,9,    198.6,1,   -999.0,9,  -999.00,9,  -999.00,9,  -999.00,9,  -999.00,9, -999.000,9, -999.000,9, -999.000,9,   -999.0,9,   -999.0,9,-999.0000,9,  -999.00,   -999.0,9,   -999.0,  -999.00,9,  -999.00,  -999.00,9,  25.7045,2