BOTTLE,20141204PRINUNIVRMK
EXPOCODE,SECT_ID,STNNBR,CASTNO,SAMPNO,BTLNBR,BTLNBR_FLAG_W,DATE,TIME,LATITUDE,LONGITUDE,DEPTH,CTDPRS,CTDTMP,CTDSAL,CTDSAL_FLAG_W,SALNTY,SALNTY_FLAG_W,CTDOXY,CTDOXY_FLAG_W,OXYGEN,OXYGEN_FLAG_W,SILCAT,SILCAT_FLAG_W,NITRAT,NITRAT_FLAG_W,NITRIT,NITRIT_FLAG_W,PHSPHT,PHSPHT_FLAG_W,CFC-11,CFC-11_FLAG_W,CFC-12,CFC-12_FLAG_W,CFC113,CFC113_FLAG_W,TCARBN,TCARBN_FLAG_W,ALKALI,ALKALI_FLAG_W,PH_TOT,PH_TOT_FLAG_W,PH_TMP,DELC14,DELC14_FLAG_W,C14ERR,DELC13,DELC13_FLAG_W,CS-137,CS137ER,CS-137_FLAG_W,SBE35,SBE35_FLAG_W
,,,,,,,,,,,METERS,DBAR,ITS-90,PSS-78,,PSS-78,,UMOL/KG,,UMOL/KG,,UMOL/KG,,UMOL/KG,,UMOL/KG,,UMOL/KG,,PMOL/KG,,PMOL/KG,,PMOL/KG,,UMOL/KG,,UMOL/KG,,,,DEG C,/MILLE,,/MILLE,/MILLE,,DM/.1MG,DM/.1MG,,ITS-90,
  49NZ20031209,  I3I4,   506,  1,     36,  12024,2,20040103,0359,-19.9945,  74.7337, 4855,     10.2,  25.9464,  35.0854,2,  35.0854,2,    197.6,1,    207.2,2,     1.53,2,     0.04,2,     0.01,2,     0.10,2, -999.000,9, -999.000,9, -999.000,9,   -999.0,9,   -999.0,9,-999.0000,9,  -999.00,   -999.0,9,   -999.0,  -999.00,9,  -999.00,  -999.00,9,  25.9451,2
  49NZ20031209,  I3I4,   506,  1,     35,  12023,2,20040103,0359,-19.9945,  74.7337, 4855,     50.6,  24.7847,  35.0712,2,  35.0728,2,    204.6,1,    214.0,2,     1.69,2,     0.02,2,     0.00,2,     0.09,2, -999.000,9, -999.000,9, -999.000,9,   -999.0,9,   -999.0,9,-999.0000,9,  -999.00,   -999.0,9,   -999.0,  -999.00,9,  -999.00,  -999.00,9,  24.7833,2
  49NZ20031209,  I3I4,   506,  1,     34,  12022,2,20040103,0359,-19.9945,  74.7337, 4855,    100.5,  22.8855,  35.1017,2,  35.1056,2,    211.0,1,    221.0,2,     1.70,2,     0.01,2,     0.00,2,     0.10,2, -999.000,9, -999.000,9, -999.000,9,   -999.0,9,   -999.0,9,-999.0000,9,  -999.00,   -999.0,9,   -999.0,  -999.00,9,  -999.00,  -999.00,9,  22.8878,2
  49NZ20031209,  I3I4,   506,  1,     33,  12015,2,20040103,0359,-19.9945,  74.7337, 4855,    150.9,  21.5880,  35.3692,2,  35.3720,2,    191.3,1,    199.7,2,     2.44,2,     1.00,2,     0.17,2,     0.22,2, -999.000,9, -999.000,9, -999.000,9,   -999.0,9,   -999.0,9,-999.0000,9,  -999.00,   -999.0,9,   -999.0,  -999.00,9,  -999.00,  -999.00,9,  21.5845,2
  49NZ20031209,  I3I4,   506,  1,     32,  12020,2,20040103,0359,-19.9945,  74.7337, 4855,    199.7,  20.3067,  35.5645,2,  35.5710,2,    177.9,1,    185.7,2,     3.34,2,     3.19,2,     0.02,2,     0.34,2, -999.000,9, -999.000,9, -999.000,9,   -999.0,9,   -999.0,9,-999.0000,9,  -999.00,   -999.0,9,   -999.0,  -999.00,9,  -999.00,  -999.00,9,  20.3063,2
  49NZ20031209,  I3I4,   506,  1,     31,  12019,2,20040103,0359,-19.9945,  74.7337, 4855,    250.1,  19.2109,  35.7515,2,  35.7521,2,    182.6,1,    190.2,2,     2.97,2,     3.20,2,     0.01,2,     0.34,2, -999.000,9, -999.000,9, -999.000,9,   -999.0,9,   -999.0,9,-999.0000,9,  -999.00,   -999.0,9,   -999.0,  -999.00,9,  -999.00,  -999.00,9,  19.2106,2
  49NZ20031209,  I3I4,   506,  1,     30,  12018,2,20040103,0359,-19.9945,  74.7337, 4855,    300.8,  17.3311,  35.7918,2,  35.7897,2,    197.1,1,    205.2,2,     2.15,2,     2.90,2,     0.01,2,     0.34,2, -999.000,9, -999.000,9, -999.000,9,   -999.0,9,   -999.0,9,-999.0000,9,  -999.00,   -999.0,9,   -999.0,  -999.00,9,  -999.00,  -999.00,9,  17.3342,2
  49NZ20031209,  I3I4,   506,  1,     29,  12021,2,20040103,0359,-19.9945,  74.7337, 4855,    400.5,  13.7569,  35.3725,2,  35.3686,2,    214.9,1,    223.8,2,     2.01,2,     6.72,2,     0.01,2,     0.59,2, -999.000,9, -999.000,9, -999.000,9,   -999.0,9,   -999.0,9,-999.0000,9,  -999.00,   -999.0,9,   -999.0,  -999.00,9,  -999.00,  -999.00,9,  13.7533,2
  49NZ20031209,  I3I4,   506,  1,     28,  12016,2,20040103,0359,-19.9945,  74.7337, 4855,    500.3,  11.5197,  35.0392,2,  35.0358,2,    224.9,1,    233.9,2,     2.75,2,    10.90,2,     0.01,2,     0.84,2, -999.000,9, -999.000,9, -999.000,9,   -999.0,9,   -999.0,9,-999.0000,9,  -999.00,   -999.0,9,   -999.0,  -999.00,9,  -999.00,  -999.00,9,  11.5195,2
  49NZ20031209,  I3I4,   506,  1,     27,  12012,2,20040103,0359,-19.9945,  74.7337, 4855,    601.6,  10.0917,  34.8152,2,  34.8133,2,    225.2,1,    234.0,2,     3.79,2,    14.47,2,     0.00,2,     1.05,2, -999.000,9, -999.000,9, -999.000,9,   -999.0,9,   -999.0,9,-999.0000,9,  -999.00,   -999.0,9,   -999.0,  -999.00,9,  -999.00,  -999.00,9,  10.0920,2
  49NZ20031209,  I3I4,   506,  1,     26,  12014,2,20040103,0359,-19.9945,  74.7337, 4855,    699.4,   9.0617,  34.6689,2,  34.6671,2,    219.0,1,    227.4,2,     6.01,2,    17.97,2,     0.00,2,     1.26,2, -999.000,9, -999.000,9, -999.000,9,   -999.0,9,   -999.0,9,-999.0000,9,  -999.00,   -999.0,9,   -999.0,  -999.00,9,  -999.00,  -999.00,9,   9.0617,2
  49NZ20031209,  I3I4,   506,  1,     25,  12013,2,20040103,0359,-19.9945,  74.7337, 4855,    800.2,   7.3127,  34.5191,2,  34.5185,2,    188.7,1,    195.9,2,    17.22,2,    24.96,2,     0.00,2,     1.72,2, -999.000,9, -999.000,9, -999.000,9,   -999.0,9,   -999.0,9,-999.0000,9,  -999.00,   -999.0,9,   -999.0,  -999.00,9,  -999.00,  -999.00,9,   7.3128,2
  49NZ20031209,  I3I4,   506,  1,     24,  12048,2,20040103,0359,-19.9945,  74.7337, 4855,    900.4,   5.6440,  34.4560,2,  34.4557,2,    167.4,1,    174.1,2,    35.25,2,    30.42,2,     0.00,2,     2.10,2, -999.000,9, -999.000,9, -999.000,9,   -999.0,9,   -999.0,9,-999.0000,9,  -999.00,   -999.0,9,   -999.0,  -999.00,9,  -999.00,  -999.00,9,   5.6438,2
  49NZ20031209,  I3I4,   506,  1,     23,  12047,2,20040103,0359,-19.9945,  74.7337, 4855,    999.6,   4.7976,  34.5069,2,  34.5080,2,    139.0,1,    144.3,2,    58.92,2,    34.00,2,     0.00,2,     2.39,2, -999.000,9, -999.000,9, -999.000,9,   -999.0,9,   -999.0,9,-999.0000,9,  -999.00,   -999.0,9,   -999.0,  -999.00,9,  -999.00,  -999.00,9,   4.7976,2
  49NZ20031209,  I3I4,   506,  1,     22,  12046,2,20040103,0359,-19.9945,  74.7337, 4855,   1200.2,   4.5519,  34.6671,2,  34.6671,2,    107.0,1,    110.3,2,    85.92,2,    35.96,2,     0.00,2,     2.57,2, -999.000,9, -999.000,9, -999.000,9,   -999.0,9,   -999.0,9,-999.0000,9,  -999.00,   -999.0,9,   -999.0,  -999.00,9,  -999.00,  -999.00,9,   4.5519,2
  49NZ20031209,  I3I4,   506,  1,     21,  12045,2,20040103,0359,-19.9945,  74.7337, 4855,   1399.2,   4.0822,  34.6928,2,  34.6930,2,    111.0,1,    114.7,2,    93.53,2,    35.90,2,     0.00,2,     2.57,2, -999.000,9, -999.000,9, -999.000,9,   -999.0,9,   -999.0,9,-999.0000,9,  -999.00,   -999.0,9,   -999.0,  -999.00,9,  -999.00,  -999.00,9,   4.0821,2
  49NZ20031209,  I3I4,   506,  1,     20,  12044,2,20040103,0359,-19.9945,  74.7337, 4855,   1599.7,   3.5498,  34.7092,2,  34.7093,2,    120.9,1,    125.2,2,    98.92,2,    35.60,2,    -0.01,2,     2.53,2, -999.000,9, -999.000,9, -999.000,9,   -999.0,9,   -999.0,9,-999.0000,9,  -999.00,   -999.0,9,   -999.0,  -999.00,9,  -999.00,  -999.00,9,   3.5497,2
  49NZ20031209,  I3I4,   506,  1,     19,  12043,2,20040103,0359,-19.9945,  74.7337, 4855,   1799.5,   2.9805,  34.7055,2,  34.7051,2,    138.9,1,    144.8,2,    99.04,2,    34.58,2,    -0.01,2,     2.44,2, -999.000,9, -999.000,9, -999.000,9,   -999.0,9,   -999.0,9,-999.0000,9,  -999.00,   -999.0,9,   -999.0,  -999.00,9,  -999.00,  -999.00,9,   2.9802,2
  49NZ20031209,  I3I4,   506,  1,     18,  12042,2,20040103,0359,-19.9945,  74.7337, 4855,   2000.8,   2.4830,  34.7128,2,  34.7127,2,    152.5,1,    159.2,2,   101.84,2,    33.86,2,     0.01,2,     2.37,2, -999.000,9, -999.000,9, -999.000,9,   -999.0,9,   -999.0,9,-999.0000,9,  -999.00,   -999.0,9,   -999.0,  -999.00,9,  -999.00,  -999.00,9,   2.4831,2
  49NZ20031209,  I3I4,   506,  1,     17,  12041,2,20040103,0359,-19.9945,  74.7337, 4855,   2198.6,   2.1338,  34.7191,2,  34.7194,2,    163.2,1,    170.6,2,   103.96,2,    33.21,2,    -0.01,2,     2.31,2, -999.000,9, -999.000,9, -999.000,9,   -999.0,9,   -999.0,9,-999.0000,9,  -999.00,   -999.0,9,   -999.0,  -999.00,9,  -999.00,  -999.00,9,   2.1341,2
  49NZ20031209,  I3I4,   506,  1,     16,  12040,2,20040103,0359,-19.9945,  74.7337, 4855,   2400.5,   1.8809,  34.7246,2,  34.7247,2,    170.2,1,    178.5,2,   107.21,2,    32.78,2,    -0.01,2,     2.28,2, -999.000,9, -999.000,9, -999.000,9,   -999.0,9,   -999.0,9,-999.0000,9,  -999.00,   -999.0,9,   -999.0,  -999.00,9,  -999.00,  -999.00,9,   1.8808,2
  49NZ20031209,  I3I4,   506,  1,     15,  12039,2,20040103,0359,-19.9945,  74.7337, 4855,   2600.2,   1.7162,  34.7271,2,  34.7274,2,    173.8,1,    182.4,2,   110.73,2,    32.65,2,    -0.01,2,     2.27,2, -999.000,9, -999.000,9, -999.000,9,   -999.0,9,   -999.0,9,-999.0000,9,  -999.00,   -999.0,9,   -999.0,  -999.00,9,  -999.00,  -999.00,9,   1.7160,2
  49NZ20031209,  I3I4,   506,  1,     14,  12038,2,20040103,0359,-19.9945,  74.7337, 4855,   2800.1,   1.6014,  34.7277,2,  34.7278,2,    176.4,1,    185.2,2,   113.26,2,    32.63,2,     0.00,2,     2.26,2, -999.000,9, -999.000,9, -999.000,9,   -999.0,9,   -999.0,9,-999.0000,9,  -999.00,   -999.0,9,   -999.0,  -999.00,9,  -999.00,  -999.00,9,   1.6012,2
  49NZ20031209,  I3I4,   506,  1,     13,  12037,2,20040103,0359,-19.9945,  74.7337, 4855,   3000.9,   1.5111,  34.7276,2,  34.7277,2,    178.1,1,    186.9,2,   115.72,2,    32.74,2,     0.00,2,     2.25,2, -999.000,9, -999.000,9, -999.000,9,   -999.0,9,   -999.0,9,-999.0000,9,  -999.00,   -999.0,9,   -999.0,  -999.00,9,  -999.00,  -999.00,9,   1.5112,2
  49NZ20031209,  I3I4,   506,  1,     12,  12036,2,20040103,0359,-19.9945,  74.7337, 4855,   3250.3,   1.4279,  34.7254,2,  34.7246,2,    178.1,1,    186.7,2,   120.25,2,    32.89,2,     0.01,2,     2.27,2, -999.000,9, -999.000,9, -999.000,9,   -999.0,9,   -999.0,9,-999.0000,9,  -999.00,   -999.0,9,   -999.0,  -999.00,9,  -999.00,  -999.00,9,   1.4278,2
  49NZ20031209,  I3I4,   506,  1,     11,  12035,2,20040103,0359,-19.9945,  74.7337, 4855,   3500.8,   1.3785,  34.7226,2,  34.7227,2,    177.1,1,    185.2,2,   124.98,2,    33.19,2,     0.00,2,     2.29,2, -999.000,9, -999.000,9, -999.000,9,   -999.0,9,   -999.0,9,-999.0000,9,  -999.00,   -999.0,9,   -999.0,  -999.00,9,  -999.00,  -999.00,9,   1.3785,2
  49NZ20031209,  I3I4,   506,  1,     10,  12034,2,20040103,0359,-19.9945,  74.7337, 4855,   3750.2,   1.3687,  34.7209,2,  34.7208,2,    176.2,1,    183.8,2,   127.94,2,    33.41,2,     0.00,2,     2.30,2, -999.000,9, -999.000,9, -999.000,9,   -999.0,9,   -999.0,9,-999.0000,9,  -999.00,   -999.0,9,   -999.0,  -999.00,9,  -999.00,  -999.00,9,   1.3685,2
  49NZ20031209,  I3I4,   506,  1,      9,  12033,2,20040103,0359,-19.9945,  74.7337, 4855,   4001.0,   1.3775,  34.7202,2,  34.7202,2,    176.1,1,    183.1,2,   129.14,2,    33.58,2,     0.00,2,     2.31,2, -999.000,9, -999.000,9, -999.000,9,   -999.0,9,   -999.0,9,-999.0000,9,  -999.00,   -999.0,9,   -999.0,  -999.00,9,  -999.00,  -999.00,9,   1.3774,2
  49NZ20031209,  I3I4,   506,  1,      8,  12032,2,20040103,0359,-19.9945,  74.7337, 4855,   4250.5,   1.3983,  34.7198,2,  34.7198,2,    176.8,1,    183.1,2,   129.73,2,    33.57,2,     0.00,2,     2.31,2, -999.000,9, -999.000,9, -999.000,9,   -999.0,9,   -999.0,9,-999.0000,9,  -999.00,   -999.0,9,   -999.0,  -999.00,9,  -999.00,  -999.00,9,   1.3982,2
  49NZ20031209,  I3I4,   506,  1,      7,  12031,2,20040103,0359,-19.9945,  74.7337, 4855,   4501.1,   1.4247,  34.7197,2,  34.7196,2,    177.6,1,    183.0,2,   130.10,2,    33.61,2,     0.00,2,     2.32,2, -999.000,9, -999.000,9, -999.000,9,   -999.0,9,   -999.0,9,-999.0000,9,  -999.00,   -999.0,9,   -999.0,  -999.00,9,  -999.00,  -999.00,9,   1.4247,2
  49NZ20031209,  I3I4,   506,  1,      6,  12030,2,20040103,0359,-19.9945,  74.7337, 4855,   4750.1,   1.4536,  34.7192,2,  34.7193,2,    178.6,1,    182.7,2,   130.29,2,    33.61,2,     0.00,2,     2.32,2, -999.000,9, -999.000,9, -999.000,9,   -999.0,9,   -999.0,9,-999.0000,9,  -999.00,   -999.0,9,   -999.0,  -999.00,9,  -999.00,  -999.00,9,   1.4534,2
  49NZ20031209,  I3I4,   506,  1,      5,  12029,2,20040103,0359,-19.9945,  74.7337, 4855,   4911.9,   1.4735,  34.7194,2,  34.7197,2,    179.8,1,    182.8,2,   130.31,2,    33.64,2,     0.00,2,     2.32,2, -999.000,9, -999.000,9, -999.000,9,   -999.0,9,   -999.0,9,-999.0000,9,  -999.00,   -999.0,9,   -999.0,  -999.00,9,  -999.00,  -999.00,9,   1.4736,2
  49NZ20031209,  I3I4,   506,  1,      4,  12028,2,20040103,0359,-19.9945,  74.7337, 4855,    144.0,  21.8910,  35.2869,2,-999.0000,9,    194.6,1,   -999.0,9,  -999.00,9,  -999.00,9,  -999.00,9,  -999.00,9, -999.000,9, -999.000,9, -999.000,9,   -999.0,9,   -999.0,9,-999.0000,9,  -999.00,   -999.0,9,   -999.0,  -999.00,9,  -999.00,  -999.00,9,  21.8887,2
  49NZ20031209,  I3I4,   506,  1,      3,  12027,2,20040103,0359,-19.9945,  74.7337, 4855,      5.3,  25.9470,  35.0861,2,-999.0000,9,    197.8,1,   -999.0,9,  -999.00,9,  -999.00,9,  -999.00,9,  -999.00,9, -999.000,9, -999.000,9, -999.000,9,   -999.0,9,   -999.0,9,-999.0000,9,  -999.00,   -999.0,9,   -999.0,  -999.00,9,  -999.00,  -999.00,9,  25.9464,2
  49NZ20031209,  I3I4,   506,  1,      2,  12026,2,20040103,0359,-19.9945,  74.7337, 4855,      5.2,  25.9488,  35.0866,2,-999.0000,9,    197.7,1,   -999.0,9,  -999.00,9,  -999.00,9,  -999.00,9,  -999.00,9, -999.000,9, -999.000,9, -999.000,9,   -999.0,9,   -999.0,9,-999.0000,9,  -999.00,   -999.0,9,   -999.0,  -999.00,9,  -999.00,  -999.00,9,  25.9481,2
  49NZ20031209,  I3I4,   506,  1,      1,  12025,9,20040103,0359,-19.9945,  74.7337, 4855,     10.1,  25.9506,  35.0858,2,-999.0000,9,    197.7,1,   -999.0,9,  -999.00,9,  -999.00,9,  -999.00,9,  -999.00,9, -999.000,9, -999.000,9, -999.000,9,   -999.0,9,   -999.0,9,-999.0000,9,  -999.00,   -999.0,9,   -999.0,  -999.00,9,  -999.00,  -999.00,9,  25.9469,2