BOTTLE,20141204PRINUNIVRMK
EXPOCODE,SECT_ID,STNNBR,CASTNO,SAMPNO,BTLNBR,BTLNBR_FLAG_W,DATE,TIME,LATITUDE,LONGITUDE,DEPTH,CTDPRS,CTDTMP,CTDSAL,CTDSAL_FLAG_W,SALNTY,SALNTY_FLAG_W,CTDOXY,CTDOXY_FLAG_W,OXYGEN,OXYGEN_FLAG_W,SILCAT,SILCAT_FLAG_W,NITRAT,NITRAT_FLAG_W,NITRIT,NITRIT_FLAG_W,PHSPHT,PHSPHT_FLAG_W,CFC-11,CFC-11_FLAG_W,CFC-12,CFC-12_FLAG_W,CFC113,CFC113_FLAG_W,TCARBN,TCARBN_FLAG_W,ALKALI,ALKALI_FLAG_W,PH_TOT,PH_TOT_FLAG_W,PH_TMP,DELC14,DELC14_FLAG_W,C14ERR,DELC13,DELC13_FLAG_W,CS-137,CS137ER,CS-137_FLAG_W,SBE35,SBE35_FLAG_W
,,,,,,,,,,,METERS,DBAR,ITS-90,PSS-78,,PSS-78,,UMOL/KG,,UMOL/KG,,UMOL/KG,,UMOL/KG,,UMOL/KG,,UMOL/KG,,PMOL/KG,,PMOL/KG,,PMOL/KG,,UMOL/KG,,UMOL/KG,,,,DEG C,/MILLE,,/MILLE,/MILLE,,DM/.1MG,DM/.1MG,,ITS-90,
  49NZ20031209,  I3I4,   488,  1,     36,  12024,2,20040108,1956,-19.9902,  86.9057, 3532,      9.5,  25.7182,  34.9410,2,  34.9410,2,    198.3,1,    207.4,2,     2.16,2,    -0.01,2,     0.00,2,     0.10,2, -999.000,9, -999.000,9, -999.000,9,   -999.0,9,   -999.0,9,-999.0000,9,  -999.00,   -999.0,9,   -999.0,  -999.00,9,  -999.00,  -999.00,9,  25.7160,2
  49NZ20031209,  I3I4,   488,  1,     35,  12023,2,20040108,1956,-19.9902,  86.9057, 3532,     50.9,  24.9666,  35.1607,2,  35.1628,2,    205.2,1,    214.7,2,     2.29,2,    -0.02,2,     0.00,2,     0.09,2, -999.000,9, -999.000,9, -999.000,9,   -999.0,9,   -999.0,9,-999.0000,9,  -999.00,   -999.0,9,   -999.0,  -999.00,9,  -999.00,  -999.00,9,  24.9552,2
  49NZ20031209,  I3I4,   488,  1,     34,  12022,2,20040108,1956,-19.9902,  86.9057, 3532,    100.1,  21.9860,  35.3361,2,  35.3364,2,    211.2,1,    220.9,2,     2.55,2,    -0.03,2,     0.01,2,     0.09,2, -999.000,9, -999.000,9, -999.000,9,   -999.0,9,   -999.0,9,-999.0000,9,  -999.00,   -999.0,9,   -999.0,  -999.00,9,  -999.00,  -999.00,9,  21.9867,2
  49NZ20031209,  I3I4,   488,  1,     33,  12015,2,20040108,1956,-19.9902,  86.9057, 3532,    153.0,  20.9890,  35.4752,2,  35.4765,2,    196.6,1,    205.1,2,     2.63,2,     0.69,2,     0.24,2,     0.18,2, -999.000,9, -999.000,9, -999.000,9,   -999.0,9,   -999.0,9,-999.0000,9,  -999.00,   -999.0,9,   -999.0,  -999.00,9,  -999.00,  -999.00,9,  20.9889,2
  49NZ20031209,  I3I4,   488,  1,     32,  12020,2,20040108,1956,-19.9902,  86.9057, 3532,    199.0,  19.6575,  35.7098,2,  35.7121,2,    190.9,1,    199.2,2,     2.90,2,     1.93,2,     0.06,2,     0.26,2, -999.000,9, -999.000,9, -999.000,9,   -999.0,9,   -999.0,9,-999.0000,9,  -999.00,   -999.0,9,   -999.0,  -999.00,9,  -999.00,  -999.00,9,  19.6558,2
  49NZ20031209,  I3I4,   488,  1,     31,  12019,2,20040108,1956,-19.9902,  86.9057, 3532,    249.5,  17.8235,  35.8038,2,  35.8025,2,    195.2,1,    203.4,2,     2.62,2,     2.62,2,     0.01,2,     0.32,2, -999.000,9, -999.000,9, -999.000,9,   -999.0,9,   -999.0,9,-999.0000,9,  -999.00,   -999.0,9,   -999.0,  -999.00,9,  -999.00,  -999.00,9,  17.8208,2
  49NZ20031209,  I3I4,   488,  1,     30,  12018,2,20040108,1956,-19.9902,  86.9057, 3532,    299.3,  16.0880,  35.6848,2,  35.6806,2,    207.2,1,    215.6,2,     1.99,2,     3.05,2,     0.01,2,     0.37,2, -999.000,9, -999.000,9, -999.000,9,   -999.0,9,   -999.0,9,-999.0000,9,  -999.00,   -999.0,9,   -999.0,  -999.00,9,  -999.00,  -999.00,9,  16.0872,2
  49NZ20031209,  I3I4,   488,  1,     29,  12021,2,20040108,1956,-19.9902,  86.9057, 3532,    400.4,  13.0776,  35.2812,2,  35.2786,2,    219.4,1,    227.9,2,     2.40,2,     7.52,2,     0.01,2,     0.64,2, -999.000,9, -999.000,9, -999.000,9,   -999.0,9,   -999.0,9,-999.0000,9,  -999.00,   -999.0,9,   -999.0,  -999.00,9,  -999.00,  -999.00,9,  13.0788,2
  49NZ20031209,  I3I4,   488,  1,     28,  12016,2,20040108,1956,-19.9902,  86.9057, 3532,    501.1,  11.0658,  34.9661,2,  34.9641,2,    228.3,1,    236.9,2,     3.31,2,    11.48,2,     0.01,2,     0.88,2, -999.000,9, -999.000,9, -999.000,9,   -999.0,9,   -999.0,9,-999.0000,9,  -999.00,   -999.0,9,   -999.0,  -999.00,9,  -999.00,  -999.00,9,  11.0667,2
  49NZ20031209,  I3I4,   488,  1,     27,  12012,2,20040108,1956,-19.9902,  86.9057, 3532,    599.3,   9.9656,  34.7946,2,  34.7914,2,    227.0,1,    235.5,2,     4.18,2,    14.58,2,     0.00,2,     1.06,2, -999.000,9, -999.000,9, -999.000,9,   -999.0,9,   -999.0,9,-999.0000,9,  -999.00,   -999.0,9,   -999.0,  -999.00,9,  -999.00,  -999.00,9,   9.9659,2
  49NZ20031209,  I3I4,   488,  1,     26,  12014,2,20040108,1956,-19.9902,  86.9057, 3532,    699.9,   8.6472,  34.6187,2,  34.6191,2,    216.2,1,    224.8,2,     7.54,2,    19.12,2,     0.01,2,     1.34,2, -999.000,9, -999.000,9, -999.000,9,   -999.0,9,   -999.0,9,-999.0000,9,  -999.00,   -999.0,9,   -999.0,  -999.00,9,  -999.00,  -999.00,9,   8.6478,2
  49NZ20031209,  I3I4,   488,  1,     25,  12013,2,20040108,1956,-19.9902,  86.9057, 3532,    801.1,   6.5693,  34.4779,2,  34.4802,2,    180.2,1,    186.1,2,    24.38,2,    27.33,2,     0.01,2,     1.90,2, -999.000,9, -999.000,9, -999.000,9,   -999.0,9,   -999.0,9,-999.0000,9,  -999.00,   -999.0,9,   -999.0,  -999.00,9,  -999.00,  -999.00,9,   6.5702,2
  49NZ20031209,  I3I4,   488,  1,     24,  12048,2,20040108,1956,-19.9902,  86.9057, 3532,    903.0,   5.4370,  34.5302,2,  34.5286,2,    134.1,1,    138.8,2,    54.73,2,    33.15,2,     0.01,2,     2.34,2, -999.000,9, -999.000,9, -999.000,9,   -999.0,9,   -999.0,9,-999.0000,9,  -999.00,   -999.0,9,   -999.0,  -999.00,9,  -999.00,  -999.00,9,   5.4386,2
  49NZ20031209,  I3I4,   488,  1,     23,  12047,2,20040108,1956,-19.9902,  86.9057, 3532,   1002.7,   5.0259,  34.5844,2,  34.5827,2,    115.9,1,    119.5,2,    70.14,2,    35.03,2,     0.01,2,     2.50,2, -999.000,9, -999.000,9, -999.000,9,   -999.0,9,   -999.0,9,-999.0000,9,  -999.00,   -999.0,9,   -999.0,  -999.00,9,  -999.00,  -999.00,9,   5.0260,2
  49NZ20031209,  I3I4,   488,  1,     22,  12046,2,20040108,1956,-19.9902,  86.9057, 3532,   1198.9,   4.3592,  34.6451,2,  34.6453,2,    111.2,1,    114.4,2,    85.48,2,    35.89,2,     0.01,2,     2.57,2, -999.000,9, -999.000,9, -999.000,9,   -999.0,9,   -999.0,9,-999.0000,9,  -999.00,   -999.0,9,   -999.0,  -999.00,9,  -999.00,  -999.00,9,   4.3594,2
  49NZ20031209,  I3I4,   488,  1,     21,  12045,2,20040108,1956,-19.9902,  86.9057, 3532,   1400.2,   3.8276,  34.6802,2,  34.6802,2,    116.7,1,    120.0,2,    93.80,2,    35.75,2,     0.01,2,     2.56,2, -999.000,9, -999.000,9, -999.000,9,   -999.0,9,   -999.0,9,-999.0000,9,  -999.00,   -999.0,9,   -999.0,  -999.00,9,  -999.00,  -999.00,9,   3.8278,2
  49NZ20031209,  I3I4,   488,  1,     20,  12044,2,20040108,1956,-19.9902,  86.9057, 3532,   1601.5,   3.3345,  34.7036,2,  34.7038,2,    124.8,1,    128.6,2,   100.51,2,    35.36,2,     0.01,2,     2.53,2, -999.000,9, -999.000,9, -999.000,9,   -999.0,9,   -999.0,9,-999.0000,9,  -999.00,   -999.0,9,   -999.0,  -999.00,9,  -999.00,  -999.00,9,   3.3342,2
  49NZ20031209,  I3I4,   488,  1,     19,  12043,2,20040108,1956,-19.9902,  86.9057, 3532,   1800.4,   2.9666,  34.7167,2,  34.7170,2,    133.0,1,    137.3,2,   105.03,2,    35.05,2,     0.01,2,     2.49,2, -999.000,9, -999.000,9, -999.000,9,   -999.0,9,   -999.0,9,-999.0000,9,  -999.00,   -999.0,9,   -999.0,  -999.00,9,  -999.00,  -999.00,9,   2.9665,2
  49NZ20031209,  I3I4,   488,  1,     18,  12042,2,20040108,1956,-19.9902,  86.9057, 3532,   1999.4,   2.5956,  34.7259,2,  34.7257,2,    141.8,1,    146.7,2,   109.25,2,    34.63,2,     0.01,2,     2.45,2, -999.000,9, -999.000,9, -999.000,9,   -999.0,9,   -999.0,9,-999.0000,9,  -999.00,   -999.0,9,   -999.0,  -999.00,9,  -999.00,  -999.00,9,   2.5946,2
  49NZ20031209,  I3I4,   488,  1,     17,  12041,2,20040108,1956,-19.9902,  86.9057, 3532,   2201.1,   2.3322,  34.7281,2,  34.7274,2,    149.9,1,    155.0,2,   111.38,2,    34.16,2,     0.01,2,     2.41,2, -999.000,9, -999.000,9, -999.000,9,   -999.0,9,   -999.0,9,-999.0000,9,  -999.00,   -999.0,9,   -999.0,  -999.00,9,  -999.00,  -999.00,9,   2.3324,2
  49NZ20031209,  I3I4,   488,  1,     16,  12040,2,20040108,1956,-19.9902,  86.9057, 3532,   2403.3,   2.1242,  34.7289,2,  34.7287,2,    156.1,1,    161.5,2,   113.66,2,    33.90,2,     0.01,2,     2.38,2, -999.000,9, -999.000,9, -999.000,9,   -999.0,9,   -999.0,9,-999.0000,9,  -999.00,   -999.0,9,   -999.0,  -999.00,9,  -999.00,  -999.00,9,   2.1240,2
  49NZ20031209,  I3I4,   488,  1,     15,  12039,2,20040108,1956,-19.9902,  86.9057, 3532,   2603.4,   1.9719,  34.7296,2,  34.7296,2,    159.9,1,    165.3,2,   116.46,2,    33.71,2,     0.01,2,     2.37,2, -999.000,9, -999.000,9, -999.000,9,   -999.0,9,   -999.0,9,-999.0000,9,  -999.00,   -999.0,9,   -999.0,  -999.00,9,  -999.00,  -999.00,9,   1.9718,2
  49NZ20031209,  I3I4,   488,  1,     14,  12038,2,20040108,1956,-19.9902,  86.9057, 3532,   2801.4,   1.8332,  34.7291,2,  34.7291,2,    164.1,1,    169.6,2,   118.60,2,    33.59,2,     0.01,2,     2.35,2, -999.000,9, -999.000,9, -999.000,9,   -999.0,9,   -999.0,9,-999.0000,9,  -999.00,   -999.0,9,   -999.0,  -999.00,9,  -999.00,  -999.00,9,   1.8332,2
  49NZ20031209,  I3I4,   488,  1,     13,  12037,2,20040108,1956,-19.9902,  86.9057, 3532,   3001.0,   1.7116,  34.7279,2,  34.7282,2,    167.4,1,    172.7,2,   120.81,2,    33.50,2,     0.01,2,     2.35,2, -999.000,9, -999.000,9, -999.000,9,   -999.0,9,   -999.0,9,-999.0000,9,  -999.00,   -999.0,9,   -999.0,  -999.00,9,  -999.00,  -999.00,9,   1.7118,2
  49NZ20031209,  I3I4,   488,  1,     12,  12036,2,20040108,1956,-19.9902,  86.9057, 3532,   3251.1,   1.5439,  34.7252,2,  34.7251,2,    171.0,1,    175.8,2,   125.07,2,    33.45,2,     0.01,2,     2.34,2, -999.000,9, -999.000,9, -999.000,9,   -999.0,9,   -999.0,9,-999.0000,9,  -999.00,   -999.0,9,   -999.0,  -999.00,9,  -999.00,  -999.00,9,   1.5439,2
  49NZ20031209,  I3I4,   488,  1,     11,  12035,2,20040108,1956,-19.9902,  86.9057, 3532,   3502.4,   1.4721,  34.7233,2,  34.7235,2,    174.2,1,    178.2,2,   126.33,2,    33.50,2,     0.01,2,     2.33,2, -999.000,9, -999.000,9, -999.000,9,   -999.0,9,   -999.0,9,-999.0000,9,  -999.00,   -999.0,9,   -999.0,  -999.00,9,  -999.00,  -999.00,9,   1.4721,2
  49NZ20031209,  I3I4,   488,  1,     10,  12034,2,20040108,1956,-19.9902,  86.9057, 3532,   3576.9,   1.4395,  34.7225,2,  34.7225,2,    175.9,1,    179.5,2,   126.74,2,    33.43,2,     0.01,2,     2.33,2, -999.000,9, -999.000,9, -999.000,9,   -999.0,9,   -999.0,9,-999.0000,9,  -999.00,   -999.0,9,   -999.0,  -999.00,9,  -999.00,  -999.00,9,   1.4394,2
  49NZ20031209,  I3I4,   488,  1,      9,  12033,9,20040108,1956,-19.9902,  86.9057, 3532,   1003.4,   5.0227,  34.5850,2,-999.0000,9,    115.9,1,   -999.0,9,  -999.00,9,  -999.00,9,  -999.00,9,  -999.00,9, -999.000,9, -999.000,9, -999.000,9,   -999.0,9,   -999.0,9,-999.0000,9,  -999.00,   -999.0,9,   -999.0,  -999.00,9,  -999.00,  -999.00,9,   5.0230,2
  49NZ20031209,  I3I4,   488,  1,      8,  12032,9,20040108,1956,-19.9902,  86.9057, 3532,   1003.2,   5.0229,  34.5850,2,-999.0000,9,    115.9,1,   -999.0,9,  -999.00,9,  -999.00,9,  -999.00,9,  -999.00,9, -999.000,9, -999.000,9, -999.000,9,   -999.0,9,   -999.0,9,-999.0000,9,  -999.00,   -999.0,9,   -999.0,  -999.00,9,  -999.00,  -999.00,9,   5.0232,2
  49NZ20031209,  I3I4,   488,  1,      7,  12031,9,20040108,1956,-19.9902,  86.9057, 3532,   1003.0,   5.0230,  34.5849,2,-999.0000,9,    115.9,1,   -999.0,9,  -999.00,9,  -999.00,9,  -999.00,9,  -999.00,9, -999.000,9, -999.000,9, -999.000,9,   -999.0,9,   -999.0,9,-999.0000,9,  -999.00,   -999.0,9,   -999.0,  -999.00,9,  -999.00,  -999.00,9,   5.0234,2
  49NZ20031209,  I3I4,   488,  1,      6,  12030,9,20040108,1956,-19.9902,  86.9057, 3532,   1002.2,   5.0239,  34.5847,2,-999.0000,9,    115.8,1,   -999.0,9,  -999.00,9,  -999.00,9,  -999.00,9,  -999.00,9, -999.000,9, -999.000,9, -999.000,9,   -999.0,9,   -999.0,9,-999.0000,9,  -999.00,   -999.0,9,   -999.0,  -999.00,9,  -999.00,  -999.00,9,   5.0240,2
  49NZ20031209,  I3I4,   488,  1,      5,  12029,9,20040108,1956,-19.9902,  86.9057, 3532,   1002.6,   5.0238,  34.5847,2,-999.0000,9,    115.9,1,   -999.0,9,  -999.00,9,  -999.00,9,  -999.00,9,  -999.00,9, -999.000,9, -999.000,9, -999.000,9,   -999.0,9,   -999.0,9,-999.0000,9,  -999.00,   -999.0,9,   -999.0,  -999.00,9,  -999.00,  -999.00,9,   5.0238,2
  49NZ20031209,  I3I4,   488,  1,      4,  12028,9,20040108,1956,-19.9902,  86.9057, 3532,   1003.5,   5.0232,  34.5850,2,-999.0000,9,    115.8,1,   -999.0,9,  -999.00,9,  -999.00,9,  -999.00,9,  -999.00,9, -999.000,9, -999.000,9, -999.000,9,   -999.0,9,   -999.0,9,-999.0000,9,  -999.00,   -999.0,9,   -999.0,  -999.00,9,  -999.00,  -999.00,9,   5.0236,2
  49NZ20031209,  I3I4,   488,  1,      3,  12027,9,20040108,1956,-19.9902,  86.9057, 3532,   1002.0,   5.0242,  34.5847,2,-999.0000,9,    115.8,1,   -999.0,9,  -999.00,9,  -999.00,9,  -999.00,9,  -999.00,9, -999.000,9, -999.000,9, -999.000,9,   -999.0,9,   -999.0,9,-999.0000,9,  -999.00,   -999.0,9,   -999.0,  -999.00,9,  -999.00,  -999.00,9,   5.0244,2
  49NZ20031209,  I3I4,   488,  1,      2,  12026,9,20040108,1956,-19.9902,  86.9057, 3532,   1002.7,   5.0239,  34.5847,2,-999.0000,9,    115.9,1,   -999.0,9,  -999.00,9,  -999.00,9,  -999.00,9,  -999.00,9, -999.000,9, -999.000,9, -999.000,9,   -999.0,9,   -999.0,9,-999.0000,9,  -999.00,   -999.0,9,   -999.0,  -999.00,9,  -999.00,  -999.00,9,   5.0236,2
  49NZ20031209,  I3I4,   488,  1,      1,  12025,9,20040108,1956,-19.9902,  86.9057, 3532,      9.7,  25.7160,  34.9411,2,-999.0000,9,    198.2,1,   -999.0,9,  -999.00,9,  -999.00,9,  -999.00,9,  -999.00,9, -999.000,9, -999.000,9, -999.000,9,   -999.0,9,   -999.0,9,-999.0000,9,  -999.00,   -999.0,9,   -999.0,  -999.00,9,  -999.00,  -999.00,9,  25.7154,2