BOTTLE,20141204PRINUNIVRMK
EXPOCODE,SECT_ID,STNNBR,CASTNO,SAMPNO,BTLNBR,BTLNBR_FLAG_W,DATE,TIME,LATITUDE,LONGITUDE,DEPTH,CTDPRS,CTDTMP,CTDSAL,CTDSAL_FLAG_W,SALNTY,SALNTY_FLAG_W,CTDOXY,CTDOXY_FLAG_W,OXYGEN,OXYGEN_FLAG_W,SILCAT,SILCAT_FLAG_W,NITRAT,NITRAT_FLAG_W,NITRIT,NITRIT_FLAG_W,PHSPHT,PHSPHT_FLAG_W,CFC-11,CFC-11_FLAG_W,CFC-12,CFC-12_FLAG_W,CFC113,CFC113_FLAG_W,TCARBN,TCARBN_FLAG_W,ALKALI,ALKALI_FLAG_W,PH_TOT,PH_TOT_FLAG_W,PH_TMP,DELC14,DELC14_FLAG_W,C14ERR,DELC13,DELC13_FLAG_W,CS-137,CS137ER,CS-137_FLAG_W,SBE35,SBE35_FLAG_W
,,,,,,,,,,,METERS,DBAR,ITS-90,PSS-78,,PSS-78,,UMOL/KG,,UMOL/KG,,UMOL/KG,,UMOL/KG,,UMOL/KG,,UMOL/KG,,PMOL/KG,,PMOL/KG,,PMOL/KG,,UMOL/KG,,UMOL/KG,,,,DEG C,/MILLE,,/MILLE,/MILLE,,DM/.1MG,DM/.1MG,,ITS-90,
  49NZ20031209,  I3I4,   468,  1,     36,  12024,2,20040113,1721,-19.9997,  98.7162, 6305,      9.9,  24.3983,  35.1106,2,  35.1106,2,    202.4,1,    212.5,2,     1.99,2,    -0.01,2,     0.01,2,     0.09,2,    1.915,2,    1.103,2, -999.000,5,   1980.1,2,   2299.7,2,   8.0899,2,    25.00,   -999.0,9,   -999.0,  -999.00,9,  -999.00,  -999.00,9,  24.3969,2
  49NZ20031209,  I3I4,   468,  1,     35,  12023,2,20040113,1721,-19.9997,  98.7162, 6305,     49.8,  23.4881,  35.1140,2,  35.1028,2,    208.1,1,    216.4,2,     2.05,2,    -0.03,2,     0.01,2,     0.09,2,    1.990,2,    1.146,2, -999.000,5,   1978.1,6,   2299.9,2,   8.0900,2,    25.00,   -999.0,9,   -999.0,  -999.00,9,  -999.00,  -999.00,9,  23.5695,2
  49NZ20031209,  I3I4,   468,  1,     34,  12022,2,20040113,1721,-19.9997,  98.7162, 6305,     98.4,  21.6740,  35.3674,2,  35.3688,2,    210.8,1,    220.9,2,     2.46,2,    -0.05,2,     0.01,2,     0.11,2,    2.124,2,    1.250,2, -999.000,5,   2007.9,2,   2317.1,6,   8.0657,2,    25.00,   -999.0,9,   -999.0,  -999.00,9,  -999.00,  -999.00,9,  21.6723,2
  49NZ20031209,  I3I4,   468,  1,     33,  12015,2,20040113,1721,-19.9997,  98.7162, 6305,    150.6,  20.3345,  35.5975,2,  35.5979,2,    205.0,1,    212.8,2,     2.58,2,     0.64,2,     0.12,2,     0.17,2,    2.220,2,    1.283,2, -999.000,5,   2036.5,2,   2330.3,2,   8.0351,6,    25.00,   -999.0,9,   -999.0,  -999.00,9,  -999.00,  -999.00,9,  20.3306,2
  49NZ20031209,  I3I4,   468,  1,     32,  12020,2,20040113,1721,-19.9997,  98.7162, 6305,    201.3,  19.0132,  35.6847,2,  35.6828,2,    185.3,1,    193.6,2,     3.45,2,     3.10,2,     0.02,2,     0.34,2,    2.270,6,    1.320,6,    0.184,4,   2069.1,2,   2334.9,2,   7.9828,2,    25.00,   -999.0,9,   -999.0,  -999.00,9,  -999.00,  -999.00,9,  19.0120,2
  49NZ20031209,  I3I4,   468,  1,     31,  12019,2,20040113,1721,-19.9997,  98.7162, 6305,    301.9,  14.8890,  35.4979,2,  35.4989,2,    196.9,1,    205.6,2,     3.91,2,     6.25,2,     0.01,2,     0.56,2,    2.777,2,    1.550,2,    0.057,4,   2105.3,2,   2329.4,2,   7.9088,2,    25.00,   -999.0,9,   -999.0,  -999.00,9,  -999.00,  -999.00,9,  14.8919,2
  49NZ20031209,  I3I4,   468,  1,     30,  12018,2,20040113,1721,-19.9997,  98.7162, 6305,    402.3,  11.8176,  35.0827,2,  35.0850,2,    226.6,1,    237.3,2,     2.23,2,     9.25,2,     0.01,2,     0.74,2,    3.363,2,    1.882,2,    0.149,4,   2109.2,2,   2309.5,2,   7.8645,2,    25.00,   -999.0,9,   -999.0,  -999.00,9,  -999.00,  -999.00,9,  11.8233,2
  49NZ20031209,  I3I4,   468,  1,     29,  12017,2,20040113,1721,-19.9997,  98.7162, 6305,    500.7,   9.6645,  34.7473,2,  34.7474,2,    223.8,1,    234.4,2,     4.44,2,    15.38,2,     0.00,2,     1.11,2,    3.539,2,    1.802,2,    0.155,4,   2124.9,2,   2292.6,2,   7.8007,2,    25.00,   -999.0,9,   -999.0,  -999.00,9,  -999.00,  -999.00,9,   9.6658,2
  49NZ20031209,  I3I4,   468,  1,     28,  12016,2,20040113,1721,-19.9997,  98.7162, 6305,    600.5,   8.3323,  34.5864,2,  34.5861,2,    208.3,1,    218.4,2,     9.74,2,    20.62,2,     0.00,2,     1.43,2,    2.859,2,    1.398,2,    0.126,4,   2144.1,2,   2288.2,2,   7.7464,2,    25.00,   -999.0,9,   -999.0,  -999.00,9,  -999.00,  -999.00,9,   8.3326,2
  49NZ20031209,  I3I4,   468,  1,     27,  12012,2,20040113,1721,-19.9997,  98.7162, 6305,    701.3,   6.5938,  34.4950,2,  34.4974,2,    165.9,1,    173.8,2,    29.50,2,    28.46,2,     0.01,2,     1.97,2,    1.146,2,    0.518,2,    0.036,4,   2192.2,2,   2292.4,2,   7.6506,2,    25.00,   -999.0,9,   -999.0,  -999.00,9,  -999.00,  -999.00,9,   6.5950,2
  49NZ20031209,  I3I4,   468,  1,     26,  12014,2,20040113,1721,-19.9997,  98.7162, 6305,    799.5,   5.9361,  34.5740,2,  34.5739,2,    116.4,1,    121.6,2,    57.88,2,    33.68,2,     0.00,2,     2.39,2,    0.181,2,    0.069,2,    0.000,4,   2246.4,6,   2326.6,2,   7.5726,2,    25.00,   -999.0,9,   -999.0,  -999.00,9,  -999.00,  -999.00,9,   5.9360,2
  49NZ20031209,  I3I4,   468,  1,     25,  12013,2,20040113,1721,-19.9997,  98.7162, 6305,    900.2,   5.5303,  34.6259,2,  34.6256,2,     95.9,1,     99.6,2,    75.62,2,    35.80,2,     0.00,2,     2.56,2,    0.032,2,    0.010,2,    0.000,4,   2274.2,2,   2343.3,6,   7.5386,6,    25.00,   -999.0,9,   -999.0,  -999.00,9,  -999.00,  -999.00,9,   5.5308,2
  49NZ20031209,  I3I4,   468,  1,     24,  12048,2,20040113,1721,-19.9997,  98.7162, 6305,   1000.6,   5.1569,  34.6487,2,  34.6481,2,     94.1,1,     97.8,2,    83.53,2,    36.18,2,     0.00,2,     2.60,2,    0.013,6,    0.002,6,    0.000,4,   2285.0,2,   2349.8,2,   7.5338,2,    25.00,   -999.0,9,   -999.0,  -999.00,9,  -999.00,  -999.00,9,   5.1577,2
  49NZ20031209,  I3I4,   468,  1,     23,  12047,2,20040113,1721,-19.9997,  98.7162, 6305,   1200.4,   4.5447,  34.6572,2,  34.6569,2,    100.3,1,    104.6,2,    90.60,2,    36.32,2,     0.01,2,     2.61,2,    0.004,2,    0.013,2,    0.000,4,   2289.5,2,   2365.5,2,   7.5365,2,    25.00,   -999.0,9,   -999.0,  -999.00,9,  -999.00,  -999.00,9,   4.5446,2
  49NZ20031209,  I3I4,   468,  1,     22,  12046,2,20040113,1721,-19.9997,  98.7162, 6305,   1403.4,   3.9611,  34.6700,2,  34.6704,2,    109.8,1,    114.8,2,    95.06,2,    36.11,2,     0.01,2,     2.59,2,    0.005,2,    0.017,2,    0.000,4,   2291.7,2,   2363.4,2,   7.5437,2,    25.00,   -999.0,9,   -999.0,  -999.00,9,  -999.00,  -999.00,9,   3.9618,2
  49NZ20031209,  I3I4,   468,  1,     21,  12045,2,20040113,1721,-19.9997,  98.7162, 6305,   1598.0,   3.3664,  34.6879,2,  34.6881,2,    121.6,1,    127.9,2,    99.80,2,    35.64,2,     0.00,2,     2.54,2,    0.000,2,    0.008,2,    0.000,4,   2291.6,2,   2370.1,2,   7.5552,2,    25.00,   -999.0,9,   -999.0,  -999.00,9,  -999.00,  -999.00,9,   3.3666,2
  49NZ20031209,  I3I4,   468,  1,     20,  12044,2,20040113,1721,-19.9997,  98.7162, 6305,   1799.2,   2.9135,  34.7059,2,  34.7062,2,    130.3,1,    137.8,2,   105.41,2,    35.20,2,     0.00,2,     2.50,2,    0.001,2,    0.013,2,    0.000,4,   2293.4,2,   2375.9,2,   7.5667,2,    25.00,   -999.0,9,   -999.0,  -999.00,9,  -999.00,  -999.00,9,   2.9136,2
  49NZ20031209,  I3I4,   468,  1,     19,  12043,2,20040113,1721,-19.9997,  98.7162, 6305,   1999.4,   2.5679,  34.7177,2,  34.7185,2,    137.8,1,    146.2,2,   110.00,2,    34.74,2,     0.00,2,     2.47,2,    0.000,2,    0.000,2,    0.000,4,   2295.5,2,   2380.2,2,   7.5766,2,    25.00,   -999.0,9,   -999.0,  -999.00,9,  -999.00,  -999.00,9,   2.5678,2
  49NZ20031209,  I3I4,   468,  1,     18,  12042,2,20040113,1721,-19.9997,  98.7162, 6305,   2199.4,   2.2821,  34.7240,2,  34.7237,2,    145.2,1,    154.1,2,   113.05,2,    34.38,2,     0.01,2,     2.43,2,    0.000,2,   -0.004,2,    0.000,4,   2293.1,2,   2382.5,2,   7.5846,6,    25.00,   -999.0,9,   -999.0,  -999.00,9,  -999.00,  -999.00,9,   2.2821,2
  49NZ20031209,  I3I4,   468,  1,     17,  12041,2,20040113,1721,-19.9997,  98.7162, 6305,   2399.8,   2.0568,  34.7266,2,  34.7269,2,    150.7,1,    160.4,2,   116.16,2,    34.01,2,     0.00,2,     2.40,2,   -0.005,2,   -0.003,2,    0.000,4,   2292.5,6,   2382.4,2,   7.5934,2,    25.00,   -999.0,9,   -999.0,  -999.00,9,  -999.00,  -999.00,9,   2.0565,2
  49NZ20031209,  I3I4,   468,  1,     16,  12040,2,20040113,1721,-19.9997,  98.7162, 6305,   2599.8,   1.9091,  34.7272,2,  34.7274,2,    155.0,1,    165.4,2,   118.08,2,    33.92,2,     0.01,2,     2.37,2,   -0.002,2,    0.004,2,    0.000,4,   2292.5,2,   2386.8,2,   7.5997,2,    25.00,   -999.0,9,   -999.0,  -999.00,9,  -999.00,  -999.00,9,   1.9090,2
  49NZ20031209,  I3I4,   468,  1,     15,  12039,2,20040113,1721,-19.9997,  98.7162, 6305,   2800.2,   1.7896,  34.7267,2,  34.7267,2,    158.2,1,    169.1,2,   119.86,2,    33.73,2,     0.00,2,     2.37,2,    0.002,2,   -0.003,2,    0.000,4,   2292.6,2,   2390.3,6,   7.6037,2,    25.00,   -999.0,9,   -999.0,  -999.00,9,  -999.00,  -999.00,9,   1.7904,2
  49NZ20031209,  I3I4,   468,  1,     14,  12038,2,20040113,1721,-19.9997,  98.7162, 6305,   3000.3,   1.6605,  34.7257,2,  34.7256,2,    161.9,1,    173.4,2,   121.66,2,    33.58,2,     0.01,2,     2.36,2,    0.000,2,   -0.011,2,    0.000,4,   2292.5,2,   2379.9,4,   7.6084,2,    25.00,   -999.0,9,   -999.0,  -999.00,9,  -999.00,  -999.00,9,   1.6605,2
  49NZ20031209,  I3I4,   468,  1,     13,  12037,2,20040113,1721,-19.9997,  98.7162, 6305,   3249.7,   1.5346,  34.7236,2,  34.7236,2,    165.2,1,    177.1,2,   123.53,2,    33.47,2,     0.00,2,     2.34,2,   -0.003,2,    0.030,3,    0.000,4,   2293.7,2,   2392.1,2,   7.6108,2,    25.00,   -999.0,9,   -999.0,  -999.00,9,  -999.00,  -999.00,9,   1.5345,2
  49NZ20031209,  I3I4,   468,  1,     12,  12036,2,20040113,1721,-19.9997,  98.7162, 6305,   3499.0,   1.4335,  34.7212,2,  34.7208,2,    167.4,1,    179.6,2,   126.42,2,    33.52,2,     0.00,2,     2.33,2,   -0.001,2,    0.011,2,    0.000,4,   2295.0,2,   2389.1,2,   7.6138,2,    25.00,   -999.0,9,   -999.0,  -999.00,9,  -999.00,  -999.00,9,   1.4332,2
  49NZ20031209,  I3I4,   468,  1,     11,  12035,2,20040113,1721,-19.9997,  98.7162, 6305,   3749.7,   1.3489,  34.7188,2,  34.7188,2,    171.1,1,    183.5,2,   126.85,2,    33.33,2,     0.00,2,     2.32,2,   -0.001,2,    0.001,2,    0.000,4,   2292.1,2,   2391.7,2,   7.6169,2,    25.00,   -999.0,9,   -999.0,  -999.00,9,  -999.00,  -999.00,9,   1.3490,2
  49NZ20031209,  I3I4,   468,  1,     10,  12034,2,20040113,1721,-19.9997,  98.7162, 6305,   3999.7,   1.2860,  34.7172,2,  34.7170,2,    175.2,1,    187.8,2,   126.22,2,    33.21,2,     0.00,2,     2.30,2,    0.001,2,   -0.007,2,    0.000,4,   2289.6,2,   2392.5,2,   7.6211,2,    25.00,   -999.0,9,   -999.0,  -999.00,9,  -999.00,  -999.00,9,   1.2860,2
  49NZ20031209,  I3I4,   468,  1,      9,  12033,2,20040113,1721,-19.9997,  98.7162, 6305,   4249.5,   1.2257,  34.7158,2,  34.7155,2,    180.2,1,    192.7,2,   125.09,2,    32.98,2,     0.00,2,     2.28,2,    0.005,2,   -0.004,2,    0.000,4,   2282.6,2,   2384.2,2,   7.6244,2,    25.00,   -999.0,9,   -999.0,  -999.00,9,  -999.00,  -999.00,9,   1.2254,2
  49NZ20031209,  I3I4,   468,  1,      8,  12032,2,20040113,1721,-19.9997,  98.7162, 6305,   4500.3,   1.1848,  34.7146,2,  34.7147,2,    184.6,1,    197.3,2,   123.37,2,    32.66,2,     0.00,2,     2.26,2,   -0.002,2,   -0.004,2,    0.000,4,   2279.9,6,   2376.5,4,   7.6278,2,    25.00,   -999.0,9,   -999.0,  -999.00,9,  -999.00,  -999.00,9,   1.1848,2
  49NZ20031209,  I3I4,   468,  1,      7,  12031,2,20040113,1721,-19.9997,  98.7162, 6305,   4749.7,   1.1508,  34.7133,2,  34.7136,2,    188.1,1,    200.4,2,   122.91,2,    32.54,2,     0.00,2,     2.24,2,    0.002,2,   -0.004,2,    0.000,4,   2274.5,2,   2386.8,2,   7.6287,2,    25.00,   -999.0,9,   -999.0,  -999.00,9,  -999.00,  -999.00,9,   1.1512,2
  49NZ20031209,  I3I4,   468,  1,      6,  12030,2,20040113,1721,-19.9997,  98.7162, 6305,   4998.6,   1.1258,  34.7116,2,  34.7113,3,    190.7,1,    202.8,2,   122.32,2,    32.45,2,     0.00,2,     2.24,2,    0.003,2,   -0.005,2,    0.000,4,   2272.8,2,   2385.2,2,   7.6264,6,    25.00,   -999.0,9,   -999.0,  -999.00,9,  -999.00,  -999.00,9,   1.1256,2
  49NZ20031209,  I3I4,   468,  1,      5,  12029,2,20040113,1721,-19.9997,  98.7162, 6305,   5249.0,   1.1200,  34.7105,2,  34.7104,2,    192.8,1,    204.2,2,   122.48,2,    32.45,2,     0.00,2,     2.23,2,    0.001,2,   -0.001,2,    0.000,4,   2272.6,2,   2377.6,2,   7.6249,2,    25.00,   -999.0,9,   -999.0,  -999.00,9,  -999.00,  -999.00,9,   1.1199,2
  49NZ20031209,  I3I4,   468,  1,      4,  12028,2,20040113,1721,-19.9997,  98.7162, 6305,   5498.7,   1.1417,  34.7101,2,  34.7105,2,    194.1,1,    204.7,2,   122.23,2,    32.40,2,     0.00,2,     2.23,2,    0.005,2,    0.000,2,    0.000,4,   2269.8,2,   2374.0,2,   7.6255,2,    25.00,   -999.0,9,   -999.0,  -999.00,9,  -999.00,  -999.00,9,   1.1416,2
  49NZ20031209,  I3I4,   468,  1,      3,  12027,2,20040113,1721,-19.9997,  98.7162, 6305,   5749.7,   1.1688,  34.7099,2,  34.7096,3,    195.5,1,    204.9,2,   122.28,2,    32.41,2,     0.00,2,     2.23,2,    0.006,2,    0.002,2,    0.000,4,   2269.8,2,   2371.4,2,   7.6251,2,    25.00,   -999.0,9,   -999.0,  -999.00,9,  -999.00,  -999.00,9,   1.1688,2
  49NZ20031209,  I3I4,   468,  1,      2,  12026,2,20040113,1721,-19.9997,  98.7162, 6305,   5999.9,   1.2011,  34.7097,2,  34.7100,2,    196.9,1,    205.0,2,   122.52,2,    32.39,2,     0.00,2,     2.23,2,    0.006,2,    0.003,2,    0.000,4,   2270.9,2,   2376.0,2,   7.6245,2,    25.00,   -999.0,9,   -999.0,  -999.00,9,  -999.00,  -999.00,9,   1.2011,2
  49NZ20031209,  I3I4,   468,  1,      1,  12025,2,20040113,1721,-19.9997,  98.7162, 6305,   6417.8,   1.2592,  34.7096,2,  34.7097,2,    200.3,1,    204.9,2,   122.30,2,    32.45,2,     0.01,2,     2.23,2,    0.011,2,    0.005,2,    0.000,4,   2269.9,2,   2375.1,2,   7.6246,2,    25.00,   -999.0,9,   -999.0,  -999.00,9,  -999.00,  -999.00,9,   1.2592,2