BOTTLE,20141204PRINUNIVRMK
EXPOCODE,SECT_ID,STNNBR,CASTNO,SAMPNO,BTLNBR,BTLNBR_FLAG_W,DATE,TIME,LATITUDE,LONGITUDE,DEPTH,CTDPRS,CTDTMP,CTDSAL,CTDSAL_FLAG_W,SALNTY,SALNTY_FLAG_W,CTDOXY,CTDOXY_FLAG_W,OXYGEN,OXYGEN_FLAG_W,SILCAT,SILCAT_FLAG_W,NITRAT,NITRAT_FLAG_W,NITRIT,NITRIT_FLAG_W,PHSPHT,PHSPHT_FLAG_W,CFC-11,CFC-11_FLAG_W,CFC-12,CFC-12_FLAG_W,CFC113,CFC113_FLAG_W,TCARBN,TCARBN_FLAG_W,ALKALI,ALKALI_FLAG_W,PH_TOT,PH_TOT_FLAG_W,PH_TMP,DELC14,DELC14_FLAG_W,C14ERR,DELC13,DELC13_FLAG_W,CS-137,CS137ER,CS-137_FLAG_W,SBE35,SBE35_FLAG_W
,,,,,,,,,,,METERS,DBAR,ITS-90,PSS-78,,PSS-78,,UMOL/KG,,UMOL/KG,,UMOL/KG,,UMOL/KG,,UMOL/KG,,UMOL/KG,,PMOL/KG,,PMOL/KG,,PMOL/KG,,UMOL/KG,,UMOL/KG,,,,DEG C,/MILLE,,/MILLE,/MILLE,,DM/.1MG,DM/.1MG,,ITS-90,
  49NZ20031209,  I3I4,   553,  1,     36,  12024,2,20031221,2321,-19.9913,  51.7808, 4938,      9.7,  27.6657,  35.0153,2,  35.0157,2,    192.2,1,    201.1,2,     1.85,2,    -0.01,2,    -0.01,2,     0.12,2,    1.673,2,    1.001,2,    0.283,4,   1968.6,2,   2293.9,2,   8.0877,2,    25.00,   -999.0,9,   -999.0,  -999.00,9,  -999.00,  -999.00,9,  27.6586,2
  49NZ20031209,  I3I4,   553,  1,     35,  12023,2,20031221,2321,-19.9913,  51.7808, 4938,     50.1,  24.6393,  35.0989,2,  35.0985,2,    210.0,1,    220.0,2,     1.79,2,    -0.03,2,    -0.01,2,     0.09,2,    1.911,2,    1.132,2, -999.000,5,   1972.0,6,   2294.4,2,   8.0866,2,    25.00,   -999.0,9,   -999.0,  -999.00,9,  -999.00,  -999.00,9,  24.6368,2
  49NZ20031209,  I3I4,   553,  1,     34,  12022,2,20031221,2321,-19.9913,  51.7808, 4938,    100.3,  22.3928,  35.2115,2,  35.2136,2,    198.0,1,    207.2,2,     2.21,2,     0.37,2,     0.09,2,     0.17,2,    2.005,2,    1.193,2,    0.394,4,   1998.4,2,   2302.5,6,   8.0510,2,    25.00,   -999.0,9,   -999.0,  -999.00,9,  -999.00,  -999.00,9,  22.3911,2
  49NZ20031209,  I3I4,   553,  1,     33,  12015,2,20031221,2321,-19.9913,  51.7808, 4938,    150.1,  20.6026,  35.4353,2,  35.4383,2,    165.6,1,    173.1,2,     4.80,2,     5.05,2,     0.02,2,     0.44,2,    2.035,2,    1.203,2,    0.134,4,   2055.2,2,   2319.4,2,   7.9722,6,    25.00,   -999.0,9,   -999.0,  -999.00,9,  -999.00,  -999.00,9,  20.6037,2
  49NZ20031209,  I3I4,   553,  1,     32,  12020,2,20031221,2321,-19.9913,  51.7808, 4938,    203.8,  18.7832,  35.6153,2,  35.6149,2,    169.8,1,    177.0,2,     5.29,2,     5.61,2,     0.00,2,     0.48,2,    2.201,2,    1.262,2,    0.096,4,   2083.4,2,   2328.8,2,   7.9425,2,    25.00,   -999.0,9,   -999.0,  -999.00,9,  -999.00,  -999.00,9,  18.7884,2
  49NZ20031209,  I3I4,   553,  1,     31,  12019,2,20031221,2321,-19.9913,  51.7808, 4938,    251.3,  16.8967,  35.5854,2,  35.5850,2,    175.4,1,    182.8,2,     5.85,2,     6.71,2,     0.00,2,     0.57,2,    2.365,6,    1.317,6,    0.059,4,   2099.6,2,   2326.6,2,   7.9122,2,    25.00,   -999.0,9,   -999.0,  -999.00,9,  -999.00,  -999.00,9,  16.8955,2
  49NZ20031209,  I3I4,   553,  1,     30,  12018,2,20031221,2321,-19.9913,  51.7808, 4938,    300.6,  15.5041,  35.5253,2,  35.5155,2,    191.6,1,    198.7,2,     4.71,2,     6.74,2,     0.00,2,     0.58,2,    2.609,2,    1.440,2,    0.054,4,   2102.7,2,   2328.7,2,   7.9005,2,    25.00,   -999.0,9,   -999.0,  -999.00,9,  -999.00,  -999.00,9,  15.5004,2
  49NZ20031209,  I3I4,   553,  1,     29,  12017,3,20031221,2321,-19.9913,  51.7808, 4938,    400.7,  13.0504,  35.2580,2,  35.2577,2,    212.9,1,    221.5,4,     3.71,2,     9.10,2,    -0.01,2,     0.71,2,    3.033,4,    1.616,4,    0.076,4,   2106.4,2,   2313.5,2,   7.8704,2,    25.00,   -999.0,9,   -999.0,  -999.00,9,  -999.00,  -999.00,9,  13.0518,2
  49NZ20031209,  I3I4,   553,  1,     28,  12016,2,20031221,2321,-19.9913,  51.7808, 4938,    500.3,  11.4793,  35.0225,2,  35.0172,2,    215.0,1,    224.0,2,     4.46,2,    12.34,2,     0.00,2,     0.91,2,    3.110,2,    1.609,2,    0.090,4,   2116.6,2,   2303.2,2,   7.8344,2,    25.00,   -999.0,9,   -999.0,  -999.00,9,  -999.00,  -999.00,9,  11.4795,2
  49NZ20031209,  I3I4,   553,  1,     27,  12012,2,20031221,2321,-19.9913,  51.7808, 4938,    600.1,  10.2199,  34.8389,2,  34.8376,2,    219.3,1,    228.3,2,     4.83,2,    14.78,2,    -0.01,2,     1.06,2,    3.121,2,    1.588,2,    0.096,4,   2120.3,2,   2299.0,2,   7.8091,2,    25.00,   -999.0,9,   -999.0,  -999.00,9,  -999.00,  -999.00,9,  10.2207,2
  49NZ20031209,  I3I4,   553,  1,     26,  12014,2,20031221,2321,-19.9913,  51.7808, 4938,    700.9,   8.7728,  34.6534,2,  34.6515,2,    208.1,1,    216.2,2,     9.06,2,    19.66,2,    -0.01,2,     1.37,2,    2.456,2,    1.219,2,    0.057,4,   2138.5,6,   2290.4,2,   7.7606,2,    25.00,   -999.0,9,   -999.0,  -999.00,9,  -999.00,  -999.00,9,   8.7730,2
  49NZ20031209,  I3I4,   553,  1,     25,  12013,2,20031221,2321,-19.9913,  51.7808, 4938,    799.4,   7.3753,  34.5829,2,  34.5829,2,    169.6,1,    175.5,2,    26.34,2,    26.51,2,    -0.01,2,     1.84,2,    1.182,2,    0.591,2,    0.028,4,   2183.0,2,   2300.0,6,   7.6769,2,    25.00,   -999.0,9,   -999.0,  -999.00,9,  -999.00,  -999.00,9,   7.3758,2
  49NZ20031209,  I3I4,   553,  1,     24,  12048,2,20031221,2321,-19.9913,  51.7808, 4938,    900.0,   5.9519,  34.5233,2,  34.5229,2,    157.5,1,    163.8,2,    40.09,2,    30.47,2,    -0.01,2,     2.11,2,    0.614,2,    0.306,2,    0.017,4,   2208.5,2,   2311.7,2,   7.6301,6,    25.00,   -999.0,9,   -999.0,  -999.00,9,  -999.00,  -999.00,9,   5.9511,2
  49NZ20031209,  I3I4,   553,  1,     23,  12047,2,20031221,2321,-19.9913,  51.7808, 4938,   1000.1,   5.2535,  34.5798,2,  34.5811,2,    132.8,1,    137.8,2,    59.84,2,    33.41,2,     0.00,2,     2.35,2,    0.207,2,    0.111,2,    0.000,4,   2243.6,2,   2330.3,2,   7.5894,2,    25.00,   -999.0,9,   -999.0,  -999.00,9,  -999.00,  -999.00,9,   5.2532,2
  49NZ20031209,  I3I4,   553,  1,     22,  12046,2,20031221,2321,-19.9913,  51.7808, 4938,   1199.7,   4.0665,  34.6163,2,  34.6170,2,    133.5,1,    138.8,2,    76.08,2,    34.63,2,    -0.01,2,     2.44,2, -999.000,5, -999.000,5, -999.000,5,   2244.0,4,   2345.5,2,   7.5753,2,    25.00,   -999.0,9,   -999.0,  -999.00,9,  -999.00,  -999.00,9,   4.0667,2
  49NZ20031209,  I3I4,   553,  1,     21,  12045,2,20031221,2321,-19.9913,  51.7808, 4938,   1401.3,   3.3372,  34.6507,2,  34.6512,2,    143.2,1,    149.3,2,    84.16,2,    34.31,2,    -0.01,2,     2.41,2,    0.035,2,    0.012,2,    0.000,4,   2267.4,2,   2352.7,2,   7.5820,2,    25.00,   -999.0,9,   -999.0,  -999.00,9,  -999.00,  -999.00,9,   3.3393,2
  49NZ20031209,  I3I4,   553,  1,     20,  12044,2,20031221,2321,-19.9913,  51.7808, 4938,   1600.9,   2.8797,  34.6836,2,  34.6833,2,    150.2,1,    157.0,2,    91.44,2,    33.81,2,    -0.01,2,     2.38,2,    0.005,2,    0.004,2,    0.000,4,   2272.2,2,   2362.4,2,   7.5925,2,    25.00,   -999.0,9,   -999.0,  -999.00,9,  -999.00,  -999.00,9,   2.8798,2
  49NZ20031209,  I3I4,   553,  1,     19,  12043,2,20031221,2321,-19.9913,  51.7808, 4938,   1800.6,   2.5853,  34.7077,2,  34.7083,2,    152.7,1,    160.0,2,    99.22,2,    33.71,2,    -0.01,2,     2.37,2,    0.005,2,    0.003,2,    0.000,4,   2277.5,2,   2369.0,2,   7.5978,2,    25.00,   -999.0,9,   -999.0,  -999.00,9,  -999.00,  -999.00,9,   2.5853,2
  49NZ20031209,  I3I4,   553,  1,     18,  12042,2,20031221,2321,-19.9913,  51.7808, 4938,   2000.3,   2.3806,  34.7224,2,  34.7228,2,    154.2,1,    161.5,2,   105.28,2,    33.70,2,    -0.01,2,     2.37,2,   -0.003,2,    0.000,2,    0.000,4,   2283.1,2,   2375.9,2,   7.5995,6,    25.00,   -999.0,9,   -999.0,  -999.00,9,  -999.00,  -999.00,9,   2.3806,2
  49NZ20031209,  I3I4,   553,  1,     17,  12041,2,20031221,2321,-19.9913,  51.7808, 4938,   2201.0,   2.2070,  34.7333,2,  34.7336,2,    153.0,1,    160.3,2,   113.10,2,    34.03,2,    -0.01,2,     2.39,2,    0.001,2,   -0.001,2,    0.000,4,   2291.4,2,   2387.7,2,   7.5998,2,    25.00,   -999.0,9,   -999.0,  -999.00,9,  -999.00,  -999.00,9,   2.2072,2
  49NZ20031209,  I3I4,   553,  1,     16,  12040,2,20031221,2321,-19.9913,  51.7808, 4938,   2402.0,   2.1025,  34.7377,2,  34.7377,2,    152.4,1,    159.9,2,   117.74,2,    34.23,2,    -0.01,2,     2.41,2,    0.006,2,    0.001,2,    0.000,4,   2296.0,6,   2390.1,2,   7.6006,2,    25.00,   -999.0,9,   -999.0,  -999.00,9,  -999.00,  -999.00,9,   2.1027,2
  49NZ20031209,  I3I4,   553,  1,     15,  12039,2,20031221,2321,-19.9913,  51.7808, 4938,   2602.1,   1.9916,  34.7381,2,  34.7378,2,    153.6,1,    161.1,2,   121.01,2,    34.26,2,     0.00,2,     2.41,2,    0.002,2,    0.001,2,   -0.001,4,   2297.4,2,   2394.7,6,   7.6036,2,    25.00,   -999.0,9,   -999.0,  -999.00,9,  -999.00,  -999.00,9,   1.9917,2
  49NZ20031209,  I3I4,   553,  1,     14,  12038,2,20031221,2321,-19.9913,  51.7808, 4938,   2802.1,   1.9238,  34.7385,2,  34.7387,2,    154.3,1,    161.6,2,   123.56,2,    34.35,2,    -0.01,2,     2.41,2,    0.003,2,    0.002,2,   -0.001,4,   2300.3,2,   2397.8,2,   7.6030,6,    25.00,   -999.0,9,   -999.0,  -999.00,9,  -999.00,  -999.00,9,   1.9238,2
  49NZ20031209,  I3I4,   553,  1,     13,  12037,2,20031221,2321,-19.9913,  51.7808, 4938,   3000.3,   1.8291,  34.7365,2,  34.7365,2,    156.4,1,    163.9,2,   125.46,2,    34.34,2,    -0.01,2,     2.40,2,   -0.006,2,   -0.004,2,   -0.001,4,   2299.2,2,   2400.7,2,   7.6059,2,    25.00,   -999.0,9,   -999.0,  -999.00,9,  -999.00,  -999.00,9,   1.8292,2
  49NZ20031209,  I3I4,   553,  1,     12,  12036,2,20031221,2321,-19.9913,  51.7808, 4938,   3252.5,   1.7387,  34.7343,2,  34.7343,2,    159.6,1,    166.9,2,   126.96,2,    34.21,2,    -0.01,2,     2.39,2,   -0.006,2,   -0.001,2,   -0.001,4,   2299.3,2,   2399.3,2,   7.6080,2,    25.00,   -999.0,9,   -999.0,  -999.00,9,  -999.00,  -999.00,9,   1.7387,2
  49NZ20031209,  I3I4,   553,  1,     11,  12035,2,20031221,2321,-19.9913,  51.7808, 4938,   3502.2,   1.6182,  34.7305,2,  34.7310,2,    164.7,1,    172.2,2,   127.76,2,    34.07,2,    -0.01,2,     2.37,2,   -0.001,2,    0.000,2,   -0.001,4,   2297.2,2,   2396.5,2,   7.6100,2,    25.00,   -999.0,9,   -999.0,  -999.00,9,  -999.00,  -999.00,9,   1.6182,2
  49NZ20031209,  I3I4,   553,  1,     10,  12034,2,20031221,2321,-19.9913,  51.7808, 4938,   3751.5,   1.4506,  34.7248,2,  34.7245,2,    173.2,1,    180.7,2,   126.79,2,    33.69,2,    -0.01,2,     2.35,2,    0.005,2,    0.005,2,   -0.001,4,   2289.6,2,   2389.1,2,   7.6152,2,    25.00,   -999.0,9,   -999.0,  -999.00,9,  -999.00,  -999.00,9,   1.4507,2
  49NZ20031209,  I3I4,   553,  1,      9,  12033,2,20031221,2321,-19.9913,  51.7808, 4938,   4001.7,   1.2926,  34.7192,2,  34.7189,2,    183.0,1,    190.7,2,   124.39,2,    33.13,2,     0.00,2,     2.29,2,   -0.002,2,    0.004,2,   -0.001,4,   2279.8,2,   2379.6,2,   7.6186,2,    25.00,   -999.0,9,   -999.0,  -999.00,9,  -999.00,  -999.00,9,   1.2926,2
  49NZ20031209,  I3I4,   553,  1,      8,  12032,2,20031221,2321,-19.9913,  51.7808, 4938,   4753.5,   1.0175,  34.7069,2,  34.7071,2,    199.9,1,    206.3,2,   123.03,2,    32.52,2,    -0.01,2,     2.24,2,    0.016,2,    0.009,2,   -0.001,4,   2265.1,6,   2369.8,2,   7.6224,2,    25.00,   -999.0,9,   -999.0,  -999.00,9,  -999.00,  -999.00,9,   1.0176,2
  49NZ20031209,  I3I4,   553,  1,      7,  12031,2,20031221,2321,-19.9913,  51.7808, 4938,   4501.8,   1.0345,  34.7087,2,  34.7080,2,    197.1,1,    204.4,2,   123.35,2,    32.59,2,     0.00,2,     2.25,2,    0.017,2,    0.010,2,   -0.001,4,   2266.9,2,   2369.9,6,   7.6208,2,    25.00,   -999.0,9,   -999.0,  -999.00,9,  -999.00,  -999.00,9,   1.0344,2
  49NZ20031209,  I3I4,   553,  1,      6,  12030,2,20031221,2321,-19.9913,  51.7808, 4938,   4752.5,   1.0177,  34.7069,2,  34.7066,2,    200.0,1,    206.3,2,   123.29,2,    32.50,2,    -0.01,2,     2.24,2,    0.023,2,    0.011,2,   -0.001,4,   2266.2,2,   2365.7,2,   7.6226,2,    25.00,   -999.0,9,   -999.0,  -999.00,9,  -999.00,  -999.00,9,   1.0176,2
  49NZ20031209,  I3I4,   553,  1,      5,  12029,2,20031221,2321,-19.9913,  51.7808, 4938,   5007.7,   1.0230,  34.7056,2,  34.7060,2,    202.6,1,    207.2,2,   123.19,2,    32.52,2,    -0.01,2,     2.25,2,    0.022,2,    0.013,2,   -0.001,4,   2265.8,2,   2364.8,2,   7.6224,2,    25.00,   -999.0,9,   -999.0,  -999.00,9,  -999.00,  -999.00,9,   1.0230,2
  49NZ20031209,  I3I4,   553,  1,      4,  12028,9,20031221,2321,-19.9913,  51.7808, 4938,      4.9,  27.7086,  35.0186,2,-999.0000,9,    192.1,1,   -999.0,9,  -999.00,9,  -999.00,9,  -999.00,9,  -999.00,9, -999.000,9, -999.000,9, -999.000,9,   -999.0,9,   -999.0,9,-999.0000,9,  -999.00,   -999.0,9,   -999.0,  -999.00,9,  -999.00,  -999.00,9,  27.6961,2
  49NZ20031209,  I3I4,   553,  1,      3,  12027,9,20031221,2321,-19.9913,  51.7808, 4938,      5.0,  27.6629,  35.0167,2,-999.0000,9,    192.2,1,   -999.0,9,  -999.00,9,  -999.00,9,  -999.00,9,  -999.00,9, -999.000,9, -999.000,9, -999.000,9,   -999.0,9,   -999.0,9,-999.0000,9,  -999.00,   -999.0,9,   -999.0,  -999.00,9,  -999.00,  -999.00,9,  27.6602,2
  49NZ20031209,  I3I4,   553,  1,      2,  12026,9,20031221,2321,-19.9913,  51.7808, 4938,    100.2,  22.3989,  35.2110,2,-999.0000,9,    198.0,1,   -999.0,9,  -999.00,9,  -999.00,9,  -999.00,9,  -999.00,9, -999.000,9, -999.000,9, -999.000,9,   -999.0,9,   -999.0,9,-999.0000,9,  -999.00,   -999.0,9,   -999.0,  -999.00,9,  -999.00,  -999.00,9,  22.3980,2
  49NZ20031209,  I3I4,   553,  1,      1,  12025,2,20031221,2321,-19.9913,  51.7808, 4938,   4250.8,   1.1204,  34.7128,2,  34.7126,2,    192.1,1,    200.0,2,   123.24,2,    32.75,2,     0.00,2,     2.26,2,    0.003,2,    0.002,2,   -0.001,4,   2273.1,2,   2373.0,2,   7.6225,2,    25.00,   -999.0,9,   -999.0,  -999.00,9,  -999.00,  -999.00,9,   1.1204,2