BOTTLE,20141204PRINUNIVRMK
EXPOCODE,SECT_ID,STNNBR,CASTNO,SAMPNO,BTLNBR,BTLNBR_FLAG_W,DATE,TIME,LATITUDE,LONGITUDE,DEPTH,CTDPRS,CTDTMP,CTDSAL,CTDSAL_FLAG_W,SALNTY,SALNTY_FLAG_W,CTDOXY,CTDOXY_FLAG_W,OXYGEN,OXYGEN_FLAG_W,SILCAT,SILCAT_FLAG_W,NITRAT,NITRAT_FLAG_W,NITRIT,NITRIT_FLAG_W,PHSPHT,PHSPHT_FLAG_W,CFC-11,CFC-11_FLAG_W,CFC-12,CFC-12_FLAG_W,CFC113,CFC113_FLAG_W,TCARBN,TCARBN_FLAG_W,ALKALI,ALKALI_FLAG_W,PH_TOT,PH_TOT_FLAG_W,PH_TMP,DELC14,DELC14_FLAG_W,C14ERR,DELC13,DELC13_FLAG_W,CS-137,CS137ER,CS-137_FLAG_W,SBE35,SBE35_FLAG_W
,,,,,,,,,,,METERS,DBAR,ITS-90,PSS-78,,PSS-78,,UMOL/KG,,UMOL/KG,,UMOL/KG,,UMOL/KG,,UMOL/KG,,UMOL/KG,,PMOL/KG,,PMOL/KG,,PMOL/KG,,UMOL/KG,,UMOL/KG,,,,DEG C,/MILLE,,/MILLE,/MILLE,,DM/.1MG,DM/.1MG,,ITS-90,
  49NZ20031209,  I3I4,   539,  1,     36,  12024,2,20031225,0037,-20.3628,  57.9687, 1750,     10.0,  27.1285,  34.9827,2,  34.9841,2,    194.5,1,    203.5,2,     1.73,2,     0.01,2,     0.01,2,     0.10,2,    1.587,2,    0.986,2,    0.470,4,   1967.4,2,   2284.4,2,   8.0862,2,    25.00,   -999.0,9,   -999.0,  -999.00,9,  -999.00,  -999.00,9,  27.1274,2
  49NZ20031209,  I3I4,   539,  1,     35,  12023,2,20031225,0037,-20.3628,  57.9687, 1750,     50.0,  24.6301,  34.9519,2,  34.9526,2,    209.1,1,    218.9,2,     1.98,2,    -0.01,2,     0.00,2,     0.09,2,    1.843,2,    1.101,2, -999.000,5,   1968.4,6,   2288.4,2,   8.0836,2,    25.00,   -999.0,9,   -999.0,  -999.00,9,  -999.00,  -999.00,9,  24.6251,2
  49NZ20031209,  I3I4,   539,  1,     34,  12022,2,20031225,0037,-20.3628,  57.9687, 1750,    101.2,  22.5045,  35.1496,2,  35.1472,2,    202.4,1,    211.5,2,     2.19,2,    -0.01,2,     0.00,2,     0.12,2,    1.889,2,    1.150,2, -999.000,5,   1991.0,2,   2301.1,6,   8.0608,2,    25.00,   -999.0,9,   -999.0,  -999.00,9,  -999.00,  -999.00,9,  22.5003,2
  49NZ20031209,  I3I4,   539,  1,     33,  12015,2,20031225,0037,-20.3628,  57.9687, 1750,    152.7,  21.3158,  35.3871,2,  35.3859,2,    183.4,1,    191.4,2,     3.26,2,     2.43,2,     0.06,2,     0.27,2,    1.901,2,    1.148,2,    0.292,4,   2030.4,2,   2311.9,2,   8.0165,2,    25.00,   -999.0,9,   -999.0,  -999.00,9,  -999.00,  -999.00,9,  21.3166,2
  49NZ20031209,  I3I4,   539,  1,     32,  12020,2,20031225,0037,-20.3628,  57.9687, 1750,    202.2,  19.2465,  35.5993,2,  35.5992,2,    167.7,1,    174.2,2,     5.42,2,     5.52,2,     0.01,2,     0.47,2,    2.024,2,    1.189,2,    0.083,4,   2080.1,2,   2327.3,2,   7.9505,2,    25.00,   -999.0,9,   -999.0,  -999.00,9,  -999.00,  -999.00,9,  19.2445,2
  49NZ20031209,  I3I4,   539,  1,     31,  12019,2,20031225,0037,-20.3628,  57.9687, 1750,    249.4,  18.0187,  35.7235,2,  35.7281,2,    187.2,1,    195.9,2,     3.65,2,     3.67,2,     0.01,2,     0.37,2,    2.268,6,    1.313,6,    0.109,4,   2083.7,2,   2336.5,2,   7.9566,2,    25.00,   -999.0,9,   -999.0,  -999.00,9,  -999.00,  -999.00,9,  18.0094,2
  49NZ20031209,  I3I4,   539,  1,     30,  12018,2,20031225,0037,-20.3628,  57.9687, 1750,    301.2,  16.4270,  35.6765,2,  35.6741,2,    195.2,1,    202.8,2,     3.33,2,     4.36,2,     0.01,2,     0.43,2,    2.511,2,    1.428,2,    0.058,4,   2099.5,2,   2342.1,2,   7.9303,2,    25.00,   -999.0,9,   -999.0,  -999.00,9,  -999.00,  -999.00,9,  16.4227,2
  49NZ20031209,  I3I4,   539,  1,     29,  12021,2,20031225,0037,-20.3628,  57.9687, 1750,    400.8,  13.3393,  35.3038,2,  35.3014,2,    210.3,1,    218.3,2,     3.62,2,     8.38,2,     0.01,2,     0.67,2,    2.871,2,    1.562,2,    0.081,4,   2110.7,2,   2315.2,2,   7.8760,2,    25.00,   -999.0,9,   -999.0,  -999.00,9,  -999.00,  -999.00,9,  13.3413,2
  49NZ20031209,  I3I4,   539,  1,     18,  12042,2,20031225,0037,-20.3628,  57.9687, 1750,    499.9,  11.5895,  35.0460,2,  35.0447,2,    218.1,1,    226.1,2,     4.33,2,    11.71,2,     0.01,2,     0.89,2,    3.053,2,    1.617,2,    0.107,4,   2116.2,2,   2304.3,2,   7.8417,2,    25.00,   -999.0,9,   -999.0,  -999.00,9,  -999.00,  -999.00,9,  11.5902,2
  49NZ20031209,  I3I4,   539,  1,     17,  12041,2,20031225,0037,-20.3628,  57.9687, 1750,    599.9,  10.2678,  34.8469,2,  34.8476,2,    221.1,1,    229.1,2,     4.70,2,    14.55,2,     0.01,2,     1.05,2,    3.047,2,    1.562,2,    0.105,4,   2122.5,2,   2294.5,2,   7.8128,2,    25.00,   -999.0,9,   -999.0,  -999.00,9,  -999.00,  -999.00,9,  10.2681,2
  49NZ20031209,  I3I4,   539,  1,     16,  12040,2,20031225,0037,-20.3628,  57.9687, 1750,    698.3,   8.7071,  34.6550,2,  34.6550,2,    205.0,1,    211.2,2,    11.00,2,    20.23,2,    -0.01,2,     1.41,2,    2.272,2,    1.140,2,    0.055,4,   2143.0,6,   2288.5,2,   7.7525,2,    25.00,   -999.0,9,   -999.0,  -999.00,9,  -999.00,  -999.00,9,   8.7040,2
  49NZ20031209,  I3I4,   539,  1,     15,  12039,2,20031225,0037,-20.3628,  57.9687, 1750,    799.2,   7.1155,  34.5377,2,  34.5409,2,    181.2,1,    185.9,2,    23.51,2,    26.25,2,     0.00,2,     1.82,2,    1.208,2,    0.626,2,    0.028,4,   2176.6,2,   2294.8,6,   7.6845,2,    25.00,   -999.0,9,   -999.0,  -999.00,9,  -999.00,  -999.00,9,   7.1141,2
  49NZ20031209,  I3I4,   539,  1,     14,  12038,2,20031225,0037,-20.3628,  57.9687, 1750,    899.3,   5.5694,  34.4924,2,  34.4951,2,    160.6,1,    164.7,2,    42.26,2,    31.16,2,     0.00,2,     2.17,2,    0.469,2,    0.237,2,   -0.001,4,   2213.1,2,   2308.7,2,   7.6244,6,    25.00,   -999.0,9,   -999.0,  -999.00,9,  -999.00,  -999.00,9,   5.5690,2
  49NZ20031209,  I3I4,   539,  1,     13,  12037,2,20031225,0037,-20.3628,  57.9687, 1750,   1001.1,   5.0909,  34.5968,2,  34.5966,2,    129.6,1,    132.8,2,    64.68,2,    33.84,2,     0.00,2,     2.41,2,    0.139,6,    0.073,6,   -0.001,4,   2250.9,2,   2335.0,2,   7.5824,2,    25.00,   -999.0,9,   -999.0,  -999.00,9,  -999.00,  -999.00,9,   5.0909,2
  49NZ20031209,  I3I4,   539,  1,     12,  12036,2,20031225,0037,-20.3628,  57.9687, 1750,   1200.7,   4.3967,  34.6310,2,  34.6314,2,    126.8,1,    129.7,2,    76.72,2,    34.84,2,     0.00,2,     2.48,2,    0.039,2,    0.019,2,   -0.001,4,   2266.6,2,   2349.9,2,   7.5714,2,    25.00,   -999.0,9,   -999.0,  -999.00,9,  -999.00,  -999.00,9,   4.3957,2
  49NZ20031209,  I3I4,   539,  1,     11,  12035,2,20031225,0037,-20.3628,  57.9687, 1750,   1403.8,   3.5040,  34.6588,2,  34.6588,2,    139.7,1,    142.9,2,    85.85,2,    34.47,2,     0.01,2,     2.44,2,    0.007,2,    0.001,2,   -0.001,4,   2274.0,2,   2354.3,2,   7.5807,2,    25.00,   -999.0,9,   -999.0,  -999.00,9,  -999.00,  -999.00,9,   3.5039,2
  49NZ20031209,  I3I4,   539,  1,     10,  12034,2,20031225,0037,-20.3628,  57.9687, 1750,   1603.3,   2.9770,  34.6798,2,  34.6797,2,    149.4,1,    153.1,2,    91.64,2,    34.04,2,    -0.01,2,     2.40,2,   -0.001,2,   -0.002,2,   -0.001,4,   2275.4,2,   2360.9,2,   7.5887,2,    25.00,   -999.0,9,   -999.0,  -999.00,9,  -999.00,  -999.00,9,   2.9771,2
  49NZ20031209,  I3I4,   539,  1,      9,  12033,2,20031225,0037,-20.3628,  57.9687, 1750,   1723.1,   2.7824,  34.6910,2,  34.6907,2,    153.2,1,    156.7,2,    94.94,2,    33.92,2,     0.00,2,     2.39,2,   -0.001,2,    0.001,2,   -0.001,4,   2278.2,2,   2360.8,2,   7.5932,2,    25.00,   -999.0,9,   -999.0,  -999.00,9,  -999.00,  -999.00,9,   2.7833,2
  49NZ20031209,  I3I4,   539,  1,      1,  12025,2,20031225,0037,-20.3628,  57.9687, 1750,   1603.1,   2.9786,  34.6798,2,  34.6798,2,    149.4,1,    153.2,2,    91.76,2,    34.10,2,     0.01,2,     2.41,2,    0.002,2,    0.001,2,   -0.001,4,   2274.1,2,   2355.3,2,   7.5898,2,    25.00,   -999.0,9,   -999.0,  -999.00,9,  -999.00,  -999.00,9,   2.9786,2
  49NZ20031209,  I3I4,   538,  1,     36,  12024,2,20031225,0317,-20.3652,  58.0100, 2630,      9.1,  27.0842,  34.9899,2,  34.9896,2,    194.7,1,    203.2,2,     1.94,2,     0.04,3,     0.00,2,     0.13,2, -999.000,9, -999.000,9, -999.000,9,   -999.0,9,   -999.0,9,-999.0000,9,  -999.00,   -999.0,9,   -999.0,  -999.00,9,  -999.00,  -999.00,9,  27.0833,2
  49NZ20031209,  I3I4,   538,  1,     35,  12023,2,20031225,0317,-20.3652,  58.0100, 2630,     50.4,  25.3744,  34.9719,2,  34.9712,2,    205.8,1,    215.0,2,     2.18,2,     0.03,3,     0.00,2,     0.11,2, -999.000,9, -999.000,9, -999.000,9,   -999.0,9,   -999.0,9,-999.0000,9,  -999.00,   -999.0,9,   -999.0,  -999.00,9,  -999.00,  -999.00,9,  25.3710,2
  49NZ20031209,  I3I4,   538,  1,     34,  12022,2,20031225,0317,-20.3652,  58.0100, 2630,    100.4,  23.0697,  35.0599,2,  35.0617,2,    206.4,1,    215.6,2,     2.34,2,     0.02,3,     0.00,2,     0.13,2, -999.000,9, -999.000,9, -999.000,9,   -999.0,9,   -999.0,9,-999.0000,9,  -999.00,   -999.0,9,   -999.0,  -999.00,9,  -999.00,  -999.00,9,  23.0664,2
  49NZ20031209,  I3I4,   538,  1,     33,  12015,2,20031225,0317,-20.3652,  58.0100, 2630,    150.3,  21.5986,  35.3326,2,  35.3311,2,    189.8,1,    197.8,2,     3.05,2,     1.57,3,     0.19,2,     0.24,2, -999.000,9, -999.000,9, -999.000,9,   -999.0,9,   -999.0,9,-999.0000,9,  -999.00,   -999.0,9,   -999.0,  -999.00,9,  -999.00,  -999.00,9,  21.6053,2
  49NZ20031209,  I3I4,   538,  1,     32,  12020,2,20031225,0317,-20.3652,  58.0100, 2630,    200.2,  20.3313,  35.5411,2,  35.5413,2,    174.0,1,    181.2,2,     4.35,2,     3.97,3,     0.02,2,     0.39,2, -999.000,9, -999.000,9, -999.000,9,   -999.0,9,   -999.0,9,-999.0000,9,  -999.00,   -999.0,9,   -999.0,  -999.00,9,  -999.00,  -999.00,9,  20.3314,2
  49NZ20031209,  I3I4,   538,  1,     31,  12019,2,20031225,0317,-20.3652,  58.0100, 2630,    250.4,  18.1168,  35.7116,2,  35.7136,2,    183.2,1,    191.2,2,     4.28,2,     4.21,3,     0.01,2,     0.42,2, -999.000,9, -999.000,9, -999.000,9,   -999.0,9,   -999.0,9,-999.0000,9,  -999.00,   -999.0,9,   -999.0,  -999.00,9,  -999.00,  -999.00,9,  18.1150,2
  49NZ20031209,  I3I4,   538,  1,     30,  12018,2,20031225,0317,-20.3652,  58.0100, 2630,    302.9,  16.3772,  35.6784,2,  35.6820,2,    197.2,1,    205.4,2,     3.14,2,     4.08,3,     0.01,2,     0.43,2, -999.000,9, -999.000,9, -999.000,9,   -999.0,9,   -999.0,9,-999.0000,9,  -999.00,   -999.0,9,   -999.0,  -999.00,9,  -999.00,  -999.00,9,  16.3813,2
  49NZ20031209,  I3I4,   538,  1,     29,  12021,2,20031225,0317,-20.3652,  58.0100, 2630,    400.4,  13.4025,  35.3141,2,  35.3187,2,    211.6,1,    219.1,2,     3.56,2,     8.06,3,     0.00,2,     0.67,2, -999.000,9, -999.000,9, -999.000,9,   -999.0,9,   -999.0,9,-999.0000,9,  -999.00,   -999.0,9,   -999.0,  -999.00,9,  -999.00,  -999.00,9,  13.4139,2
  49NZ20031209,  I3I4,   538,  1,     28,  12016,2,20031225,0317,-20.3652,  58.0100, 2630,    500.0,  11.4032,  35.0183,2,  35.0194,2,    218.6,1,    226.3,2,     4.43,2,    12.01,3,     0.00,2,     0.90,2, -999.000,9, -999.000,9, -999.000,9,   -999.0,9,   -999.0,9,-999.0000,9,  -999.00,   -999.0,9,   -999.0,  -999.00,9,  -999.00,  -999.00,9,  11.4044,2
  49NZ20031209,  I3I4,   538,  1,     27,  12012,2,20031225,0317,-20.3652,  58.0100, 2630,    599.2,  10.2973,  34.8548,2,  34.8568,2,    216.1,1,    223.9,2,     5.90,2,    14.85,3,     0.01,2,     1.08,2, -999.000,9, -999.000,9, -999.000,9,   -999.0,9,   -999.0,9,-999.0000,9,  -999.00,   -999.0,9,   -999.0,  -999.00,9,  -999.00,  -999.00,9,  10.3010,2
  49NZ20031209,  I3I4,   538,  1,     26,  12014,2,20031225,0317,-20.3652,  58.0100, 2630,    700.4,   9.1091,  34.6958,2,  34.6947,2,    211.0,1,    218.4,2,     8.60,2,    18.51,3,     0.01,2,     1.31,2, -999.000,9, -999.000,9, -999.000,9,   -999.0,9,   -999.0,9,-999.0000,9,  -999.00,   -999.0,9,   -999.0,  -999.00,9,  -999.00,  -999.00,9,   9.1096,2
  49NZ20031209,  I3I4,   538,  1,     25,  12013,2,20031225,0317,-20.3652,  58.0100, 2630,    799.8,   7.3064,  34.5392,2,  34.5365,2,    186.3,1,    192.8,2,    20.02,2,    25.25,3,     0.00,2,     1.74,2, -999.000,9, -999.000,9, -999.000,9,   -999.0,9,   -999.0,9,-999.0000,9,  -999.00,   -999.0,9,   -999.0,  -999.00,9,  -999.00,  -999.00,9,   7.3047,2
  49NZ20031209,  I3I4,   538,  1,     24,  12048,2,20031225,0317,-20.3652,  58.0100, 2630,    900.0,   5.8992,  34.4787,2,  34.4804,2,    168.2,1,    173.6,2,    34.85,2,    29.93,3,     0.00,2,     2.07,2, -999.000,9, -999.000,9, -999.000,9,   -999.0,9,   -999.0,9,-999.0000,9,  -999.00,   -999.0,9,   -999.0,  -999.00,9,  -999.00,  -999.00,9,   5.8984,2
  49NZ20031209,  I3I4,   538,  1,     23,  12047,2,20031225,0317,-20.3652,  58.0100, 2630,   1002.4,   5.0451,  34.5307,2,  34.5326,2,    144.4,1,    148.3,2,    55.46,2,    33.17,3,     0.01,2,     2.33,2, -999.000,9, -999.000,9, -999.000,9,   -999.0,9,   -999.0,9,-999.0000,9,  -999.00,   -999.0,9,   -999.0,  -999.00,9,  -999.00,  -999.00,9,   5.0492,2
  49NZ20031209,  I3I4,   538,  1,     22,  12046,2,20031225,0317,-20.3652,  58.0100, 2630,   1200.8,   4.3564,  34.5981,2,  34.5985,2,    131.1,1,    134.8,2,    73.25,2,    34.79,3,     0.00,2,     2.46,2, -999.000,9, -999.000,9, -999.000,9,   -999.0,9,   -999.0,9,-999.0000,9,  -999.00,   -999.0,9,   -999.0,  -999.00,9,  -999.00,  -999.00,9,   4.3581,2
  49NZ20031209,  I3I4,   538,  1,     21,  12045,2,20031225,0317,-20.3652,  58.0100, 2630,   1401.8,   3.5454,  34.6531,2,  34.6533,2,    137.8,1,    141.8,2,    84.91,2,    34.70,3,     0.01,2,     2.45,2, -999.000,9, -999.000,9, -999.000,9,   -999.0,9,   -999.0,9,-999.0000,9,  -999.00,   -999.0,9,   -999.0,  -999.00,9,  -999.00,  -999.00,9,   3.5459,2
  49NZ20031209,  I3I4,   538,  1,     20,  12044,2,20031225,0317,-20.3652,  58.0100, 2630,   1600.1,   2.9219,  34.6822,2,  34.6822,2,    149.8,1,    154.4,2,    91.90,2,    34.05,3,     0.00,2,     2.40,2, -999.000,9, -999.000,9, -999.000,9,   -999.0,9,   -999.0,9,-999.0000,9,  -999.00,   -999.0,9,   -999.0,  -999.00,9,  -999.00,  -999.00,9,   2.9221,2
  49NZ20031209,  I3I4,   538,  1,     19,  12043,2,20031225,0317,-20.3652,  58.0100, 2630,   1800.2,   2.6266,  34.7009,2,  34.7008,2,    154.7,1,    159.5,2,    97.23,2,    33.78,3,     0.01,2,     2.38,2, -999.000,9, -999.000,9, -999.000,9,   -999.0,9,   -999.0,9,-999.0000,9,  -999.00,   -999.0,9,   -999.0,  -999.00,9,  -999.00,  -999.00,9,   2.6266,2
  49NZ20031209,  I3I4,   538,  1,     18,  12042,2,20031225,0317,-20.3652,  58.0100, 2630,   2002.1,   2.3431,  34.7179,2,  34.7182,2,    158.7,1,    163.5,2,   104.27,2,    33.61,3,     0.00,2,     2.37,2, -999.000,9, -999.000,9, -999.000,9,   -999.0,9,   -999.0,9,-999.0000,9,  -999.00,   -999.0,9,   -999.0,  -999.00,9,  -999.00,  -999.00,9,   2.3430,2
  49NZ20031209,  I3I4,   538,  1,     17,  12041,2,20031225,0317,-20.3652,  58.0100, 2630,   2201.5,   2.1284,  34.7285,2,  34.7285,2,    160.1,1,    164.7,2,   111.21,2,    33.70,3,     0.01,2,     2.38,2, -999.000,9, -999.000,9, -999.000,9,   -999.0,9,   -999.0,9,-999.0000,9,  -999.00,   -999.0,9,   -999.0,  -999.00,9,  -999.00,  -999.00,9,   2.1285,2
  49NZ20031209,  I3I4,   538,  1,     16,  12040,2,20031225,0317,-20.3652,  58.0100, 2630,   2402.2,   1.9949,  34.7300,2,  34.7301,2,    161.8,1,    166.0,2,   115.62,2,    33.91,3,     0.01,2,     2.38,2, -999.000,9, -999.000,9, -999.000,9,   -999.0,9,   -999.0,9,-999.0000,9,  -999.00,   -999.0,9,   -999.0,  -999.00,9,  -999.00,  -999.00,9,   1.9956,2
  49NZ20031209,  I3I4,   538,  1,     15,  12039,2,20031225,0317,-20.3652,  58.0100, 2630,   2588.8,   1.9118,  34.7316,2,  34.7318,2,    162.8,1,    166.6,2,   118.44,2,    33.98,3,     0.01,2,     2.38,2, -999.000,9, -999.000,9, -999.000,9,   -999.0,9,   -999.0,9,-999.0000,9,  -999.00,   -999.0,9,   -999.0,  -999.00,9,  -999.00,  -999.00,9,   1.9117,2
  49NZ20031209,  I3I4,   538,  1,     14,  12038,9,20031225,0317,-20.3652,  58.0100, 2630,   2099.4,   2.2241,  34.7234,2,-999.0000,9,    159.8,1,   -999.0,9,  -999.00,9,  -999.00,9,  -999.00,9,  -999.00,9, -999.000,9, -999.000,9, -999.000,9,   -999.0,9,   -999.0,9,-999.0000,9,  -999.00,   -999.0,9,   -999.0,  -999.00,9,  -999.00,  -999.00,9,   2.2239,2
  49NZ20031209,  I3I4,   538,  1,     13,  12037,9,20031225,0317,-20.3652,  58.0100, 2630,   2302.0,   2.0623,  34.7286,2,-999.0000,9,    161.0,1,   -999.0,9,  -999.00,9,  -999.00,9,  -999.00,9,  -999.00,9, -999.000,9, -999.000,9, -999.000,9,   -999.0,9,   -999.0,9,-999.0000,9,  -999.00,   -999.0,9,   -999.0,  -999.00,9,  -999.00,  -999.00,9,   2.0620,2
  49NZ20031209,  I3I4,   538,  1,     12,  12036,9,20031225,0317,-20.3652,  58.0100, 2630,   1002.4,   5.0508,  34.5321,2,-999.0000,9,    144.2,1,   -999.0,9,  -999.00,9,  -999.00,9,  -999.00,9,  -999.00,9, -999.000,9, -999.000,9, -999.000,9,   -999.0,9,   -999.0,9,-999.0000,9,  -999.00,   -999.0,9,   -999.0,  -999.00,9,  -999.00,  -999.00,9,   5.0513,2
  49NZ20031209,  I3I4,   538,  1,     11,  12035,9,20031225,0317,-20.3652,  58.0100, 2630,   1002.4,   5.0438,  34.5308,2,-999.0000,9,    144.2,1,   -999.0,9,  -999.00,9,  -999.00,9,  -999.00,9,  -999.00,9, -999.000,9, -999.000,9, -999.000,9,   -999.0,9,   -999.0,9,-999.0000,9,  -999.00,   -999.0,9,   -999.0,  -999.00,9,  -999.00,  -999.00,9,   5.0455,2
  49NZ20031209,  I3I4,   538,  1,     10,  12034,9,20031225,0317,-20.3652,  58.0100, 2630,   1002.5,   5.0460,  34.5310,2,-999.0000,9,    144.6,1,   -999.0,9,  -999.00,9,  -999.00,9,  -999.00,9,  -999.00,9, -999.000,9, -999.000,9, -999.000,9,   -999.0,9,   -999.0,9,-999.0000,9,  -999.00,   -999.0,9,   -999.0,  -999.00,9,  -999.00,  -999.00,9,   5.0449,2
  49NZ20031209,  I3I4,   538,  1,      9,  12033,9,20031225,0317,-20.3652,  58.0100, 2630,   1002.3,   5.0361,  34.5293,2,-999.0000,9,    144.5,1,   -999.0,9,  -999.00,9,  -999.00,9,  -999.00,9,  -999.00,9, -999.000,9, -999.000,9, -999.000,9,   -999.0,9,   -999.0,9,-999.0000,9,  -999.00,   -999.0,9,   -999.0,  -999.00,9,  -999.00,  -999.00,9,   5.0362,2
  49NZ20031209,  I3I4,   538,  1,      8,  12032,9,20031225,0317,-20.3652,  58.0100, 2630,   1001.7,   5.0369,  34.5294,2,-999.0000,9,    144.2,1,   -999.0,9,  -999.00,9,  -999.00,9,  -999.00,9,  -999.00,9, -999.000,9, -999.000,9, -999.000,9,   -999.0,9,   -999.0,9,-999.0000,9,  -999.00,   -999.0,9,   -999.0,  -999.00,9,  -999.00,  -999.00,9,   5.0384,2
  49NZ20031209,  I3I4,   538,  1,      7,  12031,9,20031225,0317,-20.3652,  58.0100, 2630,   1001.4,   5.0504,  34.5326,2,-999.0000,9,    143.1,1,   -999.0,9,  -999.00,9,  -999.00,9,  -999.00,9,  -999.00,9, -999.000,9, -999.000,9, -999.000,9,   -999.0,9,   -999.0,9,-999.0000,9,  -999.00,   -999.0,9,   -999.0,  -999.00,9,  -999.00,  -999.00,9,   5.0462,2
  49NZ20031209,  I3I4,   538,  1,      6,  12030,9,20031225,0317,-20.3652,  58.0100, 2630,   1001.4,   5.0686,  34.5360,2,-999.0000,9,    142.3,1,   -999.0,9,  -999.00,9,  -999.00,9,  -999.00,9,  -999.00,9, -999.000,9, -999.000,9, -999.000,9,   -999.0,9,   -999.0,9,-999.0000,9,  -999.00,   -999.0,9,   -999.0,  -999.00,9,  -999.00,  -999.00,9,   5.0669,2
  49NZ20031209,  I3I4,   538,  1,      5,  12029,9,20031225,0317,-20.3652,  58.0100, 2630,   1001.3,   5.0838,  34.5395,2,-999.0000,9,    141.9,1,   -999.0,9,  -999.00,9,  -999.00,9,  -999.00,9,  -999.00,9, -999.000,9, -999.000,9, -999.000,9,   -999.0,9,   -999.0,9,-999.0000,9,  -999.00,   -999.0,9,   -999.0,  -999.00,9,  -999.00,  -999.00,9,   5.0826,2
  49NZ20031209,  I3I4,   538,  1,      3,  12027,2,20031225,0317,-20.3652,  58.0100, 2630,      4.6,  27.0852,  34.9908,2,-999.0000,9,    194.8,1,   -999.0,9,  -999.00,9,  -999.00,9,  -999.00,9,  -999.00,9, -999.000,9, -999.000,9, -999.000,9,   -999.0,9,   -999.0,9,-999.0000,9,  -999.00,   -999.0,9,   -999.0,  -999.00,9,  -999.00,  -999.00,9,  27.0857,2
  49NZ20031209,  I3I4,   538,  1,      2,  12026,2,20031225,0317,-20.3652,  58.0100, 2630,      4.5,  27.0880,  34.9908,2,-999.0000,9,    194.6,1,   -999.0,9,  -999.00,9,  -999.00,9,  -999.00,9,  -999.00,9, -999.000,9, -999.000,9, -999.000,9,   -999.0,9,   -999.0,9,-999.0000,9,  -999.00,   -999.0,9,   -999.0,  -999.00,9,  -999.00,  -999.00,9,  27.0880,2
  49NZ20031209,  I3I4,   538,  1,      1,  12025,2,20031225,0317,-20.3652,  58.0100, 2630,    119.0,  22.7081,  35.1341,2,-999.0000,9,    204.3,1,   -999.0,9,  -999.00,9,  -999.00,9,  -999.00,9,  -999.00,9, -999.000,9, -999.000,9, -999.000,9,   -999.0,9,   -999.0,9,-999.0000,9,  -999.00,   -999.0,9,   -999.0,  -999.00,9,  -999.00,  -999.00,9,  22.7086,2