BOTTLE,20141204PRINUNIVRMK
EXPOCODE,SECT_ID,STNNBR,CASTNO,SAMPNO,BTLNBR,BTLNBR_FLAG_W,DATE,TIME,LATITUDE,LONGITUDE,DEPTH,CTDPRS,CTDTMP,CTDSAL,CTDSAL_FLAG_W,SALNTY,SALNTY_FLAG_W,CTDOXY,CTDOXY_FLAG_W,OXYGEN,OXYGEN_FLAG_W,SILCAT,SILCAT_FLAG_W,NITRAT,NITRAT_FLAG_W,NITRIT,NITRIT_FLAG_W,PHSPHT,PHSPHT_FLAG_W,CFC-11,CFC-11_FLAG_W,CFC-12,CFC-12_FLAG_W,CFC113,CFC113_FLAG_W,TCARBN,TCARBN_FLAG_W,ALKALI,ALKALI_FLAG_W,PH_TOT,PH_TOT_FLAG_W,PH_TMP,DELC14,DELC14_FLAG_W,C14ERR,DELC13,DELC13_FLAG_W,CS-137,CS137ER,CS-137_FLAG_W,SBE35,SBE35_FLAG_W
,,,,,,,,,,,METERS,DBAR,ITS-90,PSS-78,,PSS-78,,UMOL/KG,,UMOL/KG,,UMOL/KG,,UMOL/KG,,UMOL/KG,,UMOL/KG,,PMOL/KG,,PMOL/KG,,PMOL/KG,,UMOL/KG,,UMOL/KG,,,,DEG C,/MILLE,,/MILLE,/MILLE,,DM/.1MG,DM/.1MG,,ITS-90,
  49NZ20031209,  I3I4,   458,  1,     36,  12024,2,20040118,0135,-20.0007, 107.5055, 5391,     10.2,  25.8877,  34.9774,2,  34.9807,2,    194.9,1,    205.3,2,     2.05,2,     0.00,2,     0.00,2,     0.09,2, -999.000,9, -999.000,9, -999.000,9,   -999.0,9,   -999.0,9,-999.0000,9,  -999.00,   -999.0,9,   -999.0,  -999.00,9,  -999.00,  -999.00,9,  25.8885,2
  49NZ20031209,  I3I4,   458,  1,     35,  12023,2,20040118,0135,-20.0007, 107.5055, 5391,     50.1,  23.0217,  35.1432,2,  35.1454,2,    205.9,1,    216.7,2,     2.81,2,    -0.02,2,     0.00,2,     0.11,2, -999.000,9, -999.000,9, -999.000,9,   -999.0,9,   -999.0,9,-999.0000,9,  -999.00,   -999.0,9,   -999.0,  -999.00,9,  -999.00,  -999.00,9,  23.0235,2
  49NZ20031209,  I3I4,   458,  1,     34,  12022,2,20040118,0135,-20.0007, 107.5055, 5391,    101.3,  20.8576,  35.3319,2,  35.3267,2,    182.2,1,    191.6,2,     4.12,2,     2.40,2,     0.23,2,     0.29,2, -999.000,9, -999.000,9, -999.000,9,   -999.0,9,   -999.0,9,-999.0000,9,  -999.00,   -999.0,9,   -999.0,  -999.00,9,  -999.00,  -999.00,9,  20.8762,2
  49NZ20031209,  I3I4,   458,  1,     33,  12015,2,20040118,0135,-20.0007, 107.5055, 5391,    150.1,  19.7413,  35.6049,2,  35.6049,2,    191.1,1,    201.4,2,     3.05,2,     2.00,2,     0.03,2,     0.25,2, -999.000,9, -999.000,9, -999.000,9,   -999.0,9,   -999.0,9,-999.0000,9,  -999.00,   -999.0,9,   -999.0,  -999.00,9,  -999.00,  -999.00,9,  19.7384,2
  49NZ20031209,  I3I4,   458,  1,     32,  12020,2,20040118,0135,-20.0007, 107.5055, 5391,    201.1,  18.1101,  35.6793,2,  35.6791,2,    183.1,1,    191.8,2,     4.09,2,     4.05,2,     0.01,2,     0.40,2, -999.000,9, -999.000,9, -999.000,9,   -999.0,9,   -999.0,9,-999.0000,9,  -999.00,   -999.0,9,   -999.0,  -999.00,9,  -999.00,  -999.00,9,  18.1038,2
  49NZ20031209,  I3I4,   458,  1,     31,  12019,2,20040118,0135,-20.0007, 107.5055, 5391,    253.4,  15.1458,  35.3796,2,  35.3871,2,    171.6,1,    178.2,2,    10.08,2,     9.39,2,     0.01,2,     0.76,2, -999.000,9, -999.000,9, -999.000,9,   -999.0,9,   -999.0,9,-999.0000,9,  -999.00,   -999.0,9,   -999.0,  -999.00,9,  -999.00,  -999.00,9,  15.1143,2
  49NZ20031209,  I3I4,   458,  1,     30,  12018,2,20040118,0135,-20.0007, 107.5055, 5391,    300.9,  13.2430,  35.2202,2,  35.2145,2,    188.8,1,    197.8,2,     8.61,2,    10.40,2,     0.01,2,     0.83,2, -999.000,9, -999.000,9, -999.000,9,   -999.0,9,   -999.0,9,-999.0000,9,  -999.00,   -999.0,9,   -999.0,  -999.00,9,  -999.00,  -999.00,9,  13.2435,2
  49NZ20031209,  I3I4,   458,  1,     29,  12017,2,20040118,0135,-20.0007, 107.5055, 5391,    399.8,  10.3741,  34.8462,2,  34.8441,2,    205.6,1,    216.0,2,     8.35,2,    15.05,2,     0.00,2,     1.11,2, -999.000,9, -999.000,9, -999.000,9,   -999.0,9,   -999.0,9,-999.0000,9,  -999.00,   -999.0,9,   -999.0,  -999.00,9,  -999.00,  -999.00,9,  10.3758,2
  49NZ20031209,  I3I4,   458,  1,     28,  12016,2,20040118,0135,-20.0007, 107.5055, 5391,    500.7,   8.6753,  34.6335,2,  34.6303,2,    200.4,1,    209.6,2,    12.41,2,    20.36,2,     0.00,2,     1.43,2, -999.000,9, -999.000,9, -999.000,9,   -999.0,9,   -999.0,9,-999.0000,9,  -999.00,   -999.0,9,   -999.0,  -999.00,9,  -999.00,  -999.00,9,   8.6766,2
  49NZ20031209,  I3I4,   458,  1,     27,  12012,2,20040118,0135,-20.0007, 107.5055, 5391,    600.6,   7.2680,  34.5583,2,  34.5564,2,    154.8,1,    163.6,2,    31.34,2,    27.52,2,     0.01,2,     1.92,2, -999.000,9, -999.000,9, -999.000,9,   -999.0,9,   -999.0,9,-999.0000,9,  -999.00,   -999.0,9,   -999.0,  -999.00,9,  -999.00,  -999.00,9,   7.2712,2
  49NZ20031209,  I3I4,   458,  1,     26,  12014,2,20040118,0135,-20.0007, 107.5055, 5391,    700.8,   6.5838,  34.6226,2,  34.6229,2,     96.4,1,     99.3,2,    63.07,2,    34.00,2,     0.00,2,     2.42,2, -999.000,9, -999.000,9, -999.000,9,   -999.0,9,   -999.0,9,-999.0000,9,  -999.00,   -999.0,9,   -999.0,  -999.00,9,  -999.00,  -999.00,9,   6.5840,2
  49NZ20031209,  I3I4,   458,  1,     25,  12013,2,20040118,0135,-20.0007, 107.5055, 5391,    801.0,   5.9276,  34.6352,2,  34.6336,2,     87.5,1,     90.6,2,    76.85,2,    35.70,2,     0.01,2,     2.56,2, -999.000,9, -999.000,9, -999.000,9,   -999.0,9,   -999.0,9,-999.0000,9,  -999.00,   -999.0,9,   -999.0,  -999.00,9,  -999.00,  -999.00,9,   5.9257,2
  49NZ20031209,  I3I4,   458,  1,     24,  12048,2,20040118,0135,-20.0007, 107.5055, 5391,    899.7,   5.4050,  34.6436,2,  34.6422,2,     87.4,1,     90.4,2,    85.28,2,    36.25,2,     0.00,2,     2.60,2, -999.000,9, -999.000,9, -999.000,9,   -999.0,9,   -999.0,9,-999.0000,9,  -999.00,   -999.0,9,   -999.0,  -999.00,9,  -999.00,  -999.00,9,   5.4056,2
  49NZ20031209,  I3I4,   458,  1,     23,  12047,2,20040118,0135,-20.0007, 107.5055, 5391,   1001.1,   5.0460,  34.6463,2,  34.6463,2,     90.9,1,     94.5,2,    88.64,2,    36.36,2,     0.00,2,     2.62,2, -999.000,9, -999.000,9, -999.000,9,   -999.0,9,   -999.0,9,-999.0000,9,  -999.00,   -999.0,9,   -999.0,  -999.00,9,  -999.00,  -999.00,9,   5.0463,2
  49NZ20031209,  I3I4,   458,  1,     22,  12046,2,20040118,0135,-20.0007, 107.5055, 5391,   1199.8,   4.3848,  34.6470,2,  34.6471,2,     99.7,1,    103.7,2,    95.22,2,    36.43,2,     0.00,2,     2.63,2, -999.000,9, -999.000,9, -999.000,9,   -999.0,9,   -999.0,9,-999.0000,9,  -999.00,   -999.0,9,   -999.0,  -999.00,9,  -999.00,  -999.00,9,   4.3859,2
  49NZ20031209,  I3I4,   458,  1,     21,  12045,2,20040118,0135,-20.0007, 107.5055, 5391,   1401.4,   3.7528,  34.6592,2,  34.6592,2,    110.8,1,    115.6,2,    99.65,2,    36.04,2,     0.00,2,     2.59,2, -999.000,9, -999.000,9, -999.000,9,   -999.0,9,   -999.0,9,-999.0000,9,  -999.00,   -999.0,9,   -999.0,  -999.00,9,  -999.00,  -999.00,9,   3.7531,2
  49NZ20031209,  I3I4,   458,  1,     20,  12044,2,20040118,0135,-20.0007, 107.5055, 5391,   1601.3,   3.2132,  34.6835,2,  34.6830,2,    123.1,1,    129.0,2,   102.54,2,    35.49,2,     0.00,2,     2.53,2, -999.000,9, -999.000,9, -999.000,9,   -999.0,9,   -999.0,9,-999.0000,9,  -999.00,   -999.0,9,   -999.0,  -999.00,9,  -999.00,  -999.00,9,   3.2132,2
  49NZ20031209,  I3I4,   458,  1,     19,  12043,2,20040118,0135,-20.0007, 107.5055, 5391,   1800.6,   2.7794,  34.7052,2,  34.7052,2,    131.6,1,    138.2,2,   108.45,2,    35.09,2,     0.00,2,     2.49,2, -999.000,9, -999.000,9, -999.000,9,   -999.0,9,   -999.0,9,-999.0000,9,  -999.00,   -999.0,9,   -999.0,  -999.00,9,  -999.00,  -999.00,9,   2.7796,2
  49NZ20031209,  I3I4,   458,  1,     18,  12042,2,20040118,0135,-20.0007, 107.5055, 5391,   2001.4,   2.4543,  34.7183,2,  34.7180,2,    138.6,1,    145.8,2,   113.53,2,    34.75,2,     0.00,2,     2.46,2, -999.000,9, -999.000,9, -999.000,9,   -999.0,9,   -999.0,9,-999.0000,9,  -999.00,   -999.0,9,   -999.0,  -999.00,9,  -999.00,  -999.00,9,   2.4544,2
  49NZ20031209,  I3I4,   458,  1,     17,  12041,2,20040118,0135,-20.0007, 107.5055, 5391,   2200.1,   2.2288,  34.7244,2,  34.7245,2,    142.1,1,    149.8,2,   118.84,2,    34.63,2,     0.00,2,     2.45,2, -999.000,9, -999.000,9, -999.000,9,   -999.0,9,   -999.0,9,-999.0000,9,  -999.00,   -999.0,9,   -999.0,  -999.00,9,  -999.00,  -999.00,9,   2.2288,2
  49NZ20031209,  I3I4,   458,  1,     16,  12040,2,20040118,0135,-20.0007, 107.5055, 5391,   2400.4,   2.0533,  34.7265,2,  34.7272,2,    148.6,1,    157.1,2,   119.60,2,    34.24,2,     0.00,2,     2.41,2, -999.000,9, -999.000,9, -999.000,9,   -999.0,9,   -999.0,9,-999.0000,9,  -999.00,   -999.0,9,   -999.0,  -999.00,9,  -999.00,  -999.00,9,   2.0534,2
  49NZ20031209,  I3I4,   458,  1,     15,  12039,2,20040118,0135,-20.0007, 107.5055, 5391,   2600.5,   1.9113,  34.7267,2,  34.7263,2,    153.5,1,    162.4,2,   120.32,2,    34.04,2,     0.00,2,     2.38,2, -999.000,9, -999.000,9, -999.000,9,   -999.0,9,   -999.0,9,-999.0000,9,  -999.00,   -999.0,9,   -999.0,  -999.00,9,  -999.00,  -999.00,9,   1.9117,2
  49NZ20031209,  I3I4,   458,  1,     14,  12038,2,20040118,0135,-20.0007, 107.5055, 5391,   2800.9,   1.7731,  34.7258,2,  34.7260,2,    157.7,1,    166.7,2,   122.25,2,    33.86,2,     0.00,2,     2.37,2, -999.000,9, -999.000,9, -999.000,9,   -999.0,9,   -999.0,9,-999.0000,9,  -999.00,   -999.0,9,   -999.0,  -999.00,9,  -999.00,  -999.00,9,   1.7733,2
  49NZ20031209,  I3I4,   458,  1,     13,  12037,2,20040118,0135,-20.0007, 107.5055, 5391,   3000.4,   1.6380,  34.7241,2,  34.7242,2,    162.2,1,    171.6,2,   123.65,2,    33.74,2,     0.00,2,     2.35,2, -999.000,9, -999.000,9, -999.000,9,   -999.0,9,   -999.0,9,-999.0000,9,  -999.00,   -999.0,9,   -999.0,  -999.00,9,  -999.00,  -999.00,9,   1.6380,2
  49NZ20031209,  I3I4,   458,  1,     12,  12036,2,20040118,0135,-20.0007, 107.5055, 5391,   3250.7,   1.4712,  34.7217,2,  34.7222,2,    168.5,1,    178.4,2,   124.65,2,    33.28,2,     0.00,2,     2.32,2, -999.000,9, -999.000,9, -999.000,9,   -999.0,9,   -999.0,9,-999.0000,9,  -999.00,   -999.0,9,   -999.0,  -999.00,9,  -999.00,  -999.00,9,   1.4713,2
  49NZ20031209,  I3I4,   458,  1,     11,  12035,2,20040118,0135,-20.0007, 107.5055, 5391,   3500.9,   1.3503,  34.7191,2,  34.7189,2,    173.5,1,    184.0,2,   125.44,2,    33.15,2,     0.00,2,     2.30,2, -999.000,9, -999.000,9, -999.000,9,   -999.0,9,   -999.0,9,-999.0000,9,  -999.00,   -999.0,9,   -999.0,  -999.00,9,  -999.00,  -999.00,9,   1.3502,2
  49NZ20031209,  I3I4,   458,  1,     10,  12034,2,20040118,0135,-20.0007, 107.5055, 5391,   3750.4,   1.2659,  34.7168,2,  34.7168,2,    176.4,1,    186.8,2,   126.97,2,    33.22,2,     0.01,2,     2.29,2, -999.000,9, -999.000,9, -999.000,9,   -999.0,9,   -999.0,9,-999.0000,9,  -999.00,   -999.0,9,   -999.0,  -999.00,9,  -999.00,  -999.00,9,   1.2659,2
  49NZ20031209,  I3I4,   458,  1,      9,  12033,2,20040118,0135,-20.0007, 107.5055, 5391,   4000.0,   1.2182,  34.7153,2,  34.7149,2,    179.1,1,    189.2,2,   127.61,2,    33.10,2,     0.00,2,     2.29,2, -999.000,9, -999.000,9, -999.000,9,   -999.0,9,   -999.0,9,-999.0000,9,  -999.00,   -999.0,9,   -999.0,  -999.00,9,  -999.00,  -999.00,9,   1.2183,2
  49NZ20031209,  I3I4,   458,  1,      8,  12032,2,20040118,0135,-20.0007, 107.5055, 5391,   4251.1,   1.1956,  34.7143,2,  34.7142,2,    181.2,1,    191.0,2,   128.11,2,    33.01,2,     0.00,2,     2.28,2, -999.000,9, -999.000,9, -999.000,9,   -999.0,9,   -999.0,9,-999.0000,9,  -999.00,   -999.0,9,   -999.0,  -999.00,9,  -999.00,  -999.00,9,   1.1957,2
  49NZ20031209,  I3I4,   458,  1,      7,  12031,2,20040118,0135,-20.0007, 107.5055, 5391,   4501.6,   1.1896,  34.7138,2,  34.7137,2,    183.5,1,    192.8,2,   127.73,2,    32.95,2,     0.00,2,     2.27,2, -999.000,9, -999.000,9, -999.000,9,   -999.0,9,   -999.0,9,-999.0000,9,  -999.00,   -999.0,9,   -999.0,  -999.00,9,  -999.00,  -999.00,9,   1.1898,2
  49NZ20031209,  I3I4,   458,  1,      6,  12030,2,20040118,0135,-20.0007, 107.5055, 5391,   4750.6,   1.1864,  34.7131,2,  34.7126,3,    185.9,1,    194.6,2,   127.31,2,    32.86,2,     0.00,2,     2.27,2, -999.000,9, -999.000,9, -999.000,9,   -999.0,9,   -999.0,9,-999.0000,9,  -999.00,   -999.0,9,   -999.0,  -999.00,9,  -999.00,  -999.00,9,   1.1865,2
  49NZ20031209,  I3I4,   458,  1,      5,  12029,2,20040118,0135,-20.0007, 107.5055, 5391,   4999.9,   1.1893,  34.7128,2,  34.7129,2,    188.2,1,    196.2,2,   126.92,2,    32.81,2,     0.00,2,     2.26,2, -999.000,9, -999.000,9, -999.000,9,   -999.0,9,   -999.0,9,-999.0000,9,  -999.00,   -999.0,9,   -999.0,  -999.00,9,  -999.00,  -999.00,9,   1.1894,2
  49NZ20031209,  I3I4,   458,  1,      4,  12028,2,20040118,0135,-20.0007, 107.5055, 5391,   5251.2,   1.1949,  34.7122,2,  34.7124,2,    191.5,1,    198.0,2,   126.00,2,    32.63,2,     0.00,2,     2.25,2, -999.000,9, -999.000,9, -999.000,9,   -999.0,9,   -999.0,9,-999.0000,9,  -999.00,   -999.0,9,   -999.0,  -999.00,9,  -999.00,  -999.00,9,   1.1950,2
  49NZ20031209,  I3I4,   458,  1,      3,  12027,2,20040118,0135,-20.0007, 107.5055, 5391,   5472.4,   1.1880,  34.7112,2,  34.7112,2,    195.3,1,    200.2,2,   125.28,2,    32.57,2,     0.00,2,     2.24,2, -999.000,9, -999.000,9, -999.000,9,   -999.0,9,   -999.0,9,-999.0000,9,  -999.00,   -999.0,9,   -999.0,  -999.00,9,  -999.00,  -999.00,9,   1.1880,2
  49NZ20031209,  I3I4,   458,  1,      2,  12026,9,20040118,0135,-20.0007, 107.5055, 5391,     10.8,  25.8816,  34.9779,2,-999.0000,9,    195.0,1,   -999.0,9,  -999.00,9,  -999.00,9,  -999.00,9,  -999.00,9, -999.000,9, -999.000,9, -999.000,9,   -999.0,9,   -999.0,9,-999.0000,9,  -999.00,   -999.0,9,   -999.0,  -999.00,9,  -999.00,  -999.00,9,  25.8810,2
  49NZ20031209,  I3I4,   458,  1,      1,  12025,2,20040118,0135,-20.0007, 107.5055, 5391,     85.2,  21.4027,  35.2423,2,  35.1527,2,    186.5,1,   -999.0,9,  -999.00,9,  -999.00,9,  -999.00,9,  -999.00,9, -999.000,9, -999.000,9, -999.000,9,   -999.0,9,   -999.0,9,-999.0000,9,  -999.00,   -999.0,9,   -999.0,  -999.00,9,  -999.00,  -999.00,9,  21.4078,2