BOTTLE,20141204PRINUNIVRMK
EXPOCODE,SECT_ID,STNNBR,CASTNO,SAMPNO,BTLNBR,BTLNBR_FLAG_W,DATE,TIME,LATITUDE,LONGITUDE,DEPTH,CTDPRS,CTDTMP,CTDSAL,CTDSAL_FLAG_W,SALNTY,SALNTY_FLAG_W,CTDOXY,CTDOXY_FLAG_W,OXYGEN,OXYGEN_FLAG_W,SILCAT,SILCAT_FLAG_W,NITRAT,NITRAT_FLAG_W,NITRIT,NITRIT_FLAG_W,PHSPHT,PHSPHT_FLAG_W,CFC-11,CFC-11_FLAG_W,CFC-12,CFC-12_FLAG_W,CFC113,CFC113_FLAG_W,TCARBN,TCARBN_FLAG_W,ALKALI,ALKALI_FLAG_W,PH_TOT,PH_TOT_FLAG_W,PH_TMP,DELC14,DELC14_FLAG_W,C14ERR,DELC13,DELC13_FLAG_W,CS-137,CS137ER,CS-137_FLAG_W,SBE35,SBE35_FLAG_W
,,,,,,,,,,,METERS,DBAR,ITS-90,PSS-78,,PSS-78,,UMOL/KG,,UMOL/KG,,UMOL/KG,,UMOL/KG,,UMOL/KG,,UMOL/KG,,PMOL/KG,,PMOL/KG,,PMOL/KG,,UMOL/KG,,UMOL/KG,,,,DEG C,/MILLE,,/MILLE,/MILLE,,DM/.1MG,DM/.1MG,,ITS-90,
  49NZ20031209,  I3I4,   498,  1,     36,  12024,2,20040105,0846,-19.9923,  80.5387, 4880,      9.8,  26.6350,  34.7935,2,  34.7931,2,    195.6,1,    204.4,2,     1.57,2,    -0.01,2,     0.00,2,     0.11,2, -999.000,9, -999.000,9, -999.000,9,   -999.0,9,   -999.0,9,-999.0000,9,  -999.00,   -999.0,9,   -999.0,  -999.00,9,  -999.00,  -999.00,9,  26.6333,2
  49NZ20031209,  I3I4,   498,  1,     35,  12023,2,20040105,0846,-19.9923,  80.5387, 4880,     50.0,  24.1981,  35.3113,2,  35.3139,2,    208.3,1,    217.2,2,     1.63,2,    -0.03,2,     0.01,2,     0.10,2, -999.000,9, -999.000,9, -999.000,9,   -999.0,9,   -999.0,9,-999.0000,9,  -999.00,   -999.0,9,   -999.0,  -999.00,9,  -999.00,  -999.00,9,  24.1978,2
  49NZ20031209,  I3I4,   498,  1,     34,  12022,2,20040105,0846,-19.9923,  80.5387, 4880,    139.7,  20.9627,  35.5342,2,-999.0000,9,    198.9,1,   -999.0,9,  -999.00,9,  -999.00,9,  -999.00,9,  -999.00,9, -999.000,9, -999.000,9, -999.000,9,   -999.0,9,   -999.0,9,-999.0000,9,  -999.00,   -999.0,9,   -999.0,  -999.00,9,  -999.00,  -999.00,9,  20.9582,2
  49NZ20031209,  I3I4,   498,  1,     33,  12015,2,20040105,0846,-19.9923,  80.5387, 4880,    149.5,  20.7438,  35.5725,2,  35.5732,2,    193.8,1,    202.0,2,     2.52,2,     0.73,2,     0.12,2,     0.22,2, -999.000,9, -999.000,9, -999.000,9,   -999.0,9,   -999.0,9,-999.0000,9,  -999.00,   -999.0,9,   -999.0,  -999.00,9,  -999.00,  -999.00,9,  20.7430,2
  49NZ20031209,  I3I4,   498,  1,     32,  12020,2,20040105,0846,-19.9923,  80.5387, 4880,    200.9,  19.2948,  35.7864,2,  35.7864,2,    193.2,1,    200.9,2,     2.35,2,     1.98,2,     0.02,2,     0.28,2, -999.000,9, -999.000,9, -999.000,9,   -999.0,9,   -999.0,9,-999.0000,9,  -999.00,   -999.0,9,   -999.0,  -999.00,9,  -999.00,  -999.00,9,  19.2935,2
  49NZ20031209,  I3I4,   498,  1,     31,  12019,2,20040105,0846,-19.9923,  80.5387, 4880,    251.1,  17.4159,  35.7899,2,  35.7837,2,    196.8,1,    204.6,2,     2.36,2,     2.85,2,     0.01,2,     0.36,2, -999.000,9, -999.000,9, -999.000,9,   -999.0,9,   -999.0,9,-999.0000,9,  -999.00,   -999.0,9,   -999.0,  -999.00,9,  -999.00,  -999.00,9,  17.4138,2
  49NZ20031209,  I3I4,   498,  1,     30,  12018,2,20040105,0846,-19.9923,  80.5387, 4880,    300.5,  15.3938,  35.5958,2,  35.5880,2,    201.7,1,    209.7,2,     2.68,2,     4.95,2,     0.01,2,     0.49,2, -999.000,9, -999.000,9, -999.000,9,   -999.0,9,   -999.0,9,-999.0000,9,  -999.00,   -999.0,9,   -999.0,  -999.00,9,  -999.00,  -999.00,9,  15.3865,2
  49NZ20031209,  I3I4,   498,  1,     29,  12017,2,20040105,0846,-19.9923,  80.5387, 4880,    400.2,  12.2358,  35.1563,2,  35.1488,2,    218.2,1,    226.7,2,     2.94,2,     9.46,2,     0.01,2,     0.76,2, -999.000,9, -999.000,9, -999.000,9,   -999.0,9,   -999.0,9,-999.0000,9,  -999.00,   -999.0,9,   -999.0,  -999.00,9,  -999.00,  -999.00,9,  12.2316,2
  49NZ20031209,  I3I4,   498,  1,     28,  12016,2,20040105,0846,-19.9923,  80.5387, 4880,    501.7,  10.2775,  34.8508,2,  34.8496,2,    224.6,1,    232.9,2,     3.90,2,    13.70,2,     0.01,2,     1.02,2, -999.000,9, -999.000,9, -999.000,9,   -999.0,9,   -999.0,9,-999.0000,9,  -999.00,   -999.0,9,   -999.0,  -999.00,9,  -999.00,  -999.00,9,  10.2796,2
  49NZ20031209,  I3I4,   498,  1,     27,  12012,2,20040105,0846,-19.9923,  80.5387, 4880,    599.1,   9.2118,  34.6911,2,  34.6842,2,    222.3,1,    230.2,2,     5.60,2,    17.23,2,     0.01,2,     1.24,2, -999.000,9, -999.000,9, -999.000,9,   -999.0,9,   -999.0,9,-999.0000,9,  -999.00,   -999.0,9,   -999.0,  -999.00,9,  -999.00,  -999.00,9,   9.2127,2
  49NZ20031209,  I3I4,   498,  1,     26,  12014,2,20040105,0846,-19.9923,  80.5387, 4880,    700.1,   7.7783,  34.5491,2,  34.5461,2,    195.2,1,    202.2,2,    14.33,2,    23.39,2,     0.01,2,     1.63,2, -999.000,9, -999.000,9, -999.000,9,   -999.0,9,   -999.0,9,-999.0000,9,  -999.00,   -999.0,9,   -999.0,  -999.00,9,  -999.00,  -999.00,9,   7.7787,2
  49NZ20031209,  I3I4,   498,  1,     25,  12013,2,20040105,0846,-19.9923,  80.5387, 4880,    799.6,   6.2274,  34.4996,2,  34.5005,2,    158.2,1,    163.6,2,    35.63,2,    30.13,2,     0.01,2,     2.11,2, -999.000,9, -999.000,9, -999.000,9,   -999.0,9,   -999.0,9,-999.0000,9,  -999.00,   -999.0,9,   -999.0,  -999.00,9,  -999.00,  -999.00,9,   6.2255,2
  49NZ20031209,  I3I4,   498,  1,     24,  12048,2,20040105,0846,-19.9923,  80.5387, 4880,    899.5,   5.4078,  34.5470,2,  34.5459,2,    127.6,1,    132.3,2,    58.19,2,    33.83,2,     0.00,2,     2.40,2, -999.000,9, -999.000,9, -999.000,9,   -999.0,9,   -999.0,9,-999.0000,9,  -999.00,   -999.0,9,   -999.0,  -999.00,9,  -999.00,  -999.00,9,   5.4081,2
  49NZ20031209,  I3I4,   498,  1,     23,  12047,2,20040105,0846,-19.9923,  80.5387, 4880,   1000.8,   4.6240,  34.5649,2,  34.5650,2,    122.5,1,    126.8,2,    71.27,2,    35.15,2,     0.00,2,     2.51,2, -999.000,9, -999.000,9, -999.000,9,   -999.0,9,   -999.0,9,-999.0000,9,  -999.00,   -999.0,9,   -999.0,  -999.00,9,  -999.00,  -999.00,9,   4.6250,2
  49NZ20031209,  I3I4,   498,  1,     22,  12046,2,20040105,0846,-19.9923,  80.5387, 4880,   1199.2,   4.1047,  34.6516,2,  34.6537,3,    115.3,1,    119.0,2,    87.43,2,    35.79,2,     0.00,2,     2.58,2, -999.000,9, -999.000,9, -999.000,9,   -999.0,9,   -999.0,9,-999.0000,9,  -999.00,   -999.0,9,   -999.0,  -999.00,9,  -999.00,  -999.00,9,   4.1047,2
  49NZ20031209,  I3I4,   498,  1,     21,  12045,2,20040105,0846,-19.9923,  80.5387, 4880,   1399.4,   3.6777,  34.6975,2,  34.6975,2,    118.0,1,    122.3,2,    96.49,2,    35.64,2,     0.00,2,     2.57,2, -999.000,9, -999.000,9, -999.000,9,   -999.0,9,   -999.0,9,-999.0000,9,  -999.00,   -999.0,9,   -999.0,  -999.00,9,  -999.00,  -999.00,9,   3.6776,2
  49NZ20031209,  I3I4,   498,  1,     20,  12044,2,20040105,0846,-19.9923,  80.5387, 4880,   1600.9,   3.2343,  34.7142,2,  34.7140,2,    126.6,1,    131.5,2,   101.38,2,    35.29,2,     0.00,2,     2.54,2, -999.000,9, -999.000,9, -999.000,9,   -999.0,9,   -999.0,9,-999.0000,9,  -999.00,   -999.0,9,   -999.0,  -999.00,9,  -999.00,  -999.00,9,   3.2342,2
  49NZ20031209,  I3I4,   498,  1,     19,  12043,2,20040105,0846,-19.9923,  80.5387, 4880,   1799.1,   2.8260,  34.7239,2,  34.7242,2,    135.6,1,    141.4,2,   106.10,2,    34.88,2,     0.00,2,     2.49,2, -999.000,9, -999.000,9, -999.000,9,   -999.0,9,   -999.0,9,-999.0000,9,  -999.00,   -999.0,9,   -999.0,  -999.00,9,  -999.00,  -999.00,9,   2.8259,2
  49NZ20031209,  I3I4,   498,  1,     18,  12042,2,20040105,0846,-19.9923,  80.5387, 4880,   2000.8,   2.4874,  34.7272,2,  34.7272,2,    144.0,1,    150.4,2,   109.52,2,    34.50,2,     0.00,2,     2.45,2, -999.000,9, -999.000,9, -999.000,9,   -999.0,9,   -999.0,9,-999.0000,9,  -999.00,   -999.0,9,   -999.0,  -999.00,9,  -999.00,  -999.00,9,   2.4874,2
  49NZ20031209,  I3I4,   498,  1,     17,  12041,2,20040105,0846,-19.9923,  80.5387, 4880,   2199.8,   2.2774,  34.7275,2,  34.7277,2,    151.0,1,    157.8,2,   110.90,2,    34.09,2,     0.00,2,     2.41,2, -999.000,9, -999.000,9, -999.000,9,   -999.0,9,   -999.0,9,-999.0000,9,  -999.00,   -999.0,9,   -999.0,  -999.00,9,  -999.00,  -999.00,9,   2.2773,2
  49NZ20031209,  I3I4,   498,  1,     16,  12040,2,20040105,0846,-19.9923,  80.5387, 4880,   2399.6,   2.0492,  34.7255,2,  34.7255,2,    161.0,1,    168.5,2,   110.13,2,    33.46,2,     0.00,2,     2.36,2, -999.000,9, -999.000,9, -999.000,9,   -999.0,9,   -999.0,9,-999.0000,9,  -999.00,   -999.0,9,   -999.0,  -999.00,9,  -999.00,  -999.00,9,   2.0493,2
  49NZ20031209,  I3I4,   498,  1,     15,  12039,2,20040105,0846,-19.9923,  80.5387, 4880,   2601.2,   1.8600,  34.7255,2,  34.7254,2,    169.5,1,    177.4,2,   109.32,2,    32.86,2,     0.00,2,     2.31,2, -999.000,9, -999.000,9, -999.000,9,   -999.0,9,   -999.0,9,-999.0000,9,  -999.00,   -999.0,9,   -999.0,  -999.00,9,  -999.00,  -999.00,9,   1.8602,2
  49NZ20031209,  I3I4,   498,  1,     14,  12038,2,20040105,0846,-19.9923,  80.5387, 4880,   2799.8,   1.7332,  34.7269,2,  34.7270,2,    172.3,1,    181.2,2,   111.58,2,    32.76,2,     0.00,2,     2.29,2, -999.000,9, -999.000,9, -999.000,9,   -999.0,9,   -999.0,9,-999.0000,9,  -999.00,   -999.0,9,   -999.0,  -999.00,9,  -999.00,  -999.00,9,   1.7331,2
  49NZ20031209,  I3I4,   498,  1,     13,  12037,2,20040105,0846,-19.9923,  80.5387, 4880,   2999.3,   1.6203,  34.7275,2,  34.7277,2,    175.3,1,    184.2,2,   113.89,2,    32.71,2,     0.00,2,     2.29,2, -999.000,9, -999.000,9, -999.000,9,   -999.0,9,   -999.0,9,-999.0000,9,  -999.00,   -999.0,9,   -999.0,  -999.00,9,  -999.00,  -999.00,9,   1.6201,2
  49NZ20031209,  I3I4,   498,  1,     12,  12036,2,20040105,0846,-19.9923,  80.5387, 4880,   3251.3,   1.5074,  34.7262,2,  34.7263,2,    176.0,1,    184.8,2,   117.94,2,    32.76,2,     0.00,2,     2.29,2, -999.000,9, -999.000,9, -999.000,9,   -999.0,9,   -999.0,9,-999.0000,9,  -999.00,   -999.0,9,   -999.0,  -999.00,9,  -999.00,  -999.00,9,   1.5073,2
  49NZ20031209,  I3I4,   498,  1,     11,  12035,2,20040105,0846,-19.9923,  80.5387, 4880,   3499.4,   1.4207,  34.7238,2,  34.7234,2,    176.3,1,    184.7,2,   122.38,2,    33.07,2,     0.00,2,     2.30,2, -999.000,9, -999.000,9, -999.000,9,   -999.0,9,   -999.0,9,-999.0000,9,  -999.00,   -999.0,9,   -999.0,  -999.00,9,  -999.00,  -999.00,9,   1.4208,2
  49NZ20031209,  I3I4,   498,  1,     10,  12034,2,20040105,0846,-19.9923,  80.5387, 4880,   3750.7,   1.3839,  34.7219,2,  34.7211,2,    177.1,1,    185.3,2,   124.69,2,    33.18,2,     0.00,2,     2.31,2, -999.000,9, -999.000,9, -999.000,9,   -999.0,9,   -999.0,9,-999.0000,9,  -999.00,   -999.0,9,   -999.0,  -999.00,9,  -999.00,  -999.00,9,   1.3839,2
  49NZ20031209,  I3I4,   498,  1,      9,  12033,2,20040105,0846,-19.9923,  80.5387, 4880,   4000.0,   1.3726,  34.7204,2,  34.7199,2,    177.8,1,    185.2,2,   126.25,2,    33.27,2,     0.00,2,     2.31,2, -999.000,9, -999.000,9, -999.000,9,   -999.0,9,   -999.0,9,-999.0000,9,  -999.00,   -999.0,9,   -999.0,  -999.00,9,  -999.00,  -999.00,9,   1.3726,2
  49NZ20031209,  I3I4,   498,  1,      8,  12032,2,20040105,0846,-19.9923,  80.5387, 4880,   4249.6,   1.3730,  34.7194,2,  34.7188,2,    177.8,1,    184.7,2,   128.36,2,    33.34,2,     0.00,2,     2.32,2, -999.000,9, -999.000,9, -999.000,9,   -999.0,9,   -999.0,9,-999.0000,9,  -999.00,   -999.0,9,   -999.0,  -999.00,9,  -999.00,  -999.00,9,   1.3730,2
  49NZ20031209,  I3I4,   498,  1,      7,  12031,2,20040105,0846,-19.9923,  80.5387, 4880,   4500.6,   1.3819,  34.7185,2,  34.7173,3,    178.2,1,    184.1,2,   129.63,2,    33.48,2,    -0.01,2,     2.33,2, -999.000,9, -999.000,9, -999.000,9,   -999.0,9,   -999.0,9,-999.0000,9,  -999.00,   -999.0,9,   -999.0,  -999.00,9,  -999.00,  -999.00,9,   1.3818,2
  49NZ20031209,  I3I4,   498,  1,      6,  12030,2,20040105,0846,-19.9923,  80.5387, 4880,   4750.7,   1.4025,  34.7183,2,  34.7183,2,    179.3,1,    184.1,2,   130.05,2,    33.53,2,     0.00,2,     2.33,2, -999.000,9, -999.000,9, -999.000,9,   -999.0,9,   -999.0,9,-999.0000,9,  -999.00,   -999.0,9,   -999.0,  -999.00,9,  -999.00,  -999.00,9,   1.4025,2
  49NZ20031209,  I3I4,   498,  1,      5,  12029,2,20040105,0846,-19.9923,  80.5387, 4880,   4930.4,   1.4164,  34.7181,2,  34.7184,2,    180.9,1,    184.2,2,   130.19,2,    33.52,2,     0.00,2,     2.34,2, -999.000,9, -999.000,9, -999.000,9,   -999.0,9,   -999.0,9,-999.0000,9,  -999.00,   -999.0,9,   -999.0,  -999.00,9,  -999.00,  -999.00,9,   1.4165,2
  49NZ20031209,  I3I4,   498,  1,      4,  12028,9,20040105,0846,-19.9923,  80.5387, 4880,   1000.8,   4.6268,  34.5650,2,-999.0000,9,    122.6,1,   -999.0,9,  -999.00,9,  -999.00,9,  -999.00,9,  -999.00,9, -999.000,9, -999.000,9, -999.000,9,   -999.0,9,   -999.0,9,-999.0000,9,  -999.00,   -999.0,9,   -999.0,  -999.00,9,  -999.00,  -999.00,9,   4.6266,2
  49NZ20031209,  I3I4,   498,  1,      3,  12027,2,20040105,0846,-19.9923,  80.5387, 4880,      4.7,  26.7049,  34.7967,2,-999.0000,9,    195.5,1,   -999.0,9,  -999.00,9,  -999.00,9,  -999.00,9,  -999.00,9, -999.000,9, -999.000,9, -999.000,9,   -999.0,9,   -999.0,9,-999.0000,9,  -999.00,   -999.0,9,   -999.0,  -999.00,9,  -999.00,  -999.00,9,  26.6992,2
  49NZ20031209,  I3I4,   498,  1,      2,  12026,2,20040105,0846,-19.9923,  80.5387, 4880,      5.0,  26.6986,  34.7962,2,-999.0000,9,    195.5,1,   -999.0,9,  -999.00,9,  -999.00,9,  -999.00,9,  -999.00,9, -999.000,9, -999.000,9, -999.000,9,   -999.0,9,   -999.0,9,-999.0000,9,  -999.00,   -999.0,9,   -999.0,  -999.00,9,  -999.00,  -999.00,9,  26.6972,2
  49NZ20031209,  I3I4,   498,  1,      1,  12025,2,20040105,0846,-19.9923,  80.5387, 4880,     99.9,  22.1183,  35.3934,2,  35.3896,2,    216.9,1,    226.5,2,     2.01,2,     0.06,2,     0.00,2,     0.11,2, -999.000,9, -999.000,9, -999.000,9,   -999.0,9,   -999.0,9,-999.0000,9,  -999.00,   -999.0,9,   -999.0,  -999.00,9,  -999.00,  -999.00,9,  22.1173,2