BOTTLE,20141204PRINUNIVRMK
EXPOCODE,SECT_ID,STNNBR,CASTNO,SAMPNO,BTLNBR,BTLNBR_FLAG_W,DATE,TIME,LATITUDE,LONGITUDE,DEPTH,CTDPRS,CTDTMP,CTDSAL,CTDSAL_FLAG_W,SALNTY,SALNTY_FLAG_W,CTDOXY,CTDOXY_FLAG_W,OXYGEN,OXYGEN_FLAG_W,SILCAT,SILCAT_FLAG_W,NITRAT,NITRAT_FLAG_W,NITRIT,NITRIT_FLAG_W,PHSPHT,PHSPHT_FLAG_W,CFC-11,CFC-11_FLAG_W,CFC-12,CFC-12_FLAG_W,CFC113,CFC113_FLAG_W,TCARBN,TCARBN_FLAG_W,ALKALI,ALKALI_FLAG_W,PH_TOT,PH_TOT_FLAG_W,PH_TMP,DELC14,DELC14_FLAG_W,C14ERR,DELC13,DELC13_FLAG_W,CS-137,CS137ER,CS-137_FLAG_W,SBE35,SBE35_FLAG_W
,,,,,,,,,,,METERS,DBAR,ITS-90,PSS-78,,PSS-78,,UMOL/KG,,UMOL/KG,,UMOL/KG,,UMOL/KG,,UMOL/KG,,UMOL/KG,,PMOL/KG,,PMOL/KG,,PMOL/KG,,UMOL/KG,,UMOL/KG,,,,DEG C,/MILLE,,/MILLE,/MILLE,,DM/.1MG,DM/.1MG,,ITS-90,
  49NZ20031209,  I3I4,  1007,  1,     36,  12024,2,20031223,0345,-19.9982,  54.5055, 4570,     10.4,  27.3973,  34.9466,2,  34.9466,2,    194.0,1,    203.0,2,     1.86,2,     0.02,2,     0.00,2,     0.12,2,    1.646,2,    1.014,2,    0.451,4,   1962.9,2,   2289.8,2,   8.0882,2,    25.00,   -999.0,9,   -999.0,  -999.00,9,  -999.00,  -999.00,9,  27.3972,2
  49NZ20031209,  I3I4,  1007,  1,     35,  12023,2,20031223,0345,-19.9982,  54.5055, 4570,     50.1,  25.5378,  35.0760,2,  35.0750,2,    207.7,1,    217.8,2,     1.99,2,     0.00,2,     0.00,2,     0.10,2,    1.824,2,    1.110,2, -999.000,5,   1969.1,6,   2300.9,2,   8.0893,2,    25.00,   -999.0,9,   -999.0,  -999.00,9,  -999.00,  -999.00,9,  25.5369,2
  49NZ20031209,  I3I4,  1007,  1,     34,  12022,2,20031223,0345,-19.9982,  54.5055, 4570,     99.7,  23.0276,  35.1116,2,  35.1148,2,    207.2,1,    216.3,2,     2.11,2,     0.01,2,     0.00,2,     0.15,2,    1.930,2,    1.168,2, -999.000,5,   1982.9,2,   2300.7,6,   8.0707,2,    25.00,   -999.0,9,   -999.0,  -999.00,9,  -999.00,  -999.00,9,  23.0275,2
  49NZ20031209,  I3I4,  1007,  1,     33,  12015,2,20031223,0345,-19.9982,  54.5055, 4570,    147.8,  21.5002,  35.3187,2,  35.3196,2,    186.0,1,    193.7,2,     3.20,2,     2.32,2,     0.05,2,     0.29,2,    1.980,2,    1.200,2,    0.413,4,   2020.7,2,   2309.6,2,   8.0207,6,    25.00,   -999.0,9,   -999.0,  -999.00,9,  -999.00,  -999.00,9,  21.4984,2
  49NZ20031209,  I3I4,  1007,  1,     32,  12020,2,20031223,0345,-19.9982,  54.5055, 4570,    198.7,  19.1570,  35.6166,2,  35.6185,2,    173.2,1,    181.8,2,     4.55,2,     4.57,2,     0.01,2,     0.43,2,    2.126,2,    1.247,2,    0.202,4,   2071.5,2,   2333.7,2,   7.9620,2,    25.00,   -999.0,9,   -999.0,  -999.00,9,  -999.00,  -999.00,9,  19.1546,2
  49NZ20031209,  I3I4,  1007,  1,     31,  12019,2,20031223,0345,-19.9982,  54.5055, 4570,    251.4,  17.5678,  35.6338,2,  35.6341,2,    177.4,1,    184.5,2,     5.37,2,     5.70,2,     0.00,2,     0.52,2,    2.256,6,    1.282,6,    0.110,4,   2092.5,2,   2335.3,2,   7.9294,2,    25.00,   -999.0,9,   -999.0,  -999.00,9,  -999.00,  -999.00,9,  17.5658,2
  49NZ20031209,  I3I4,  1007,  1,     30,  12018,2,20031223,0345,-19.9982,  54.5055, 4570,    299.3,  15.8078,  35.5608,2,  35.5593,2,    191.2,1,    199.1,2,     4.51,2,     6.04,2,     0.00,2,     0.56,2,    2.513,2,    1.385,2,    0.083,4,   2101.1,2,   2332.6,2,   7.9102,2,    25.00,   -999.0,9,   -999.0,  -999.00,9,  -999.00,  -999.00,9,  15.8120,2
  49NZ20031209,  I3I4,  1007,  1,     29,  12021,2,20031223,0345,-19.9982,  54.5055, 4570,    400.8,  13.1849,  35.2797,2,  35.2764,2,    213.6,1,    222.3,2,     3.53,2,     8.61,2,     0.00,2,     0.71,2,    2.972,2,    1.599,2,    0.111,4,   2108.1,2,   2316.4,2,   7.8738,2,    25.00,   -999.0,9,   -999.0,  -999.00,9,  -999.00,  -999.00,9,  13.1847,2
  49NZ20031209,  I3I4,  1007,  1,     28,  12016,2,20031223,0345,-19.9982,  54.5055, 4570,    498.9,  11.5020,  35.0276,2,  35.0204,2,    218.8,1,    227.5,2,     4.12,2,    11.97,2,     0.00,2,     0.91,2,    3.106,2,    1.622,2,    0.134,4,   2114.5,2,   2306.7,2,   7.8381,2,    25.00,   -999.0,9,   -999.0,  -999.00,9,  -999.00,  -999.00,9,  11.5034,2
  49NZ20031209,  I3I4,  1007,  1,     27,  12012,2,20031223,0345,-19.9982,  54.5055, 4570,    599.2,  10.0424,  34.8153,2,  34.8148,2,    217.2,1,    225.8,2,     5.67,2,    15.47,2,     0.00,2,     1.13,2,    3.011,2,    1.531,2,    0.131,4,   2123.6,2,   2300.0,2,   7.8023,2,    25.00,   -999.0,9,   -999.0,  -999.00,9,  -999.00,  -999.00,9,  10.0423,2
  49NZ20031209,  I3I4,  1007,  1,     26,  12014,2,20031223,0345,-19.9982,  54.5055, 4570,    700.4,   8.6433,  34.6576,2,  34.6585,2,    193.0,1,    200.5,2,    13.78,2,    21.32,2,     0.00,2,     1.50,2,    2.143,2,    1.079,2,    0.056,4,   2150.9,6,   2293.4,2,   7.7386,2,    25.00,   -999.0,9,   -999.0,  -999.00,9,  -999.00,  -999.00,9,   8.6433,2
  49NZ20031209,  I3I4,  1007,  1,     25,  12013,2,20031223,0345,-19.9982,  54.5055, 4570,    800.7,   7.1465,  34.5551,2,  34.5549,2,    177.0,1,    183.5,2,    25.32,2,    26.33,2,     0.00,2,     1.84,2,    1.231,2,    0.650,2,    0.034,4,   2178.1,2,   2300.0,6,   7.6817,2,    25.00,   -999.0,9,   -999.0,  -999.00,9,  -999.00,  -999.00,9,   7.1480,2
  49NZ20031209,  I3I4,  1007,  1,     24,  12048,2,20031223,0345,-19.9982,  54.5055, 4570,    900.7,   6.0989,  34.5263,2,  34.5263,2,    164.1,1,    170.6,2,    37.79,2,    29.52,2,     0.00,2,     2.07,2,    0.767,2,    0.413,2,    0.011,4,   2203.1,2,   2311.6,2,   7.6434,6,    25.00,   -999.0,9,   -999.0,  -999.00,9,  -999.00,  -999.00,9,   6.0950,2
  49NZ20031209,  I3I4,  1007,  1,     23,  12047,2,20031223,0345,-19.9982,  54.5055, 4570,   1000.0,   5.1720,  34.5302,2,  34.5328,2,    146.1,1,    151.0,2,    54.03,2,    32.76,2,    -0.01,2,     2.32,2,    0.294,6,    0.165,6,    0.001,4,   2232.6,2,   2326.1,2,   7.6007,2,    25.00,   -999.0,9,   -999.0,  -999.00,9,  -999.00,  -999.00,9,   5.1684,2
  49NZ20031209,  I3I4,  1007,  1,     22,  12046,2,20031223,0345,-19.9982,  54.5055, 4570,   1200.0,   4.2639,  34.6173,2,  34.6199,2,    129.3,1,    134.1,2,    76.36,2,    34.72,2,    -0.01,2,     2.48,2,    0.076,2,    0.018,2,    0.001,4,   2266.8,2,   2342.8,2,   7.5729,2,    25.00,   -999.0,9,   -999.0,  -999.00,9,  -999.00,  -999.00,9,   4.2619,2
  49NZ20031209,  I3I4,  1007,  1,     21,  12045,2,20031223,0345,-19.9982,  54.5055, 4570,   1398.7,   3.3295,  34.6386,2,  34.6376,2,    145.3,1,    151.0,2,    81.95,2,    34.22,2,    -0.01,2,     2.42,2,    0.030,2,    0.014,2,    0.001,4,   2265.1,2,   2352.8,2,   7.5826,2,    25.00,   -999.0,9,   -999.0,  -999.00,9,  -999.00,  -999.00,9,   3.3340,2
  49NZ20031209,  I3I4,  1007,  1,     20,  12044,2,20031223,0345,-19.9982,  54.5055, 4570,   1601.4,   2.9146,  34.6771,2,  34.6757,2,    150.4,1,    157.1,2,    89.82,2,    33.85,2,    -0.01,2,     2.39,2,    0.024,2,    0.008,2,    0.002,4,   2270.6,2,   2360.5,2,   7.5916,2,    25.00,   -999.0,9,   -999.0,  -999.00,9,  -999.00,  -999.00,9,   2.9151,2
  49NZ20031209,  I3I4,  1007,  1,     19,  12043,2,20031223,0345,-19.9982,  54.5055, 4570,   1802.8,   2.5363,  34.7064,2,  34.7055,2,    155.7,1,    162.8,2,    97.37,2,    33.43,2,    -0.01,2,     2.36,2,    0.010,2,    0.004,2,    0.002,4,   2277.7,2,   2368.1,2,   7.6004,2,    25.00,   -999.0,9,   -999.0,  -999.00,9,  -999.00,  -999.00,9,   2.5372,2
  49NZ20031209,  I3I4,  1007,  1,     18,  12042,2,20031223,0345,-19.9982,  54.5055, 4570,   2003.3,   2.3496,  34.7205,2,  34.7199,2,    155.9,1,    163.2,2,   104.24,2,    33.55,2,     0.00,2,     2.37,2,    0.008,2,    0.004,2,    0.002,4,   2282.0,2,   2378.6,2,   7.6043,2,    25.00,   -999.0,9,   -999.0,  -999.00,9,  -999.00,  -999.00,9,   2.3497,2
  49NZ20031209,  I3I4,  1007,  1,     17,  12041,2,20031223,0345,-19.9982,  54.5055, 4570,   2200.9,   2.1591,  34.7285,2,  34.7285,2,    156.2,1,    163.4,2,   111.95,2,    33.82,2,    -0.01,2,     2.38,2,    0.008,2,    0.000,2,    0.002,4,   2289.4,2,   2384.7,2,   7.6051,2,    25.00,   -999.0,9,   -999.0,  -999.00,9,  -999.00,  -999.00,9,   2.1594,2
  49NZ20031209,  I3I4,  1007,  1,     16,  12040,2,20031223,0345,-19.9982,  54.5055, 4570,   2402.3,   2.0232,  34.7322,2,  34.7322,2,    156.4,1,    163.7,2,   116.96,2,    33.96,2,    -0.01,2,     2.39,2,   -0.018,4,    0.004,2,    0.000,4,   2294.1,6,   2387.3,2,   7.6044,2,    25.00,   -999.0,9,   -999.0,  -999.00,9,  -999.00,  -999.00,9,   2.0238,2
  49NZ20031209,  I3I4,  1007,  1,     15,  12039,2,20031223,0345,-19.9982,  54.5055, 4570,   2599.3,   1.9616,  34.7343,2,  34.7347,2,    156.4,1,    163.7,2,   119.93,2,    34.09,2,    -0.01,2,     2.41,2,   -0.017,4,   -0.001,2,    0.000,4,   2300.2,2,   2393.9,6,   7.6077,2,    25.00,   -999.0,9,   -999.0,  -999.00,9,  -999.00,  -999.00,9,   1.9613,2
  49NZ20031209,  I3I4,  1007,  1,     14,  12038,2,20031223,0345,-19.9982,  54.5055, 4570,   2800.4,   1.8730,  34.7359,2,  34.7361,2,    156.7,1,    163.9,2,   123.37,2,    34.24,2,     0.00,2,     2.41,2,   -0.015,4,   -0.001,2,    0.000,4,   2302.0,2,   2395.4,2,   7.6060,6,    25.00,   -999.0,9,   -999.0,  -999.00,9,  -999.00,  -999.00,9,   1.8732,2
  49NZ20031209,  I3I4,  1007,  1,     13,  12037,2,20031223,0345,-19.9982,  54.5055, 4570,   2998.9,   1.7828,  34.7344,2,  34.7346,2,    159.0,1,    166.1,2,   125.43,2,    34.20,2,    -0.01,2,     2.41,2,   -0.013,4,   -0.001,2,    0.000,4,   2301.5,2,   2398.0,2,   7.6070,2,    25.00,   -999.0,9,   -999.0,  -999.00,9,  -999.00,  -999.00,9,   1.7826,2
  49NZ20031209,  I3I4,  1007,  1,     12,  12036,2,20031223,0345,-19.9982,  54.5055, 4570,   3252.5,   1.7070,  34.7335,2,  34.7335,2,    161.2,1,    168.2,2,   127.19,2,    34.14,2,    -0.01,2,     2.40,2,   -0.009,4,   -0.001,2,    0.000,4,   2301.7,2,   2399.4,2,   7.6104,2,    25.00,   -999.0,9,   -999.0,  -999.00,9,  -999.00,  -999.00,9,   1.7069,2
  49NZ20031209,  I3I4,  1007,  1,     11,  12035,2,20031223,0345,-19.9982,  54.5055, 4570,   3500.8,   1.5843,  34.7295,2,  34.7294,2,    166.5,1,    173.6,2,   127.91,2,    33.92,2,    -0.01,2,     2.38,2,   -0.007,4,    0.001,2,    0.000,4,   2298.8,2,   2397.7,2,   7.6134,2,    25.00,   -999.0,9,   -999.0,  -999.00,9,  -999.00,  -999.00,9,   1.5844,2
  49NZ20031209,  I3I4,  1007,  1,     10,  12034,2,20031223,0345,-19.9982,  54.5055, 4570,   3750.3,   1.4364,  34.7243,2,  34.7241,2,    174.7,1,    181.6,2,   126.79,2,    33.56,2,     0.00,2,     2.35,2,    0.006,2,    0.001,2,    0.000,4,   2290.7,2,   2393.1,2,   7.6164,2,    25.00,   -999.0,9,   -999.0,  -999.00,9,  -999.00,  -999.00,9,   1.4359,2
  49NZ20031209,  I3I4,  1007,  1,      9,  12033,2,20031223,0345,-19.9982,  54.5055, 4570,   4000.7,   1.3371,  34.7201,2,  34.7199,2,    181.0,1,    187.7,2,   125.88,2,    33.31,2,     0.00,2,     2.33,2,    0.005,2,    0.008,2,    0.000,4,   2287.6,2,   2387.7,2,   7.6183,2,    25.00,   -999.0,9,   -999.0,  -999.00,9,  -999.00,  -999.00,9,   1.3365,2
  49NZ20031209,  I3I4,  1007,  1,      8,  12032,2,20031223,0345,-19.9982,  54.5055, 4570,   4251.4,   1.2190,  34.7154,2,  34.7153,2,    188.1,1,    194.6,2,   124.96,2,    33.02,2,    -0.01,2,     2.30,2,    0.005,2,    0.004,2,    0.000,4,   2279.8,6,   2384.0,2,   7.6203,2,    25.00,   -999.0,9,   -999.0,  -999.00,9,  -999.00,  -999.00,9,   1.2187,2
  49NZ20031209,  I3I4,  1007,  1,      7,  12031,2,20031223,0345,-19.9982,  54.5055, 4570,   4499.3,   1.1033,  34.7106,2,  34.7106,2,    195.6,1,    201.3,2,   123.81,2,    32.69,2,    -0.01,2,     2.27,2,    0.009,2,    0.004,2,    0.000,4,   2272.1,2,   2377.1,6,   7.6221,2,    25.00,   -999.0,9,   -999.0,  -999.00,9,  -999.00,  -999.00,9,   1.1031,2
  49NZ20031209,  I3I4,  1007,  1,      6,  12030,2,20031223,0345,-19.9982,  54.5055, 4570,   4629.1,   1.0593,  34.7088,2,  34.7088,2,    198.9,1,    204.0,2,   123.53,2,    32.55,2,    -0.01,2,     2.26,2,    0.015,2,    0.012,2,    0.000,4,   2268.9,2,   2371.1,2,   7.6216,6,    25.00,   -999.0,9,   -999.0,  -999.00,9,  -999.00,  -999.00,9,   1.0594,2
  49NZ20031209,  I3I4,  1007,  1,      5,  12029,2,20031223,0345,-19.9982,  54.5055, 4570,   4499.4,   1.1027,  34.7107,2,  34.7107,2,    195.6,1,    201.4,2,   123.86,2,    32.70,2,     0.00,2,     2.27,2,    0.013,2,    0.010,2,    0.000,4,   2271.4,2,   2375.6,2,   7.6238,2,    25.00,   -999.0,9,   -999.0,  -999.00,9,  -999.00,  -999.00,9,   1.1026,2
  49NZ20031209,  I3I4,  1007,  1,      4,  12028,9,20031223,0345,-19.9982,  54.5055, 4570,      4.9,  27.3945,  34.9476,2,-999.0000,9,    194.2,1,   -999.0,9,  -999.00,9,  -999.00,9,  -999.00,9,  -999.00,9, -999.000,9, -999.000,9, -999.000,9,   -999.0,9,   -999.0,9,-999.0000,9,  -999.00,   -999.0,9,   -999.0,  -999.00,9,  -999.00,  -999.00,9,  27.3939,2
  49NZ20031209,  I3I4,  1007,  1,      3,  12027,2,20031223,0345,-19.9982,  54.5055, 4570,      4.6,  27.3990,  34.9477,2,-999.0000,9,    193.8,1,   -999.0,9,  -999.00,9,  -999.00,9,  -999.00,9,  -999.00,9, -999.000,9, -999.000,9, -999.000,9,   -999.0,9,   -999.0,9,-999.0000,9,  -999.00,   -999.0,9,   -999.0,  -999.00,9,  -999.00,  -999.00,9,  27.3980,2
  49NZ20031209,  I3I4,  1007,  1,      2,  12026,2,20031223,0345,-19.9982,  54.5055, 4570,      4.4,  27.3997,  34.9476,2,-999.0000,9,    194.0,1,   -999.0,9,  -999.00,9,  -999.00,9,  -999.00,9,  -999.00,9, -999.000,9, -999.000,9, -999.000,9,   -999.0,9,   -999.0,9,-999.0000,9,  -999.00,   -999.0,9,   -999.0,  -999.00,9,  -999.00,  -999.00,9,  27.3975,2
  49NZ20031209,  I3I4,  1007,  1,      1,  12025,2,20031223,0345,-19.9982,  54.5055, 4570,    111.5,  22.5082,  35.1789,2,-999.0000,9,    204.3,1,   -999.0,9,  -999.00,9,  -999.00,9,  -999.00,9,  -999.00,9, -999.000,9, -999.000,9, -999.000,9,   -999.0,9,   -999.0,9,-999.0000,9,  -999.00,   -999.0,9,   -999.0,  -999.00,9,  -999.00,  -999.00,9,  22.5076,2