BOTTLE,20141204PRINUNIVRMK
EXPOCODE,SECT_ID,STNNBR,CASTNO,SAMPNO,BTLNBR,BTLNBR_FLAG_W,DATE,TIME,LATITUDE,LONGITUDE,DEPTH,CTDPRS,CTDTMP,CTDSAL,CTDSAL_FLAG_W,SALNTY,SALNTY_FLAG_W,CTDOXY,CTDOXY_FLAG_W,OXYGEN,OXYGEN_FLAG_W,SILCAT,SILCAT_FLAG_W,NITRAT,NITRAT_FLAG_W,NITRIT,NITRIT_FLAG_W,PHSPHT,PHSPHT_FLAG_W,CFC-11,CFC-11_FLAG_W,CFC-12,CFC-12_FLAG_W,CFC113,CFC113_FLAG_W,TCARBN,TCARBN_FLAG_W,ALKALI,ALKALI_FLAG_W,PH_TOT,PH_TOT_FLAG_W,PH_TMP,DELC14,DELC14_FLAG_W,C14ERR,DELC13,DELC13_FLAG_W,CS-137,CS137ER,CS-137_FLAG_W,SBE35,SBE35_FLAG_W
,,,,,,,,,,,METERS,DBAR,ITS-90,PSS-78,,PSS-78,,UMOL/KG,,UMOL/KG,,UMOL/KG,,UMOL/KG,,UMOL/KG,,UMOL/KG,,PMOL/KG,,PMOL/KG,,PMOL/KG,,UMOL/KG,,UMOL/KG,,,,DEG C,/MILLE,,/MILLE,/MILLE,,DM/.1MG,DM/.1MG,,ITS-90,
  49NZ20031209,  I3I4,   479,  1,     36,  12024,2,20040110,1453,-19.9947,  90.8182, 5135,      9.3,  25.3783,  35.0062,2,  35.0085,2,    199.7,1,    208.9,2,     1.92,2,    -0.01,2,     0.01,2,     0.11,2, -999.000,9, -999.000,9, -999.000,9,   -999.0,9,   -999.0,9,-999.0000,9,  -999.00,   -999.0,9,   -999.0,  -999.00,9,  -999.00,  -999.00,9,  25.3749,2
  49NZ20031209,  I3I4,   479,  1,     35,  12023,2,20040110,1453,-19.9947,  90.8182, 5135,     49.1,  24.3620,  35.1629,2,  35.1631,2,    207.3,1,    216.8,2,     2.00,2,    -0.01,2,     0.01,2,     0.10,2, -999.000,9, -999.000,9, -999.000,9,   -999.0,9,   -999.0,9,-999.0000,9,  -999.00,   -999.0,9,   -999.0,  -999.00,9,  -999.00,  -999.00,9,  24.3609,2
  49NZ20031209,  I3I4,   479,  1,     34,  12022,2,20040110,1453,-19.9947,  90.8182, 5135,     98.9,  21.7856,  35.3011,2,  35.2996,2,    197.4,1,    205.2,2,     3.35,2,     1.03,2,     0.05,2,     0.20,2, -999.000,9, -999.000,9, -999.000,9,   -999.0,9,   -999.0,9,-999.0000,9,  -999.00,   -999.0,9,   -999.0,  -999.00,9,     1.76,     0.21,2,  21.7804,2
  49NZ20031209,  I3I4,   479,  1,     33,  12015,2,20040110,1453,-19.9947,  90.8182, 5135,    149.0,  20.5308,  35.5786,2,  35.5862,2,    202.7,1,    211.4,2,     2.43,2,     0.14,2,     0.05,2,     0.16,2, -999.000,9, -999.000,9, -999.000,9,   -999.0,9,   -999.0,9,-999.0000,9,  -999.00,   -999.0,9,   -999.0,  -999.00,9,  -999.00,  -999.00,9,  20.5291,2
  49NZ20031209,  I3I4,   479,  1,     32,  12020,2,20040110,1453,-19.9947,  90.8182, 5135,    199.3,  19.1397,  35.7670,2,  35.7769,2,    190.9,1,    200.9,2,     2.64,2,     2.06,2,     0.05,2,     0.28,2, -999.000,9, -999.000,9, -999.000,9,   -999.0,9,   -999.0,9,-999.0000,9,  -999.00,   -999.0,9,   -999.0,  -999.00,9,     1.98,     0.15,2,  19.1386,2
  49NZ20031209,  I3I4,   479,  1,     31,  12019,2,20040110,1453,-19.9947,  90.8182, 5135,    248.8,  17.2682,  35.7905,2,  35.7848,2,    203.3,1,    211.9,2,     2.00,2,     2.15,2,     0.02,2,     0.31,2, -999.000,9, -999.000,9, -999.000,9,   -999.0,9,   -999.0,9,-999.0000,9,  -999.00,   -999.0,9,   -999.0,  -999.00,9,  -999.00,  -999.00,9,  17.2641,2
  49NZ20031209,  I3I4,   479,  1,     30,  12018,2,20040110,1453,-19.9947,  90.8182, 5135,    300.4,  15.0538,  35.5607,2,  35.5592,2,    210.4,1,    219.3,2,     2.01,2,     4.17,2,     0.01,2,     0.43,2, -999.000,9, -999.000,9, -999.000,9,   -999.0,9,   -999.0,9,-999.0000,9,  -999.00,   -999.0,9,   -999.0,  -999.00,9,  -999.00,  -999.00,9,  15.0659,2
  49NZ20031209,  I3I4,   479,  1,     29,  12017,2,20040110,1453,-19.9947,  90.8182, 5135,    401.1,  12.1810,  35.1453,2,  35.1421,2,    225.5,1,    235.0,2,     2.31,2,     8.65,2,     0.01,2,     0.70,2, -999.000,9, -999.000,9, -999.000,9,   -999.0,9,   -999.0,9,-999.0000,9,  -999.00,   -999.0,9,   -999.0,  -999.00,9,     1.62,     0.19,2,  12.1816,2
  49NZ20031209,  I3I4,   479,  1,     28,  12016,2,20040110,1453,-19.9947,  90.8182, 5135,    498.6,  10.1056,  34.8093,2,  34.8029,2,    231.3,1,    240.8,2,     3.55,2,    13.55,2,     0.01,2,     1.00,2, -999.000,9, -999.000,9, -999.000,9,   -999.0,9,   -999.0,9,-999.0000,9,  -999.00,   -999.0,9,   -999.0,  -999.00,9,  -999.00,  -999.00,9,  10.1068,2
  49NZ20031209,  I3I4,   479,  1,     27,  12012,2,20040110,1453,-19.9947,  90.8182, 5135,    599.6,   8.9072,  34.6404,2,  34.6378,2,    223.2,1,    232.9,2,     5.73,2,    17.84,2,     0.01,2,     1.26,2, -999.000,9, -999.000,9, -999.000,9,   -999.0,9,   -999.0,9,-999.0000,9,  -999.00,   -999.0,9,   -999.0,  -999.00,9,  -999.00,  -999.00,1,   8.9082,2
  49NZ20031209,  I3I4,   479,  1,     26,  12014,2,20040110,1453,-19.9947,  90.8182, 5135,    699.9,   7.5922,  34.5305,2,  34.5276,2,    193.7,1,    201.5,2,    15.57,2,    23.88,2,     0.00,2,     1.65,2, -999.000,9, -999.000,9, -999.000,9,   -999.0,9,   -999.0,9,-999.0000,9,  -999.00,   -999.0,9,   -999.0,  -999.00,9,  -999.00,  -999.00,9,   7.5919,2
  49NZ20031209,  I3I4,   479,  1,     25,  12013,2,20040110,1453,-19.9947,  90.8182, 5135,    799.9,   6.0837,  34.4806,2,  34.4810,2,    162.4,1,    168.6,2,    34.62,2,    29.78,2,     0.00,2,     2.06,2, -999.000,9, -999.000,9, -999.000,9,   -999.0,9,   -999.0,9,-999.0000,9,  -999.00,   -999.0,9,   -999.0,  -999.00,9,     0.00,     0.00,2,   6.0843,2
  49NZ20031209,  I3I4,   479,  1,     24,  12048,2,20040110,1453,-19.9947,  90.8182, 5135,    900.7,   5.1522,  34.5217,2,  34.5224,2,    133.5,1,    138.3,2,    57.79,2,    33.62,2,     0.01,2,     2.38,2, -999.000,9, -999.000,9, -999.000,9,   -999.0,9,   -999.0,9,-999.0000,9,  -999.00,   -999.0,9,   -999.0,  -999.00,9,  -999.00,  -999.00,9,   5.1521,2
  49NZ20031209,  I3I4,   479,  1,     23,  12047,2,20040110,1453,-19.9947,  90.8182, 5135,   1000.6,   4.7496,  34.5635,2,  34.5646,2,    120.4,1,    124.7,2,    71.01,2,    34.98,2,     0.01,2,     2.49,2, -999.000,9, -999.000,9, -999.000,9,   -999.0,9,   -999.0,9,-999.0000,9,  -999.00,   -999.0,9,   -999.0,  -999.00,9,  -999.00,  -999.00,1,   4.7496,2
  49NZ20031209,  I3I4,   479,  1,     22,  12046,2,20040110,1453,-19.9947,  90.8182, 5135,   1199.4,   4.1616,  34.6354,2,  34.6350,2,    114.2,1,    118.4,2,    86.21,2,    35.63,2,     0.00,2,     2.55,2, -999.000,9, -999.000,9, -999.000,9,   -999.0,9,   -999.0,9,-999.0000,9,  -999.00,   -999.0,9,   -999.0,  -999.00,9,  -999.00,  -999.00,1,   4.1617,2
  49NZ20031209,  I3I4,   479,  1,     21,  12045,2,20040110,1453,-19.9947,  90.8182, 5135,   1400.6,   3.6678,  34.6674,2,  34.6689,2,    120.4,1,    125.4,2,    92.95,2,    35.47,2,     0.01,2,     2.53,2, -999.000,9, -999.000,9, -999.000,9,   -999.0,9,   -999.0,9,-999.0000,9,  -999.00,   -999.0,9,   -999.0,  -999.00,9,  -999.00,  -999.00,1,   3.6676,2
  49NZ20031209,  I3I4,   479,  1,     20,  12044,2,20040110,1453,-19.9947,  90.8182, 5135,   1600.0,   3.1982,  34.6916,2,  34.6918,2,    128.6,1,    134.2,2,    98.55,2,    35.11,2,     0.01,2,     2.50,2, -999.000,9, -999.000,9, -999.000,9,   -999.0,9,   -999.0,9,-999.0000,9,  -999.00,   -999.0,9,   -999.0,  -999.00,9,  -999.00,  -999.00,9,   3.1993,2
  49NZ20031209,  I3I4,   479,  1,     19,  12043,2,20040110,1453,-19.9947,  90.8182, 5135,   1799.6,   2.7213,  34.7117,2,  34.7117,2,    138.7,1,    145.2,2,   104.96,2,    34.50,2,     0.01,2,     2.45,2, -999.000,9, -999.000,9, -999.000,9,   -999.0,9,   -999.0,9,-999.0000,9,  -999.00,   -999.0,9,   -999.0,  -999.00,9,  -999.00,  -999.00,9,   2.7214,2
  49NZ20031209,  I3I4,   479,  1,     18,  12042,2,20040110,1453,-19.9947,  90.8182, 5135,   2000.6,   2.4071,  34.7210,2,  34.7209,2,    146.3,1,    153.7,2,   109.00,2,    34.11,2,     0.01,2,     2.41,2, -999.000,9, -999.000,9, -999.000,9,   -999.0,9,   -999.0,9,-999.0000,9,  -999.00,   -999.0,9,   -999.0,  -999.00,9,  -999.00,  -999.00,1,   2.4071,2
  49NZ20031209,  I3I4,   479,  1,     17,  12041,2,20040110,1453,-19.9947,  90.8182, 5135,   2201.6,   2.1465,  34.7261,2,  34.7258,2,    152.9,1,    160.6,2,   112.76,2,    33.72,2,     0.01,2,     2.37,2, -999.000,9, -999.000,9, -999.000,9,   -999.0,9,   -999.0,9,-999.0000,9,  -999.00,   -999.0,9,   -999.0,  -999.00,9,  -999.00,  -999.00,9,   2.1465,2
  49NZ20031209,  I3I4,   479,  1,     16,  12040,2,20040110,1453,-19.9947,  90.8182, 5135,   2399.8,   1.9715,  34.7274,2,  34.7274,2,    157.5,1,    165.7,2,   115.19,2,    33.54,2,     0.00,2,     2.36,2, -999.000,9, -999.000,9, -999.000,9,   -999.0,9,   -999.0,9,-999.0000,9,  -999.00,   -999.0,9,   -999.0,  -999.00,9,  -999.00,  -999.00,1,   1.9716,2
  49NZ20031209,  I3I4,   479,  1,     15,  12039,2,20040110,1453,-19.9947,  90.8182, 5135,   2600.4,   1.8664,  34.7274,2,  34.7274,2,    160.6,1,    169.0,2,   116.69,2,    33.38,2,     0.01,2,     2.34,2, -999.000,9, -999.000,9, -999.000,9,   -999.0,9,   -999.0,9,-999.0000,9,  -999.00,   -999.0,9,   -999.0,  -999.00,9,  -999.00,  -999.00,9,   1.8661,2
  49NZ20031209,  I3I4,   479,  1,     14,  12038,2,20040110,1453,-19.9947,  90.8182, 5135,   2799.2,   1.7656,  34.7276,2,  34.7273,2,    161.8,1,    170.2,2,   119.79,2,    33.50,2,     0.01,2,     2.34,2, -999.000,9, -999.000,9, -999.000,9,   -999.0,9,   -999.0,9,-999.0000,9,  -999.00,   -999.0,9,   -999.0,  -999.00,9,  -999.00,  -999.00,9,   1.7656,2
  49NZ20031209,  I3I4,   479,  1,     13,  12037,2,20040110,1453,-19.9947,  90.8182, 5135,   3000.5,   1.6620,  34.7265,2,  34.7266,2,    163.2,1,    171.7,2,   123.20,2,    33.53,2,     0.01,2,     2.35,2, -999.000,9, -999.000,9, -999.000,9,   -999.0,9,   -999.0,9,-999.0000,9,  -999.00,   -999.0,9,   -999.0,  -999.00,9,  -999.00,  -999.00,1,   1.6621,2
  49NZ20031209,  I3I4,   479,  1,     12,  12036,2,20040110,1453,-19.9947,  90.8182, 5135,   3250.2,   1.5041,  34.7235,2,  34.7233,2,    167.0,1,    175.6,2,   126.07,2,    33.49,2,     0.01,2,     2.33,2, -999.000,9, -999.000,9, -999.000,9,   -999.0,9,   -999.0,9,-999.0000,9,  -999.00,   -999.0,9,   -999.0,  -999.00,9,  -999.00,  -999.00,9,   1.5038,2
  49NZ20031209,  I3I4,   479,  1,     11,  12035,2,20040110,1453,-19.9947,  90.8182, 5135,   3499.7,   1.3686,  34.7207,2,  34.7209,2,    175.6,1,    184.6,2,   123.91,2,    32.93,2,     0.00,2,     2.29,2, -999.000,9, -999.000,9, -999.000,9,   -999.0,9,   -999.0,9,-999.0000,9,  -999.00,   -999.0,9,   -999.0,  -999.00,9,  -999.00,  -999.00,1,   1.3686,2
  49NZ20031209,  I3I4,   479,  1,     10,  12034,2,20040110,1453,-19.9947,  90.8182, 5135,   3750.5,   1.2572,  34.7181,2,  34.7181,2,    182.4,1,    191.7,2,   122.37,2,    32.63,2,     0.01,2,     2.27,2, -999.000,9, -999.000,9, -999.000,9,   -999.0,9,   -999.0,9,-999.0000,9,  -999.00,   -999.0,9,   -999.0,  -999.00,9,  -999.00,  -999.00,9,   1.2572,2
  49NZ20031209,  I3I4,   479,  1,      9,  12033,2,20040110,1453,-19.9947,  90.8182, 5135,   4000.7,   1.1652,  34.7158,2,  34.7156,2,    187.9,1,    197.1,2,   121.69,2,    32.35,2,     0.01,2,     2.24,2, -999.000,9, -999.000,9, -999.000,9,   -999.0,9,   -999.0,9,-999.0000,9,  -999.00,   -999.0,9,   -999.0,  -999.00,9,  -999.00,  -999.00,1,   1.1652,2
  49NZ20031209,  I3I4,   479,  1,      8,  12032,2,20040110,1453,-19.9947,  90.8182, 5135,   4249.8,   1.1013,  34.7135,2,  34.7135,2,    192.0,1,    200.8,2,   121.71,2,    32.23,2,     0.01,2,     2.23,2, -999.000,9, -999.000,9, -999.000,9,   -999.0,9,   -999.0,9,-999.0000,9,  -999.00,   -999.0,9,   -999.0,  -999.00,9,  -999.00,  -999.00,9,   1.1013,2
  49NZ20031209,  I3I4,   479,  1,      7,  12031,2,20040110,1453,-19.9947,  90.8182, 5135,   4500.9,   1.0891,  34.7124,2,  34.7130,2,    194.2,1,    202.3,2,   121.89,2,    32.18,2,     0.01,2,     2.23,2, -999.000,9, -999.000,9, -999.000,9,   -999.0,9,   -999.0,9,-999.0000,9,  -999.00,   -999.0,9,   -999.0,  -999.00,9,  -999.00,  -999.00,1,   1.0890,2
  49NZ20031209,  I3I4,   479,  1,      6,  12030,2,20040110,1453,-19.9947,  90.8182, 5135,   4751.2,   1.1046,  34.7121,2,  34.7121,2,    195.6,1,    202.8,2,   121.83,2,    32.20,2,     0.01,2,     2.23,2, -999.000,9, -999.000,9, -999.000,9,   -999.0,9,   -999.0,9,-999.0000,9,  -999.00,   -999.0,9,   -999.0,  -999.00,9,  -999.00,  -999.00,9,   1.1045,2
  49NZ20031209,  I3I4,   479,  1,      5,  12029,2,20040110,1453,-19.9947,  90.8182, 5135,   5000.2,   1.1290,  34.7120,2,  34.7120,2,    197.1,1,    203.1,2,   121.96,2,    32.19,2,     0.01,2,     2.23,2, -999.000,9, -999.000,9, -999.000,9,   -999.0,9,   -999.0,9,-999.0000,9,  -999.00,   -999.0,9,   -999.0,  -999.00,9,  -999.00,  -999.00,1,   1.1289,2
  49NZ20031209,  I3I4,   479,  1,      4,  12028,2,20040110,1453,-19.9947,  90.8182, 5135,   5215.3,   1.1557,  34.7122,2,  34.7119,2,    198.8,1,    203.0,2,   122.07,2,    32.10,2,     0.01,2,     2.22,2, -999.000,9, -999.000,9, -999.000,9,   -999.0,9,   -999.0,9,-999.0000,9,  -999.00,   -999.0,9,   -999.0,  -999.00,9,  -999.00,  -999.00,9,   1.1557,2
  49NZ20031209,  I3I4,   479,  1,      3,  12027,2,20040110,1453,-19.9947,  90.8182, 5135,   1000.5,   4.7492,  34.5632,2,-999.0000,9,    120.4,1,   -999.0,9,  -999.00,9,  -999.00,9,  -999.00,9,  -999.00,9, -999.000,9, -999.000,9, -999.000,9,   -999.0,9,   -999.0,9,-999.0000,9,  -999.00,   -999.0,9,   -999.0,  -999.00,9,  -999.00,  -999.00,9,   4.7493,2
  49NZ20031209,  I3I4,   479,  1,      2,  12026,2,20040110,1453,-19.9947,  90.8182, 5135,    599.6,   8.9085,  34.6401,2,-999.0000,9,    223.1,1,   -999.0,9,  -999.00,9,  -999.00,9,  -999.00,9,  -999.00,9, -999.000,9, -999.000,9, -999.000,9,   -999.0,9,   -999.0,9,-999.0000,9,  -999.00,   -999.0,9,   -999.0,  -999.00,9,  -999.00,  -999.00,9,   8.9113,2
  49NZ20031209,  I3I4,   479,  1,      1,  12025,2,20040110,1453,-19.9947,  90.8182, 5135,   5215.1,   1.1557,  34.7122,2,-999.0000,9,    198.8,1,   -999.0,9,  -999.00,9,  -999.00,9,  -999.00,9,  -999.00,9, -999.000,9, -999.000,9, -999.000,9,   -999.0,9,   -999.0,9,-999.0000,9,  -999.00,   -999.0,9,   -999.0,  -999.00,9,  -999.00,  -999.00,9,   1.1557,2