BOTTLE,20141204PRINUNIVRMK
EXPOCODE,SECT_ID,STNNBR,CASTNO,SAMPNO,BTLNBR,BTLNBR_FLAG_W,DATE,TIME,LATITUDE,LONGITUDE,DEPTH,CTDPRS,CTDTMP,CTDSAL,CTDSAL_FLAG_W,SALNTY,SALNTY_FLAG_W,CTDOXY,CTDOXY_FLAG_W,OXYGEN,OXYGEN_FLAG_W,SILCAT,SILCAT_FLAG_W,NITRAT,NITRAT_FLAG_W,NITRIT,NITRIT_FLAG_W,PHSPHT,PHSPHT_FLAG_W,CFC-11,CFC-11_FLAG_W,CFC-12,CFC-12_FLAG_W,CFC113,CFC113_FLAG_W,TCARBN,TCARBN_FLAG_W,ALKALI,ALKALI_FLAG_W,PH_TOT,PH_TOT_FLAG_W,PH_TMP,DELC14,DELC14_FLAG_W,C14ERR,DELC13,DELC13_FLAG_W,CS-137,CS137ER,CS-137_FLAG_W,SBE35,SBE35_FLAG_W
,,,,,,,,,,,METERS,DBAR,ITS-90,PSS-78,,PSS-78,,UMOL/KG,,UMOL/KG,,UMOL/KG,,UMOL/KG,,UMOL/KG,,UMOL/KG,,PMOL/KG,,PMOL/KG,,PMOL/KG,,UMOL/KG,,UMOL/KG,,,,DEG C,/MILLE,,/MILLE,/MILLE,,DM/.1MG,DM/.1MG,,ITS-90,
  49NZ20031209,  I3I4,   469,  1,     36,  12024,2,20040113,0833,-19.9885,  97.8365, 5839,      9.2,  24.6895,  35.0506,2,  35.0505,2,    202.6,1,    212.2,2,     2.26,2,     0.03,2,     0.01,2,     0.08,2, -999.000,9, -999.000,9, -999.000,9,   -999.0,9,   -999.0,9,-999.0000,9,  -999.00,   -999.0,9,   -999.0,  -999.00,9,  -999.00,  -999.00,9,  24.6963,2
  49NZ20031209,  I3I4,   469,  1,     35,  12023,2,20040113,0833,-19.9885,  97.8365, 5839,     49.8,  24.0103,  35.0237,2,  35.0507,4,    206.8,1,    215.2,2,     2.33,2,     0.03,2,     0.00,2,     0.08,2, -999.000,9, -999.000,9, -999.000,9,   -999.0,9,   -999.0,9,-999.0000,9,  -999.00,   -999.0,9,   -999.0,  -999.00,9,  -999.00,  -999.00,9,  24.0096,2
  49NZ20031209,  I3I4,   469,  1,     34,  12022,2,20040113,0833,-19.9885,  97.8365, 5839,    101.5,  22.1840,  35.1922,2,  35.1984,2,    204.5,1,    214.5,2,     2.82,2,     0.04,2,     0.01,2,     0.11,2, -999.000,9, -999.000,9, -999.000,9,   -999.0,9,   -999.0,9,-999.0000,9,  -999.00,   -999.0,9,   -999.0,  -999.00,9,  -999.00,  -999.00,9,  22.1796,2
  49NZ20031209,  I3I4,   469,  1,     33,  12015,2,20040113,0833,-19.9885,  97.8365, 5839,    151.3,  20.7869,  35.3237,2,  35.3303,2,    177.7,1,    184.8,2,     4.74,2,     3.47,2,     0.07,2,     0.34,2, -999.000,9, -999.000,9, -999.000,9,   -999.0,9,   -999.0,9,-999.0000,9,  -999.00,   -999.0,9,   -999.0,  -999.00,9,  -999.00,  -999.00,9,  20.7838,2
  49NZ20031209,  I3I4,   469,  1,     32,  12020,2,20040113,0833,-19.9885,  97.8365, 5839,    199.9,  19.5634,  35.6090,2,  35.6060,2,    179.7,1,    187.9,2,     4.01,2,     3.38,2,     0.02,2,     0.34,2, -999.000,9, -999.000,9, -999.000,9,   -999.0,9,   -999.0,9,-999.0000,9,  -999.00,   -999.0,9,   -999.0,  -999.00,9,  -999.00,  -999.00,9,  19.5654,2
  49NZ20031209,  I3I4,   469,  1,     31,  12019,3,20040113,0833,-19.9885,  97.8365, 5839,    248.9,  17.7087,  35.6468,2,  35.6435,2,    176.0,1,    183.1,2,     5.54,2,     5.45,2,     0.01,2,     0.49,2, -999.000,9, -999.000,9, -999.000,9,   -999.0,9,   -999.0,9,-999.0000,9,  -999.00,   -999.0,9,   -999.0,  -999.00,9,  -999.00,  -999.00,9,  17.7163,2
  49NZ20031209,  I3I4,   469,  1,     30,  12018,2,20040113,0833,-19.9885,  97.8365, 5839,    300.4,  16.3022,  35.6638,2,  35.6536,2,    197.9,1,    207.1,2,     3.01,2,     4.04,2,     0.01,2,     0.41,2, -999.000,9, -999.000,9, -999.000,9,   -999.0,9,   -999.0,9,-999.0000,9,  -999.00,   -999.0,9,   -999.0,  -999.00,9,  -999.00,  -999.00,9,  16.2973,2
  49NZ20031209,  I3I4,   469,  1,     29,  12017,2,20040113,0833,-19.9885,  97.8365, 5839,    399.5,  11.8247,  35.0812,2,  35.0805,2,    219.7,1,    229.2,2,     3.17,2,     9.99,2,     0.01,2,     0.79,2, -999.000,9, -999.000,9, -999.000,9,   -999.0,9,   -999.0,9,-999.0000,9,  -999.00,   -999.0,9,   -999.0,  -999.00,9,  -999.00,  -999.00,9,  11.8190,2
  49NZ20031209,  I3I4,   469,  1,     28,  12016,2,20040113,0833,-19.9885,  97.8365, 5839,    499.6,   9.7641,  34.7687,2,  34.7662,2,    224.1,1,    233.9,2,     4.44,2,    15.04,2,     0.01,2,     1.09,2, -999.000,9, -999.000,9, -999.000,9,   -999.0,9,   -999.0,9,-999.0000,9,  -999.00,   -999.0,9,   -999.0,  -999.00,9,  -999.00,  -999.00,9,   9.7623,2
  49NZ20031209,  I3I4,   469,  1,     27,  12012,2,20040113,0833,-19.9885,  97.8365, 5839,    598.6,   8.5573,  34.6124,2,  34.6109,2,    212.4,1,    222.0,2,     8.52,2,    19.61,2,     0.01,2,     1.37,2, -999.000,9, -999.000,9, -999.000,9,   -999.0,9,   -999.0,9,-999.0000,9,  -999.00,   -999.0,9,   -999.0,  -999.00,9,  -999.00,  -999.00,9,   8.5502,2
  49NZ20031209,  I3I4,   469,  1,     26,  12014,2,20040113,0833,-19.9885,  97.8365, 5839,    699.6,   7.1144,  34.5312,2,  34.5303,2,    167.0,1,    173.3,2,    27.12,2,    27.20,2,     0.00,2,     1.89,2, -999.000,9, -999.000,9, -999.000,9,   -999.0,9,   -999.0,9,-999.0000,9,  -999.00,   -999.0,9,   -999.0,  -999.00,9,  -999.00,  -999.00,9,   7.1140,2
  49NZ20031209,  I3I4,   469,  1,     25,  12013,2,20040113,0833,-19.9885,  97.8365, 5839,    800.7,   6.0893,  34.5870,2,  34.5887,2,    115.7,1,    119.2,2,    57.06,2,    33.33,2,     0.01,2,     2.37,2, -999.000,9, -999.000,9, -999.000,9,   -999.0,9,   -999.0,9,-999.0000,9,  -999.00,   -999.0,9,   -999.0,  -999.00,9,  -999.00,  -999.00,9,   6.0878,2
  49NZ20031209,  I3I4,   469,  1,     24,  12048,2,20040113,0833,-19.9885,  97.8365, 5839,    899.4,   5.5421,  34.6181,2,  34.6231,3,    101.5,1,    103.8,2,    72.46,2,    35.30,2,     0.00,2,     2.53,2, -999.000,9, -999.000,9, -999.000,9,   -999.0,9,   -999.0,9,-999.0000,9,  -999.00,   -999.0,9,   -999.0,  -999.00,9,  -999.00,  -999.00,9,   5.5421,2
  49NZ20031209,  I3I4,   469,  1,     23,  12047,2,20040113,0833,-19.9885,  97.8365, 5839,    999.4,   5.3152,  34.6707,2,  34.6701,2,     91.6,1,     94.5,2,    82.88,2,    35.95,2,     0.00,2,     2.60,2, -999.000,9, -999.000,9, -999.000,9,   -999.0,9,   -999.0,9,-999.0000,9,  -999.00,   -999.0,9,   -999.0,  -999.00,9,  -999.00,  -999.00,9,   5.3159,2
  49NZ20031209,  I3I4,   469,  1,     22,  12046,2,20040113,0833,-19.9885,  97.8365, 5839,   1199.9,   4.6076,  34.6702,2,  34.6696,2,     98.6,1,    102.5,2,    90.96,2,    36.27,2,     0.00,2,     2.62,2, -999.000,9, -999.000,9, -999.000,9,   -999.0,9,   -999.0,9,-999.0000,9,  -999.00,   -999.0,9,   -999.0,  -999.00,9,  -999.00,  -999.00,9,   4.6083,2
  49NZ20031209,  I3I4,   469,  1,     21,  12045,2,20040113,0833,-19.9885,  97.8365, 5839,   1398.7,   3.8923,  34.6724,2,  34.6725,2,    110.9,1,    115.7,2,    95.84,2,    35.90,2,     0.00,2,     2.59,2, -999.000,9, -999.000,9, -999.000,9,   -999.0,9,   -999.0,9,-999.0000,9,  -999.00,   -999.0,9,   -999.0,  -999.00,9,  -999.00,  -999.00,9,   3.8945,2
  49NZ20031209,  I3I4,   469,  1,     20,  12044,2,20040113,0833,-19.9885,  97.8365, 5839,   1599.5,   3.3888,  34.6898,2,  34.6901,2,    120.0,1,    125.6,2,   101.11,2,    35.59,2,     0.00,2,     2.55,2, -999.000,9, -999.000,9, -999.000,9,   -999.0,9,   -999.0,9,-999.0000,9,  -999.00,   -999.0,9,   -999.0,  -999.00,9,  -999.00,  -999.00,9,   3.3888,2
  49NZ20031209,  I3I4,   469,  1,     19,  12043,2,20040113,0833,-19.9885,  97.8365, 5839,   1800.8,   2.9265,  34.7088,2,  34.7099,2,    130.4,1,    136.9,2,   105.76,2,    34.99,2,     0.00,2,     2.50,2, -999.000,9, -999.000,9, -999.000,9,   -999.0,9,   -999.0,9,-999.0000,9,  -999.00,   -999.0,9,   -999.0,  -999.00,9,  -999.00,  -999.00,9,   2.9241,2
  49NZ20031209,  I3I4,   469,  1,     18,  12042,2,20040113,0833,-19.9885,  97.8365, 5839,   2000.1,   2.5836,  34.7201,2,  34.7200,2,    138.3,1,    145.6,2,   109.85,2,    34.62,2,     0.00,2,     2.46,2, -999.000,9, -999.000,9, -999.000,9,   -999.0,9,   -999.0,9,-999.0000,9,  -999.00,   -999.0,9,   -999.0,  -999.00,9,  -999.00,  -999.00,9,   2.5838,2
  49NZ20031209,  I3I4,   469,  1,     17,  12041,2,20040113,0833,-19.9885,  97.8365, 5839,   2200.6,   2.3043,  34.7249,2,  34.7251,2,    145.4,1,    153.4,2,   113.12,2,    34.22,2,     0.00,2,     2.42,2, -999.000,9, -999.000,9, -999.000,9,   -999.0,9,   -999.0,9,-999.0000,9,  -999.00,   -999.0,9,   -999.0,  -999.00,9,  -999.00,  -999.00,9,   2.3043,2
  49NZ20031209,  I3I4,   469,  1,     16,  12040,2,20040113,0833,-19.9885,  97.8365, 5839,   2399.8,   2.1041,  34.7272,2,  34.7273,2,    150.5,1,    159.2,2,   115.66,2,    33.98,2,     0.00,2,     2.39,2, -999.000,9, -999.000,9, -999.000,9,   -999.0,9,   -999.0,9,-999.0000,9,  -999.00,   -999.0,9,   -999.0,  -999.00,9,  -999.00,  -999.00,9,   2.1040,2
  49NZ20031209,  I3I4,   469,  1,     15,  12039,2,20040113,0833,-19.9885,  97.8365, 5839,   2600.9,   1.9374,  34.7265,2,  34.7268,2,    154.7,1,    163.8,2,   118.13,2,    33.80,2,     0.00,2,     2.38,2, -999.000,9, -999.000,9, -999.000,9,   -999.0,9,   -999.0,9,-999.0000,9,  -999.00,   -999.0,9,   -999.0,  -999.00,9,  -999.00,  -999.00,9,   1.9377,2
  49NZ20031209,  I3I4,   469,  1,     14,  12038,2,20040113,0833,-19.9885,  97.8365, 5839,   2799.6,   1.7795,  34.7262,2,  34.7267,2,    159.9,1,    169.5,2,   119.57,2,    33.54,2,    -0.01,2,     2.36,2, -999.000,9, -999.000,9, -999.000,9,   -999.0,9,   -999.0,9,-999.0000,9,  -999.00,   -999.0,9,   -999.0,  -999.00,9,  -999.00,  -999.00,9,   1.7791,2
  49NZ20031209,  I3I4,   469,  1,     13,  12037,2,20040113,0833,-19.9885,  97.8365, 5839,   3000.0,   1.6569,  34.7256,2,  34.7256,2,    163.2,1,    173.1,2,   121.65,2,    33.46,2,     0.00,2,     2.34,2, -999.000,9, -999.000,9, -999.000,9,   -999.0,9,   -999.0,9,-999.0000,9,  -999.00,   -999.0,9,   -999.0,  -999.00,9,  -999.00,  -999.00,9,   1.6577,2
  49NZ20031209,  I3I4,   469,  1,     12,  12036,2,20040113,0833,-19.9885,  97.8365, 5839,   3250.0,   1.5467,  34.7236,2,  34.7236,2,    165.1,1,    175.2,2,   124.81,2,    33.45,2,     0.00,2,     2.33,2, -999.000,9, -999.000,9, -999.000,9,   -999.0,9,   -999.0,9,-999.0000,9,  -999.00,   -999.0,9,   -999.0,  -999.00,9,  -999.00,  -999.00,9,   1.5468,2
  49NZ20031209,  I3I4,   469,  1,     11,  12035,2,20040113,0833,-19.9885,  97.8365, 5839,   3500.7,   1.4460,  34.7210,2,  34.7209,2,    168.6,1,    178.8,2,   126.11,2,    33.30,2,     0.00,2,     2.32,2, -999.000,9, -999.000,9, -999.000,9,   -999.0,9,   -999.0,9,-999.0000,9,  -999.00,   -999.0,9,   -999.0,  -999.00,9,  -999.00,  -999.00,9,   1.4462,2
  49NZ20031209,  I3I4,   469,  1,     10,  12034,2,20040113,0833,-19.9885,  97.8365, 5839,   3751.1,   1.3821,  34.7192,2,  34.7189,2,    171.4,1,    181.9,2,   126.75,2,    33.30,2,     0.00,2,     2.32,2, -999.000,9, -999.000,9, -999.000,9,   -999.0,9,   -999.0,9,-999.0000,9,  -999.00,   -999.0,9,   -999.0,  -999.00,9,  -999.00,  -999.00,9,   1.3821,2
  49NZ20031209,  I3I4,   469,  1,      9,  12033,2,20040113,0833,-19.9885,  97.8365, 5839,   3999.3,   1.3095,  34.7179,2,  34.7177,2,    176.9,1,    187.4,2,   125.25,2,    32.98,2,     0.00,2,     2.29,2, -999.000,9, -999.000,9, -999.000,9,   -999.0,9,   -999.0,9,-999.0000,9,  -999.00,   -999.0,9,   -999.0,  -999.00,9,  -999.00,  -999.00,9,   1.3095,2
  49NZ20031209,  I3I4,   469,  1,      8,  12032,2,20040113,0833,-19.9885,  97.8365, 5839,   4250.9,   1.2325,  34.7164,2,  34.7160,2,    182.8,1,    193.6,2,   123.57,2,    32.64,2,     0.00,2,     2.26,2, -999.000,9, -999.000,9, -999.000,9,   -999.0,9,   -999.0,9,-999.0000,9,  -999.00,   -999.0,9,   -999.0,  -999.00,9,  -999.00,  -999.00,9,   1.2327,2
  49NZ20031209,  I3I4,   469,  1,      7,  12031,2,20040113,0833,-19.9885,  97.8365, 5839,   4499.4,   1.1818,  34.7148,2,  34.7146,2,    187.1,1,    197.4,2,   122.80,2,    32.43,2,     0.00,2,     2.25,2, -999.000,9, -999.000,9, -999.000,9,   -999.0,9,   -999.0,9,-999.0000,9,  -999.00,   -999.0,9,   -999.0,  -999.00,9,  -999.00,  -999.00,9,   1.1820,2
  49NZ20031209,  I3I4,   469,  1,      6,  12030,2,20040113,0833,-19.9885,  97.8365, 5839,   4749.9,   1.1306,  34.7129,2,  34.7129,2,    191.2,1,    201.4,2,   121.85,2,    32.30,2,    -0.01,2,     2.24,2, -999.000,9, -999.000,9, -999.000,9,   -999.0,9,   -999.0,9,-999.0000,9,  -999.00,   -999.0,9,   -999.0,  -999.00,9,  -999.00,  -999.00,9,   1.1309,2
  49NZ20031209,  I3I4,   469,  1,      5,  12029,2,20040113,0833,-19.9885,  97.8365, 5839,   4999.6,   1.1094,  34.7111,2,  34.7111,2,    194.0,1,    203.4,2,   121.81,2,    32.26,2,     0.00,2,     2.23,2, -999.000,9, -999.000,9, -999.000,9,   -999.0,9,   -999.0,9,-999.0000,9,  -999.00,   -999.0,9,   -999.0,  -999.00,9,  -999.00,  -999.00,9,   1.1094,2
  49NZ20031209,  I3I4,   469,  1,      4,  12028,2,20040113,0833,-19.9885,  97.8365, 5839,   5249.3,   1.1180,  34.7103,2,  34.7101,2,    195.8,1,    204.3,2,   121.94,2,    32.18,2,     0.00,2,     2.23,2, -999.000,9, -999.000,9, -999.000,9,   -999.0,9,   -999.0,9,-999.0000,9,  -999.00,   -999.0,9,   -999.0,  -999.00,9,  -999.00,  -999.00,9,   1.1180,2
  49NZ20031209,  I3I4,   469,  1,      3,  12027,2,20040113,0833,-19.9885,  97.8365, 5839,   5501.1,   1.1371,  34.7099,2,  34.7100,2,    197.4,1,    204.7,2,   122.00,2,    32.13,2,     0.00,2,     2.23,2, -999.000,9, -999.000,9, -999.000,9,   -999.0,9,   -999.0,9,-999.0000,9,  -999.00,   -999.0,9,   -999.0,  -999.00,9,  -999.00,  -999.00,9,   1.1372,2
  49NZ20031209,  I3I4,   469,  1,      2,  12026,2,20040113,0833,-19.9885,  97.8365, 5839,   5742.6,   1.1642,  34.7097,2,  34.7099,2,    199.2,1,    205.0,2,   121.94,2,    32.22,2,     0.00,2,     2.22,2, -999.000,9, -999.000,9, -999.000,9,   -999.0,9,   -999.0,9,-999.0000,9,  -999.00,   -999.0,9,   -999.0,  -999.00,9,  -999.00,  -999.00,9,   1.1642,2
  49NZ20031209,  I3I4,   469,  1,      1,  12025,2,20040113,0833,-19.9885,  97.8365, 5839,   5938.1,   1.1901,  34.7099,2,  34.7099,2,    200.9,1,    205.0,2,   122.02,2,    32.14,2,     0.00,2,     2.23,2, -999.000,9, -999.000,9, -999.000,9,   -999.0,9,   -999.0,9,-999.0000,9,  -999.00,   -999.0,9,   -999.0,  -999.00,9,  -999.00,  -999.00,9,   1.1903,2