BOTTLE,20141204PRINUNIVRMK
EXPOCODE,SECT_ID,STNNBR,CASTNO,SAMPNO,BTLNBR,BTLNBR_FLAG_W,DATE,TIME,LATITUDE,LONGITUDE,DEPTH,CTDPRS,CTDTMP,CTDSAL,CTDSAL_FLAG_W,SALNTY,SALNTY_FLAG_W,CTDOXY,CTDOXY_FLAG_W,OXYGEN,OXYGEN_FLAG_W,SILCAT,SILCAT_FLAG_W,NITRAT,NITRAT_FLAG_W,NITRIT,NITRIT_FLAG_W,PHSPHT,PHSPHT_FLAG_W,CFC-11,CFC-11_FLAG_W,CFC-12,CFC-12_FLAG_W,CFC113,CFC113_FLAG_W,TCARBN,TCARBN_FLAG_W,ALKALI,ALKALI_FLAG_W,PH_TOT,PH_TOT_FLAG_W,PH_TMP,DELC14,DELC14_FLAG_W,C14ERR,DELC13,DELC13_FLAG_W,CS-137,CS137ER,CS-137_FLAG_W,SBE35,SBE35_FLAG_W
,,,,,,,,,,,METERS,DBAR,ITS-90,PSS-78,,PSS-78,,UMOL/KG,,UMOL/KG,,UMOL/KG,,UMOL/KG,,UMOL/KG,,UMOL/KG,,PMOL/KG,,PMOL/KG,,PMOL/KG,,UMOL/KG,,UMOL/KG,,,,DEG C,/MILLE,,/MILLE,/MILLE,,DM/.1MG,DM/.1MG,,ITS-90,
  49NZ20031209,  I3I4,   507,  1,     36,  12024,2,20040102,2210,-20.0003,  74.1672, 4942,     10.5,  26.6085,  34.7976,2,  34.8022,2,    194.9,1,    203.8,2,     1.81,2,    -0.01,2,     0.01,2,     0.11,2,    1.650,2,    1.039,2,    0.314,4,   1952.6,2,   2278.4,2,   8.0906,2,    25.00,     54.7,2,      3.7,     1.04,2,  -999.00,  -999.00,9,  26.6068,2
  49NZ20031209,  I3I4,   507,  1,     35,  12023,2,20040102,2210,-20.0003,  74.1672, 4942,     50.0,  25.0709,  35.0959,2,  35.0987,2,    203.8,1,    213.3,2,     1.93,2,    -0.01,2,     0.01,2,     0.10,2,    1.808,2,    1.118,2, -999.000,5,   1978.5,6,   2298.5,2,   8.0738,2,    25.00,     63.3,2,      3.7,     0.81,3,  -999.00,  -999.00,9,  25.0660,2
  49NZ20031209,  I3I4,   507,  1,     34,  12022,2,20040102,2210,-20.0003,  74.1672, 4942,    100.3,  21.7903,  35.4570,2,  35.4593,2,    213.5,1,    223.0,2,     2.07,2,    -0.02,2,     0.01,2,     0.12,2,    2.064,2,    1.262,2, -999.000,5,   2008.6,2,   2320.8,6,   8.0551,2,    25.00,     66.3,2,      3.8,     1.06,2,  -999.00,  -999.00,9,  21.7903,2
  49NZ20031209,  I3I4,   507,  1,     33,  12015,2,20040102,2210,-20.0003,  74.1672, 4942,    150.6,  20.5020,  35.5872,2,  35.5871,2,    196.7,1,    206.1,2,     2.41,2,     0.82,2,     0.11,2,     0.21,2,    2.111,2,    1.267,2,    0.521,4,   2036.6,2,   2324.6,2,   8.0175,6,    25.00,     69.1,2,      3.8,     0.89,2,  -999.00,  -999.00,9,  20.4955,2
  49NZ20031209,  I3I4,   507,  1,     32,  12020,2,20040102,2210,-20.0003,  74.1672, 4942,    202.1,  19.5005,  35.7628,2,  35.7641,2,    199.8,1,    208.5,2,     2.07,2,     1.08,2,     0.17,2,     0.22,2,    2.218,2,    1.321,2,    0.380,4,   2056.1,2,   2341.6,2,   8.0004,2,    25.00,     80.7,2,      3.8,     0.86,2,  -999.00,  -999.00,9,  19.5014,2
  49NZ20031209,  I3I4,   507,  1,     31,  12019,2,20040102,2210,-20.0003,  74.1672, 4942,    249.9,  18.1085,  35.7989,2,  35.7985,2,    193.0,1,    201.1,2,     2.69,2,     2.81,2,     0.01,2,     0.33,2,    2.348,6,    1.367,6,    0.136,4,   2084.3,2,   2343.2,2,   7.9579,2,    25.00,     81.0,2,      4.8,     0.83,2,  -999.00,  -999.00,9,  18.1083,2
  49NZ20031209,  I3I4,   507,  1,     30,  12018,2,20040102,2210,-20.0003,  74.1672, 4942,    299.9,  16.5658,  35.7217,2,  35.7210,2,    200.4,1,    208.8,2,     2.33,2,     3.31,2,     0.01,2,     0.39,2,    2.560,2,    1.456,2,    0.076,4,   2095.8,2,   2341.5,2,   7.9352,2,    25.00,     81.6,2,      3.8,     0.92,2,  -999.00,  -999.00,9,  16.5655,2
  49NZ20031209,  I3I4,   507,  1,     29,  12021,2,20040102,2210,-20.0003,  74.1672, 4942,    398.6,  13.3486,  35.3206,2,  35.3116,2,    215.6,1,    224.7,2,     2.39,2,     7.51,2,     0.01,2,     0.63,2,    3.017,2,    1.643,2,    0.067,4,   2108.7,2,   2319.0,2,   7.8760,2,    25.00,     77.4,2,      3.8,     1.01,2,  -999.00,  -999.00,9,  13.3439,2
  49NZ20031209,  I3I4,   507,  1,     28,  12016,2,20040102,2210,-20.0003,  74.1672, 4942,    502.0,  11.5180,  35.0396,2,  35.0419,2,    224.2,1,    233.4,2,     3.12,2,    10.82,2,     0.01,2,     0.83,2,    3.225,2,    1.709,2,    0.114,4,   2112.5,2,   2306.8,2,   7.8410,2,    25.00,     72.0,2,      5.1,     1.09,2,  -999.00,  -999.00,9,  11.5185,2
  49NZ20031209,  I3I4,   507,  1,     27,  12012,2,20040102,2210,-20.0003,  74.1672, 4942,    599.8,  10.0960,  34.8209,2,  34.8214,2,    220.8,1,    229.6,2,     4.80,2,    14.76,2,     0.01,2,     1.07,2,    3.216,2,    1.628,2,    0.118,4,   2123.1,2,   2295.6,2,   7.8025,2,    25.00,     52.0,2,      3.8,     1.18,2,  -999.00,  -999.00,9,  10.0950,2
  49NZ20031209,  I3I4,   507,  1,     26,  12014,2,20040102,2210,-20.0003,  74.1672, 4942,    700.2,   9.0096,  34.6680,2,  34.6683,2,    215.4,1,    224.3,2,     6.96,2,    18.30,2,     0.01,2,     1.28,2,    2.902,2,    1.455,2,    0.095,4,   2133.2,6,   2290.4,2,   7.7689,2,    25.00,     36.4,2,      3.8,     1.15,2,  -999.00,  -999.00,9,   9.0089,2
  49NZ20031209,  I3I4,   507,  1,     25,  12013,2,20040102,2210,-20.0003,  74.1672, 4942,    799.4,   7.2312,  34.5201,2,  34.5166,2,    183.2,1,    189.9,2,    20.02,2,    25.87,2,     0.01,2,     1.78,2,    1.336,2,    0.690,2,    0.000,4,   2170.8,2,   2291.8,6,   7.6835,2,    25.00,    -25.8,2,      3.4,     0.98,2,  -999.00,  -999.00,9,   7.2228,2
  49NZ20031209,  I3I4,   507,  1,     24,  12048,2,20040102,2210,-20.0003,  74.1672, 4942,    899.6,   5.5557,  34.4546,2,  34.4553,2,    166.5,1,    173.0,2,    36.70,2,    30.73,2,     0.01,2,     2.12,2,    0.532,2,    0.325,2,    0.000,4,   2206.6,2,   2306.1,2,   7.6247,6,    25.00,    -85.6,2,      3.4,     0.80,2,  -999.00,  -999.00,9,   5.5555,2
  49NZ20031209,  I3I4,   507,  1,     23,  12047,2,20040102,2210,-20.0003,  74.1672, 4942,   1000.3,   4.8545,  34.5240,2,  34.5240,2,    136.5,1,    141.7,2,    59.79,2,    34.00,2,     0.00,2,     2.40,2,    0.145,2,    0.086,2,    0.000,4,   2244.5,2,   2327.9,2,   7.5791,2,    25.00,   -136.7,2,      3.3,     0.53,2,  -999.00,  -999.00,9,   4.8534,2
  49NZ20031209,  I3I4,   507,  1,     22,  12046,2,20040102,2210,-20.0003,  74.1672, 4942,   1200.0,   4.5534,  34.6566,2,  34.6570,2,    108.7,1,    112.2,2,    84.20,2,    35.86,2,     0.01,2,     2.56,2,    0.015,2,    0.011,2,    0.000,4,   2283.7,2,   2357.0,2,   7.5474,2,    25.00,   -165.8,2,      3.2,     0.24,2,  -999.00,  -999.00,9,   4.5535,2
  49NZ20031209,  I3I4,   507,  1,     21,  12045,2,20040102,2210,-20.0003,  74.1672, 4942,   1399.9,   4.0777,  34.6933,2,  34.6932,2,    111.0,1,    114.7,2,    93.18,2,    35.94,2,     0.01,2,     2.57,2,    0.003,2,    0.003,2,    0.000,4,   2290.9,2,   2366.0,2,   7.5481,2,    25.00,   -168.8,6,      7.6,     0.22,6,  -999.00,  -999.00,9,   4.0778,2
  49NZ20031209,  I3I4,   507,  1,     20,  12044,2,20040102,2210,-20.0003,  74.1672, 4942,   1599.2,   3.5845,  34.7107,2,  34.7102,2,    121.1,1,    125.6,2,    97.92,2,    35.48,2,     0.01,2,     2.53,2,    0.004,2,    0.003,2,    0.000,4,   2292.1,2,   2368.3,2,   7.5588,2,    25.00,   -999.0,5,   -999.0,     0.20,2,  -999.00,  -999.00,9,   3.5845,2
  49NZ20031209,  I3I4,   507,  1,     19,  12043,2,20040102,2210,-20.0003,  74.1672, 4942,   1799.8,   2.9329,  34.7030,2,  34.7025,2,    141.0,1,    146.7,2,    98.12,2,    34.48,2,     0.01,2,     2.43,2,   -0.005,2,    0.000,2,    0.000,4,   2284.0,2,   2366.1,2,   7.5786,4,    25.00,   -173.0,2,      3.2,     0.32,2,  -999.00,  -999.00,9,   2.9335,2
  49NZ20031209,  I3I4,   507,  1,     18,  12042,2,20040102,2210,-20.0003,  74.1672, 4942,   1999.7,   2.4401,  34.7121,2,  34.7124,2,    154.3,1,    161.1,2,   101.28,2,    33.75,2,     0.01,2,     2.36,2,    0.003,2,   -0.002,2,    0.000,4,   2282.1,2,   2370.2,2,   7.5891,4,    25.00,   -164.2,2,      3.1,     0.36,2,  -999.00,  -999.00,9,   2.4395,2
  49NZ20031209,  I3I4,   507,  1,     17,  12041,2,20040102,2210,-20.0003,  74.1672, 4942,   2200.1,   2.0831,  34.7207,2,  34.7207,2,    164.1,1,    171.9,2,   104.95,2,    33.15,2,     0.01,2,     2.31,2,    0.004,2,    0.000,2,    0.000,4,   2278.1,2,   2371.3,2,   7.6050,4,    25.00,   -168.7,2,      3.2,     0.37,2,  -999.00,  -999.00,9,   2.0836,2
  49NZ20031209,  I3I4,   507,  1,     16,  12040,2,20040102,2210,-20.0003,  74.1672, 4942,   2401.4,   1.8541,  34.7256,2,  34.7260,2,    170.6,1,    179.2,2,   107.38,2,    32.83,2,     0.01,2,     2.28,2,    0.000,2,    0.000,2,    0.000,4,   2276.8,6,   2372.6,2,   7.6086,2,    25.00,   -165.6,2,      3.2,     0.38,2,  -999.00,  -999.00,9,   1.8542,2
  49NZ20031209,  I3I4,   507,  1,     15,  12039,2,20040102,2210,-20.0003,  74.1672, 4942,   2602.9,   1.7008,  34.7274,2,  34.7272,2,    174.6,1,    183.5,2,   110.14,2,    32.65,2,     0.01,2,     2.26,2,   -0.003,2,   -0.002,2,    0.000,4,   2277.3,2,   2376.4,6,   7.6147,2,    25.00,   -170.7,2,      3.1,     0.41,2,  -999.00,  -999.00,9,   1.7006,2
  49NZ20031209,  I3I4,   507,  1,     14,  12038,2,20040102,2210,-20.0003,  74.1672, 4942,   2800.9,   1.5954,  34.7284,2,  34.7279,2,    176.7,1,    185.6,2,   112.75,2,    32.59,2,     0.01,2,     2.25,2,    0.000,2,   -0.001,2,    0.000,4,   2278.8,2,   2376.8,2,   7.6213,2,    25.00,   -174.1,2,      3.1,     0.41,2,  -999.00,  -999.00,9,   1.5953,2
  49NZ20031209,  I3I4,   507,  1,     13,  12037,2,20040102,2210,-20.0003,  74.1672, 4942,   3001.1,   1.5087,  34.7281,2,  34.7281,2,    178.3,1,    187.3,2,   115.19,2,    32.63,2,     0.01,2,     2.26,2,    0.004,2,   -0.001,2,    0.000,4,   2282.4,2,   2378.1,2,   7.6209,2,    25.00,   -179.2,6,      4.5,     0.43,6,  -999.00,  -999.00,9,   1.5079,2
  49NZ20031209,  I3I4,   507,  1,     12,  12036,2,20040102,2210,-20.0003,  74.1672, 4942,   3250.4,   1.4292,  34.7257,2,  34.7262,2,    178.2,1,    187.2,2,   119.16,2,    32.87,2,     0.01,2,     2.26,2,   -0.002,2,   -0.002,2,    0.000,4,   2287.9,2,   2389.5,2,   7.6239,2,    25.00,   -179.8,2,      3.2,     0.43,2,  -999.00,  -999.00,9,   1.4290,2
  49NZ20031209,  I3I4,   507,  1,     11,  12035,2,20040102,2210,-20.0003,  74.1672, 4942,   3501.7,   1.3823,  34.7227,2,  34.7229,2,    176.6,1,    185.2,2,   124.51,2,    33.20,2,     0.01,2,     2.29,2,   -0.004,2,    0.000,2,    0.000,4,   2292.9,2,   2394.4,2,   7.6245,2,    25.00,   -180.8,2,      3.2,     0.40,2,  -999.00,  -999.00,9,   1.3822,2
  49NZ20031209,  I3I4,   507,  1,     10,  12034,2,20040102,2210,-20.0003,  74.1672, 4942,   3752.7,   1.3801,  34.7215,2,  34.7215,2,    176.2,1,    184.1,2,   126.71,2,    33.37,2,     0.01,2,     2.30,2,   -0.001,2,    0.003,2,    0.000,4,   2297.8,2,   2398.5,2,   7.6249,4,    25.00,   -193.7,2,      3.2,     0.42,2,  -999.00,  -999.00,9,   1.3800,2
  49NZ20031209,  I3I4,   507,  1,      9,  12033,2,20040102,2210,-20.0003,  74.1672, 4942,   4001.2,   1.3862,  34.7205,2,  34.7203,2,    176.0,1,    183.4,2,   128.35,2,    33.50,2,     0.01,2,     2.31,2,   -0.001,2,    0.002,2,    0.000,4,   2299.4,2,   2399.1,2,   7.6219,4,    25.00,   -191.2,2,      3.1,     0.40,2,  -999.00,  -999.00,9,   1.3861,2
  49NZ20031209,  I3I4,   507,  1,      8,  12032,2,20040102,2210,-20.0003,  74.1672, 4942,   4749.6,   1.4567,  34.7192,2,  34.7192,2,    178.0,1,    182.8,2,   129.59,2,    33.59,2,     0.01,2,     2.32,2,   -0.001,2,   -0.001,2,    0.000,4,   2298.4,2,   2402.4,2,   7.6215,4,    25.00,   -193.3,2,      3.1,     0.36,3,  -999.00,  -999.00,9,   1.4566,2
  49NZ20031209,  I3I4,   507,  1,      7,  12031,2,20040102,2210,-20.0003,  74.1672, 4942,   4500.1,   1.4267,  34.7194,2,  34.7202,3,    177.0,1,    182.9,2,   129.83,2,    33.57,2,     0.01,2,     2.32,2,    0.003,2,   -0.001,2,    0.000,4,   2299.3,2,   2403.3,6,   7.6233,4,    25.00,   -178.0,3,      3.0,     0.36,3,  -999.00,  -999.00,9,   1.4267,2
  49NZ20031209,  I3I4,   507,  1,      6,  12030,2,20040102,2210,-20.0003,  74.1672, 4942,   4749.3,   1.4567,  34.7192,2,  34.7190,2,    178.0,1,    182.7,2,   129.86,2,    33.59,2,     0.01,2,     2.32,2,    0.000,2,    0.000,2,    0.000,4,   2297.4,2,   2399.8,2,   7.6228,4,    25.00,   -184.6,2,      3.2,     0.38,2,  -999.00,  -999.00,9,   1.4566,2
  49NZ20031209,  I3I4,   507,  1,      5,  12029,2,20040102,2210,-20.0003,  74.1672, 4942,   5031.6,   1.4918,  34.7191,2,  34.7194,2,    179.8,1,    182.8,2,   129.88,2,    33.55,2,     0.01,2,     2.31,2,    0.001,2,   -0.001,2,   -0.001,4,   2297.2,2,   2403.7,2,   7.6276,4,    25.00,   -186.5,2,      3.2,     0.41,2,  -999.00,  -999.00,9,   1.4918,2
  49NZ20031209,  I3I4,   507,  1,      4,  12028,9,20040102,2210,-20.0003,  74.1672, 4942,   1000.4,   4.8486,  34.5235,2,-999.0000,9,    136.5,1,   -999.0,9,  -999.00,9,  -999.00,9,  -999.00,9,  -999.00,9, -999.000,9, -999.000,9, -999.000,9,   -999.0,9,   -999.0,9,-999.0000,9,  -999.00,   -999.0,9,   -999.0,  -999.00,9,  -999.00,  -999.00,9,   4.8482,2
  49NZ20031209,  I3I4,   507,  1,      3,  12027,9,20040102,2210,-20.0003,  74.1672, 4942,   1000.5,   4.8450,  34.5235,2,-999.0000,9,    136.4,1,   -999.0,9,  -999.00,9,  -999.00,9,  -999.00,9,  -999.00,9, -999.000,9, -999.000,9, -999.000,9,   -999.0,9,   -999.0,9,-999.0000,9,  -999.00,   -999.0,9,   -999.0,  -999.00,9,  -999.00,  -999.00,9,   4.8436,2
  49NZ20031209,  I3I4,   507,  1,      2,  12026,9,20040102,2210,-20.0003,  74.1672, 4942,   1000.7,   4.8445,  34.5235,2,-999.0000,9,    136.3,1,   -999.0,9,  -999.00,9,  -999.00,9,  -999.00,9,  -999.00,9, -999.000,9, -999.000,9, -999.000,9,   -999.0,9,   -999.0,9,-999.0000,9,  -999.00,   -999.0,9,   -999.0,  -999.00,9,  -999.00,  -999.00,9,   4.8412,2
  49NZ20031209,  I3I4,   507,  1,      1,  12025,2,20040102,2210,-20.0003,  74.1672, 4942,   4250.5,   1.4008,  34.7198,2,  34.7202,2,    176.3,1,    183.0,2,   129.60,2,    33.59,2,     0.01,2,     2.31,2,   -0.004,2,   -0.001,2,    0.000,4,   2296.9,6,   2400.9,2,   7.6252,4,    25.00,   -189.3,2,      3.1,     0.36,3,  -999.00,  -999.00,9,   1.4008,2