BOTTLE,20141204PRINUNIVRMK
EXPOCODE,SECT_ID,STNNBR,CASTNO,SAMPNO,BTLNBR,BTLNBR_FLAG_W,DATE,TIME,LATITUDE,LONGITUDE,DEPTH,CTDPRS,CTDTMP,CTDSAL,CTDSAL_FLAG_W,SALNTY,SALNTY_FLAG_W,CTDOXY,CTDOXY_FLAG_W,OXYGEN,OXYGEN_FLAG_W,SILCAT,SILCAT_FLAG_W,NITRAT,NITRAT_FLAG_W,NITRIT,NITRIT_FLAG_W,PHSPHT,PHSPHT_FLAG_W,CFC-11,CFC-11_FLAG_W,CFC-12,CFC-12_FLAG_W,CFC113,CFC113_FLAG_W,TCARBN,TCARBN_FLAG_W,ALKALI,ALKALI_FLAG_W,PH_TOT,PH_TOT_FLAG_W,PH_TMP,DELC14,DELC14_FLAG_W,C14ERR,DELC13,DELC13_FLAG_W,CS-137,CS137ER,CS-137_FLAG_W,SBE35,SBE35_FLAG_W
,,,,,,,,,,,METERS,DBAR,ITS-90,PSS-78,,PSS-78,,UMOL/KG,,UMOL/KG,,UMOL/KG,,UMOL/KG,,UMOL/KG,,UMOL/KG,,PMOL/KG,,PMOL/KG,,PMOL/KG,,UMOL/KG,,UMOL/KG,,,,DEG C,/MILLE,,/MILLE,/MILLE,,DM/.1MG,DM/.1MG,,ITS-90,
  49NZ20031209,  I3I4,   502,  3,     36,  12024,2,20040104,0635,-20.0020,  77.6355, 5131,      9.5,  26.0856,  35.1648,2,  35.1667,2,    197.4,1,    206.1,2,     1.90,2,    -0.05,2,     0.00,2,     0.11,2, -999.000,9, -999.000,9, -999.000,9,   -999.0,9,   -999.0,9,-999.0000,9,  -999.00,   -999.0,9,   -999.0,  -999.00,9,  -999.00,  -999.00,9,  26.0782,2
  49NZ20031209,  I3I4,   502,  3,     35,  12023,2,20040104,0635,-20.0020,  77.6355, 5131,     50.4,  24.0518,  35.1650,2,  35.1606,2,    212.0,1,    221.2,2,     1.97,2,    -0.09,2,     0.01,2,     0.10,2, -999.000,9, -999.000,9, -999.000,9,   -999.0,9,   -999.0,9,-999.0000,9,  -999.00,   -999.0,9,   -999.0,  -999.00,9,  -999.00,  -999.00,9,  24.0568,2
  49NZ20031209,  I3I4,   502,  3,     34,  12022,2,20040104,0635,-20.0020,  77.6355, 5131,     99.8,  22.0249,  35.3290,2,  35.3295,2,    215.8,1,    225.0,2,     1.98,2,    -0.09,2,     0.00,2,     0.11,2, -999.000,9, -999.000,9, -999.000,9,   -999.0,9,   -999.0,9,-999.0000,9,  -999.00,   -999.0,9,   -999.0,  -999.00,9,     1.81,     0.20,2,  22.0243,2
  49NZ20031209,  I3I4,   502,  3,     33,  12015,2,20040104,0635,-20.0020,  77.6355, 5131,    150.2,  20.8347,  35.5234,2,  35.5191,2,    191.2,1,    197.3,2,     2.90,2,     1.51,2,     0.21,2,     0.26,2, -999.000,9, -999.000,9, -999.000,9,   -999.0,9,   -999.0,9,-999.0000,9,  -999.00,   -999.0,9,   -999.0,  -999.00,9,  -999.00,  -999.00,9,  20.8347,2
  49NZ20031209,  I3I4,   502,  3,     32,  12020,2,20040104,0635,-20.0020,  77.6355, 5131,    199.1,  19.8442,  35.7193,2,  35.7174,2,    194.2,1,    202.5,2,     2.45,2,     1.34,2,     0.13,2,     0.24,2, -999.000,9, -999.000,9, -999.000,9,   -999.0,9,   -999.0,9,-999.0000,9,  -999.00,   -999.0,9,   -999.0,  -999.00,9,     1.63,     0.14,2,  19.8407,2
  49NZ20031209,  I3I4,   502,  3,     31,  12019,2,20040104,0635,-20.0020,  77.6355, 5131,    249.3,  18.0913,  35.7904,2,  35.7908,2,    188.4,1,    196.0,2,     3.23,2,     3.24,2,     0.01,2,     0.36,2, -999.000,9, -999.000,9, -999.000,9,   -999.0,9,   -999.0,9,-999.0000,9,  -999.00,   -999.0,9,   -999.0,  -999.00,9,  -999.00,  -999.00,9,  18.0908,2
  49NZ20031209,  I3I4,   502,  3,     30,  12018,2,20040104,0635,-20.0020,  77.6355, 5131,    300.3,  16.3472,  35.6994,2,  35.7010,2,    199.3,1,    206.6,2,     2.63,2,     3.71,2,     0.01,2,     0.41,2, -999.000,9, -999.000,9, -999.000,9,   -999.0,9,   -999.0,9,-999.0000,9,  -999.00,   -999.0,9,   -999.0,  -999.00,9,  -999.00,  -999.00,9,  16.3441,2
  49NZ20031209,  I3I4,   502,  3,     29,  12021,2,20040104,0635,-20.0020,  77.6355, 5131,    400.8,  13.2709,  35.3097,2,  35.3082,2,    212.6,1,    220.8,2,     2.93,2,     7.70,2,     0.01,2,     0.65,2, -999.000,9, -999.000,9, -999.000,9,   -999.0,9,   -999.0,9,-999.0000,9,  -999.00,   -999.0,9,   -999.0,  -999.00,9,     1.21,     0.20,2,  13.2729,2
  49NZ20031209,  I3I4,   502,  3,     28,  12016,2,20040104,0635,-20.0020,  77.6355, 5131,    500.8,  11.2070,  34.9911,2,  34.9900,2,    227.2,1,    235.7,2,     3.04,2,    11.16,2,     0.01,2,     0.86,2, -999.000,9, -999.000,9, -999.000,9,   -999.0,9,   -999.0,9,-999.0000,9,  -999.00,   -999.0,9,   -999.0,  -999.00,9,  -999.00,  -999.00,9,  11.2081,2
  49NZ20031209,  I3I4,   502,  3,     27,  12012,2,20040104,0635,-20.0020,  77.6355, 5131,    599.8,   9.9328,  34.7922,2,  34.7876,2,    225.5,1,    234.1,2,     4.23,2,    14.89,2,     0.01,2,     1.08,2, -999.000,9, -999.000,9, -999.000,9,   -999.0,9,   -999.0,9,-999.0000,9,  -999.00,   -999.0,9,   -999.0,  -999.00,9,  -999.00,  -999.00,1,   9.9329,2
  49NZ20031209,  I3I4,   502,  3,     26,  12014,2,20040104,0635,-20.0020,  77.6355, 5131,    701.7,   8.6235,  34.6215,2,  34.6206,2,    211.3,1,    220.1,2,     8.45,2,    19.72,2,     0.00,2,     1.38,2, -999.000,9, -999.000,9, -999.000,9,   -999.0,9,   -999.0,9,-999.0000,9,  -999.00,   -999.0,9,   -999.0,  -999.00,9,  -999.00,  -999.00,9,   8.6234,2
  49NZ20031209,  I3I4,   502,  3,     25,  12013,2,20040104,0635,-20.0020,  77.6355, 5131,    800.3,   6.6505,  34.4906,2,  34.4901,2,    176.0,1,    182.8,2,    25.16,2,    27.57,2,     0.01,2,     1.91,2, -999.000,9, -999.000,9, -999.000,9,   -999.0,9,   -999.0,9,-999.0000,9,  -999.00,   -999.0,9,   -999.0,  -999.00,9,     0.41,     0.18,2,   6.6505,2
  49NZ20031209,  I3I4,   502,  3,     24,  12048,2,20040104,0635,-20.0020,  77.6355, 5131,    901.3,   5.4428,  34.4947,2,  34.4959,2,    148.1,1,    153.4,2,    46.99,2,    32.27,2,     0.01,2,     2.26,2, -999.000,9, -999.000,9, -999.000,9,   -999.0,9,   -999.0,9,-999.0000,9,  -999.00,   -999.0,9,   -999.0,  -999.00,9,  -999.00,  -999.00,9,   5.4424,2
  49NZ20031209,  I3I4,   502,  3,     23,  12047,2,20040104,0635,-20.0020,  77.6355, 5131,   1001.7,   4.8541,  34.5375,2,  34.5371,2,    130.0,1,    135.0,2,    63.65,2,    34.47,2,     0.00,2,     2.45,2, -999.000,9, -999.000,9, -999.000,9,   -999.0,9,   -999.0,9,-999.0000,9,  -999.00,   -999.0,9,   -999.0,  -999.00,9,  -999.00,  -999.00,1,   4.8541,2
  49NZ20031209,  I3I4,   502,  3,     22,  12046,2,20040104,0635,-20.0020,  77.6355, 5131,   1200.9,   4.4083,  34.6679,2,  34.6691,2,    109.6,1,    113.1,2,    87.12,2,    35.95,2,     0.01,2,     2.58,2, -999.000,9, -999.000,9, -999.000,9,   -999.0,9,   -999.0,9,-999.0000,9,  -999.00,   -999.0,9,   -999.0,  -999.00,9,  -999.00,  -999.00,5,   4.4087,2
  49NZ20031209,  I3I4,   502,  3,     21,  12045,2,20040104,0635,-20.0020,  77.6355, 5131,   1401.9,   3.9059,  34.7023,2,  34.7023,2,    113.8,1,    117.8,2,    95.50,2,    35.96,2,     0.01,2,     2.58,2, -999.000,9, -999.000,9, -999.000,9,   -999.0,9,   -999.0,9,-999.0000,9,  -999.00,   -999.0,9,   -999.0,  -999.00,9,  -999.00,  -999.00,1,   3.9060,2
  49NZ20031209,  I3I4,   502,  3,     20,  12044,2,20040104,0635,-20.0020,  77.6355, 5131,   1600.6,   3.3484,  34.7066,2,  34.7063,2,    126.5,1,    131.3,2,    99.02,2,    35.35,2,     0.00,2,     2.52,2, -999.000,9, -999.000,9, -999.000,9,   -999.0,9,   -999.0,9,-999.0000,9,  -999.00,   -999.0,9,   -999.0,  -999.00,9,  -999.00,  -999.00,9,   3.3485,2
  49NZ20031209,  I3I4,   502,  3,     19,  12043,2,20040104,0635,-20.0020,  77.6355, 5131,   1799.8,   2.8895,  34.7184,2,  34.7188,2,    136.2,1,    142.0,2,   103.99,2,    34.89,2,     0.01,2,     2.48,2, -999.000,9, -999.000,9, -999.000,9,   -999.0,9,   -999.0,9,-999.0000,9,  -999.00,   -999.0,9,   -999.0,  -999.00,9,  -999.00,  -999.00,9,   2.8895,2
  49NZ20031209,  I3I4,   502,  3,     18,  12042,2,20040104,0635,-20.0020,  77.6355, 5131,   2000.4,   2.5252,  34.7225,2,  34.7226,2,    146.2,1,    152.6,2,   106.81,2,    34.38,2,     0.01,2,     2.42,2, -999.000,9, -999.000,9, -999.000,9,   -999.0,9,   -999.0,9,-999.0000,9,  -999.00,   -999.0,9,   -999.0,  -999.00,9,  -999.00,  -999.00,1,   2.5253,2
  49NZ20031209,  I3I4,   502,  3,     17,  12041,2,20040104,0635,-20.0020,  77.6355, 5131,   2199.9,   2.2342,  34.7232,2,  34.7234,2,    155.8,1,    163.2,2,   108.17,2,    33.86,2,     0.01,2,     2.37,2, -999.000,9, -999.000,9, -999.000,9,   -999.0,9,   -999.0,9,-999.0000,9,  -999.00,   -999.0,9,   -999.0,  -999.00,9,  -999.00,  -999.00,9,   2.2345,2
  49NZ20031209,  I3I4,   502,  3,     16,  12040,2,20040104,0635,-20.0020,  77.6355, 5131,   2400.6,   2.0066,  34.7246,2,  34.7249,2,    163.8,1,    171.7,2,   108.67,2,    33.33,2,     0.01,2,     2.32,2, -999.000,9, -999.000,9, -999.000,9,   -999.0,9,   -999.0,9,-999.0000,9,  -999.00,   -999.0,9,   -999.0,  -999.00,9,  -999.00,  -999.00,1,   2.0071,2
  49NZ20031209,  I3I4,   502,  3,     15,  12039,2,20040104,0635,-20.0020,  77.6355, 5131,   2599.1,   1.8441,  34.7260,2,  34.7260,2,    169.4,1,    178.2,2,   109.74,2,    32.91,2,     0.01,2,     2.29,2, -999.000,9, -999.000,9, -999.000,9,   -999.0,9,   -999.0,9,-999.0000,9,  -999.00,   -999.0,9,   -999.0,  -999.00,9,  -999.00,  -999.00,9,   1.8441,2
  49NZ20031209,  I3I4,   502,  3,     14,  12038,2,20040104,0635,-20.0020,  77.6355, 5131,   2799.6,   1.6996,  34.7273,2,  34.7272,2,    173.0,1,    182.1,2,   112.27,2,    32.82,2,     0.01,2,     2.27,2, -999.000,9, -999.000,9, -999.000,9,   -999.0,9,   -999.0,9,-999.0000,9,  -999.00,   -999.0,9,   -999.0,  -999.00,9,  -999.00,  -999.00,9,   1.6996,2
  49NZ20031209,  I3I4,   502,  3,     13,  12037,2,20040104,0635,-20.0020,  77.6355, 5131,   2999.4,   1.5913,  34.7274,2,  34.7278,2,    174.7,1,    184.0,2,   115.35,2,    32.81,2,     0.01,2,     2.28,2, -999.000,9, -999.000,9, -999.000,9,   -999.0,9,   -999.0,9,-999.0000,9,  -999.00,   -999.0,9,   -999.0,  -999.00,9,  -999.00,  -999.00,1,   1.5912,2
  49NZ20031209,  I3I4,   502,  3,     12,  12036,2,20040104,0635,-20.0020,  77.6355, 5131,   3252.1,   1.4815,  34.7266,2,  34.7264,2,    177.1,1,    186.4,2,   118.18,2,    32.77,2,     0.01,2,     2.27,2, -999.000,9, -999.000,9, -999.000,9,   -999.0,9,   -999.0,9,-999.0000,9,  -999.00,   -999.0,9,   -999.0,  -999.00,9,  -999.00,  -999.00,9,   1.4814,2
  49NZ20031209,  I3I4,   502,  3,     11,  12035,2,20040104,0635,-20.0020,  77.6355, 5131,   3501.1,   1.4079,  34.7243,2,  34.7244,2,    177.9,1,    187.1,2,   121.35,2,    32.97,2,     0.01,2,     2.29,2, -999.000,9, -999.000,9, -999.000,9,   -999.0,9,   -999.0,9,-999.0000,9,  -999.00,   -999.0,9,   -999.0,  -999.00,9,  -999.00,  -999.00,1,   1.4080,2
  49NZ20031209,  I3I4,   502,  3,     10,  12034,2,20040104,0635,-20.0020,  77.6355, 5131,   3749.9,   1.3816,  34.7222,2,  34.7219,2,    177.4,1,    186.1,2,   124.60,2,    33.28,2,     0.01,2,     2.30,2, -999.000,9, -999.000,9, -999.000,9,   -999.0,9,   -999.0,9,-999.0000,9,  -999.00,   -999.0,9,   -999.0,  -999.00,9,  -999.00,  -999.00,9,   1.3815,2
  49NZ20031209,  I3I4,   502,  3,      9,  12033,2,20040104,0635,-20.0020,  77.6355, 5131,   3999.7,   1.3741,  34.7204,2,  34.7199,2,    177.0,1,    185.1,2,   127.39,2,    33.46,2,     0.01,2,     2.31,2, -999.000,9, -999.000,9, -999.000,9,   -999.0,9,   -999.0,9,-999.0000,9,  -999.00,   -999.0,9,   -999.0,  -999.00,9,  -999.00,  -999.00,1,   1.3740,2
  49NZ20031209,  I3I4,   502,  3,      8,  12032,2,20040104,0635,-20.0020,  77.6355, 5131,   4250.3,   1.3781,  34.7194,2,  34.7191,2,    176.8,1,    184.2,2,   129.09,2,    33.53,2,     0.01,2,     2.32,2, -999.000,9, -999.000,9, -999.000,9,   -999.0,9,   -999.0,9,-999.0000,9,  -999.00,   -999.0,9,   -999.0,  -999.00,9,  -999.00,  -999.00,9,   1.3780,2
  49NZ20031209,  I3I4,   502,  3,      7,  12031,2,20040104,0635,-20.0020,  77.6355, 5131,   4501.2,   1.3956,  34.7189,2,  34.7189,2,    177.3,1,    184.0,2,   129.90,2,    33.61,2,     0.01,2,     2.32,2, -999.000,9, -999.000,9, -999.000,9,   -999.0,9,   -999.0,9,-999.0000,9,  -999.00,   -999.0,9,   -999.0,  -999.00,9,  -999.00,  -999.00,1,   1.3956,2
  49NZ20031209,  I3I4,   502,  3,      6,  12030,2,20040104,0635,-20.0020,  77.6355, 5131,   4750.7,   1.4213,  34.7187,2,  34.7181,3,    178.2,1,    183.9,2,   130.25,2,    33.59,2,     0.01,2,     2.32,2, -999.000,9, -999.000,9, -999.000,9,   -999.0,9,   -999.0,9,-999.0000,9,  -999.00,   -999.0,9,   -999.0,  -999.00,9,  -999.00,  -999.00,9,   1.4213,2
  49NZ20031209,  I3I4,   502,  3,      5,  12029,2,20040104,0635,-20.0020,  77.6355, 5131,   4999.7,   1.4473,  34.7186,2,  34.7183,3,    179.2,1,    184.0,2,   130.48,2,    33.65,2,     0.01,2,     2.33,2, -999.000,9, -999.000,9, -999.000,9,   -999.0,9,   -999.0,9,-999.0000,9,  -999.00,   -999.0,9,   -999.0,  -999.00,9,  -999.00,  -999.00,1,   1.4474,2
  49NZ20031209,  I3I4,   502,  3,      4,  12028,2,20040104,0635,-20.0020,  77.6355, 5131,   5202.8,   1.4719,  34.7185,2,  34.7185,2,    180.6,1,    183.8,2,   130.37,2,    33.64,2,     0.01,2,     2.33,2, -999.000,9, -999.000,9, -999.000,9,   -999.0,9,   -999.0,9,-999.0000,9,  -999.00,   -999.0,9,   -999.0,  -999.00,9,  -999.00,  -999.00,1,   1.4720,2
  49NZ20031209,  I3I4,   502,  3,      3,  12027,2,20040104,0635,-20.0020,  77.6355, 5131,    134.3,  21.2588,  35.4532,2,-999.0000,9,    192.2,1,   -999.0,9,  -999.00,9,  -999.00,9,  -999.00,9,  -999.00,9, -999.000,9, -999.000,9, -999.000,9,   -999.0,9,   -999.0,9,-999.0000,9,  -999.00,   -999.0,9,   -999.0,  -999.00,9,  -999.00,  -999.00,9,  21.2584,2
  49NZ20031209,  I3I4,   502,  3,      2,  12026,2,20040104,0635,-20.0020,  77.6355, 5131,    599.9,   9.9325,  34.7922,2,-999.0000,9,    225.5,1,   -999.0,9,  -999.00,9,  -999.00,9,  -999.00,9,  -999.00,9, -999.000,9, -999.000,9, -999.000,9,   -999.0,9,   -999.0,9,-999.0000,9,  -999.00,   -999.0,9,   -999.0,  -999.00,9,  -999.00,  -999.00,9,   9.9330,2
  49NZ20031209,  I3I4,   502,  3,      1,  12025,2,20040104,0635,-20.0020,  77.6355, 5131,   5202.8,   1.4719,  34.7187,2,-999.0000,9,    180.7,1,   -999.0,9,  -999.00,9,  -999.00,9,  -999.00,9,  -999.00,9, -999.000,9, -999.000,9, -999.000,9,   -999.0,9,   -999.0,9,-999.0000,9,  -999.00,   -999.0,9,   -999.0,  -999.00,9,  -999.00,  -999.00,9,   1.4720,2