BOTTLE,20141204PRINUNIVRMK
EXPOCODE,SECT_ID,STNNBR,CASTNO,SAMPNO,BTLNBR,BTLNBR_FLAG_W,DATE,TIME,LATITUDE,LONGITUDE,DEPTH,CTDPRS,CTDTMP,CTDSAL,CTDSAL_FLAG_W,SALNTY,SALNTY_FLAG_W,CTDOXY,CTDOXY_FLAG_W,OXYGEN,OXYGEN_FLAG_W,SILCAT,SILCAT_FLAG_W,NITRAT,NITRAT_FLAG_W,NITRIT,NITRIT_FLAG_W,PHSPHT,PHSPHT_FLAG_W,CFC-11,CFC-11_FLAG_W,CFC-12,CFC-12_FLAG_W,CFC113,CFC113_FLAG_W,TCARBN,TCARBN_FLAG_W,ALKALI,ALKALI_FLAG_W,PH_TOT,PH_TOT_FLAG_W,PH_TMP,DELC14,DELC14_FLAG_W,C14ERR,DELC13,DELC13_FLAG_W,CS-137,CS137ER,CS-137_FLAG_W,SBE35,SBE35_FLAG_W
,,,,,,,,,,,METERS,DBAR,ITS-90,PSS-78,,PSS-78,,UMOL/KG,,UMOL/KG,,UMOL/KG,,UMOL/KG,,UMOL/KG,,UMOL/KG,,PMOL/KG,,PMOL/KG,,PMOL/KG,,UMOL/KG,,UMOL/KG,,,,DEG C,/MILLE,,/MILLE,/MILLE,,DM/.1MG,DM/.1MG,,ITS-90,
  49NZ20031209,  I3I4,   599,  1,     36,  12024,2,20031214,1657,-24.6602,  37.9757, 3173,      9.8,  25.7414,  35.3352,2,  35.3297,2,    199.3,1,    210.0,2,     1.90,2,     0.10,2,    -0.01,2,     0.14,2,    1.822,2,    1.066,2, -999.000,5,   1987.0,2,   2313.8,2,   8.0764,2,    25.00,   -999.0,9,   -999.0,  -999.00,9,  -999.00,  -999.00,9,  25.7811,2
  49NZ20031209,  I3I4,   599,  1,     35,  12023,2,20031214,1657,-24.6602,  37.9757, 3173,     50.0,  24.2048,  35.3313,2,  35.3320,2,    204.8,1,    216.3,2,     2.01,2,     0.10,2,    -0.01,2,     0.16,2,    1.882,2,    1.107,2, -999.000,5,   1989.7,6,   2311.5,2,   8.0726,2,    25.00,   -999.0,9,   -999.0,  -999.00,9,  -999.00,  -999.00,9,  24.2051,2
  49NZ20031209,  I3I4,   599,  1,     34,  12022,2,20031214,1657,-24.6602,  37.9757, 3173,     98.8,  22.4448,  35.3585,2,  35.3612,2,    203.2,1,    213.6,2,     1.70,2,     0.30,2,     0.48,2,     0.25,2,    2.003,2,    1.151,2,    0.262,4,   2008.8,2,   2312.8,6,   8.0463,2,    25.00,   -999.0,9,   -999.0,  -999.00,9,  -999.00,  -999.00,9,  22.4421,2
  49NZ20031209,  I3I4,   599,  1,     33,  12015,2,20031214,1657,-24.6602,  37.9757, 3173,    151.3,  21.1628,  35.3016,2,  35.3035,2,    159.9,1,    169.1,2,     5.09,2,     5.89,2,     0.03,2,     0.51,2,    1.991,2,    1.134,2,    0.184,4,   2048.2,2,   2305.7,2,   7.9721,6,    25.00,   -999.0,9,   -999.0,  -999.00,9,  -999.00,  -999.00,9,  21.1646,2
  49NZ20031209,  I3I4,   599,  1,     32,  12020,2,20031214,1657,-24.6602,  37.9757, 3173,    199.9,  19.8569,  35.4554,2,  35.4551,2,    162.9,1,    170.0,2,     5.65,2,     6.37,2,     0.02,2,     0.54,2,    2.137,2,    1.166,2,    0.192,4,   2067.6,2,   2316.5,2,   7.9514,2,    25.00,   -999.0,9,   -999.0,  -999.00,9,  -999.00,  -999.00,9,  19.8599,2
  49NZ20031209,  I3I4,   599,  1,     31,  12019,2,20031214,1657,-24.6602,  37.9757, 3173,    248.9,  17.6896,  35.4895,2,  35.4933,2,    154.0,1,    161.7,2,     8.00,2,     9.07,2,     0.00,2,     0.72,2,    2.179,6,    1.197,6,    0.181,4,   2101.3,2,   2322.3,2,   7.8961,2,    25.00,   -999.0,9,   -999.0,  -999.00,9,  -999.00,  -999.00,9,  17.6877,2
  49NZ20031209,  I3I4,   599,  1,     30,  12018,2,20031214,1657,-24.6602,  37.9757, 3173,    300.2,  16.7778,  35.5820,2,  35.5881,2,    188.2,1,    198.5,2,     5.47,2,     6.02,2,     0.01,2,     0.53,2,    2.404,2,    1.315,2,    0.214,4,   2086.7,2,   2327.3,2,   7.9330,2,    25.00,   -999.0,9,   -999.0,  -999.00,9,  -999.00,  -999.00,9,  16.7806,2
  49NZ20031209,  I3I4,   599,  1,     29,  12017,2,20031214,1657,-24.6602,  37.9757, 3173,    400.0,  15.0192,  35.4456,2,  35.4461,2,    186.4,1,    194.1,2,     5.86,2,     8.54,2,    -0.01,2,     0.69,2,    2.640,2,    1.393,2,    0.077,4,   2106.7,2,   2319.9,2,   7.8836,2,    25.00,   -999.0,9,   -999.0,  -999.00,9,  -999.00,  -999.00,9,  15.0220,2
  49NZ20031209,  I3I4,   599,  1,     28,  12016,2,20031214,1657,-24.6602,  37.9757, 3173,    500.5,  13.3651,  35.2708,2,  35.2579,3,    194.6,1,    200.2,2,     6.66,2,    11.09,2,    -0.01,2,     0.85,2,    2.765,2,    1.428,2,    0.083,4,   2118.6,2,   2313.1,2,   7.8480,2,    25.00,   -999.0,9,   -999.0,  -999.00,9,  -999.00,  -999.00,9,  13.3624,2
  49NZ20031209,  I3I4,   599,  1,     27,  12012,2,20031214,1657,-24.6602,  37.9757, 3173,    599.8,  11.8494,  35.0653,2,  35.0653,2,    197.0,1,    205.3,2,     7.04,2,    13.49,2,    -0.01,2,     1.01,2,    2.844,2,    1.412,2,    0.111,4,   2124.0,2,   2303.4,2,   7.8196,2,    25.00,   -999.0,9,   -999.0,  -999.00,9,  -999.00,  -999.00,9,  11.8500,2
  49NZ20031209,  I3I4,   599,  1,     26,  12014,2,20031214,1657,-24.6602,  37.9757, 3173,    701.0,  10.5362,  34.8874,2,  34.8851,2,    197.1,1,    205.7,2,     8.62,2,    16.41,2,    -0.01,2,     1.19,2,    2.711,2,    1.324,2,    0.069,4,   2133.3,6,   2293.9,2,   7.7895,2,    25.00,   -999.0,9,   -999.0,  -999.00,9,  -999.00,  -999.00,9,  10.5360,2
  49NZ20031209,  I3I4,   599,  1,     25,  12013,2,20031214,1657,-24.6602,  37.9757, 3173,    800.6,   9.1554,  34.7315,2,  34.7319,2,    186.7,1,    194.1,2,    14.03,2,    20.72,2,    -0.01,2,     1.47,2,    2.149,2,    1.089,2,    0.056,4,   2151.0,2,   2292.8,6,   7.7415,2,    25.00,   -999.0,9,   -999.0,  -999.00,9,  -999.00,  -999.00,9,   9.1589,2
  49NZ20031209,  I3I4,   599,  1,     24,  12048,2,20031214,1657,-24.6602,  37.9757, 3173,    898.4,   7.9012,  34.6696,2,  34.6731,2,    157.7,1,    161.6,2,    28.18,2,    26.57,2,     0.00,2,     1.87,2,    1.200,2,    0.620,2,    0.037,4,   2188.6,2,   2300.6,2,   7.6687,6,    25.00,   -999.0,9,   -999.0,  -999.00,9,  -999.00,  -999.00,9,   7.9023,2
  49NZ20031209,  I3I4,   599,  1,     23,  12047,2,20031214,1657,-24.6602,  37.9757, 3173,   1000.7,   6.0757,  34.5135,2,  34.5116,2,    170.5,1,    178.2,2,    33.29,2,    29.01,2,    -0.01,2,     2.03,2,    1.077,6,    0.532,6,    0.023,4,   2195.5,2,   2301.8,2,   7.6492,2,    25.00,   -999.0,9,   -999.0,  -999.00,9,  -999.00,  -999.00,9,   6.0777,2
  49NZ20031209,  I3I4,   599,  1,     22,  12046,2,20031214,1657,-24.6602,  37.9757, 3173,   1201.1,   4.7323,  34.5811,2,  34.5885,3,    144.8,1,    149.0,2,    58.16,2,    33.16,2,    -0.01,2,     2.36,2,    0.411,2,    0.207,2,    0.002,4,   2240.8,2,   2325.1,2,   7.5904,2,    25.00,   -999.0,9,   -999.0,  -999.00,9,  -999.00,  -999.00,9,   4.7319,2
  49NZ20031209,  I3I4,   599,  1,     21,  12045,2,20031214,1657,-24.6602,  37.9757, 3173,   1401.1,   4.2436,  34.7068,2,  34.7050,2,    126.2,1,   -999.0,4,    77.72,2,    34.55,2,    -0.02,2,     2.47,2,    0.112,2,    0.055,2,    0.028,4,   2269.7,2,   2349.1,2,   7.5701,2,    25.00,   -999.0,9,   -999.0,  -999.00,9,  -999.00,  -999.00,9,   4.2443,2
  49NZ20031209,  I3I4,   599,  1,     20,  12044,2,20031214,1657,-24.6602,  37.9757, 3173,   3004.0,   1.9740,  34.7950,2,  34.7947,2,    206.9,1,    213.6,2,    76.29,2,    28.05,2,    -0.01,2,     1.92,2,    0.003,2,   -0.002,2,    0.008,4,   2230.3,2,   2346.7,2,   7.6632,2,    25.00,   -999.0,9,   -999.0,  -999.00,9,  -999.00,  -999.00,9,   1.9739,2
  49NZ20031209,  I3I4,   599,  1,     19,  12043,2,20031214,1657,-24.6602,  37.9757, 3173,   1801.1,   2.9341,  34.7185,2,  34.7190,2,    160.3,1,    166.7,4,    80.02,2,    32.31,2,    -0.01,2,     2.27,2,    0.015,2,    0.008,2,    0.014,4,   2258.0,2,   2347.2,2,   7.6056,2,    25.00,   -999.0,9,   -999.0,  -999.00,9,  -999.00,  -999.00,9,   2.9342,2
  49NZ20031209,  I3I4,   599,  1,     18,  12042,2,20031214,1657,-24.6602,  37.9757, 3173,   2000.0,   2.7136,  34.7486,2,  34.7488,2,    168.3,1,    174.7,2,    81.28,2,    31.38,2,    -0.01,2,     2.20,2,    0.031,2,    0.017,2,    0.006,4,   2256.0,2,   2350.7,2,   7.6180,2,    25.00,   -999.0,9,   -999.0,  -999.00,9,  -999.00,  -999.00,9,   2.7137,2
  49NZ20031209,  I3I4,   599,  1,     17,  12041,2,20031214,1657,-24.6602,  37.9757, 3173,   2199.9,   2.5009,  34.7716,2,  34.7718,2,    182.0,1,    189.0,2,    76.90,2,    29.95,2,    -0.01,2,     2.08,2,    0.007,2,    0.003,2,    0.007,4,   2244.7,2,   2348.2,2,   7.6353,2,    25.00,   -999.0,9,   -999.0,  -999.00,9,  -999.00,  -999.00,9,   2.5010,2
  49NZ20031209,  I3I4,   599,  1,     16,  12040,2,20031214,1657,-24.6602,  37.9757, 3173,   2402.1,   2.3597,  34.7846,2,  34.7840,2,    190.7,1,    197.8,2,    75.03,2,    29.05,2,    -0.01,2,     2.01,2,    0.004,2,   -0.001,2,    0.007,4,   2239.2,6,   2342.8,2,   7.6470,2,    25.00,   -999.0,9,   -999.0,  -999.00,9,  -999.00,  -999.00,9,   2.3611,2
  49NZ20031209,  I3I4,   599,  1,     15,  12039,2,20031214,1657,-24.6602,  37.9757, 3173,   2601.1,   2.2440,  34.7962,2,  34.7969,2,    198.8,1,   -999.0,5,    72.83,2,    28.15,2,    -0.01,2,     1.95,2,    0.000,2,   -0.001,2,    0.011,4,   2232.4,2,   2342.0,6,   7.6573,2,    25.00,   -999.0,9,   -999.0,  -999.00,9,  -999.00,  -999.00,9,   2.2440,2
  49NZ20031209,  I3I4,   599,  1,     14,  12038,2,20031214,1657,-24.6602,  37.9757, 3173,   2800.5,   2.1518,  34.7993,2,  34.7994,2,    203.3,1,    210.5,2,    72.82,2,    27.81,2,    -0.01,2,     1.93,2,    0.001,2,   -0.002,2,    0.012,4,   2230.9,2,   2343.6,2,   7.6616,6,    25.00,   -999.0,9,   -999.0,  -999.00,9,  -999.00,  -999.00,9,   2.1523,2
  49NZ20031209,  I3I4,   599,  1,     13,  12037,2,20031214,1657,-24.6602,  37.9757, 3173,   3002.9,   1.9743,  34.7949,2,  34.7949,2,    206.9,1,    215.0,4,    76.37,2,    27.91,2,    -0.01,2,     1.93,2,    0.001,2,    0.003,2,    0.008,4,   2230.8,2,   2343.6,2,   7.6621,2,    25.00,   -999.0,9,   -999.0,  -999.00,9,  -999.00,  -999.00,9,   1.9742,2
  49NZ20031209,  I3I4,   599,  1,     12,  12036,2,20031214,1657,-24.6602,  37.9757, 3173,   3207.6,   1.7879,  34.7847,2,  34.7847,2,    208.7,1,    214.7,2,    81.88,2,    28.50,2,    -0.01,2,     1.95,2,    0.012,2,    0.005,2,    0.012,4,   2234.2,2,   2349.4,2,   7.6594,2,    25.00,   -999.0,9,   -999.0,  -999.00,9,  -999.00,  -999.00,9,   1.7880,2
  49NZ20031209,  I3I4,   599,  1,     11,  12035,9,20031214,1657,-24.6602,  37.9757, 3173,   2099.9,   2.5973,  34.7597,2,-999.0000,9,    175.5,1,   -999.0,9,  -999.00,9,  -999.00,9,  -999.00,9,  -999.00,9, -999.000,9, -999.000,9, -999.000,9,   -999.0,9,   -999.0,9,-999.0000,9,  -999.00,   -999.0,9,   -999.0,  -999.00,9,  -999.00,  -999.00,9,   2.5976,2
  49NZ20031209,  I3I4,   599,  1,     10,  12034,9,20031214,1657,-24.6602,  37.9757, 3173,   2301.0,   2.4297,  34.7796,2,-999.0000,9,    186.7,1,   -999.0,9,  -999.00,9,  -999.00,9,  -999.00,9,  -999.00,9, -999.000,9, -999.000,9, -999.000,9,   -999.0,9,   -999.0,9,-999.0000,9,  -999.00,   -999.0,9,   -999.0,  -999.00,9,  -999.00,  -999.00,9,   2.4299,2
  49NZ20031209,  I3I4,   599,  1,      9,  12033,9,20031214,1657,-24.6602,  37.9757, 3173,   2501.1,   2.3067,  34.7923,2,-999.0000,9,    195.2,1,   -999.0,9,  -999.00,9,  -999.00,9,  -999.00,9,  -999.00,9, -999.000,9, -999.000,9, -999.000,9,   -999.0,9,   -999.0,9,-999.0000,9,  -999.00,   -999.0,9,   -999.0,  -999.00,9,  -999.00,  -999.00,9,   2.3069,2
  49NZ20031209,  I3I4,   599,  1,      8,  12032,9,20031214,1657,-24.6602,  37.9757, 3173,   2901.6,   2.0662,  34.7982,2,-999.0000,9,    205.4,1,   -999.0,9,  -999.00,9,  -999.00,9,  -999.00,9,  -999.00,9, -999.000,9, -999.000,9, -999.000,9,   -999.0,9,   -999.0,9,-999.0000,9,  -999.00,   -999.0,9,   -999.0,  -999.00,9,  -999.00,  -999.00,9,   2.0663,2
  49NZ20031209,  I3I4,   599,  1,      7,  12031,9,20031214,1657,-24.6602,  37.9757, 3173,   1000.7,   6.0924,  34.5181,2,-999.0000,9,    169.7,1,   -999.0,9,  -999.00,9,  -999.00,9,  -999.00,9,  -999.00,9, -999.000,9, -999.000,9, -999.000,9,   -999.0,9,   -999.0,9,-999.0000,9,  -999.00,   -999.0,9,   -999.0,  -999.00,9,  -999.00,  -999.00,9,   6.0935,2
  49NZ20031209,  I3I4,   599,  1,      6,  12030,9,20031214,1657,-24.6602,  37.9757, 3173,   1001.0,   6.0848,  34.5163,2,-999.0000,9,    170.1,1,   -999.0,9,  -999.00,9,  -999.00,9,  -999.00,9,  -999.00,9, -999.000,9, -999.000,9, -999.000,9,   -999.0,9,   -999.0,9,-999.0000,9,  -999.00,   -999.0,9,   -999.0,  -999.00,9,  -999.00,  -999.00,9,   6.0845,2
  49NZ20031209,  I3I4,   599,  1,      5,  12029,9,20031214,1657,-24.6602,  37.9757, 3173,   1000.6,   6.0819,  34.5159,2,-999.0000,9,    169.9,1,   -999.0,9,  -999.00,9,  -999.00,9,  -999.00,9,  -999.00,9, -999.000,9, -999.000,9, -999.000,9,   -999.0,9,   -999.0,9,-999.0000,9,  -999.00,   -999.0,9,   -999.0,  -999.00,9,  -999.00,  -999.00,9,   6.0810,2
  49NZ20031209,  I3I4,   599,  1,      4,  12028,9,20031214,1657,-24.6602,  37.9757, 3173,   1001.1,   6.0857,  34.5164,2,-999.0000,9,    170.3,1,   -999.0,9,  -999.00,9,  -999.00,9,  -999.00,9,  -999.00,9, -999.000,9, -999.000,9, -999.000,9,   -999.0,9,   -999.0,9,-999.0000,9,  -999.00,   -999.0,9,   -999.0,  -999.00,9,  -999.00,  -999.00,9,   6.0828,2
  49NZ20031209,  I3I4,   599,  1,      3,  12027,9,20031214,1657,-24.6602,  37.9757, 3173,   1000.6,   6.0771,  34.5147,2,-999.0000,9,    170.6,1,   -999.0,9,  -999.00,9,  -999.00,9,  -999.00,9,  -999.00,9, -999.000,9, -999.000,9, -999.000,9,   -999.0,9,   -999.0,9,-999.0000,9,  -999.00,   -999.0,9,   -999.0,  -999.00,9,  -999.00,  -999.00,9,   6.0793,2
  49NZ20031209,  I3I4,   599,  1,      2,  12026,9,20031214,1657,-24.6602,  37.9757, 3173,     10.2,  26.4497,  35.3239,2,-999.0000,9,    197.1,1,   -999.0,9,  -999.00,9,  -999.00,9,  -999.00,9,  -999.00,9, -999.000,9, -999.000,9, -999.000,9,   -999.0,9,   -999.0,9,-999.0000,9,  -999.00,   -999.0,9,   -999.0,  -999.00,9,  -999.00,  -999.00,9,  26.2882,2
  49NZ20031209,  I3I4,   599,  1,      1,  12025,2,20031214,1657,-24.6602,  37.9757, 3173,   1600.2,   3.3672,  34.6930,2,  34.6925,2,    147.1,1,    152.6,2,    79.72,2,    33.67,2,    -0.01,2,     2.37,2,    0.092,2,    0.031,2,    0.020,4,   2263.4,2,   2346.9,2,   7.5871,2,    25.00,   -999.0,9,   -999.0,  -999.00,9,  -999.00,  -999.00,9,   3.3676,2