BOTTLE,20141204PRINUNIVRMK
EXPOCODE,SECT_ID,STNNBR,CASTNO,SAMPNO,BTLNBR,BTLNBR_FLAG_W,DATE,TIME,LATITUDE,LONGITUDE,DEPTH,CTDPRS,CTDTMP,CTDSAL,CTDSAL_FLAG_W,SALNTY,SALNTY_FLAG_W,CTDOXY,CTDOXY_FLAG_W,OXYGEN,OXYGEN_FLAG_W,SILCAT,SILCAT_FLAG_W,NITRAT,NITRAT_FLAG_W,NITRIT,NITRIT_FLAG_W,PHSPHT,PHSPHT_FLAG_W,CFC-11,CFC-11_FLAG_W,CFC-12,CFC-12_FLAG_W,CFC113,CFC113_FLAG_W,TCARBN,TCARBN_FLAG_W,ALKALI,ALKALI_FLAG_W,PH_TOT,PH_TOT_FLAG_W,PH_TMP,DELC14,DELC14_FLAG_W,C14ERR,DELC13,DELC13_FLAG_W,CS-137,CS137ER,CS-137_FLAG_W,SBE35,SBE35_FLAG_W
,,,,,,,,,,,METERS,DBAR,ITS-90,PSS-78,,PSS-78,,UMOL/KG,,UMOL/KG,,UMOL/KG,,UMOL/KG,,UMOL/KG,,UMOL/KG,,PMOL/KG,,PMOL/KG,,PMOL/KG,,UMOL/KG,,UMOL/KG,,,,DEG C,/MILLE,,/MILLE,/MILLE,,DM/.1MG,DM/.1MG,,ITS-90,
  49NZ20031209,  I3I4,   558,  1,     36,  12024,2,20031220,2204,-20.0010,  49.6278, 3640,     10.2,  27.7701,  34.9628,2,  34.9602,2,    191.8,1,    201.1,2,     1.90,2,    -0.01,2,    -0.01,2,     0.11,2, -999.000,9, -999.000,9, -999.000,9,   -999.0,9,   -999.0,9,-999.0000,9,  -999.00,   -999.0,9,   -999.0,  -999.00,9,  -999.00,  -999.00,9,  27.7682,2
  49NZ20031209,  I3I4,   558,  1,     35,  12023,2,20031220,2204,-20.0010,  49.6278, 3640,     50.1,  25.5050,  34.7674,2,  34.7696,2,    205.9,1,    216.5,2,     1.99,2,    -0.03,2,    -0.01,2,     0.12,2, -999.000,9, -999.000,9, -999.000,9,   -999.0,9,   -999.0,9,-999.0000,9,  -999.00,   -999.0,9,   -999.0,  -999.00,9,  -999.00,  -999.00,9,  25.5045,2
  49NZ20031209,  I3I4,   558,  1,     34,  12022,2,20031220,2204,-20.0010,  49.6278, 3640,    100.0,  23.7710,  34.9371,2,  34.9393,2,    201.8,1,    211.0,2,     2.22,2,    -0.03,2,    -0.01,2,     0.14,2, -999.000,9, -999.000,9, -999.000,9,   -999.0,9,   -999.0,9,-999.0000,9,  -999.00,   -999.0,9,   -999.0,  -999.00,9,  -999.00,  -999.00,9,  23.7711,2
  49NZ20031209,  I3I4,   558,  1,     33,  12015,2,20031220,2204,-20.0010,  49.6278, 3640,    150.3,  22.4549,  35.1465,2,  35.1508,2,    181.0,1,    188.6,2,     2.90,2,     2.16,2,     0.03,2,     0.28,2, -999.000,9, -999.000,9, -999.000,9,   -999.0,9,   -999.0,9,-999.0000,9,  -999.00,   -999.0,9,   -999.0,  -999.00,9,  -999.00,  -999.00,9,  22.4523,2
  49NZ20031209,  I3I4,   558,  1,     32,  12020,2,20031220,2204,-20.0010,  49.6278, 3640,    200.7,  20.3425,  35.3929,2,  35.4016,2,    154.0,1,    160.9,2,     6.30,2,     6.78,2,     0.00,2,     0.55,2, -999.000,9, -999.000,9, -999.000,9,   -999.0,9,   -999.0,9,-999.0000,9,  -999.00,   -999.0,9,   -999.0,  -999.00,9,  -999.00,  -999.00,9,  20.3425,2
  49NZ20031209,  I3I4,   558,  1,     31,  12019,2,20031220,2204,-20.0010,  49.6278, 3640,    250.5,  18.6783,  35.5858,2,  35.5988,2,    166.5,1,    175.6,2,     5.72,2,     5.85,2,     0.00,2,     0.50,2, -999.000,9, -999.000,9, -999.000,9,   -999.0,9,   -999.0,9,-999.0000,9,  -999.00,   -999.0,9,   -999.0,  -999.00,9,  -999.00,  -999.00,9,  18.6816,2
  49NZ20031209,  I3I4,   558,  1,     30,  12018,2,20031220,2204,-20.0010,  49.6278, 3640,    300.9,  16.6082,  35.6061,2,  35.6009,2,    186.1,1,    193.3,2,     4.70,2,     5.71,2,     0.00,2,     0.51,2, -999.000,9, -999.000,9, -999.000,9,   -999.0,9,   -999.0,9,-999.0000,9,  -999.00,   -999.0,9,   -999.0,  -999.00,9,  -999.00,  -999.00,9,  16.6067,2
  49NZ20031209,  I3I4,   558,  1,     29,  12017,2,20031220,2204,-20.0010,  49.6278, 3640,    400.4,  13.7448,  35.3341,2,  35.3359,2,    200.0,1,    209.0,2,     4.96,2,     8.71,2,     0.00,2,     0.70,2, -999.000,9, -999.000,9, -999.000,9,   -999.0,9,   -999.0,9,-999.0000,9,  -999.00,   -999.0,9,   -999.0,  -999.00,9,  -999.00,  -999.00,9,  13.7484,2
  49NZ20031209,  I3I4,   558,  1,     28,  12016,2,20031220,2204,-20.0010,  49.6278, 3640,    500.1,  11.8382,  35.0731,2,  35.0652,2,    202.1,1,    210.2,2,     6.56,2,    12.72,2,    -0.01,2,     0.94,2, -999.000,9, -999.000,9, -999.000,9,   -999.0,9,   -999.0,9,-999.0000,9,  -999.00,   -999.0,9,   -999.0,  -999.00,9,  -999.00,  -999.00,9,  11.8378,2
  49NZ20031209,  I3I4,   558,  1,     27,  12012,2,20031220,2204,-20.0010,  49.6278, 3640,    600.3,  10.3005,  34.8562,2,  34.8504,2,    208.4,1,    216.8,2,     7.11,2,    15.68,2,    -0.01,2,     1.12,2, -999.000,9, -999.000,9, -999.000,9,   -999.0,9,   -999.0,9,-999.0000,9,  -999.00,   -999.0,9,   -999.0,  -999.00,9,  -999.00,  -999.00,9,  10.3012,2
  49NZ20031209,  I3I4,   558,  1,     26,  12014,2,20031220,2204,-20.0010,  49.6278, 3640,    700.2,   8.8921,  34.6763,2,  34.6778,2,    203.2,1,    208.2,2,    11.09,2,    20.00,2,    -0.01,2,     1.40,2, -999.000,9, -999.000,9, -999.000,9,   -999.0,9,   -999.0,9,-999.0000,9,  -999.00,   -999.0,9,   -999.0,  -999.00,9,  -999.00,  -999.00,9,   8.8914,2
  49NZ20031209,  I3I4,   558,  1,     25,  12013,2,20031220,2204,-20.0010,  49.6278, 3640,    800.1,   7.3490,  34.5690,2,  34.5666,2,    177.2,1,    182.7,2,    24.11,2,    25.98,2,    -0.01,2,     1.80,2, -999.000,9, -999.000,9, -999.000,9,   -999.0,9,   -999.0,9,-999.0000,9,  -999.00,   -999.0,9,   -999.0,  -999.00,9,  -999.00,  -999.00,9,   7.3504,2
  49NZ20031209,  I3I4,   558,  1,     24,  12048,2,20031220,2204,-20.0010,  49.6278, 3640,    900.3,   6.2770,  34.5505,2,  34.5497,2,    153.4,1,    158.3,2,    39.96,2,    30.17,2,    -0.01,2,     2.10,2, -999.000,9, -999.000,9, -999.000,9,   -999.0,9,   -999.0,9,-999.0000,9,  -999.00,   -999.0,9,   -999.0,  -999.00,9,  -999.00,  -999.00,9,   6.2744,2
  49NZ20031209,  I3I4,   558,  1,     23,  12047,2,20031220,2204,-20.0010,  49.6278, 3640,   1001.7,   5.0512,  34.4988,2,  34.4984,2,    157.8,1,    163.2,2,    47.92,2,    32.11,2,    -0.01,2,     2.24,2, -999.000,9, -999.000,9, -999.000,9,   -999.0,9,   -999.0,9,-999.0000,9,  -999.00,   -999.0,9,   -999.0,  -999.00,9,  -999.00,  -999.00,9,   5.0486,2
  49NZ20031209,  I3I4,   558,  1,     22,  12046,2,20031220,2204,-20.0010,  49.6278, 3640,   1200.8,   4.0783,  34.5674,2,  34.5678,2,    142.7,1,    147.9,2,    68.74,2,    34.19,2,    -0.01,2,     2.40,2, -999.000,9, -999.000,9, -999.000,9,   -999.0,9,   -999.0,9,-999.0000,9,  -999.00,   -999.0,9,   -999.0,  -999.00,9,  -999.00,  -999.00,9,   4.0797,2
  49NZ20031209,  I3I4,   558,  1,     21,  12045,2,20031220,2204,-20.0010,  49.6278, 3640,   1400.3,   3.5304,  34.6293,2,  34.6320,2,    143.2,1,    147.7,2,    79.96,2,    34.26,2,    -0.01,2,     2.42,2, -999.000,9, -999.000,9, -999.000,9,   -999.0,9,   -999.0,9,-999.0000,9,  -999.00,   -999.0,9,   -999.0,  -999.00,9,  -999.00,  -999.00,9,   3.5310,2
  49NZ20031209,  I3I4,   558,  1,     20,  12044,2,20031220,2204,-20.0010,  49.6278, 3640,   1600.8,   3.0000,  34.6593,2,  34.6603,2,    152.8,1,    158.6,2,    85.22,2,    33.70,2,    -0.01,2,     2.35,2, -999.000,9, -999.000,9, -999.000,9,   -999.0,9,   -999.0,9,-999.0000,9,  -999.00,   -999.0,9,   -999.0,  -999.00,9,  -999.00,  -999.00,9,   3.0002,2
  49NZ20031209,  I3I4,   558,  1,     19,  12043,2,20031220,2204,-20.0010,  49.6278, 3640,   1800.5,   2.6909,  34.6872,2,  34.6878,2,    157.6,1,    163.6,2,    90.92,2,    33.29,2,    -0.01,2,     2.33,2, -999.000,9, -999.000,9, -999.000,9,   -999.0,9,   -999.0,9,-999.0000,9,  -999.00,   -999.0,9,   -999.0,  -999.00,9,  -999.00,  -999.00,9,   2.6910,2
  49NZ20031209,  I3I4,   558,  1,     18,  12042,2,20031220,2204,-20.0010,  49.6278, 3640,   2000.0,   2.5150,  34.7103,2,  34.7112,2,    158.6,1,    164.5,2,    96.87,2,    33.23,2,    -0.01,2,     2.33,2, -999.000,9, -999.000,9, -999.000,9,   -999.0,9,   -999.0,9,-999.0000,9,  -999.00,   -999.0,9,   -999.0,  -999.00,9,  -999.00,  -999.00,9,   2.5154,2
  49NZ20031209,  I3I4,   558,  1,     17,  12041,2,20031220,2204,-20.0010,  49.6278, 3640,   2200.0,   2.3509,  34.7269,2,  34.7261,2,    155.8,1,    161.6,2,   106.17,2,    33.70,2,    -0.01,2,     2.36,2, -999.000,9, -999.000,9, -999.000,9,   -999.0,9,   -999.0,9,-999.0000,9,  -999.00,   -999.0,9,   -999.0,  -999.00,9,  -999.00,  -999.00,9,   2.3511,2
  49NZ20031209,  I3I4,   558,  1,     16,  12040,2,20031220,2204,-20.0010,  49.6278, 3640,   2401.7,   2.2443,  34.7366,2,  34.7368,2,    152.4,1,    157.7,2,   114.30,2,    34.13,2,    -0.01,2,     2.40,2, -999.000,9, -999.000,9, -999.000,9,   -999.0,9,   -999.0,9,-999.0000,9,  -999.00,   -999.0,9,   -999.0,  -999.00,9,  -999.00,  -999.00,9,   2.2445,2
  49NZ20031209,  I3I4,   558,  1,     15,  12039,2,20031220,2204,-20.0010,  49.6278, 3640,   2600.3,   2.0997,  34.7397,2,  34.7395,2,    152.8,1,    157.8,2,   119.52,2,    34.30,2,    -0.01,2,     2.42,2, -999.000,9, -999.000,9, -999.000,9,   -999.0,9,   -999.0,9,-999.0000,9,  -999.00,   -999.0,9,   -999.0,  -999.00,9,  -999.00,  -999.00,9,   2.0997,2
  49NZ20031209,  I3I4,   558,  1,     14,  12038,2,20031220,2204,-20.0010,  49.6278, 3640,   2800.0,   1.9866,  34.7383,2,  34.7376,2,    155.4,1,    160.3,2,   121.90,2,    34.36,2,    -0.01,2,     2.41,2, -999.000,9, -999.000,9, -999.000,9,   -999.0,9,   -999.0,9,-999.0000,9,  -999.00,   -999.0,9,   -999.0,  -999.00,9,  -999.00,  -999.00,9,   1.9867,2
  49NZ20031209,  I3I4,   558,  1,     13,  12037,2,20031220,2204,-20.0010,  49.6278, 3640,   2999.2,   1.9077,  34.7382,2,  34.7382,2,    156.7,1,    161.4,2,   124.42,2,    34.39,2,    -0.01,2,     2.41,2, -999.000,9, -999.000,9, -999.000,9,   -999.0,9,   -999.0,9,-999.0000,9,  -999.00,   -999.0,9,   -999.0,  -999.00,9,  -999.00,  -999.00,9,   1.9078,2
  49NZ20031209,  I3I4,   558,  1,     12,  12036,2,20031220,2204,-20.0010,  49.6278, 3640,   3249.7,   1.8042,  34.7361,2,  34.7362,2,    159.8,1,    163.9,2,   126.57,2,    34.32,2,    -0.01,2,     2.40,2, -999.000,9, -999.000,9, -999.000,9,   -999.0,9,   -999.0,9,-999.0000,9,  -999.00,   -999.0,9,   -999.0,  -999.00,9,  -999.00,  -999.00,9,   1.8043,2
  49NZ20031209,  I3I4,   558,  1,     11,  12035,2,20031220,2204,-20.0010,  49.6278, 3640,   3499.6,   1.6217,  34.7301,2,  34.7301,2,    168.0,1,    171.9,2,   127.07,2,    33.99,2,    -0.01,2,     2.38,2, -999.000,9, -999.000,9, -999.000,9,   -999.0,9,   -999.0,9,-999.0000,9,  -999.00,   -999.0,9,   -999.0,  -999.00,9,  -999.00,  -999.00,9,   1.6219,2
  49NZ20031209,  I3I4,   558,  1,     10,  12034,2,20031220,2204,-20.0010,  49.6278, 3640,   3677.1,   1.1432,  34.7153,2,  34.7153,2,    191.8,1,    196.4,2,   122.55,2,    32.78,2,     0.00,2,     2.27,2, -999.000,9, -999.000,9, -999.000,9,   -999.0,9,   -999.0,9,-999.0000,9,  -999.00,   -999.0,9,   -999.0,  -999.00,9,  -999.00,  -999.00,9,   1.1444,2
  49NZ20031209,  I3I4,   558,  1,      9,  12033,9,20031220,2204,-20.0010,  49.6278, 3640,   1001.6,   5.0675,  34.5002,2,-999.0000,9,    157.2,1,   -999.0,9,  -999.00,9,  -999.00,9,  -999.00,9,  -999.00,9, -999.000,9, -999.000,9, -999.000,9,   -999.0,9,   -999.0,9,-999.0000,9,  -999.00,   -999.0,9,   -999.0,  -999.00,9,  -999.00,  -999.00,9,   5.0664,2
  49NZ20031209,  I3I4,   558,  1,      8,  12032,9,20031220,2204,-20.0010,  49.6278, 3640,   1001.6,   5.0683,  34.5003,2,-999.0000,9,    157.1,1,   -999.0,9,  -999.00,9,  -999.00,9,  -999.00,9,  -999.00,9, -999.000,9, -999.000,9, -999.000,9,   -999.0,9,   -999.0,9,-999.0000,9,  -999.00,   -999.0,9,   -999.0,  -999.00,9,  -999.00,  -999.00,9,   5.0680,2
  49NZ20031209,  I3I4,   558,  1,      7,  12031,9,20031220,2204,-20.0010,  49.6278, 3640,   1001.6,   5.0693,  34.5006,2,-999.0000,9,    157.0,1,   -999.0,9,  -999.00,9,  -999.00,9,  -999.00,9,  -999.00,9, -999.000,9, -999.000,9, -999.000,9,   -999.0,9,   -999.0,9,-999.0000,9,  -999.00,   -999.0,9,   -999.0,  -999.00,9,  -999.00,  -999.00,9,   5.0688,2
  49NZ20031209,  I3I4,   558,  1,      6,  12030,9,20031220,2204,-20.0010,  49.6278, 3640,   1001.5,   5.0684,  34.5005,2,-999.0000,9,    157.0,1,   -999.0,9,  -999.00,9,  -999.00,9,  -999.00,9,  -999.00,9, -999.000,9, -999.000,9, -999.000,9,   -999.0,9,   -999.0,9,-999.0000,9,  -999.00,   -999.0,9,   -999.0,  -999.00,9,  -999.00,  -999.00,9,   5.0684,2
  49NZ20031209,  I3I4,   558,  1,      5,  12029,9,20031220,2204,-20.0010,  49.6278, 3640,   1001.8,   5.0682,  34.5006,2,-999.0000,9,    156.8,1,   -999.0,9,  -999.00,9,  -999.00,9,  -999.00,9,  -999.00,9, -999.000,9, -999.000,9, -999.000,9,   -999.0,9,   -999.0,9,-999.0000,9,  -999.00,   -999.0,9,   -999.0,  -999.00,9,  -999.00,  -999.00,9,   5.0665,2
  49NZ20031209,  I3I4,   558,  1,      4,  12028,9,20031220,2204,-20.0010,  49.6278, 3640,   1001.8,   5.0702,  34.5008,2,-999.0000,9,    156.8,1,   -999.0,9,  -999.00,9,  -999.00,9,  -999.00,9,  -999.00,9, -999.000,9, -999.000,9, -999.000,9,   -999.0,9,   -999.0,9,-999.0000,9,  -999.00,   -999.0,9,   -999.0,  -999.00,9,  -999.00,  -999.00,9,   5.0704,2
  49NZ20031209,  I3I4,   558,  1,      3,  12027,9,20031220,2204,-20.0010,  49.6278, 3640,   1001.8,   5.0707,  34.5009,2,-999.0000,9,    156.7,1,   -999.0,9,  -999.00,9,  -999.00,9,  -999.00,9,  -999.00,9, -999.000,9, -999.000,9, -999.000,9,   -999.0,9,   -999.0,9,-999.0000,9,  -999.00,   -999.0,9,   -999.0,  -999.00,9,  -999.00,  -999.00,9,   5.0685,2
  49NZ20031209,  I3I4,   558,  1,      2,  12026,9,20031220,2204,-20.0010,  49.6278, 3640,   1001.8,   5.0704,  34.5004,2,-999.0000,9,    157.0,1,   -999.0,9,  -999.00,9,  -999.00,9,  -999.00,9,  -999.00,9, -999.000,9, -999.000,9, -999.000,9,   -999.0,9,   -999.0,9,-999.0000,9,  -999.00,   -999.0,9,   -999.0,  -999.00,9,  -999.00,  -999.00,9,   5.0549,2
  49NZ20031209,  I3I4,   558,  1,      1,  12025,9,20031220,2204,-20.0010,  49.6278, 3640,     10.4,  27.7687,  34.9633,2,-999.0000,9,    192.0,1,   -999.0,9,  -999.00,9,  -999.00,9,  -999.00,9,  -999.00,9, -999.000,9, -999.000,9, -999.000,9,   -999.0,9,   -999.0,9,-999.0000,9,  -999.00,   -999.0,9,   -999.0,  -999.00,9,  -999.00,  -999.00,9,  27.7671,2