BOTTLE,20141204PRINUNIVRMK
EXPOCODE,SECT_ID,STNNBR,CASTNO,SAMPNO,BTLNBR,BTLNBR_FLAG_W,DATE,TIME,LATITUDE,LONGITUDE,DEPTH,CTDPRS,CTDTMP,CTDSAL,CTDSAL_FLAG_W,SALNTY,SALNTY_FLAG_W,CTDOXY,CTDOXY_FLAG_W,OXYGEN,OXYGEN_FLAG_W,SILCAT,SILCAT_FLAG_W,NITRAT,NITRAT_FLAG_W,NITRIT,NITRIT_FLAG_W,PHSPHT,PHSPHT_FLAG_W,CFC-11,CFC-11_FLAG_W,CFC-12,CFC-12_FLAG_W,CFC113,CFC113_FLAG_W,TCARBN,TCARBN_FLAG_W,ALKALI,ALKALI_FLAG_W,PH_TOT,PH_TOT_FLAG_W,PH_TMP,DELC14,DELC14_FLAG_W,C14ERR,DELC13,DELC13_FLAG_W,CS-137,CS137ER,CS-137_FLAG_W,SBE35,SBE35_FLAG_W
,,,,,,,,,,,METERS,DBAR,ITS-90,PSS-78,,PSS-78,,UMOL/KG,,UMOL/KG,,UMOL/KG,,UMOL/KG,,UMOL/KG,,UMOL/KG,,PMOL/KG,,PMOL/KG,,PMOL/KG,,UMOL/KG,,UMOL/KG,,,,DEG C,/MILLE,,/MILLE,/MILLE,,DM/.1MG,DM/.1MG,,ITS-90,
  49NZ20031209,  I3I4,   518,  1,     36,  12024,2,20031230,1725,-20.0002,  68.7982, 2651,      9.8,  26.7212,  34.8862,2,  34.8861,2,    195.5,1,    204.2,2,     2.24,2,     0.02,2,     0.01,2,     0.13,2, -999.000,9, -999.000,9, -999.000,9,   -999.0,9,   -999.0,9,-999.0000,9,  -999.00,   -999.0,9,   -999.0,  -999.00,9,  -999.00,  -999.00,9,  26.7190,2
  49NZ20031209,  I3I4,   518,  1,     35,  12023,2,20031230,1725,-20.0002,  68.7982, 2651,     49.3,  26.0240,  34.9523,2,  34.9499,2,    200.0,1,    208.8,2,     2.21,2,    -0.02,2,     0.01,2,     0.13,2, -999.000,9, -999.000,9, -999.000,9,   -999.0,9,   -999.0,9,-999.0000,9,  -999.00,   -999.0,9,   -999.0,  -999.00,9,  -999.00,  -999.00,9,  26.0195,2
  49NZ20031209,  I3I4,   518,  1,     34,  12022,2,20031230,1725,-20.0002,  68.7982, 2651,    100.5,  23.6718,  34.9467,2,  34.9425,2,    209.0,1,    218.1,2,     2.51,2,    -0.01,2,     0.01,2,     0.11,2, -999.000,9, -999.000,9, -999.000,9,   -999.0,9,   -999.0,9,-999.0000,9,  -999.00,   -999.0,9,   -999.0,  -999.00,9,  -999.00,  -999.00,5,  23.6795,2
  49NZ20031209,  I3I4,   518,  1,     33,  12015,2,20031230,1725,-20.0002,  68.7982, 2651,    149.4,  22.0249,  35.3119,2,  35.3167,2,    202.7,1,    210.7,2,     2.70,2,     0.39,2,     0.07,2,     0.16,2, -999.000,9, -999.000,9, -999.000,9,   -999.0,9,   -999.0,9,-999.0000,9,  -999.00,   -999.0,9,   -999.0,  -999.00,9,  -999.00,  -999.00,9,  22.0263,2
  49NZ20031209,  I3I4,   518,  1,     32,  12020,2,20031230,1725,-20.0002,  68.7982, 2651,    197.0,  20.6183,  35.5072,2,  35.5374,3,    177.2,1,    185.2,2,     4.14,2,     3.20,2,     0.03,2,     0.35,2, -999.000,9, -999.000,9, -999.000,9,   -999.0,9,   -999.0,9,-999.0000,9,  -999.00,   -999.0,9,   -999.0,  -999.00,9,  -999.00,  -999.00,1,  20.6121,2
  49NZ20031209,  I3I4,   518,  1,     31,  12019,2,20031230,1725,-20.0002,  68.7982, 2651,    249.6,  19.0340,  35.7093,2,  35.7145,2,    176.3,1,    183.4,2,     4.70,2,     4.21,2,     0.02,2,     0.41,2, -999.000,9, -999.000,9, -999.000,9,   -999.0,9,   -999.0,9,-999.0000,9,  -999.00,   -999.0,9,   -999.0,  -999.00,9,  -999.00,  -999.00,9,  19.0322,2
  49NZ20031209,  I3I4,   518,  1,     30,  12018,2,20031230,1725,-20.0002,  68.7982, 2651,    299.8,  17.2666,  35.7742,2,  35.7722,2,    194.6,1,    202.9,2,     3.13,2,     3.22,2,     0.01,2,     0.37,2, -999.000,9, -999.000,9, -999.000,9,   -999.0,9,   -999.0,9,-999.0000,9,  -999.00,   -999.0,9,   -999.0,  -999.00,9,  -999.00,  -999.00,9,  17.2702,2
  49NZ20031209,  I3I4,   518,  1,     29,  12021,2,20031230,1725,-20.0002,  68.7982, 2651,    400.4,  13.9165,  35.3942,2,  35.3921,2,    210.5,1,    218.5,2,     3.23,2,     6.80,2,     0.01,2,     0.60,2, -999.000,9, -999.000,9, -999.000,9,   -999.0,9,   -999.0,9,-999.0000,9,  -999.00,   -999.0,9,   -999.0,  -999.00,9,  -999.00,  -999.00,5,  13.9203,2
  49NZ20031209,  I3I4,   518,  1,     28,  12016,2,20031230,1725,-20.0002,  68.7982, 2651,    498.8,  11.7554,  35.0758,2,  35.0751,2,    223.8,1,    231.9,2,     3.53,2,    10.37,2,     0.01,2,     0.82,2, -999.000,9, -999.000,9, -999.000,9,   -999.0,9,   -999.0,9,-999.0000,9,  -999.00,   -999.0,9,   -999.0,  -999.00,9,  -999.00,  -999.00,9,  11.7559,2
  49NZ20031209,  I3I4,   518,  1,     27,  12012,2,20031230,1725,-20.0002,  68.7982, 2651,    599.9,  10.4681,  34.8746,2,  34.8716,2,    224.6,1,    232.9,2,     4.26,2,    13.47,2,     0.01,2,     1.01,2, -999.000,9, -999.000,9, -999.000,9,   -999.0,9,   -999.0,9,-999.0000,9,  -999.00,   -999.0,9,   -999.0,  -999.00,9,  -999.00,  -999.00,1,  10.4696,2
  49NZ20031209,  I3I4,   518,  1,     26,  12014,2,20031230,1725,-20.0002,  68.7982, 2651,    700.3,   9.0283,  34.6724,2,  34.6731,2,    214.3,1,    222.0,2,     7.80,2,    18.29,2,     0.01,2,     1.30,2, -999.000,9, -999.000,9, -999.000,9,   -999.0,9,   -999.0,9,-999.0000,9,  -999.00,   -999.0,9,   -999.0,  -999.00,9,  -999.00,  -999.00,9,   9.0286,2
  49NZ20031209,  I3I4,   518,  1,     25,  12013,2,20031230,1725,-20.0002,  68.7982, 2651,    800.8,   7.4909,  34.5436,2,  34.5432,2,    180.7,1,    186.0,2,    20.42,2,    25.39,2,     0.01,2,     1.77,2, -999.000,9, -999.000,9, -999.000,9,   -999.0,9,   -999.0,9,-999.0000,9,  -999.00,   -999.0,9,   -999.0,  -999.00,9,  -999.00,  -999.00,1,   7.4888,2
  49NZ20031209,  I3I4,   518,  1,     24,  12048,2,20031230,1725,-20.0002,  68.7982, 2651,    900.0,   5.8511,  34.5117,2,  34.5128,2,    147.2,1,    151.7,2,    43.88,2,    31.57,2,     0.01,2,     2.22,2, -999.000,9, -999.000,9, -999.000,9,   -999.0,9,   -999.0,9,-999.0000,9,  -999.00,   -999.0,9,   -999.0,  -999.00,9,  -999.00,  -999.00,9,   5.8489,2
  49NZ20031209,  I3I4,   518,  1,     23,  12047,2,20031230,1725,-20.0002,  68.7982, 2651,   1000.1,   5.1832,  34.5719,2,  34.5755,2,    122.3,1,    124.9,2,    65.12,2,    34.45,2,     0.01,2,     2.46,2, -999.000,9, -999.000,9, -999.000,9,   -999.0,9,   -999.0,9,-999.0000,9,  -999.00,   -999.0,9,   -999.0,  -999.00,9,  -999.00,  -999.00,1,   5.1784,2
  49NZ20031209,  I3I4,   518,  1,     22,  12046,2,20031230,1725,-20.0002,  68.7982, 2651,   1199.7,   4.6818,  34.6634,2,  34.6641,2,    106.3,1,    108.8,2,    84.12,2,    35.77,2,     0.01,2,     2.58,2, -999.000,9, -999.000,9, -999.000,9,   -999.0,9,   -999.0,9,-999.0000,9,  -999.00,   -999.0,9,   -999.0,  -999.00,9,  -999.00,  -999.00,5,   4.6825,2
  49NZ20031209,  I3I4,   518,  1,     21,  12045,2,20031230,1725,-20.0002,  68.7982, 2651,   1399.8,   4.0485,  34.6982,2,  34.6986,2,    112.3,1,    114.9,2,    93.96,2,    35.78,2,     0.01,2,     2.58,2, -999.000,9, -999.000,9, -999.000,9,   -999.0,9,   -999.0,9,-999.0000,9,  -999.00,   -999.0,9,   -999.0,  -999.00,9,  -999.00,  -999.00,1,   4.0488,2
  49NZ20031209,  I3I4,   518,  1,     20,  12044,2,20031230,1725,-20.0002,  68.7982, 2651,   1599.7,   3.6739,  34.7134,2,  34.7135,2,    117.9,1,    120.7,2,    99.03,2,    35.59,2,     0.01,2,     2.57,2, -999.000,9, -999.000,9, -999.000,9,   -999.0,9,   -999.0,9,-999.0000,9,  -999.00,   -999.0,9,   -999.0,  -999.00,9,  -999.00,  -999.00,9,   3.6742,2
  49NZ20031209,  I3I4,   518,  1,     19,  12043,2,20031230,1725,-20.0002,  68.7982, 2651,   1798.9,   3.0835,  34.7113,2,  34.7110,2,    135.9,1,    139.6,2,   100.10,2,    34.73,2,     0.01,2,     2.48,2, -999.000,9, -999.000,9, -999.000,9,   -999.0,9,   -999.0,9,-999.0000,9,  -999.00,   -999.0,9,   -999.0,  -999.00,9,  -999.00,  -999.00,9,   3.0836,2
  49NZ20031209,  I3I4,   518,  1,     18,  12042,2,20031230,1725,-20.0002,  68.7982, 2651,   1999.5,   2.5421,  34.7129,2,  34.7127,2,    153.0,1,    157.4,2,   101.93,2,    33.80,2,     0.01,2,     2.39,2, -999.000,9, -999.000,9, -999.000,9,   -999.0,9,   -999.0,9,-999.0000,9,  -999.00,   -999.0,9,   -999.0,  -999.00,9,  -999.00,  -999.00,1,   2.5431,2
  49NZ20031209,  I3I4,   518,  1,     17,  12041,2,20031230,1725,-20.0002,  68.7982, 2651,   2200.4,   2.0965,  34.7203,2,  34.7205,2,    167.6,1,    172.4,2,   103.42,2,    32.87,2,     0.01,2,     2.30,2, -999.000,9, -999.000,9, -999.000,9,   -999.0,9,   -999.0,9,-999.0000,9,  -999.00,   -999.0,9,   -999.0,  -999.00,9,  -999.00,  -999.00,9,   2.0966,2
  49NZ20031209,  I3I4,   518,  1,     16,  12040,2,20031230,1725,-20.0002,  68.7982, 2651,   2400.2,   1.8665,  34.7236,2,  34.7240,2,    175.4,1,    180.1,2,   105.62,2,    32.47,2,     0.01,2,     2.27,2, -999.000,9, -999.000,9, -999.000,9,   -999.0,9,   -999.0,9,-999.0000,9,  -999.00,   -999.0,9,   -999.0,  -999.00,9,  -999.00,  -999.00,1,   1.8664,2
  49NZ20031209,  I3I4,   518,  1,     15,  12039,2,20031230,1725,-20.0002,  68.7982, 2651,   2639.4,   1.7392,  34.7251,2,  34.7251,2,    178.1,1,    182.3,2,   109.42,2,    32.56,2,     0.01,2,     2.28,2, -999.000,9, -999.000,9, -999.000,9,   -999.0,9,   -999.0,9,-999.0000,9,  -999.00,   -999.0,9,   -999.0,  -999.00,9,  -999.00,  -999.00,1,   1.7391,2
  49NZ20031209,  I3I4,   518,  1,     14,  12038,9,20031230,1725,-20.0002,  68.7982, 2651,    999.9,   5.1884,  34.5729,2,-999.0000,9,    122.2,1,   -999.0,9,  -999.00,9,  -999.00,9,  -999.00,9,  -999.00,9, -999.000,9, -999.000,9, -999.000,9,   -999.0,9,   -999.0,9,-999.0000,9,  -999.00,   -999.0,9,   -999.0,  -999.00,9,  -999.00,  -999.00,9,   5.1873,2
  49NZ20031209,  I3I4,   518,  1,     13,  12037,9,20031230,1725,-20.0002,  68.7982, 2651,   1000.3,   5.1785,  34.5724,2,-999.0000,9,    122.3,1,   -999.0,9,  -999.00,9,  -999.00,9,  -999.00,9,  -999.00,9, -999.000,9, -999.000,9, -999.000,9,   -999.0,9,   -999.0,9,-999.0000,9,  -999.00,   -999.0,9,   -999.0,  -999.00,9,  -999.00,  -999.00,9,   5.1794,2
  49NZ20031209,  I3I4,   518,  1,     12,  12036,9,20031230,1725,-20.0002,  68.7982, 2651,    999.7,   5.1787,  34.5723,2,-999.0000,9,    122.3,1,   -999.0,9,  -999.00,9,  -999.00,9,  -999.00,9,  -999.00,9, -999.000,9, -999.000,9, -999.000,9,   -999.0,9,   -999.0,9,-999.0000,9,  -999.00,   -999.0,9,   -999.0,  -999.00,9,  -999.00,  -999.00,9,   5.1778,2
  49NZ20031209,  I3I4,   518,  1,     11,  12035,9,20031230,1725,-20.0002,  68.7982, 2651,   1000.6,   5.1770,  34.5723,2,-999.0000,9,    122.3,1,   -999.0,9,  -999.00,9,  -999.00,9,  -999.00,9,  -999.00,9, -999.000,9, -999.000,9, -999.000,9,   -999.0,9,   -999.0,9,-999.0000,9,  -999.00,   -999.0,9,   -999.0,  -999.00,9,  -999.00,  -999.00,9,   5.1777,2
  49NZ20031209,  I3I4,   518,  1,     10,  12034,9,20031230,1725,-20.0002,  68.7982, 2651,   1000.7,   5.1771,  34.5723,2,-999.0000,9,    122.3,1,   -999.0,9,  -999.00,9,  -999.00,9,  -999.00,9,  -999.00,9, -999.000,9, -999.000,9, -999.000,9,   -999.0,9,   -999.0,9,-999.0000,9,  -999.00,   -999.0,9,   -999.0,  -999.00,9,  -999.00,  -999.00,9,   5.1773,2
  49NZ20031209,  I3I4,   518,  1,      9,  12033,9,20031230,1725,-20.0002,  68.7982, 2651,   1000.2,   5.1762,  34.5721,2,-999.0000,9,    122.3,1,   -999.0,9,  -999.00,9,  -999.00,9,  -999.00,9,  -999.00,9, -999.000,9, -999.000,9, -999.000,9,   -999.0,9,   -999.0,9,-999.0000,9,  -999.00,   -999.0,9,   -999.0,  -999.00,9,  -999.00,  -999.00,9,   5.1767,2
  49NZ20031209,  I3I4,   518,  1,      8,  12032,9,20031230,1725,-20.0002,  68.7982, 2651,   1000.2,   5.1758,  34.5722,2,-999.0000,9,    122.3,1,   -999.0,9,  -999.00,9,  -999.00,9,  -999.00,9,  -999.00,9, -999.000,9, -999.000,9, -999.000,9,   -999.0,9,   -999.0,9,-999.0000,9,  -999.00,   -999.0,9,   -999.0,  -999.00,9,  -999.00,  -999.00,9,   5.1761,2
  49NZ20031209,  I3I4,   518,  1,      7,  12031,2,20031230,1725,-20.0002,  68.7982, 2651,    197.0,  20.6281,  35.5041,2,-999.0000,9,    177.1,1,   -999.0,9,  -999.00,9,  -999.00,9,  -999.00,9,  -999.00,9, -999.000,9, -999.000,9, -999.000,9,   -999.0,9,   -999.0,9,-999.0000,9,  -999.00,   -999.0,9,   -999.0,  -999.00,9,  -999.00,  -999.00,9,  20.6204,2
  49NZ20031209,  I3I4,   518,  1,      6,  12030,2,20031230,1725,-20.0002,  68.7982, 2651,    800.5,   7.4931,  34.5441,2,-999.0000,9,    181.1,1,   -999.0,9,  -999.00,9,  -999.00,9,  -999.00,9,  -999.00,9, -999.000,9, -999.000,9, -999.000,9,   -999.0,9,   -999.0,9,-999.0000,9,  -999.00,   -999.0,9,   -999.0,  -999.00,9,  -999.00,  -999.00,9,   7.4932,2
  49NZ20031209,  I3I4,   518,  1,      5,  12029,2,20031230,1725,-20.0002,  68.7982, 2651,   1999.7,   2.5431,  34.7129,2,-999.0000,9,    153.0,1,   -999.0,9,  -999.00,9,  -999.00,9,  -999.00,9,  -999.00,9, -999.000,9, -999.000,9, -999.000,9,   -999.0,9,   -999.0,9,-999.0000,9,  -999.00,   -999.0,9,   -999.0,  -999.00,9,  -999.00,  -999.00,9,   2.5431,2
  49NZ20031209,  I3I4,   518,  1,      4,  12028,9,20031230,1725,-20.0002,  68.7982, 2651,   1000.0,   5.1754,  34.5719,2,-999.0000,9,    122.4,1,   -999.0,9,  -999.00,9,  -999.00,9,  -999.00,9,  -999.00,9, -999.000,9, -999.000,9, -999.000,9,   -999.0,9,   -999.0,9,-999.0000,9,  -999.00,   -999.0,9,   -999.0,  -999.00,9,  -999.00,  -999.00,9,   5.1752,2
  49NZ20031209,  I3I4,   518,  1,      3,  12027,2,20031230,1725,-20.0002,  68.7982, 2651,   1000.1,   5.1768,  34.5716,2,-999.0000,9,    122.4,1,   -999.0,9,  -999.00,9,  -999.00,9,  -999.00,9,  -999.00,9, -999.000,9, -999.000,9, -999.000,9,   -999.0,9,   -999.0,9,-999.0000,9,  -999.00,   -999.0,9,   -999.0,  -999.00,9,  -999.00,  -999.00,9,   5.1758,2
  49NZ20031209,  I3I4,   518,  1,      2,  12026,2,20031230,1725,-20.0002,  68.7982, 2651,    599.9,  10.4840,  34.8769,2,-999.0000,9,    224.6,1,   -999.0,9,  -999.00,9,  -999.00,9,  -999.00,9,  -999.00,9, -999.000,9, -999.000,9, -999.000,9,   -999.0,9,   -999.0,9,-999.0000,9,  -999.00,   -999.0,9,   -999.0,  -999.00,9,  -999.00,  -999.00,9,  10.4847,2
  49NZ20031209,  I3I4,   518,  1,      1,  12025,2,20031230,1725,-20.0002,  68.7982, 2651,   2639.0,   1.7392,  34.7251,2,-999.0000,9,    178.1,1,   -999.0,9,  -999.00,9,  -999.00,9,  -999.00,9,  -999.00,9, -999.000,9, -999.000,9, -999.000,9,   -999.0,9,   -999.0,9,-999.0000,9,  -999.00,   -999.0,9,   -999.0,  -999.00,9,  -999.00,  -999.00,9,   1.7390,2