BOTTLE,20141204PRINUNIVRMK
EXPOCODE,SECT_ID,STNNBR,CASTNO,SAMPNO,BTLNBR,BTLNBR_FLAG_W,DATE,TIME,LATITUDE,LONGITUDE,DEPTH,CTDPRS,CTDTMP,CTDSAL,CTDSAL_FLAG_W,SALNTY,SALNTY_FLAG_W,CTDOXY,CTDOXY_FLAG_W,OXYGEN,OXYGEN_FLAG_W,SILCAT,SILCAT_FLAG_W,NITRAT,NITRAT_FLAG_W,NITRIT,NITRIT_FLAG_W,PHSPHT,PHSPHT_FLAG_W,CFC-11,CFC-11_FLAG_W,CFC-12,CFC-12_FLAG_W,CFC113,CFC113_FLAG_W,TCARBN,TCARBN_FLAG_W,ALKALI,ALKALI_FLAG_W,PH_TOT,PH_TOT_FLAG_W,PH_TMP,DELC14,DELC14_FLAG_W,C14ERR,DELC13,DELC13_FLAG_W,CS-137,CS137ER,CS-137_FLAG_W,SBE35,SBE35_FLAG_W
,,,,,,,,,,,METERS,DBAR,ITS-90,PSS-78,,PSS-78,,UMOL/KG,,UMOL/KG,,UMOL/KG,,UMOL/KG,,UMOL/KG,,UMOL/KG,,PMOL/KG,,PMOL/KG,,PMOL/KG,,UMOL/KG,,UMOL/KG,,,,DEG C,/MILLE,,/MILLE,/MILLE,,DM/.1MG,DM/.1MG,,ITS-90,
  49NZ20031209,  I3I4,   494,  1,     36,  12024,2,20040106,1052,-19.9972,  83.4082, 5291,      9.4,  26.9597,  34.4988,2,  34.4984,2,    194.7,1,    203.3,2,     1.85,2,     0.02,2,     0.00,2,     0.09,2, -999.000,9, -999.000,9, -999.000,9,   -999.0,9,   -999.0,9,-999.0000,9,  -999.00,   -999.0,9,   -999.0,  -999.00,9,  -999.00,  -999.00,9,  26.9581,2
  49NZ20031209,  I3I4,   494,  1,     35,  12023,2,20040106,1052,-19.9972,  83.4082, 5291,     50.2,  24.8069,  34.8767,2,  34.8783,2,    203.1,1,    212.0,2,     2.28,2,     0.02,2,     0.01,2,     0.13,2, -999.000,9, -999.000,9, -999.000,9,   -999.0,9,   -999.0,9,-999.0000,9,  -999.00,   -999.0,9,   -999.0,  -999.00,9,  -999.00,  -999.00,9,  24.7971,2
  49NZ20031209,  I3I4,   494,  1,     34,  12022,2,20040106,1052,-19.9972,  83.4082, 5291,     99.4,  22.3091,  35.1409,2,  35.1404,2,    193.9,1,    201.6,2,     3.12,2,     1.02,2,     0.15,2,     0.20,2, -999.000,9, -999.000,9, -999.000,9,   -999.0,9,   -999.0,9,-999.0000,9,  -999.00,   -999.0,9,   -999.0,  -999.00,9,     1.66,     0.19,2,  22.3081,2
  49NZ20031209,  I3I4,   494,  1,     33,  12015,2,20040106,1052,-19.9972,  83.4082, 5291,    149.1,  21.3347,  35.3568,2,  35.3676,2,    190.5,1,    201.2,2,     3.17,2,     1.40,2,     0.18,2,     0.22,2, -999.000,9, -999.000,9, -999.000,9,   -999.0,9,   -999.0,9,-999.0000,9,  -999.00,   -999.0,9,   -999.0,  -999.00,9,  -999.00,  -999.00,9,  21.3360,2
  49NZ20031209,  I3I4,   494,  1,     32,  12020,2,20040106,1052,-19.9972,  83.4082, 5291,    200.7,  20.0684,  35.6674,2,  35.6688,2,    187.1,1,    195.2,2,     2.78,2,     2.07,2,     0.06,2,     0.29,2, -999.000,9, -999.000,9, -999.000,9,   -999.0,9,   -999.0,9,-999.0000,9,  -999.00,   -999.0,9,   -999.0,  -999.00,9,     1.56,     0.16,2,  20.0640,2
  49NZ20031209,  I3I4,   494,  1,     31,  12019,2,20040106,1052,-19.9972,  83.4082, 5291,    249.1,  18.5706,  35.8072,2,  35.8072,2,    192.7,1,    200.8,2,     2.50,2,     2.45,2,     0.01,2,     0.30,2, -999.000,9, -999.000,9, -999.000,9,   -999.0,9,   -999.0,9,-999.0000,9,  -999.00,   -999.0,9,   -999.0,  -999.00,9,  -999.00,  -999.00,9,  18.5692,2
  49NZ20031209,  I3I4,   494,  1,     30,  12018,2,20040106,1052,-19.9972,  83.4082, 5291,    301.2,  16.4508,  35.7246,2,  35.7224,2,    205.5,1,    213.8,2,     1.89,2,     2.77,2,     0.01,2,     0.36,2, -999.000,9, -999.000,9, -999.000,9,   -999.0,9,   -999.0,9,-999.0000,9,  -999.00,   -999.0,9,   -999.0,  -999.00,9,  -999.00,  -999.00,9,  16.4507,2
  49NZ20031209,  I3I4,   494,  1,     29,  12017,2,20040106,1052,-19.9972,  83.4082, 5291,    400.9,  13.1214,  35.2871,2,  35.2822,2,    210.3,1,    218.7,2,     3.40,2,     8.37,2,     0.01,2,     0.69,2, -999.000,9, -999.000,9, -999.000,9,   -999.0,9,   -999.0,9,-999.0000,9,  -999.00,   -999.0,9,   -999.0,  -999.00,9,     1.65,     0.13,2,  13.1187,2
  49NZ20031209,  I3I4,   494,  1,     28,  12016,2,20040106,1052,-19.9972,  83.4082, 5291,    499.5,  10.8682,  34.9371,2,  34.9351,2,    227.5,1,    236.7,2,     3.31,2,    11.94,2,     0.01,2,     0.90,2, -999.000,9, -999.000,9, -999.000,9,   -999.0,9,   -999.0,9,-999.0000,9,  -999.00,   -999.0,9,   -999.0,  -999.00,9,  -999.00,  -999.00,9,  10.8710,2
  49NZ20031209,  I3I4,   494,  1,     27,  12012,2,20040106,1052,-19.9972,  83.4082, 5291,    598.8,   9.6237,  34.7448,2,  34.7436,2,    224.8,1,    233.9,2,     4.65,2,    15.79,2,     0.01,2,     1.13,2, -999.000,9, -999.000,9, -999.000,9,   -999.0,9,   -999.0,9,-999.0000,9,  -999.00,   -999.0,9,   -999.0,  -999.00,9,  -999.00,  -999.00,1,   9.6241,2
  49NZ20031209,  I3I4,   494,  1,     26,  12014,2,20040106,1052,-19.9972,  83.4082, 5291,    699.7,   7.8574,  34.5473,2,  34.5477,2,    201.9,1,    210.8,2,    11.73,2,    22.43,2,     0.01,2,     1.55,2, -999.000,9, -999.000,9, -999.000,9,   -999.0,9,   -999.0,9,-999.0000,9,  -999.00,   -999.0,9,   -999.0,  -999.00,9,  -999.00,  -999.00,9,   7.8622,2
  49NZ20031209,  I3I4,   494,  1,     25,  12013,2,20040106,1052,-19.9972,  83.4082, 5291,    800.5,   6.3200,  34.5027,2,  34.5020,2,    159.5,1,    166.0,2,    33.99,2,    29.60,2,     0.01,2,     2.06,2, -999.000,9, -999.000,9, -999.000,9,   -999.0,9,   -999.0,9,-999.0000,9,  -999.00,   -999.0,9,   -999.0,  -999.00,9,     0.26,     0.09,2,   6.3211,2
  49NZ20031209,  I3I4,   494,  1,     24,  12048,2,20040106,1052,-19.9972,  83.4082, 5291,    901.1,   5.3052,  34.5241,2,  34.5245,2,    135.3,1,    139.8,2,    55.54,2,    33.30,2,     0.00,2,     2.35,2, -999.000,9, -999.000,9, -999.000,9,   -999.0,9,   -999.0,9,-999.0000,9,  -999.00,   -999.0,9,   -999.0,  -999.00,9,  -999.00,  -999.00,9,   5.3125,2
  49NZ20031209,  I3I4,   494,  1,     23,  12047,2,20040106,1052,-19.9972,  83.4082, 5291,    999.3,   4.9042,  34.5792,2,  34.5789,2,    117.0,1,    121.1,2,    70.99,2,    35.17,2,     0.00,2,     2.52,2, -999.000,9, -999.000,9, -999.000,9,   -999.0,9,   -999.0,9,-999.0000,9,  -999.00,   -999.0,9,   -999.0,  -999.00,9,  -999.00,  -999.00,5,   4.9065,2
  49NZ20031209,  I3I4,   494,  1,     22,  12046,2,20040106,1052,-19.9972,  83.4082, 5291,   1199.7,   4.1508,  34.6264,2,  34.6265,2,    115.9,1,    120.3,2,    85.01,2,    35.86,2,     0.00,2,     2.55,2, -999.000,9, -999.000,9, -999.000,9,   -999.0,9,   -999.0,9,-999.0000,9,  -999.00,   -999.0,9,   -999.0,  -999.00,9,  -999.00,  -999.00,5,   4.1513,2
  49NZ20031209,  I3I4,   494,  1,     21,  12045,2,20040106,1052,-19.9972,  83.4082, 5291,   1400.4,   3.6059,  34.6625,2,  34.6625,2,    123.1,1,    128.1,2,    91.62,2,    35.64,2,     0.00,2,     2.53,2, -999.000,9, -999.000,9, -999.000,9,   -999.0,9,   -999.0,9,-999.0000,9,  -999.00,   -999.0,9,   -999.0,  -999.00,9,  -999.00,  -999.00,1,   3.6061,2
  49NZ20031209,  I3I4,   494,  1,     20,  12044,2,20040106,1052,-19.9972,  83.4082, 5291,   1600.6,   3.2741,  34.7094,2,  34.7096,2,    126.7,1,    132.0,2,   100.42,2,    35.23,2,     0.00,2,     2.51,2, -999.000,9, -999.000,9, -999.000,9,   -999.0,9,   -999.0,9,-999.0000,9,  -999.00,   -999.0,9,   -999.0,  -999.00,9,  -999.00,  -999.00,9,   3.2744,2
  49NZ20031209,  I3I4,   494,  1,     19,  12043,2,20040106,1052,-19.9972,  83.4082, 5291,   1819.0,   2.8287,  34.7219,2,  34.7221,2,    136.1,1,    142.2,2,   105.95,2,    34.93,2,    -0.01,2,     2.46,2, -999.000,9, -999.000,9, -999.000,9,   -999.0,9,   -999.0,9,-999.0000,9,  -999.00,   -999.0,9,   -999.0,  -999.00,9,  -999.00,  -999.00,9,   2.8263,2
  49NZ20031209,  I3I4,   494,  1,     18,  12042,2,20040106,1052,-19.9972,  83.4082, 5291,   2000.1,   2.5485,  34.7261,2,  34.7255,2,    143.0,1,    149.6,2,   108.63,2,    34.53,2,     0.00,2,     2.43,2, -999.000,9, -999.000,9, -999.000,9,   -999.0,9,   -999.0,9,-999.0000,9,  -999.00,   -999.0,9,   -999.0,  -999.00,9,  -999.00,  -999.00,1,   2.5486,2
  49NZ20031209,  I3I4,   494,  1,     17,  12041,2,20040106,1052,-19.9972,  83.4082, 5291,   2200.3,   2.2426,  34.7269,2,  34.7269,2,    152.2,1,    159.6,2,   110.71,2,    34.07,2,     0.00,2,     2.38,2, -999.000,9, -999.000,9, -999.000,9,   -999.0,9,   -999.0,9,-999.0000,9,  -999.00,   -999.0,9,   -999.0,  -999.00,9,  -999.00,  -999.00,9,   2.2431,2
  49NZ20031209,  I3I4,   494,  1,     16,  12040,2,20040106,1052,-19.9972,  83.4082, 5291,   2399.9,   2.0169,  34.7271,2,  34.7270,2,    159.3,1,    167.8,2,   112.04,2,    33.63,2,     0.00,2,     2.34,2, -999.000,9, -999.000,9, -999.000,9,   -999.0,9,   -999.0,9,-999.0000,9,  -999.00,   -999.0,9,   -999.0,  -999.00,9,  -999.00,  -999.00,1,   2.0160,2
  49NZ20031209,  I3I4,   494,  1,     15,  12039,2,20040106,1052,-19.9972,  83.4082, 5291,   2599.7,   1.8764,  34.7272,2,  34.7272,2,    164.7,1,    173.6,2,   112.61,2,    33.27,2,    -0.01,2,     2.31,2, -999.000,9, -999.000,9, -999.000,9,   -999.0,9,   -999.0,9,-999.0000,9,  -999.00,   -999.0,9,   -999.0,  -999.00,9,  -999.00,  -999.00,9,   1.8762,2
  49NZ20031209,  I3I4,   494,  1,     14,  12038,2,20040106,1052,-19.9972,  83.4082, 5291,   2800.2,   1.7495,  34.7273,2,  34.7278,2,    168.9,1,    178.2,2,   113.72,2,    33.04,2,     0.00,2,     2.29,2, -999.000,9, -999.000,9, -999.000,9,   -999.0,9,   -999.0,9,-999.0000,9,  -999.00,   -999.0,9,   -999.0,  -999.00,9,  -999.00,  -999.00,9,   1.7492,2
  49NZ20031209,  I3I4,   494,  1,     13,  12037,2,20040106,1052,-19.9972,  83.4082, 5291,   2999.2,   1.6395,  34.7273,2,  34.7279,2,    170.2,1,    179.7,2,   117.25,2,    33.13,2,     0.00,2,     2.30,2, -999.000,9, -999.000,9, -999.000,9,   -999.0,9,   -999.0,9,-999.0000,9,  -999.00,   -999.0,9,   -999.0,  -999.00,9,  -999.00,  -999.00,1,   1.6394,2
  49NZ20031209,  I3I4,   494,  1,     12,  12036,2,20040106,1052,-19.9972,  83.4082, 5291,   3250.2,   1.5374,  34.7256,2,  34.7256,2,    169.2,1,    178.3,2,   123.46,2,    33.35,2,     0.01,2,     2.32,2, -999.000,9, -999.000,9, -999.000,9,   -999.0,9,   -999.0,9,-999.0000,9,  -999.00,   -999.0,9,   -999.0,  -999.00,9,  -999.00,  -999.00,9,   1.5372,2
  49NZ20031209,  I3I4,   494,  1,     11,  12035,2,20040106,1052,-19.9972,  83.4082, 5291,   3501.2,   1.4463,  34.7231,2,  34.7233,2,    170.9,1,    180.0,2,   126.23,2,    33.47,2,     0.01,2,     2.34,2, -999.000,9, -999.000,9, -999.000,9,   -999.0,9,   -999.0,9,-999.0000,9,  -999.00,   -999.0,9,   -999.0,  -999.00,9,  -999.00,  -999.00,1,   1.4461,2
  49NZ20031209,  I3I4,   494,  1,     10,  12034,2,20040106,1052,-19.9972,  83.4082, 5291,   3750.0,   1.3908,  34.7210,2,  34.7213,2,    173.0,1,    182.1,2,   127.75,2,    33.42,2,     0.01,2,     2.32,2, -999.000,9, -999.000,9, -999.000,9,   -999.0,9,   -999.0,9,-999.0000,9,  -999.00,   -999.0,9,   -999.0,  -999.00,9,  -999.00,  -999.00,9,   1.3907,2
  49NZ20031209,  I3I4,   494,  1,      9,  12033,2,20040106,1052,-19.9972,  83.4082, 5291,   4000.3,   1.3673,  34.7196,2,  34.7195,2,    174.5,1,    183.1,2,   128.80,2,    33.44,2,     0.01,2,     2.32,2, -999.000,9, -999.000,9, -999.000,9,   -999.0,9,   -999.0,9,-999.0000,9,  -999.00,   -999.0,9,   -999.0,  -999.00,9,  -999.00,  -999.00,1,   1.3671,2
  49NZ20031209,  I3I4,   494,  1,      8,  12032,2,20040106,1052,-19.9972,  83.4082, 5291,   4249.4,   1.3628,  34.7188,2,  34.7183,2,    175.5,1,    183.6,2,   129.81,2,    33.52,2,     0.01,2,     2.31,2, -999.000,9, -999.000,9, -999.000,9,   -999.0,9,   -999.0,9,-999.0000,9,  -999.00,   -999.0,9,   -999.0,  -999.00,9,  -999.00,  -999.00,9,   1.3628,2
  49NZ20031209,  I3I4,   494,  1,      7,  12031,2,20040106,1052,-19.9972,  83.4082, 5291,   4500.0,   1.3701,  34.7180,2,  34.7178,2,    176.5,1,    183.9,2,   130.28,2,    33.54,2,     0.00,2,     2.32,2, -999.000,9, -999.000,9, -999.000,9,   -999.0,9,   -999.0,9,-999.0000,9,  -999.00,   -999.0,9,   -999.0,  -999.00,9,  -999.00,  -999.00,1,   1.3701,2
  49NZ20031209,  I3I4,   494,  1,      6,  12030,2,20040106,1052,-19.9972,  83.4082, 5291,   4749.6,   1.3937,  34.7179,2,  34.7177,2,    177.6,1,    184.2,2,   130.34,2,    33.59,2,     0.00,2,     2.32,2, -999.000,9, -999.000,9, -999.000,9,   -999.0,9,   -999.0,9,-999.0000,9,  -999.00,   -999.0,9,   -999.0,  -999.00,9,  -999.00,  -999.00,9,   1.3938,2
  49NZ20031209,  I3I4,   494,  1,      5,  12029,2,20040106,1052,-19.9972,  83.4082, 5291,   5001.3,   1.4211,  34.7176,2,  34.7176,2,    178.7,1,    184.4,2,   130.31,2,    33.47,2,     0.00,2,     2.32,2, -999.000,9, -999.000,9, -999.000,9,   -999.0,9,   -999.0,9,-999.0000,9,  -999.00,   -999.0,9,   -999.0,  -999.00,9,  -999.00,  -999.00,1,   1.4211,2
  49NZ20031209,  I3I4,   494,  1,      4,  12028,2,20040106,1052,-19.9972,  83.4082, 5291,   5351.8,   1.4612,  34.7173,2,  34.7177,2,    181.1,1,    184.5,2,   130.59,2,    33.61,2,     0.01,2,     2.32,2, -999.000,9, -999.000,9, -999.000,9,   -999.0,9,   -999.0,9,-999.0000,9,  -999.00,   -999.0,9,   -999.0,  -999.00,9,  -999.00,  -999.00,1,   1.4611,2
  49NZ20031209,  I3I4,   494,  1,      3,  12027,2,20040106,1052,-19.9972,  83.4082, 5291,   5250.6,   1.4480,  34.7175,2,  34.7179,3,    180.2,1,    184.4,2,   130.38,2,    33.57,2,     0.00,2,     2.32,2, -999.000,9, -999.000,9, -999.000,9,   -999.0,9,   -999.0,9,-999.0000,9,  -999.00,   -999.0,9,   -999.0,  -999.00,9,  -999.00,  -999.00,9,   1.4480,2
  49NZ20031209,  I3I4,   494,  1,      2,  12026,2,20040106,1052,-19.9972,  83.4082, 5291,    598.5,   9.6256,  34.7450,2,-999.0000,9,    224.7,1,   -999.0,9,  -999.00,9,  -999.00,9,  -999.00,9,  -999.00,9, -999.000,9, -999.000,9, -999.000,9,   -999.0,9,   -999.0,9,-999.0000,9,  -999.00,   -999.0,9,   -999.0,  -999.00,9,  -999.00,  -999.00,9,   9.6267,2
  49NZ20031209,  I3I4,   494,  1,      1,  12025,2,20040106,1052,-19.9972,  83.4082, 5291,   5351.4,   1.4611,  34.7175,2,-999.0000,9,    181.2,1,   -999.0,9,  -999.00,9,  -999.00,9,  -999.00,9,  -999.00,9, -999.000,9, -999.000,9, -999.000,9,   -999.0,9,   -999.0,9,-999.0000,9,  -999.00,   -999.0,9,   -999.0,  -999.00,9,  -999.00,  -999.00,9,   1.4611,2