BOTTLE,20141204PRINUNIVRMK
EXPOCODE,SECT_ID,STNNBR,CASTNO,SAMPNO,BTLNBR,BTLNBR_FLAG_W,DATE,TIME,LATITUDE,LONGITUDE,DEPTH,CTDPRS,CTDTMP,CTDSAL,CTDSAL_FLAG_W,SALNTY,SALNTY_FLAG_W,CTDOXY,CTDOXY_FLAG_W,OXYGEN,OXYGEN_FLAG_W,SILCAT,SILCAT_FLAG_W,NITRAT,NITRAT_FLAG_W,NITRIT,NITRIT_FLAG_W,PHSPHT,PHSPHT_FLAG_W,CFC-11,CFC-11_FLAG_W,CFC-12,CFC-12_FLAG_W,CFC113,CFC113_FLAG_W,TCARBN,TCARBN_FLAG_W,ALKALI,ALKALI_FLAG_W,PH_TOT,PH_TOT_FLAG_W,PH_TMP,DELC14,DELC14_FLAG_W,C14ERR,DELC13,DELC13_FLAG_W,CS-137,CS137ER,CS-137_FLAG_W,SBE35,SBE35_FLAG_W
,,,,,,,,,,,METERS,DBAR,ITS-90,PSS-78,,PSS-78,,UMOL/KG,,UMOL/KG,,UMOL/KG,,UMOL/KG,,UMOL/KG,,UMOL/KG,,PMOL/KG,,PMOL/KG,,PMOL/KG,,UMOL/KG,,UMOL/KG,,,,DEG C,/MILLE,,/MILLE,/MILLE,,DM/.1MG,DM/.1MG,,ITS-90,
  49NZ20031209,  I3I4,   505,  1,     36,  12024,2,20040103,1021,-19.9907,  75.4590, 4516,      9.3,  25.9312,  35.0942,2,  35.0976,2,    199.0,1,    207.9,2,     1.93,2,     0.03,2,     0.00,2,     0.10,2,    1.834,2,    1.086,2,    0.399,4,   1975.6,2,   2298.6,2,   8.0714,2,    25.00,   -999.0,9,   -999.0,  -999.00,9,  -999.00,  -999.00,9,  25.9330,2
  49NZ20031209,  I3I4,   505,  1,     35,  12023,2,20040103,1021,-19.9907,  75.4590, 4516,     49.7,  25.0071,  35.0833,2,  35.0846,2,    203.9,1,    213.1,2,     1.95,2,    -0.01,2,     0.00,2,     0.10,2,    1.936,2,    1.113,2,    0.547,4,   1975.4,6,   2300.1,2,   8.0722,2,    25.00,   -999.0,9,   -999.0,  -999.00,9,  -999.00,  -999.00,9,  24.9865,2
  49NZ20031209,  I3I4,   505,  1,     34,  12022,2,20040103,1021,-19.9907,  75.4590, 4516,     98.8,  23.0014,  35.0950,2,  35.1034,2,    211.2,1,    220.6,2,     2.08,2,     0.00,2,     0.00,2,     0.10,2,    2.042,2,    1.188,2, -999.000,5,   1978.2,2,   2298.7,6,   8.0691,2,    25.00,   -999.0,9,   -999.0,  -999.00,9,  -999.00,  -999.00,9,  22.9903,2
  49NZ20031209,  I3I4,   505,  1,     33,  12015,2,20040103,1021,-19.9907,  75.4590, 4516,    151.2,  21.4042,  35.3883,2,  35.4088,3,    187.5,1,    198.3,2,     2.95,2,     1.25,2,     0.18,2,     0.23,2,    2.085,2,    1.220,2,    0.332,4,   2025.2,2,   2316.4,2,   8.0140,2,    25.00,   -999.0,9,   -999.0,  -999.00,9,  -999.00,  -999.00,9,  21.4083,2
  49NZ20031209,  I3I4,   505,  1,     32,  12020,2,20040103,1021,-19.9907,  75.4590, 4516,    198.3,  20.5850,  35.5712,2,  35.5776,2,    198.2,1,    205.7,2,     2.48,2,     0.89,2,     0.16,2,     0.21,2,    2.174,2,    1.275,2,    0.395,4,   2034.2,2,   2327.1,2,   8.0101,2,    25.00,   -999.0,9,   -999.0,  -999.00,9,  -999.00,  -999.00,9,  20.5798,2
  49NZ20031209,  I3I4,   505,  1,     31,  12019,2,20040103,1021,-19.9907,  75.4590, 4516,    250.1,  18.9612,  35.8030,2,  35.8036,2,    195.5,1,    204.1,2,     2.38,2,     1.95,2,     0.02,2,     0.27,2,    2.359,6,    1.363,6,    0.239,4,   2068.4,2,   2344.6,2,   7.9726,2,    25.00,   -999.0,9,   -999.0,  -999.00,9,  -999.00,  -999.00,9,  18.9626,2
  49NZ20031209,  I3I4,   505,  1,     30,  12018,2,20040103,1021,-19.9907,  75.4590, 4516,    300.1,  17.0191,  35.7637,2,  35.7664,2,    206.6,1,    215.6,2,     1.94,2,     2.08,2,     0.01,2,     0.31,2,    2.605,2,    1.480,2,    0.244,4,   2086.3,2,   2344.3,2,   7.9473,2,    25.00,   -999.0,9,   -999.0,  -999.00,9,  -999.00,  -999.00,9,  17.0200,2
  49NZ20031209,  I3I4,   505,  1,     29,  12021,2,20040103,1021,-19.9907,  75.4590, 4516,    399.9,  13.7019,  35.3661,2,  35.3639,2,    213.9,1,    222.3,2,     2.56,2,     6.92,2,     0.00,2,     0.62,2,    3.005,2,    1.620,2,    0.091,4,   2105.6,2,   2319.9,2,   7.8762,2,    25.00,   -999.0,9,   -999.0,  -999.00,9,  -999.00,  -999.00,9,  13.7028,2
  49NZ20031209,  I3I4,   505,  1,     28,  12016,2,20040103,1021,-19.9907,  75.4590, 4516,    500.9,  11.5140,  35.0400,2,  35.0400,2,    223.2,1,    231.9,2,     3.31,2,    10.95,2,     0.00,2,     0.84,2,    3.385,2,    1.796,2,    0.123,4,   2113.3,2,   2304.9,2,   7.8333,2,    25.00,   -999.0,9,   -999.0,  -999.00,9,  -999.00,  -999.00,9,  11.5166,2
  49NZ20031209,  I3I4,   505,  1,     27,  12012,2,20040103,1021,-19.9907,  75.4590, 4516,    599.5,  10.0746,  34.8178,2,  34.8166,2,    224.0,1,    232.9,2,     4.29,2,    14.51,2,     0.00,2,     1.06,2,    3.457,2,    1.787,2,    0.117,4,   2119.9,2,   2299.1,2,   7.7927,4,    25.00,   -999.0,9,   -999.0,  -999.00,9,  -999.00,  -999.00,9,  10.0753,2
  49NZ20031209,  I3I4,   505,  1,     26,  12014,2,20040103,1021,-19.9907,  75.4590, 4516,    699.3,   9.0308,  34.6698,2,  34.6680,2,    216.9,1,    225.1,2,     6.93,2,    18.20,2,     0.00,2,     1.28,2,    3.078,2,    1.577,2,    0.118,4,   2132.7,6,   2292.5,2,   7.7512,4,    25.00,   -999.0,9,   -999.0,  -999.00,9,  -999.00,  -999.00,9,   9.0314,2
  49NZ20031209,  I3I4,   505,  1,     25,  12013,2,20040103,1021,-19.9907,  75.4590, 4516,    800.3,   7.2381,  34.5176,2,  34.5134,2,    184.4,1,    190.8,2,    19.83,2,    25.79,2,    -0.01,2,     1.78,2,    1.465,2,    0.728,2,    0.041,4,   2169.3,2,   2292.0,6,   7.6869,2,    25.00,   -999.0,9,   -999.0,  -999.00,9,  -999.00,  -999.00,9,   7.2437,2
  49NZ20031209,  I3I4,   505,  1,     24,  12048,2,20040103,1021,-19.9907,  75.4590, 4516,    900.3,   5.5200,  34.4787,2,  34.4794,2,    155.6,1,    161.2,2,    42.51,2,    31.57,2,     0.00,2,     2.20,2,    0.435,2,    0.229,2,    0.016,4,   2214.2,2,   2308.9,2,   7.6136,6,    25.00,   -999.0,9,   -999.0,  -999.00,9,  -999.00,  -999.00,9,   5.5206,2
  49NZ20031209,  I3I4,   505,  1,     23,  12047,2,20040103,1021,-19.9907,  75.4590, 4516,    999.3,   4.8362,  34.5320,2,  34.5320,2,    132.4,1,    137.2,2,    62.83,2,    34.34,2,     0.00,2,     2.43,2,    0.122,2,    0.065,2,    0.000,4,   2248.5,2,   2332.8,2,   7.5741,2,    25.00,   -999.0,9,   -999.0,  -999.00,9,  -999.00,  -999.00,9,   4.8320,2
  49NZ20031209,  I3I4,   505,  1,     22,  12046,2,20040103,1021,-19.9907,  75.4590, 4516,   1199.3,   4.1440,  34.6165,2,  34.6182,2,    120.1,1,    124.1,2,    82.03,2,    35.67,2,     0.00,2,     2.54,2,    0.010,2,    0.011,2,    0.005,4,   2275.4,2,   2354.3,2,   7.5569,2,    25.00,   -999.0,9,   -999.0,  -999.00,9,  -999.00,  -999.00,9,   4.1451,2
  49NZ20031209,  I3I4,   505,  1,     21,  12045,2,20040103,1021,-19.9907,  75.4590, 4516,   1399.0,   3.8889,  34.7000,2,  34.6999,2,    114.4,1,    117.8,2,    95.52,2,    35.80,2,     0.00,2,     2.57,2,    0.002,2,    0.012,2,    0.010,4,   2293.3,2,   2366.2,2,   7.5521,2,    25.00,   -999.0,9,   -999.0,  -999.00,9,  -999.00,  -999.00,9,   3.8897,2
  49NZ20031209,  I3I4,   505,  1,     20,  12044,2,20040103,1021,-19.9907,  75.4590, 4516,   1600.2,   3.4114,  34.7108,2,  34.7146,3,    124.7,1,    127.5,2,   100.54,2,    35.48,2,     0.00,2,     2.53,2,    0.000,2,    0.005,2,    0.000,4,   2293.1,2,   2370.6,2,   7.5633,2,    25.00,   -999.0,9,   -999.0,  -999.00,9,  -999.00,  -999.00,9,   3.4122,2
  49NZ20031209,  I3I4,   505,  1,     19,  12043,2,20040103,1021,-19.9907,  75.4590, 4516,   1798.8,   2.9776,  34.7186,2,  34.7194,2,    134.2,1,    138.9,2,   104.04,2,    34.96,2,    -0.01,2,     2.48,2,    0.002,2,    0.003,2,    0.000,4,   2292.1,2,   2374.1,2,   7.5738,2,    25.00,   -999.0,9,   -999.0,  -999.00,9,  -999.00,  -999.00,9,   2.9774,2
  49NZ20031209,  I3I4,   505,  1,     18,  12042,2,20040103,1021,-19.9907,  75.4590, 4516,   1999.4,   2.5576,  34.7203,2,  34.7200,2,    147.2,1,    153.1,2,   105.52,2,    34.23,2,     0.00,2,     2.41,2,    0.002,2,    0.001,2,    0.000,4,   2287.0,2,   2374.6,2,   7.5879,6,    25.00,   -999.0,9,   -999.0,  -999.00,9,  -999.00,  -999.00,9,   2.5578,2
  49NZ20031209,  I3I4,   505,  1,     17,  12041,2,20040103,1021,-19.9907,  75.4590, 4516,   2200.0,   2.1291,  34.7195,2,  34.7196,2,    163.5,1,    170.7,2,   104.42,2,    33.15,2,     0.00,2,     2.31,2,    0.001,2,    0.002,2,    0.000,4,   2277.7,2,   2373.3,2,   7.6043,2,    25.00,   -999.0,9,   -999.0,  -999.00,9,  -999.00,  -999.00,9,   2.1291,2
  49NZ20031209,  I3I4,   505,  1,     16,  12040,2,20040103,1021,-19.9907,  75.4590, 4516,   2400.1,   1.8938,  34.7249,2,  34.7246,2,    169.6,1,    177.2,2,   107.89,2,    32.88,2,     0.00,2,     2.28,2,   -0.001,2,   -0.001,2,    0.000,4,   2276.6,6,   2375.0,2,   7.6127,2,    25.00,   -999.0,9,   -999.0,  -999.00,9,  -999.00,  -999.00,9,   1.8938,2
  49NZ20031209,  I3I4,   505,  1,     15,  12039,2,20040103,1021,-19.9907,  75.4590, 4516,   2599.8,   1.7482,  34.7267,2,  34.7267,2,    173.9,1,    181.8,2,   109.70,2,    32.68,2,     0.00,2,     2.27,2,    0.005,2,    0.004,2,    0.000,4,   2277.1,2,   2374.0,6,   7.6188,2,    25.00,   -999.0,9,   -999.0,  -999.00,9,  -999.00,  -999.00,9,   1.7480,2
  49NZ20031209,  I3I4,   505,  1,     14,  12038,2,20040103,1021,-19.9907,  75.4590, 4516,   2799.7,   1.6094,  34.7277,2,  34.7284,2,    176.9,1,    185.0,2,   112.91,2,    32.67,2,     0.00,2,     2.26,2,   -0.003,2,    0.000,2,    0.000,4,   2277.1,2,   2375.5,2,   7.6233,6,    25.00,   -999.0,9,   -999.0,  -999.00,9,  -999.00,  -999.00,9,   1.6093,2
  49NZ20031209,  I3I4,   505,  1,     13,  12037,2,20040103,1021,-19.9907,  75.4590, 4516,   3002.8,   1.5160,  34.7275,2,  34.7276,2,    178.6,1,    186.8,2,   115.66,2,    32.65,2,     0.00,2,     2.27,2,    0.001,2,    0.001,2,    0.000,4,   2279.6,2,   2380.8,2,   7.6267,2,    25.00,   -999.0,9,   -999.0,  -999.00,9,  -999.00,  -999.00,9,   1.5159,2
  49NZ20031209,  I3I4,   505,  1,     12,  12036,2,20040103,1021,-19.9907,  75.4590, 4516,   3250.0,   1.4207,  34.7247,2,  34.7247,2,    177.7,1,    185.5,2,   121.60,2,    33.00,2,     0.00,2,     2.28,2,   -0.002,2,    0.001,2,    0.000,4,   2286.2,2,   2387.2,2,   7.6272,2,    25.00,   -999.0,9,   -999.0,  -999.00,9,  -999.00,  -999.00,9,   1.4206,2
  49NZ20031209,  I3I4,   505,  1,     11,  12035,2,20040103,1021,-19.9907,  75.4590, 4516,   3501.4,   1.3648,  34.7221,2,  34.7216,2,    177.3,1,    184.6,2,   125.76,2,    33.25,2,     0.00,2,     2.30,2,   -0.006,2,   -0.003,2,    0.000,4,   2291.9,2,   2393.2,2,   7.6293,2,    25.00,   -999.0,9,   -999.0,  -999.00,9,  -999.00,  -999.00,9,   1.3650,2
  49NZ20031209,  I3I4,   505,  1,     10,  12034,2,20040103,1021,-19.9907,  75.4590, 4516,   3750.0,   1.3572,  34.7204,2,  34.7203,2,    177.1,1,    183.9,2,   128.18,2,    33.49,2,     0.00,2,     2.31,2,    0.000,2,    0.001,2,    0.000,4,   2294.4,2,   2398.7,2,   7.6290,2,    25.00,   -999.0,9,   -999.0,  -999.00,9,  -999.00,  -999.00,9,   1.3570,2
  49NZ20031209,  I3I4,   505,  1,      9,  12033,2,20040103,1021,-19.9907,  75.4590, 4516,   4001.2,   1.3742,  34.7198,2,  34.7197,2,    177.3,1,    183.5,2,   129.08,2,    33.48,2,     0.00,2,     2.32,2,    0.009,2,    0.002,2,    0.000,4,   2295.8,2,   2402.8,2,   7.6288,2,    25.00,   -999.0,9,   -999.0,  -999.00,9,  -999.00,  -999.00,9,   1.3740,2
  49NZ20031209,  I3I4,   505,  1,      8,  12032,2,20040103,1021,-19.9907,  75.4590, 4516,   4249.1,   1.3977,  34.7195,2,  34.7196,2,    178.1,1,    183.3,2,   129.51,2,    33.57,2,     0.00,2,     2.32,2,   -0.002,2,   -0.004,2,    0.000,4,   2296.3,6,   2398.7,2,   7.6291,2,    25.00,   -999.0,9,   -999.0,  -999.00,9,  -999.00,  -999.00,9,   1.3976,2
  49NZ20031209,  I3I4,   505,  1,      7,  12031,2,20040103,1021,-19.9907,  75.4590, 4516,   4249.3,   1.3977,  34.7195,2,  34.7200,2,    178.0,1,    183.2,2,   129.41,2,    33.55,2,     0.00,2,     2.32,2,    0.001,2,   -0.001,2,    0.000,4,   2296.6,2,   2402.5,2,   7.6282,2,    25.00,   -999.0,9,   -999.0,  -999.00,9,  -999.00,  -999.00,9,   1.3977,2
  49NZ20031209,  I3I4,   505,  1,      6,  12030,2,20040103,1021,-19.9907,  75.4590, 4516,   4499.2,   1.4255,  34.7194,2,  34.7191,3,    179.2,1,    183.1,2,   129.65,2,    33.56,2,     0.00,2,     2.32,2,   -0.002,2,   -0.003,2,    0.000,4,   2297.6,2,   2400.2,2,   7.6298,2,    25.00,   -999.0,9,   -999.0,  -999.00,9,  -999.00,  -999.00,9,   1.4255,2
  49NZ20031209,  I3I4,   505,  1,      5,  12029,9,20040103,1021,-19.9907,  75.4590, 4516,    999.2,   4.8245,  34.5329,2,-999.0000,9,    132.1,1,   -999.0,9,  -999.00,9,  -999.00,9,  -999.00,9,  -999.00,9, -999.000,9, -999.000,9, -999.000,9,   -999.0,9,   -999.0,9,-999.0000,9,  -999.00,   -999.0,9,   -999.0,  -999.00,9,  -999.00,  -999.00,9,   4.8238,2
  49NZ20031209,  I3I4,   505,  1,      4,  12028,9,20040103,1021,-19.9907,  75.4590, 4516,    999.7,   4.8257,  34.5335,2,-999.0000,9,    132.1,1,   -999.0,9,  -999.00,9,  -999.00,9,  -999.00,9,  -999.00,9, -999.000,9, -999.000,9, -999.000,9,   -999.0,9,   -999.0,9,-999.0000,9,  -999.00,   -999.0,9,   -999.0,  -999.00,9,  -999.00,  -999.00,9,   4.8268,2
  49NZ20031209,  I3I4,   505,  1,      3,  12027,9,20040103,1021,-19.9907,  75.4590, 4516,   1000.1,   4.8284,  34.5330,2,-999.0000,9,    132.1,1,   -999.0,9,  -999.00,9,  -999.00,9,  -999.00,9,  -999.00,9, -999.000,9, -999.000,9, -999.000,9,   -999.0,9,   -999.0,9,-999.0000,9,  -999.00,   -999.0,9,   -999.0,  -999.00,9,  -999.00,  -999.00,9,   4.8270,2
  49NZ20031209,  I3I4,   505,  1,      2,  12026,9,20040103,1021,-19.9907,  75.4590, 4516,      9.3,  25.9040,  35.0950,2,-999.0000,9,    198.9,1,   -999.0,9,  -999.00,9,  -999.00,9,  -999.00,9,  -999.00,9, -999.000,9, -999.000,9, -999.000,9,   -999.0,9,   -999.0,9,-999.0000,9,  -999.00,   -999.0,9,   -999.0,  -999.00,9,  -999.00,  -999.00,9,  25.9034,2
  49NZ20031209,  I3I4,   505,  1,      1,  12025,2,20040103,1021,-19.9907,  75.4590, 4516,   4560.5,   1.4328,  34.7194,2,  34.7196,2,    179.9,1,    183.0,2,   129.87,2,    33.55,2,     0.00,2,     2.32,2,   -0.004,2,   -0.003,2,    0.000,4,   2297.4,2,   2401.0,6,   7.6313,2,    25.00,   -999.0,9,   -999.0,  -999.00,9,  -999.00,  -999.00,9,   1.4328,2