BOTTLE,20141204PRINUNIVRMK
EXPOCODE,SECT_ID,STNNBR,CASTNO,SAMPNO,BTLNBR,BTLNBR_FLAG_W,DATE,TIME,LATITUDE,LONGITUDE,DEPTH,CTDPRS,CTDTMP,CTDSAL,CTDSAL_FLAG_W,SALNTY,SALNTY_FLAG_W,CTDOXY,CTDOXY_FLAG_W,OXYGEN,OXYGEN_FLAG_W,SILCAT,SILCAT_FLAG_W,NITRAT,NITRAT_FLAG_W,NITRIT,NITRIT_FLAG_W,PHSPHT,PHSPHT_FLAG_W,CFC-11,CFC-11_FLAG_W,CFC-12,CFC-12_FLAG_W,CFC113,CFC113_FLAG_W,TCARBN,TCARBN_FLAG_W,ALKALI,ALKALI_FLAG_W,PH_TOT,PH_TOT_FLAG_W,PH_TMP,DELC14,DELC14_FLAG_W,C14ERR,DELC13,DELC13_FLAG_W,CS-137,CS137ER,CS-137_FLAG_W,SBE35,SBE35_FLAG_W
,,,,,,,,,,,METERS,DBAR,ITS-90,PSS-78,,PSS-78,,UMOL/KG,,UMOL/KG,,UMOL/KG,,UMOL/KG,,UMOL/KG,,UMOL/KG,,PMOL/KG,,PMOL/KG,,PMOL/KG,,UMOL/KG,,UMOL/KG,,,,DEG C,/MILLE,,/MILLE,/MILLE,,DM/.1MG,DM/.1MG,,ITS-90,
  49NZ20031209,  I3I4,   470,  1,     36,  12024,2,20040113,0056,-19.9910,  96.9533, 5339,     10.1,  25.2209,  34.8718,2,  34.8718,2,    199.8,1,    209.1,2,     1.85,2,     0.00,2,     0.00,2,     0.12,2,    1.740,2,    1.051,2, -999.000,5,   1960.1,2,   2280.0,2,   8.0923,2,    25.00,     64.3,2,      3.2,     1.05,2,  -999.00,  -999.00,9,  25.2205,2
  49NZ20031209,  I3I4,   470,  1,     35,  12023,2,20040113,0056,-19.9910,  96.9533, 5339,     51.2,  24.5259,  35.0396,2,  35.0453,2,    203.5,1,    213.4,2,     2.18,2,    -0.02,2,     0.00,2,     0.10,2,    1.823,2,    1.089,2, -999.000,5,   1977.3,6,   2293.1,2,   8.0824,2,    25.00,     68.5,2,      3.3,     1.06,2,  -999.00,  -999.00,9,  24.5279,2
  49NZ20031209,  I3I4,   470,  1,     34,  12022,2,20040113,0056,-19.9910,  96.9533, 5339,    100.1,  22.0273,  35.2967,2,  35.2991,2,    201.2,1,    211.1,2,     2.54,2,    -0.03,2,     0.01,2,     0.16,2,    1.970,2,    1.171,2, -999.000,5,   2005.6,2,   2309.9,6,   8.0542,2,    25.00,     72.5,2,      3.3,     0.93,2,  -999.00,  -999.00,9,  22.0259,2
  49NZ20031209,  I3I4,   470,  1,     33,  12015,2,20040113,0056,-19.9910,  96.9533, 5339,    153.2,  20.8089,  35.5010,2,  35.4909,2,    193.4,1,    201.9,2,     2.68,2,     0.97,2,     0.25,2,     0.23,2,    2.041,2,    1.199,2,    0.390,4,   2030.6,2,   2322.5,2,   8.0261,6,    25.00,     75.3,2,      3.3,     0.83,2,  -999.00,  -999.00,9,  20.8083,2
  49NZ20031209,  I3I4,   470,  1,     32,  12020,2,20040113,0056,-19.9910,  96.9533, 5339,    197.4,  19.5585,  35.6429,2,  35.6428,2,    183.6,1,    190.2,2,     3.82,2,     3.04,2,     0.02,2,     0.36,2,    2.113,2,    1.237,2,    0.218,4,   2065.0,2,   2328.3,2,   7.9833,2,    25.00,     78.4,6,      2.4,     0.76,6,  -999.00,  -999.00,9,  19.5580,2
  49NZ20031209,  I3I4,   470,  1,     31,  12019,2,20040113,0056,-19.9910,  96.9533, 5339,    251.4,  17.5223,  35.7828,2,  35.7819,2,    198.4,1,    206.5,2,     2.27,2,     2.42,2,     0.01,2,     0.33,2,    2.383,6,    1.372,6,    0.123,4,   2082.2,2,   2342.2,2,   7.9666,2,    25.00,     81.7,2,      3.4,     0.95,2,  -999.00,  -999.00,9,  17.5215,2
  49NZ20031209,  I3I4,   470,  1,     30,  12018,2,20040113,0056,-19.9910,  96.9533, 5339,    301.0,  15.6419,  35.6336,2,  35.6375,2,    208.4,1,    217.2,2,     1.82,2,     3.38,2,     0.01,2,     0.41,2,    2.595,2,    1.462,2,    0.115,4,   2094.3,2,   2332.1,2,   7.9383,2,    25.00,     78.4,2,      3.5,     1.12,2,  -999.00,  -999.00,9,  15.6477,2
  49NZ20031209,  I3I4,   470,  1,     29,  12017,2,20040113,0056,-19.9910,  96.9533, 5339,    399.7,  12.1482,  35.1271,2,  35.1241,2,    219.1,1,    228.3,2,     3.03,2,     9.33,2,     0.01,2,     0.77,2,    3.056,2,    1.667,2,    0.116,4,   2112.0,2,   2309.0,2,   7.8619,2,    25.00,     72.7,2,      3.4,     1.17,2,  -999.00,  -999.00,9,  12.1451,2
  49NZ20031209,  I3I4,   470,  1,     28,  12016,2,20040113,0056,-19.9910,  96.9533, 5339,    500.5,  10.1891,  34.8269,2,  34.8250,2,    225.6,1,    235.2,2,     3.95,2,    13.71,2,     0.00,2,     1.02,2,    3.285,2,    1.740,2,    0.116,4,   2119.9,2,   2291.6,2,   7.8151,2,    25.00,     59.5,2,      3.3,     1.25,2,  -999.00,  -999.00,9,  10.1897,2
  49NZ20031209,  I3I4,   470,  1,     27,  12012,2,20040113,0056,-19.9910,  96.9533, 5339,    598.6,   9.1247,  34.6735,2,  34.6734,2,    220.9,1,    230.6,2,     5.81,2,    17.44,2,     0.01,2,     1.25,2,    3.192,2,    1.643,2,    0.106,4,   2130.1,2,   2287.7,2,   7.7801,2,    25.00,     44.4,2,      3.3,     1.23,2,  -999.00,  -999.00,9,   9.1221,2
  49NZ20031209,  I3I4,   470,  1,     26,  12014,2,20040113,0056,-19.9910,  96.9533, 5339,    700.9,   7.5941,  34.5357,2,  34.5346,2,    188.9,1,    197.3,2,    17.04,2,    24.17,2,     0.00,2,     1.69,2,    1.924,2,    0.965,2,    0.079,4,   2162.8,6,   2290.4,2,   7.7014,2,    25.00,     -0.7,2,      3.1,     1.09,2,  -999.00,  -999.00,9,   7.5990,2
  49NZ20031209,  I3I4,   470,  1,     25,  12013,2,20040113,0056,-19.9910,  96.9533, 5339,    800.9,   5.8862,  34.4930,2,  34.4935,2,    151.8,1,    158.1,2,    40.72,2,    30.96,2,     0.00,2,     2.18,2,    0.537,2,    0.286,2,    0.000,4,   2212.7,2,   2310.4,6,   7.6147,2,    25.00,    -86.6,2,      2.9,     0.76,2,  -999.00,  -999.00,9,   5.8875,2
  49NZ20031209,  I3I4,   470,  1,     24,  12048,2,20040113,0056,-19.9910,  96.9533, 5339,    898.4,   5.5115,  34.5788,2,  34.5787,2,    112.9,1,    117.0,2,    65.30,2,    34.56,2,     0.00,2,     2.47,2,    0.092,2,    0.053,2,    0.000,4,   2256.8,2,   2332.2,2,   7.5569,6,    25.00,   -135.0,2,      2.9,     0.44,2,  -999.00,  -999.00,9,   5.5117,2
  49NZ20031209,  I3I4,   470,  1,     23,  12047,2,20040113,0056,-19.9910,  96.9533, 5339,   1000.7,   5.0983,  34.6176,2,  34.6176,2,    104.5,1,    108.0,2,    76.30,2,    35.51,2,     0.00,2,     2.57,2,    0.023,6,    0.014,6,    0.000,4,   2274.0,2,   2346.2,2,   7.5416,2,    25.00,   -158.1,2,      3.0,     0.35,2,  -999.00,  -999.00,9,   5.0988,2
  49NZ20031209,  I3I4,   470,  1,     22,  12046,2,20040113,0056,-19.9910,  96.9533, 5339,   1201.5,   4.3299,  34.6417,2,  34.6420,2,    108.7,1,    112.4,2,    87.15,2,    35.93,2,     0.01,2,     2.60,2,    0.004,2,   -0.001,2,    0.000,4,   2285.9,2,   2355.4,2,   7.5417,2,    25.00,   -166.6,2,      2.9,     0.27,2,  -999.00,  -999.00,9,   4.3303,2
  49NZ20031209,  I3I4,   470,  1,     21,  12045,2,20040113,0056,-19.9910,  96.9533, 5339,   1398.9,   3.7106,  34.6600,2,  34.6607,2,    118.8,1,    123.5,2,    92.57,2,    35.66,2,     0.01,2,     2.56,2,    0.001,2,   -0.004,2,    0.000,4,   2288.9,2,   2356.7,2,   7.5488,2,    25.00,   -170.9,6,      2.1,     0.29,6,  -999.00,  -999.00,9,   3.7106,2
  49NZ20031209,  I3I4,   470,  1,     20,  12044,2,20040113,0056,-19.9910,  96.9533, 5339,   1601.5,   3.1726,  34.6861,2,  34.6857,2,    127.2,1,    132.7,2,    99.93,2,    35.26,2,     0.00,2,     2.54,2,    0.003,2,   -0.001,2,    0.000,4,   2289.3,2,   2370.3,2,   7.5709,3,    25.00,   -180.3,2,      2.9,     0.26,2,  -999.00,  -999.00,9,   3.1734,2
  49NZ20031209,  I3I4,   470,  1,     19,  12043,2,20040113,0056,-19.9910,  96.9533, 5339,   1799.8,   2.7493,  34.7073,2,  34.7079,2,    135.8,1,    142.1,2,   105.74,2,    34.83,2,     0.00,2,     2.49,2,   -0.003,2,   -0.003,2,    0.000,4,   2293.4,2,   2376.2,2,   7.5700,2,    25.00,   -179.8,2,      2.9,     0.31,2,  -999.00,  -999.00,9,   2.7490,2
  49NZ20031209,  I3I4,   470,  1,     18,  12042,2,20040113,0056,-19.9910,  96.9533, 5339,   2000.4,   2.4562,  34.7198,2,  34.7194,2,    141.3,1,    148.0,2,   111.35,2,    34.55,2,     0.01,2,     2.48,2,    0.003,2,   -0.001,2,    0.000,4,   2294.9,2,   2381.7,2,   7.5801,2,    25.00,   -184.2,2,      2.9,     0.28,2,  -999.00,  -999.00,9,   2.4563,2
  49NZ20031209,  I3I4,   470,  1,     17,  12041,2,20040113,0056,-19.9910,  96.9533, 5339,   2199.1,   2.2293,  34.7256,2,  34.7259,2,    145.7,1,    153.0,2,   115.76,2,    34.33,2,     0.00,2,     2.44,2,    0.005,2,    0.002,2,    0.000,4,   2297.4,2,   2381.2,2,   7.5837,2,    25.00,   -186.9,2,      2.9,     0.29,2,  -999.00,  -999.00,9,   2.2293,2
  49NZ20031209,  I3I4,   470,  1,     16,  12040,2,20040113,0056,-19.9910,  96.9533, 5339,   2400.7,   2.0493,  34.7275,2,  34.7268,2,    152.1,1,    159.8,2,   116.81,2,    33.95,2,     0.00,2,     2.41,2,   -0.003,2,   -0.002,2,    0.000,4,   2293.4,6,   2392.1,4,   7.5914,2,    25.00,   -192.8,2,      2.9,     0.30,2,  -999.00,  -999.00,9,   2.0494,2
  49NZ20031209,  I3I4,   470,  1,     15,  12039,2,20040113,0056,-19.9910,  96.9533, 5339,   2599.8,   1.8835,  34.7274,2,  34.7277,2,    157.3,1,    165.7,2,   118.38,2,    33.80,2,     0.00,2,     2.38,2,   -0.002,2,   -0.001,2,    0.000,4,   2293.3,2,   2385.7,6,   7.5978,2,    25.00,   -186.1,2,      2.8,     0.36,2,  -999.00,  -999.00,9,   1.8836,2
  49NZ20031209,  I3I4,   470,  1,     14,  12038,2,20040113,0056,-19.9910,  96.9533, 5339,   5251.3,   1.1130,  34.7103,2,  34.7103,2,    198.7,1,    204.4,2,   122.07,2,    32.23,2,     0.00,2,     2.24,2,    0.002,2,    0.007,2,    0.001,4,   2270.8,2,   2370.2,2,   7.6247,2,    25.00,   -161.8,2,      2.9,     0.45,2,  -999.00,  -999.00,9,   1.1130,2
  49NZ20031209,  I3I4,   470,  1,     13,  12037,2,20040113,0056,-19.9910,  96.9533, 5339,   3002.1,   1.6336,  34.7261,2,  34.7257,2,    164.8,1,    174.0,2,   121.78,2,    33.49,2,     0.01,2,     2.35,2,   -0.001,2,    0.001,2,    0.000,4,   2292.4,2,   2386.4,2,   7.6089,2,    25.00,   -191.9,2,      2.8,     0.35,2,  -999.00,  -999.00,9,   1.6336,2
  49NZ20031209,  I3I4,   470,  1,     12,  12036,2,20040113,0056,-19.9910,  96.9533, 5339,   3251.2,   1.5212,  34.7242,2,  34.7242,2,    167.2,1,    176.2,2,   124.57,2,    33.42,2,     0.00,2,     2.34,2,   -0.005,2,   -0.004,2,    0.000,4,   2296.2,2,   2391.0,2,   7.6104,2,    25.00,   -191.8,2,      2.8,     0.30,3,  -999.00,  -999.00,9,   1.5213,2
  49NZ20031209,  I3I4,   470,  1,     11,  12035,2,20040113,0056,-19.9910,  96.9533, 5339,   3500.0,   1.4358,  34.7213,2,  34.7215,2,    169.7,1,    179.0,2,   126.61,2,    33.42,2,     0.01,2,     2.35,2,    0.000,2,    0.000,2,    0.000,4,   2294.1,2,   2392.7,2,   7.6136,2,    25.00,   -192.8,2,      2.9,     0.34,2,  -999.00,  -999.00,9,   1.4356,2
  49NZ20031209,  I3I4,   470,  1,     10,  12034,2,20040113,0056,-19.9910,  96.9533, 5339,   3751.7,   1.3562,  34.7196,2,  34.7192,2,    173.8,1,    183.1,2,   126.83,2,    33.34,2,     0.00,2,     2.33,2,   -0.005,2,   -0.003,2,    0.000,4,   2291.1,2,   2390.8,2,   7.6170,2,    25.00,   -190.8,2,      2.7,     0.36,2,  -999.00,  -999.00,9,   1.3562,2
  49NZ20031209,  I3I4,   470,  1,      9,  12033,2,20040113,0056,-19.9910,  96.9533, 5339,   4001.3,   1.2695,  34.7177,2,  34.7173,2,    180.1,1,    189.4,2,   125.21,2,    32.91,2,     0.00,2,     2.31,2,   -0.003,2,   -0.004,2,    0.001,4,   2285.6,2,   2388.8,2,   7.6223,2,    25.00,   -182.6,2,      2.8,     0.42,2,  -999.00,  -999.00,9,   1.2695,2
  49NZ20031209,  I3I4,   470,  1,      8,  12032,2,20040113,0056,-19.9910,  96.9533, 5339,   4252.2,   1.2021,  34.7162,2,  34.7163,2,    186.4,1,    195.6,2,   122.82,2,    32.60,2,     0.00,2,     2.27,2,   -0.003,2,   -0.003,2,    0.001,4,   2278.5,6,   2379.6,2,   7.6236,2,    25.00,   -180.4,2,      2.9,     0.44,2,  -999.00,  -999.00,9,   1.2019,2
  49NZ20031209,  I3I4,   470,  1,      7,  12031,2,20040113,0056,-19.9910,  96.9533, 5339,   4501.3,   1.1503,  34.7147,2,  34.7144,2,    190.7,1,    199.6,2,   121.64,2,    32.43,2,     0.00,2,     2.26,2,   -0.002,2,    0.002,2,    0.001,4,   2275.0,2,   2377.2,6,   7.6246,2,    25.00,   -174.5,2,      3.0,     0.44,2,  -999.00,  -999.00,9,   1.1503,2
  49NZ20031209,  I3I4,   470,  1,      6,  12030,2,20040113,0056,-19.9910,  96.9533, 5339,   4750.6,   1.1112,  34.7127,2,  34.7121,3,    194.0,1,    202.3,2,   121.93,2,    32.31,2,     0.01,2,     2.25,2,   -0.003,2,    0.002,2,    0.001,4,   2272.3,2,   2374.5,2,   7.6273,6,    25.00,   -169.3,2,      2.9,     0.46,2,  -999.00,  -999.00,9,   1.1113,2
  49NZ20031209,  I3I4,   470,  1,      5,  12029,2,20040113,0056,-19.9910,  96.9533, 5339,   5000.6,   1.1033,  34.7113,2,  34.7121,2,    196.4,1,    203.7,2,   121.89,2,    32.22,2,     0.00,2,     2.24,2,    0.002,2,    0.003,2,    0.001,4,   2270.1,2,   2371.0,2,   7.6251,2,    25.00,   -163.6,2,      2.8,     0.48,2,  -999.00,  -999.00,9,   1.1033,2
  49NZ20031209,  I3I4,   470,  1,      4,  12028,2,20040113,0056,-19.9910,  96.9533, 5339,   5251.3,   1.1129,  34.7103,2,  34.7103,2,    198.7,1,    204.6,2,   121.52,2,    32.20,2,     0.01,2,     2.25,2,    0.008,2,    0.005,2,    0.001,4,   2269.9,2,   2370.5,2,   7.6261,2,    25.00,   -163.4,2,      2.8,     0.46,2,  -999.00,  -999.00,9,   1.1129,2
  49NZ20031209,  I3I4,   470,  1,      3,  12027,2,20040113,0056,-19.9910,  96.9533, 5339,   5419.1,   1.1250,  34.7098,2,  34.7103,2,    200.5,1,    204.8,2,   121.81,2,    32.21,2,     0.01,2,     2.24,2,    0.008,2,    0.007,2,    0.001,4,   2271.0,2,   2371.5,2,   7.6251,2,    25.00,   -162.5,2,      2.8,     0.46,2,  -999.00,  -999.00,9,   1.1250,2
  49NZ20031209,  I3I4,   470,  1,      2,  12026,2,20040113,0056,-19.9910,  96.9533, 5339,    116.3,  21.5764,  35.3892,2,-999.0000,9,    203.6,1,   -999.0,9,  -999.00,9,  -999.00,9,  -999.00,9,  -999.00,9, -999.000,9, -999.000,9, -999.000,9,   -999.0,9,   -999.0,9,-999.0000,9,  -999.00,   -999.0,9,   -999.0,  -999.00,9,  -999.00,  -999.00,9,  21.5761,2
  49NZ20031209,  I3I4,   470,  1,      1,  12025,2,20040113,0056,-19.9910,  96.9533, 5339,   2802.0,   1.7533,  34.7272,2,  34.7272,2,    162.0,1,    171.0,2,   119.22,2,    33.59,2,     0.00,2,     2.36,2,   -0.006,2,    0.000,2,    0.000,4,   2291.3,2,   2389.0,2,   7.6071,6,    25.00,   -179.9,3,      2.7,     0.35,2,  -999.00,  -999.00,9,   1.7535,2