BOTTLE,20141204PRINUNIVRMK
EXPOCODE,SECT_ID,STNNBR,CASTNO,SAMPNO,BTLNBR,BTLNBR_FLAG_W,DATE,TIME,LATITUDE,LONGITUDE,DEPTH,CTDPRS,CTDTMP,CTDSAL,CTDSAL_FLAG_W,SALNTY,SALNTY_FLAG_W,CTDOXY,CTDOXY_FLAG_W,OXYGEN,OXYGEN_FLAG_W,SILCAT,SILCAT_FLAG_W,NITRAT,NITRAT_FLAG_W,NITRIT,NITRIT_FLAG_W,PHSPHT,PHSPHT_FLAG_W,CFC-11,CFC-11_FLAG_W,CFC-12,CFC-12_FLAG_W,CFC113,CFC113_FLAG_W,TCARBN,TCARBN_FLAG_W,ALKALI,ALKALI_FLAG_W,PH_TOT,PH_TOT_FLAG_W,PH_TMP,DELC14,DELC14_FLAG_W,C14ERR,DELC13,DELC13_FLAG_W,CS-137,CS137ER,CS-137_FLAG_W,SBE35,SBE35_FLAG_W
,,,,,,,,,,,METERS,DBAR,ITS-90,PSS-78,,PSS-78,,UMOL/KG,,UMOL/KG,,UMOL/KG,,UMOL/KG,,UMOL/KG,,UMOL/KG,,PMOL/KG,,PMOL/KG,,PMOL/KG,,UMOL/KG,,UMOL/KG,,,,DEG C,/MILLE,,/MILLE,/MILLE,,DM/.1MG,DM/.1MG,,ITS-90,
  49NZ20031209,  I3I4,   495,  1,     36,  12024,2,20040106,0419,-19.9960,  82.7363, 5120,     10.1,  26.9314,  34.4881,2,  34.4905,2,    194.4,1,    203.2,2,     1.73,2,    -0.02,2,     0.00,2,     0.09,2,    1.640,2,    1.044,2,    0.376,4,   1928.9,2,   2260.4,2,   8.1156,2,    25.00,     51.5,2,      3.6,     1.13,2,  -999.00,  -999.00,9,  26.9305,2
  49NZ20031209,  I3I4,   495,  1,     35,  12023,2,20040106,0419,-19.9960,  82.7363, 5120,     49.7,  24.4075,  34.9262,2,  34.9298,2,    205.9,1,    215.0,2,     2.05,2,    -0.01,2,     0.00,2,     0.11,2,    1.838,2,    1.126,2, -999.000,5,   1963.0,6,   2286.8,2,   8.0989,2,    25.00,     46.2,2,      3.6,     1.10,2,  -999.00,  -999.00,9,  24.3990,2
  49NZ20031209,  I3I4,   495,  1,     34,  12022,2,20040106,0419,-19.9960,  82.7363, 5120,    100.4,  22.3717,  35.1449,2,  35.1379,2,    194.9,1,    203.1,2,     2.92,2,     0.88,2,     0.15,2,     0.18,2,    1.948,2,    1.158,2, -999.000,5,   1998.7,2,   2299.4,6,   8.0582,2,    25.00,     56.7,2,      3.4,     0.89,2,  -999.00,  -999.00,9,  22.3698,2
  49NZ20031209,  I3I4,   495,  1,     33,  12015,2,20040106,0419,-19.9960,  82.7363, 5120,    153.4,  21.3220,  35.4004,2,  35.4003,2,    200.1,1,    209.5,2,     2.52,2,     0.67,2,     0.19,2,     0.16,2,    2.096,2,    1.229,2, -999.000,5,   2016.0,2,   2315.5,2,   8.0504,2,    25.00,     59.7,2,      3.6,     0.89,2,  -999.00,  -999.00,9,  21.3186,2
  49NZ20031209,  I3I4,   495,  1,     32,  12020,2,20040106,0419,-19.9960,  82.7363, 5120,    203.3,  19.9681,  35.6741,2,  35.6746,2,    185.8,1,    193.9,2,     2.84,2,     2.14,2,     0.04,2,     0.27,2,    2.166,2,    1.286,2,    0.224,4,   2057.1,2,   2332.6,2,   8.0048,2,    25.00,     60.6,2,      3.4,     0.82,2,  -999.00,  -999.00,9,  19.9653,2
  49NZ20031209,  I3I4,   495,  1,     31,  12019,2,20040106,0419,-19.9960,  82.7363, 5120,    250.3,  18.4284,  35.8079,2,  35.8063,2,    192.6,1,    200.8,2,     2.51,2,     2.49,2,     0.01,2,     0.30,2,    2.329,6,    1.370,6,    0.139,4,   2076.6,2,   2341.3,2,   7.9791,2,    25.00,     79.5,3,      3.4,     0.90,2,  -999.00,  -999.00,9,  18.4092,2
  49NZ20031209,  I3I4,   495,  1,     30,  12018,2,20040106,0419,-19.9960,  82.7363, 5120,    301.7,  16.4434,  35.7220,2,  35.7213,2,    205.5,1,    213.9,2,     1.81,2,     2.71,2,     0.01,2,     0.34,2,    2.571,2,    1.482,2,    0.166,4,   2090.0,2,   2337.3,2,   7.9525,2,    25.00,     68.5,2,      3.7,     1.07,2,  -999.00,  -999.00,9,  16.4415,2
  49NZ20031209,  I3I4,   495,  1,     29,  12021,2,20040106,0419,-19.9960,  82.7363, 5120,    401.1,  12.8764,  35.2543,2,  35.2552,2,    215.5,1,    224.1,2,     2.66,2,     8.15,2,     0.01,2,     0.67,2,    3.040,2,    1.653,2,    0.081,4,   2110.2,2,   2310.7,2,   7.8794,2,    25.00,     66.5,2,      3.4,     1.18,2,  -999.00,  -999.00,9,  12.8890,2
  49NZ20031209,  I3I4,   495,  1,     28,  12016,2,20040106,0419,-19.9960,  82.7363, 5120,    501.1,  10.5804,  34.8994,2,  34.8991,2,    220.9,1,    229.7,2,     4.09,2,    13.14,2,     0.00,2,     0.97,2,    3.221,2,    1.676,2,    0.115,4,   2117.9,2,   2295.4,2,   7.8252,2,    25.00,     70.2,2,      3.6,     1.25,2,  -999.00,  -999.00,9,  10.5671,2
  49NZ20031209,  I3I4,   495,  1,     27,  12012,2,20040106,0419,-19.9960,  82.7363, 5120,    600.1,   9.2135,  34.6901,2,  34.6852,2,    222.1,1,    230.7,2,     5.49,2,    17.04,2,     0.00,2,     1.21,2,    3.214,2,    1.659,2,    0.138,4,   2128.0,2,   2288.7,2,   7.7864,2,    25.00,     40.2,2,      3.5,     1.23,2,  -999.00,  -999.00,9,   9.2190,2
  49NZ20031209,  I3I4,   495,  1,     26,  12014,2,20040106,0419,-19.9960,  82.7363, 5120,    700.6,   7.5202,  34.5453,2,  34.5429,2,    181.6,1,    188.0,2,    19.62,2,    25.03,2,     0.00,2,     1.73,2,    1.470,2,    0.753,2,    0.024,4,   2167.8,6,   2292.0,2,   7.6936,2,    25.00,    -19.1,2,      4.6,     1.02,2,  -999.00,  -999.00,9,   7.5204,2
  49NZ20031209,  I3I4,   495,  1,     25,  12013,2,20040106,0419,-19.9960,  82.7363, 5120,    801.2,   6.3977,  34.5609,2,  34.5565,2,    135.6,1,    141.5,2,    44.02,2,    31.30,2,     0.00,2,     2.20,2,    0.314,2,    0.168,2,    0.000,4,   2221.3,2,   2312.0,6,   7.6080,2,    25.00,   -101.0,2,      3.2,     0.74,2,  -999.00,  -999.00,9,   6.3986,2
  49NZ20031209,  I3I4,   495,  1,     24,  12048,2,20040106,0419,-19.9960,  82.7363, 5120,    900.5,   5.5823,  34.5936,2,  34.5936,2,    113.9,1,    117.6,2,    63.72,2,    34.28,2,     0.00,2,     2.44,2,    0.069,2,    0.047,2,    0.000,4,   2254.7,2,   2332.9,2,   7.5646,6,    25.00,   -139.1,2,      3.2,     0.48,2,  -999.00,  -999.00,9,   5.5828,2
  49NZ20031209,  I3I4,   495,  1,     23,  12047,2,20040106,0419,-19.9960,  82.7363, 5120,    999.2,   5.2298,  34.6357,2,  34.6362,2,    103.4,1,    106.6,2,    76.18,2,    35.44,2,     0.00,2,     2.54,2,    0.025,6,    0.014,6,    0.000,4,   2271.7,2,   2344.8,2,   7.5478,2,    25.00,   -150.4,2,      3.2,     0.35,2,  -999.00,  -999.00,9,   5.2277,2
  49NZ20031209,  I3I4,   495,  1,     22,  12046,2,20040106,0419,-19.9960,  82.7363, 5120,   1201.4,   4.3937,  34.6521,2,  34.6510,2,    109.2,1,    113.1,2,    86.40,2,    35.77,2,     0.00,2,     2.57,2,    0.010,2,    0.007,2,    0.000,4,   2282.9,2,   2355.9,2,   7.5448,2,    25.00,   -172.9,2,      3.0,     0.31,2,  -999.00,  -999.00,9,   4.3936,2
  49NZ20031209,  I3I4,   495,  1,     21,  12045,2,20040106,0419,-19.9960,  82.7363, 5120,   1401.6,   3.7263,  34.6679,2,  34.6689,2,    120.4,1,    124.2,2,    92.04,2,    35.44,2,     0.00,2,     2.53,2,   -0.002,2,    0.003,2,    0.000,4,   2285.7,2,   2360.1,2,   7.5549,2,    25.00,   -177.9,6,      4.6,     0.31,6,  -999.00,  -999.00,9,   3.7263,2
  49NZ20031209,  I3I4,   495,  1,     20,  12044,2,20040106,0419,-19.9960,  82.7363, 5120,   1601.1,   3.3463,  34.7093,2,  34.7093,2,    124.4,1,    129.4,2,   100.33,2,    35.21,2,     0.00,2,     2.52,2,    0.000,2,    0.001,2,    0.000,4,   2292.3,2,   2369.6,2,   7.5612,2,    25.00,   -183.8,2,      3.1,     0.30,2,  -999.00,  -999.00,9,   3.3464,2
  49NZ20031209,  I3I4,   495,  1,     19,  12043,2,20040106,0419,-19.9960,  82.7363, 5120,   1800.6,   2.9420,  34.7201,2,  34.7200,2,    132.6,1,    138.3,2,   105.10,2,    34.89,2,     0.00,2,     2.48,2,   -0.001,4,    0.001,4,    0.000,4,   2292.4,2,   2375.7,2,   7.5763,2,    25.00,   -187.9,2,      2.9,     0.32,2,  -999.00,  -999.00,9,   2.9422,2
  49NZ20031209,  I3I4,   495,  1,     18,  12042,2,20040106,0419,-19.9960,  82.7363, 5120,   2001.5,   2.6022,  34.7259,2,  34.7253,2,    140.8,1,    147.4,2,   108.84,2,    34.40,2,     0.00,2,     2.44,2,    0.000,2,   -0.003,2,   -0.001,4,   2290.7,2,   2376.7,2,   7.5806,6,    25.00,   -191.0,2,      3.1,     0.31,2,  -999.00,  -999.00,9,   2.6022,2
  49NZ20031209,  I3I4,   495,  1,     17,  12041,2,20040106,0419,-19.9960,  82.7363, 5120,   2200.2,   2.3291,  34.7273,2,  34.7272,2,    149.6,1,    156.9,2,   110.23,2,    33.91,2,     0.00,2,     2.39,2,    0.001,2,    0.001,2,   -0.001,4,   2288.6,2,   2378.5,2,   7.5918,2,    25.00,   -187.8,2,      3.1,     0.34,2,  -999.00,  -999.00,9,   2.3291,2
  49NZ20031209,  I3I4,   495,  1,     16,  12040,2,20040106,0419,-19.9960,  82.7363, 5120,   2400.5,   2.1083,  34.7274,2,  34.7270,3,    157.2,1,    165.0,2,   111.49,2,    33.55,2,     0.00,2,     2.35,2,    0.001,2,   -0.001,2,   -0.001,4,   2286.3,2,   2376.6,2,   7.5986,2,    25.00,   -183.4,2,      3.0,     0.38,2,  -999.00,  -999.00,9,   2.1082,2
  49NZ20031209,  I3I4,   495,  1,     15,  12039,2,20040106,0419,-19.9960,  82.7363, 5120,   2599.5,   1.9471,  34.7274,2,  34.7277,2,    163.0,1,    171.5,2,   112.36,2,    33.17,2,     0.00,2,     2.33,2,    0.004,2,   -0.001,2,    0.000,4,   2281.5,2,   2378.4,2,   7.6056,2,    25.00,   -181.1,2,      2.9,     0.38,2,  -999.00,  -999.00,9,   1.9469,2
  49NZ20031209,  I3I4,   495,  1,     14,  12038,2,20040106,0419,-19.9960,  82.7363, 5120,   2800.6,   1.7887,  34.7275,2,  34.7281,2,    169.5,1,    178.4,2,   112.34,2,    32.78,2,     0.00,2,     2.28,2,    0.002,2,    0.001,2,    0.000,4,   2278.4,2,   2376.1,2,   7.6133,6,    25.00,   -182.3,2,      3.0,     0.45,2,  -999.00,  -999.00,9,   1.7887,2
  49NZ20031209,  I3I4,   495,  1,     13,  12037,2,20040106,0419,-19.9960,  82.7363, 5120,   2999.4,   1.6792,  34.7280,2,  34.7280,2,    171.0,1,    180.2,2,   115.79,2,    32.90,2,     0.00,2,     2.28,2,    0.005,2,    0.000,2,    0.000,4,   2281.4,2,   2381.7,2,   7.6166,2,    25.00,   -183.0,6,      4.5,     0.41,2,  -999.00,  -999.00,9,   1.6792,2
  49NZ20031209,  I3I4,   495,  1,     12,  12036,2,20040106,0419,-19.9960,  82.7363, 5120,   3249.2,   1.5591,  34.7277,2,  34.7276,2,    174.3,1,    183.8,2,   117.29,2,    32.50,2,     0.00,2,     2.26,2,   -0.001,2,    0.001,2,    0.000,4,   2282.1,2,   2381.6,2,   7.6222,2,    25.00,   -183.3,2,      2.8,     0.43,2,  -999.00,  -999.00,9,   1.5589,2
  49NZ20031209,  I3I4,   495,  1,     11,  12035,2,20040106,0419,-19.9960,  82.7363, 5120,   3500.4,   1.4617,  34.7250,2,  34.7252,2,    173.3,1,    182.4,2,   123.50,2,    33.06,2,     0.00,2,     2.29,2,   -0.001,2,    0.001,2,    0.000,4,   2290.3,2,   2389.6,2,   7.6242,2,    25.00,   -188.1,2,      2.8,     0.39,2,  -999.00,  -999.00,9,   1.4617,2
  49NZ20031209,  I3I4,   495,  1,     10,  12034,2,20040106,0419,-19.9960,  82.7363, 5120,   3749.6,   1.4113,  34.7228,2,  34.7223,2,    174.6,1,    183.4,2,   125.76,2,    33.09,2,     0.00,2,     2.30,2,    0.006,2,    0.000,2,    0.000,4,   2290.6,2,   2392.8,2,   7.6242,2,    25.00,   -185.0,2,      2.9,     0.38,2,  -999.00,  -999.00,9,   1.4110,2
  49NZ20031209,  I3I4,   495,  1,      9,  12033,2,20040106,0419,-19.9960,  82.7363, 5120,   4001.5,   1.3747,  34.7204,2,  34.7204,2,    175.1,1,    183.4,2,   128.49,2,    33.34,2,     0.00,2,     2.31,2,   -0.003,2,    0.000,2,    0.000,4,   2292.2,2,   2396.6,2,   7.6258,2,    25.00,   -189.1,2,      3.1,     0.38,2,  -999.00,  -999.00,9,   1.3745,2
  49NZ20031209,  I3I4,   495,  1,      8,  12032,2,20040106,0419,-19.9960,  82.7363, 5120,   4247.6,   1.3661,  34.7193,2,  34.7192,2,    176.4,1,    184.2,2,   129.65,2,    33.27,2,     0.01,2,     2.31,2,   -0.003,2,   -0.003,2,    0.000,4,   2294.5,6,   2400.0,2,   7.6273,2,    25.00,   -192.3,2,      2.9,     0.37,2,  -999.00,  -999.00,9,   1.3660,2
  49NZ20031209,  I3I4,   495,  1,      7,  12031,2,20040106,0419,-19.9960,  82.7363, 5120,   4500.5,   1.3758,  34.7184,2,  34.7185,2,    177.1,1,    184.2,2,   130.24,2,    33.30,2,     0.00,2,     2.31,2,    0.000,2,   -0.001,2,    0.000,4,   2296.3,2,   2399.4,6,   7.6289,2,    25.00,   -189.5,2,      2.9,     0.34,3,  -999.00,  -999.00,9,   1.3757,2
  49NZ20031209,  I3I4,   495,  1,      6,  12030,2,20040106,0419,-19.9960,  82.7363, 5120,   4751.0,   1.3969,  34.7180,2,  34.7175,2,    178.0,1,    184.3,2,   129.84,2,    33.27,2,     0.00,2,     2.31,2,   -0.001,2,   -0.001,2,    0.000,4,   2295.8,2,   2398.1,2,   7.6279,6,    25.00,   -189.8,2,      3.1,     0.33,3,  -999.00,  -999.00,9,   1.3968,2
  49NZ20031209,  I3I4,   495,  1,      5,  12029,2,20040106,0419,-19.9960,  82.7363, 5120,   4999.8,   1.4256,  34.7179,2,  34.7179,2,    179.2,1,    184.4,2,   130.90,2,    33.39,2,     0.01,2,     2.32,2,   -0.003,2,    0.000,2,    0.000,4,   2294.0,2,   2399.0,2,   7.6283,2,    25.00,   -187.6,2,      3.0,     0.34,3,  -999.00,  -999.00,9,   1.4256,2
  49NZ20031209,  I3I4,   495,  1,      4,  12028,2,20040106,0419,-19.9960,  82.7363, 5120,   5304.5,   1.4621,  34.7177,2,  34.7178,2,    181.2,1,    184.4,2,   130.87,2,    33.33,2,     0.00,2,     2.31,2,   -0.001,2,   -0.001,2,   -0.001,4,   2293.8,2,   2399.0,2,   7.6278,2,    25.00,   -180.0,2,      3.1,     0.40,2,  -999.00,  -999.00,9,   1.4621,2
  49NZ20031209,  I3I4,   495,  1,      3,  12027,9,20040106,0419,-19.9960,  82.7363, 5120,      4.6,  26.9941,  34.4904,2,-999.0000,9,    194.1,1,   -999.0,9,  -999.00,9,  -999.00,9,  -999.00,9,  -999.00,9, -999.000,9, -999.000,9, -999.000,9,   -999.0,9,   -999.0,9,-999.0000,9,  -999.00,   -999.0,9,   -999.0,  -999.00,9,  -999.00,  -999.00,9,  26.9936,2
  49NZ20031209,  I3I4,   495,  1,      2,  12026,2,20040106,0419,-19.9960,  82.7363, 5120,   5000.3,   1.4256,  34.7180,2,  34.7183,2,    179.1,1,    184.2,2,   130.36,2,    33.35,2,     0.00,2,     2.31,2,   -0.001,2,    0.000,2,    0.000,4,   -999.0,5,   -999.0,5,-999.0000,5,  -999.00,   -186.0,2,      3.0,     0.39,2,  -999.00,  -999.00,9,   1.4257,2
  49NZ20031209,  I3I4,   495,  1,      1,  12025,2,20040106,0419,-19.9960,  82.7363, 5120,    100.6,  22.3784,  35.1523,2,-999.0000,9,    196.0,1,   -999.0,9,  -999.00,9,  -999.00,9,  -999.00,9,  -999.00,9, -999.000,9, -999.000,9, -999.000,9,   -999.0,9,   -999.0,9,-999.0000,9,  -999.00,   -999.0,9,   -999.0,  -999.00,9,  -999.00,  -999.00,9,  22.3769,2