BOTTLE,20141204PRINUNIVRMK
EXPOCODE,SECT_ID,STNNBR,CASTNO,SAMPNO,BTLNBR,BTLNBR_FLAG_W,DATE,TIME,LATITUDE,LONGITUDE,DEPTH,CTDPRS,CTDTMP,CTDSAL,CTDSAL_FLAG_W,SALNTY,SALNTY_FLAG_W,CTDOXY,CTDOXY_FLAG_W,OXYGEN,OXYGEN_FLAG_W,SILCAT,SILCAT_FLAG_W,NITRAT,NITRAT_FLAG_W,NITRIT,NITRIT_FLAG_W,PHSPHT,PHSPHT_FLAG_W,CFC-11,CFC-11_FLAG_W,CFC-12,CFC-12_FLAG_W,CFC113,CFC113_FLAG_W,TCARBN,TCARBN_FLAG_W,ALKALI,ALKALI_FLAG_W,PH_TOT,PH_TOT_FLAG_W,PH_TMP,DELC14,DELC14_FLAG_W,C14ERR,DELC13,DELC13_FLAG_W,CS-137,CS137ER,CS-137_FLAG_W,SBE35,SBE35_FLAG_W
,,,,,,,,,,,METERS,DBAR,ITS-90,PSS-78,,PSS-78,,UMOL/KG,,UMOL/KG,,UMOL/KG,,UMOL/KG,,UMOL/KG,,UMOL/KG,,PMOL/KG,,PMOL/KG,,PMOL/KG,,UMOL/KG,,UMOL/KG,,,,DEG C,/MILLE,,/MILLE,/MILLE,,DM/.1MG,DM/.1MG,,ITS-90,
  49NZ20031209,  I3I4,   491,  1,     36,  12024,2,20040107,0605,-19.9900,  85.3043, 4898,     10.2,  26.7666,  34.5285,2,  34.5310,2,    195.1,1,    203.9,2,     1.71,2,     0.05,2,     0.00,2,     0.08,2,    1.572,2,    1.038,2,    0.353,4,   1931.3,2,   2262.2,2,   8.1142,2,    25.00,     52.9,2,      3.6,     1.15,2,  -999.00,  -999.00,9,  26.7692,2
  49NZ20031209,  I3I4,   491,  1,     35,  12023,2,20040107,0605,-19.9900,  85.3043, 4898,     49.0,  25.1736,  35.2077,2,  35.2128,2,    202.4,1,    211.7,2,     1.80,2,     0.03,2,     0.00,2,     0.08,2,    1.774,2,    1.120,2, -999.000,5,   1982.5,6,   2304.3,2,   8.0893,2,    25.00,     56.1,2,      3.7,     1.05,2,  -999.00,  -999.00,9,  25.1681,2
  49NZ20031209,  I3I4,   491,  1,     34,  12022,2,20040107,0605,-19.9900,  85.3043, 4898,    101.8,  21.4114,  35.0376,2,  35.0367,4,    158.4,1,    164.3,2,     7.09,2,     6.16,2,     0.09,2,     0.51,2,    1.775,2,    1.095,2,    0.334,4,   2042.0,2,   2295.4,6,   7.9758,2,    25.00,     45.1,2,      3.5,     0.66,2,  -999.00,  -999.00,9,  21.4123,2
  49NZ20031209,  I3I4,   491,  1,     33,  12015,2,20040107,0605,-19.9900,  85.3043, 4898,    151.9,  20.8691,  35.4987,2,  35.4956,2,    195.1,1,    203.2,2,     2.52,2,     0.80,2,     0.17,2,     0.18,2,    1.979,2,    1.240,2,    0.430,4,   2029.0,2,   2324.2,2,   8.0359,6,    25.00,     69.8,2,      3.5,     0.84,2,  -999.00,  -999.00,9,  20.8669,2
  49NZ20031209,  I3I4,   491,  1,     32,  12020,2,20040107,0605,-19.9900,  85.3043, 4898,    203.4,  19.5266,  35.7354,2,  35.7313,2,    191.4,1,    199.2,2,     2.53,2,     1.96,2,     0.08,2,     0.25,2,    2.154,2,    1.314,2,    0.209,4,   2061.4,2,   2338.0,2,   8.0030,2,    25.00,     70.2,6,      2.6,     0.85,6,  -999.00,  -999.00,9,  19.5247,2
  49NZ20031209,  I3I4,   491,  1,     31,  12019,2,20040107,0605,-19.9900,  85.3043, 4898,    250.9,  17.8764,  35.8062,2,  35.8061,2,    195.7,1,    203.8,2,     2.33,2,     2.56,2,     0.01,2,     0.30,2,    2.349,6,    1.392,6,    0.109,4,   2083.4,2,   2344.8,2,   7.9723,2,    25.00,     73.5,2,      3.6,     0.97,2,  -999.00,  -999.00,9,  17.8723,2
  49NZ20031209,  I3I4,   491,  1,     30,  12018,2,20040107,0605,-19.9900,  85.3043, 4898,    301.5,  16.0544,  35.6738,2,  35.6700,2,    203.0,1,    210.9,2,     2.33,2,     3.73,2,     0.00,2,     0.39,2,    2.550,2,    1.463,2,    0.102,4,   2094.5,2,   2338.9,2,   7.9411,2,    25.00,     69.4,2,      3.7,     1.06,2,  -999.00,  -999.00,9,  16.0531,2
  49NZ20031209,  I3I4,   491,  1,     29,  12021,2,20040107,0605,-19.9900,  85.3043, 4898,    399.9,  12.6016,  35.2116,2,  35.2098,2,    221.6,1,    230.3,2,     2.30,2,     8.24,2,     0.00,2,     0.67,2,    3.048,2,    1.694,2,    0.130,4,   2109.9,2,   2310.7,2,   7.8780,2,    25.00,     71.1,2,      3.8,     1.20,2,  -999.00,  -999.00,9,  12.5994,2
  49NZ20031209,  I3I4,   491,  1,     28,  12016,2,20040107,0605,-19.9900,  85.3043, 4898,    501.9,  10.6625,  34.9014,2,  34.8970,2,    228.7,1,    238.0,2,     3.20,2,    12.34,2,     0.01,2,     0.91,2,    3.312,2,    1.789,2,    0.152,4,   2116.2,2,   2298.1,2,   7.8349,2,    25.00,     51.5,2,      3.7,     1.24,2,  -999.00,  -999.00,9,  10.6668,2
  49NZ20031209,  I3I4,   491,  1,     27,  12012,2,20040107,0605,-19.9900,  85.3043, 4898,    601.8,   9.4474,  34.7191,2,  34.7155,2,    224.2,1,    233.0,2,     4.76,2,    16.27,2,    -0.01,2,     1.15,2,    3.167,2,    1.661,2,    0.107,4,   2124.5,2,   2289.2,2,   7.7961,2,    25.00,     50.7,2,      3.7,     1.27,2,  -999.00,  -999.00,9,   9.4368,2
  49NZ20031209,  I3I4,   491,  1,     26,  12014,2,20040107,0605,-19.9900,  85.3043, 4898,    700.8,   7.8390,  34.5447,2,  34.5449,2,    201.8,1,    209.6,2,    11.79,2,    22.46,2,    -0.01,2,     1.55,2,    2.111,2,    1.093,2,    0.054,4,   2150.5,6,   2284.1,2,   7.7294,2,    25.00,      1.9,2,      3.6,     1.17,2,  -999.00,  -999.00,9,   7.8388,2
  49NZ20031209,  I3I4,   491,  1,     25,  12013,3,20040107,0605,-19.9900,  85.3043, 4898,    801.1,   6.1441,  34.4704,2,  34.4747,3,    169.9,1,    175.0,4,    31.14,2,    29.15,2,    -0.01,2,     2.01,2,    0.809,4,    0.443,4,    0.000,4,   2193.4,2,   2297.6,6,   7.6464,2,    25.00,    -60.0,2,      3.5,     0.87,2,  -999.00,  -999.00,9,   6.1448,2
  49NZ20031209,  I3I4,   491,  1,     24,  12048,2,20040107,0605,-19.9900,  85.3043, 4898,    900.8,   5.3316,  34.5385,2,  34.5391,2,    129.7,1,    134.1,2,    57.84,2,    33.64,2,    -0.01,2,     2.36,2,    0.158,2,    0.076,2,    0.000,4,   2242.3,2,   2320.1,2,   7.5793,6,    25.00,   -136.8,2,      3.2,     0.58,2,  -999.00,  -999.00,9,   5.3312,2
  49NZ20031209,  I3I4,   491,  1,     23,  12047,2,20040107,0605,-19.9900,  85.3043, 4898,   4751.9,   1.3888,  34.7180,2,  34.7180,2,    179.5,1,    184.0,2,   130.34,2,    33.40,2,    -0.01,2,     2.30,2,   -0.001,2,   -0.001,2,   -0.001,4,   2295.0,2,   2398.3,2,   7.6281,2,    25.00,   -193.5,2,      3.0,     0.38,2,  -999.00,  -999.00,9,   1.3889,2
  49NZ20031209,  I3I4,   491,  1,     22,  12046,2,20040107,0605,-19.9900,  85.3043, 4898,   1202.7,   4.2058,  34.6378,2,  34.6385,2,    113.3,1,    117.2,2,    86.21,2,    35.73,2,    -0.01,2,     2.55,2,    0.004,2,    0.004,2,    0.000,4,   2281.3,2,   2361.2,2,   7.5487,2,    25.00,   -173.6,2,      3.1,     0.33,2,  -999.00,  -999.00,9,   4.2073,2
  49NZ20031209,  I3I4,   491,  1,     21,  12045,2,20040107,0605,-19.9900,  85.3043, 4898,   1401.4,   3.7347,  34.6804,2,  34.6822,2,    118.7,1,    122.8,2,    93.68,2,    35.52,2,    -0.01,2,     2.53,2,   -0.003,2,    0.001,2,    0.000,4,   2286.7,2,   2366.6,2,   7.5536,2,    25.00,   -177.8,2,      3.1,     0.32,2,  -999.00,  -999.00,9,   3.7351,2
  49NZ20031209,  I3I4,   491,  1,     20,  12044,2,20040107,0605,-19.9900,  85.3043, 4898,   1600.3,   3.3095,  34.7100,2,  34.7099,2,    125.0,1,    130.0,2,   100.58,2,    35.30,2,    -0.01,2,     2.51,2,    0.001,2,    0.004,2,    0.000,4,   2290.7,2,   2370.3,2,   7.5624,2,    25.00,   -186.2,2,      3.1,     0.31,2,  -999.00,  -999.00,9,   3.3094,2
  49NZ20031209,  I3I4,   491,  1,     19,  12043,2,20040107,0605,-19.9900,  85.3043, 4898,   1800.6,   2.8662,  34.7213,2,  34.7212,2,    135.2,1,    140.8,2,   105.17,2,    34.83,2,    -0.01,2,     2.46,2,   -0.001,2,    0.000,2,    0.000,4,   2293.0,2,   2373.0,2,   7.5760,2,    25.00,   -191.8,2,      3.1,     0.34,2,  -999.00,  -999.00,9,   2.8662,2
  49NZ20031209,  I3I4,   491,  1,     18,  12042,2,20040107,0605,-19.9900,  85.3043, 4898,   2000.5,   2.5522,  34.7262,2,  34.7260,2,    143.1,1,    149.4,2,   108.51,2,    34.37,2,    -0.01,2,     2.42,2,   -0.001,2,   -0.001,2,    0.000,4,   2292.2,2,   2381.8,2,   7.5852,2,    25.00,   -193.7,2,      3.1,     0.34,2,  -999.00,  -999.00,9,   2.5523,2
  49NZ20031209,  I3I4,   491,  1,     17,  12041,2,20040107,0605,-19.9900,  85.3043, 4898,   2201.1,   2.2467,  34.7268,2,  34.7268,2,    152.7,1,    159.7,2,   110.31,2,    33.82,2,    -0.01,2,     2.37,2,   -0.003,2,   -0.001,2,    0.000,4,   2287.0,2,   2375.9,2,   7.5958,2,    25.00,   -191.8,2,      3.1,     0.38,2,  -999.00,  -999.00,9,   2.2465,2
  49NZ20031209,  I3I4,   491,  1,     16,  12040,2,20040107,0605,-19.9900,  85.3043, 4898,   2400.1,   2.0300,  34.7276,2,  34.7276,2,    159.5,1,    167.0,2,   112.04,2,    33.49,2,    -0.01,2,     2.34,2,   -0.001,2,    0.002,2,    0.000,4,   2285.4,6,   2379.9,2,   7.6004,2,    25.00,   -182.2,2,      3.3,     0.39,2,  -999.00,  -999.00,9,   2.0298,2
  49NZ20031209,  I3I4,   491,  1,     15,  12039,2,20040107,0605,-19.9900,  85.3043, 4898,   2599.1,   1.8767,  34.7272,2,  34.7272,2,    166.6,1,    174.8,2,   111.40,2,    33.07,2,    -0.01,2,     2.29,2,   -0.003,2,   -0.001,2,   -0.001,4,   2279.5,2,   2380.3,4,   7.6105,2,    25.00,   -181.2,2,      3.1,     0.36,2,  -999.00,  -999.00,9,   1.8767,2
  49NZ20031209,  I3I4,   491,  1,     14,  12038,2,20040107,0605,-19.9900,  85.3043, 4898,   2799.9,   1.7445,  34.7281,2,  34.7285,2,    169.2,1,    177.7,2,   114.33,2,    32.97,2,    -0.01,2,     2.29,2,   -0.002,2,    0.001,2,   -0.001,4,   2281.7,2,   2380.5,2,   7.6149,6,    25.00,   -191.3,3,      3.2,     0.40,2,  -999.00,  -999.00,9,   1.7442,2
  49NZ20031209,  I3I4,   491,  1,     13,  12037,2,20040107,0605,-19.9900,  85.3043, 4898,   3000.9,   1.6570,  34.7281,2,  34.7279,2,    170.5,1,    179.0,2,   117.25,2,    32.91,2,    -0.01,2,     2.28,2,    0.000,2,    0.000,2,   -0.001,4,   2284.6,2,   2384.1,2,   7.6177,2,    25.00,   -182.7,6,      2.3,     0.41,6,  -999.00,  -999.00,9,   1.6570,2
  49NZ20031209,  I3I4,   491,  1,     12,  12036,2,20040107,0605,-19.9900,  85.3043, 4898,   3250.5,   1.5599,  34.7264,2,  34.7265,2,    168.0,1,    176.2,2,   123.77,2,    33.36,2,    -0.01,2,     2.32,2,    0.004,2,   -0.001,2,   -0.001,4,   2294.7,2,   2391.8,2,   7.6172,2,    25.00,   -191.7,2,      3.1,     0.38,2,  -999.00,  -999.00,9,   1.5599,2
  49NZ20031209,  I3I4,   491,  1,     11,  12035,2,20040107,0605,-19.9900,  85.3043, 4898,   3500.1,   1.4701,  34.7241,2,  34.7236,2,    170.2,1,   -999.0,4,   126.58,2,    33.46,2,    -0.01,2,     2.32,2,    0.000,2,   -0.002,2,   -0.001,4,   2296.6,2,   2394.4,2,   7.6200,2,    25.00,   -193.1,2,      3.1,     0.39,2,  -999.00,  -999.00,9,   1.4702,2
  49NZ20031209,  I3I4,   491,  1,     10,  12034,2,20040107,0605,-19.9900,  85.3043, 4898,   3750.8,   1.4009,  34.7225,2,  34.7219,2,    175.5,1,    183.4,2,   125.83,2,    33.18,2,    -0.01,2,     2.30,2,    0.005,2,    0.000,2,   -0.001,4,   2292.1,2,   2396.8,2,   7.6278,2,    25.00,   -189.1,2,      3.1,     0.39,2,  -999.00,  -999.00,9,   1.4006,2
  49NZ20031209,  I3I4,   491,  1,      9,  12033,2,20040107,0605,-19.9900,  85.3043, 4898,   4000.9,   1.3753,  34.7209,2,  34.7202,2,    176.2,1,    183.8,2,   127.77,2,    33.34,2,    -0.01,2,     2.30,2,    0.000,2,    0.001,2,   -0.001,4,   2291.8,2,   2396.1,2,   7.6270,2,    25.00,   -194.4,2,      3.1,     0.39,2,  -999.00,  -999.00,9,   1.3753,2
  49NZ20031209,  I3I4,   491,  1,      8,  12032,2,20040107,0605,-19.9900,  85.3043, 4898,   4250.6,   1.3649,  34.7193,2,  34.7191,2,    176.6,1,    183.3,2,   130.04,2,    33.46,2,    -0.01,2,     2.31,2,    0.003,2,    0.000,2,   -0.001,4,   2296.1,6,   2399.8,2,   7.6269,2,    25.00,   -194.5,2,      3.1,     0.38,2,  -999.00,  -999.00,9,   1.3649,2
  49NZ20031209,  I3I4,   491,  1,      7,  12031,2,20040107,0605,-19.9900,  85.3043, 4898,   4501.7,   1.3699,  34.7184,2,  34.7184,2,    177.9,1,    183.8,2,   130.74,2,    33.41,2,    -0.01,2,     2.31,2,   -0.001,2,   -0.002,2,   -0.001,4,   2297.7,2,   2399.5,6,   7.6284,2,    25.00,   -193.2,2,      3.1,     0.36,3,  -999.00,  -999.00,9,   1.3699,2
  49NZ20031209,  I3I4,   491,  1,      6,  12030,2,20040107,0605,-19.9900,  85.3043, 4898,   4751.6,   1.3890,  34.7180,2,  34.7175,3,    179.5,1,    184.3,2,   130.56,2,    33.39,2,    -0.01,2,     2.30,2,   -0.001,2,   -0.003,2,   -0.001,4,   2295.9,2,   2399.8,2,   7.6284,6,    25.00,   -189.4,2,      3.1,     0.38,2,  -999.00,  -999.00,9,   1.3890,2
  49NZ20031209,  I3I4,   491,  1,      5,  12029,2,20040107,0605,-19.9900,  85.3043, 4898,   4951.4,   1.4111,  34.7180,2,  34.7181,2,    181.1,1,    184.3,2,   130.43,2,    33.35,2,    -0.01,2,     2.31,2,    0.003,2,   -0.001,2,   -0.001,4,   2295.7,2,   2398.4,2,   7.6291,2,    25.00,   -187.1,2,      3.1,     0.37,2,  -999.00,  -999.00,9,   1.4111,2
  49NZ20031209,  I3I4,   491,  1,      4,  12028,2,20040107,0605,-19.9900,  85.3043, 4898,      5.8,  26.9578,  34.5329,2,-999.0000,9,    194.9,1,   -999.0,9,  -999.00,9,  -999.00,9,  -999.00,9,  -999.00,9, -999.000,9, -999.000,9, -999.000,9,   -999.0,9,   -999.0,9,-999.0000,9,  -999.00,   -999.0,9,   -999.0,  -999.00,9,  -999.00,  -999.00,9,  26.9585,2
  49NZ20031209,  I3I4,   491,  1,      3,  12027,2,20040107,0605,-19.9900,  85.3043, 4898,      5.9,  26.9587,  34.5323,2,-999.0000,9,    194.9,1,   -999.0,9,  -999.00,9,  -999.00,9,  -999.00,9,  -999.00,9, -999.000,9, -999.000,9, -999.000,9,   -999.0,9,   -999.0,9,-999.0000,9,  -999.00,   -999.0,9,   -999.0,  -999.00,9,  -999.00,  -999.00,9,  26.9506,2
  49NZ20031209,  I3I4,   491,  1,      2,  12026,2,20040107,0605,-19.9900,  85.3043, 4898,     79.8,  23.2907,  35.1179,2,-999.0000,9,    196.4,1,   -999.0,9,  -999.00,9,  -999.00,9,  -999.00,9,  -999.00,9, -999.000,9, -999.000,9, -999.000,9,   -999.0,9,   -999.0,9,-999.0000,9,  -999.00,   -999.0,9,   -999.0,  -999.00,9,  -999.00,  -999.00,9,  23.2806,2
  49NZ20031209,  I3I4,   491,  1,      1,  12025,2,20040107,0605,-19.9900,  85.3043, 4898,   1002.2,   4.8702,  34.5943,2,  34.5943,2,    113.3,1,    117.1,2,    74.17,2,    35.35,2,    -0.01,2,     2.52,2,    0.042,6,    0.027,6,    0.000,4,   2266.7,2,   2347.6,2,   7.5558,2,    25.00,   -163.6,2,      3.3,     0.42,2,  -999.00,  -999.00,9,   4.8701,2