BOTTLE,20141204PRINUNIVRMK
EXPOCODE,SECT_ID,STNNBR,CASTNO,SAMPNO,BTLNBR,BTLNBR_FLAG_W,DATE,TIME,LATITUDE,LONGITUDE,DEPTH,CTDPRS,CTDTMP,CTDSAL,CTDSAL_FLAG_W,SALNTY,SALNTY_FLAG_W,CTDOXY,CTDOXY_FLAG_W,OXYGEN,OXYGEN_FLAG_W,SILCAT,SILCAT_FLAG_W,NITRAT,NITRAT_FLAG_W,NITRIT,NITRIT_FLAG_W,PHSPHT,PHSPHT_FLAG_W,CFC-11,CFC-11_FLAG_W,CFC-12,CFC-12_FLAG_W,CFC113,CFC113_FLAG_W,TCARBN,TCARBN_FLAG_W,ALKALI,ALKALI_FLAG_W,PH_TOT,PH_TOT_FLAG_W,PH_TMP,DELC14,DELC14_FLAG_W,C14ERR,DELC13,DELC13_FLAG_W,CS-137,CS137ER,CS-137_FLAG_W,SBE35,SBE35_FLAG_W
,,,,,,,,,,,METERS,DBAR,ITS-90,PSS-78,,PSS-78,,UMOL/KG,,UMOL/KG,,UMOL/KG,,UMOL/KG,,UMOL/KG,,UMOL/KG,,PMOL/KG,,PMOL/KG,,PMOL/KG,,UMOL/KG,,UMOL/KG,,,,DEG C,/MILLE,,/MILLE,/MILLE,,DM/.1MG,DM/.1MG,,ITS-90,
  49NZ20031209,  I3I4,   593,  1,     36,  12024,2,20031215,2124,-24.6632,  40.9987, 3637,     10.6,  27.8809,  35.1512,2,  35.1739,3,    191.7,1,    201.6,2,     1.83,2,     0.02,2,     0.00,2,     0.13,2, -999.000,5, -999.000,5, -999.000,5,   1972.2,2,   2302.3,2,   8.0901,2,    25.00,   -999.0,9,   -999.0,  -999.00,9,  -999.00,  -999.00,9,  27.8764,2
  49NZ20031209,  I3I4,   593,  1,     35,  12023,2,20031215,2124,-24.6632,  40.9987, 3637,     50.5,  24.1102,  35.3022,2,  35.3331,3,    208.0,1,    218.6,2,     1.85,2,    -0.01,2,     0.01,2,     0.14,2,    1.936,2,    1.125,2, -999.000,5,   1988.7,6,   2311.0,2,   8.0722,2,    25.00,   -999.0,9,   -999.0,  -999.00,9,  -999.00,  -999.00,9,  24.0966,2
  49NZ20031209,  I3I4,   593,  1,     34,  12022,2,20031215,2124,-24.6632,  40.9987, 3637,     99.1,  20.7882,  35.3337,2,  35.3333,2,    153.3,1,    162.7,2,     5.80,2,     6.68,2,     0.05,2,     0.57,2,    1.997,2,    1.140,2,    0.139,4,   2058.5,2,   2308.9,6,   7.9536,2,    25.00,   -999.0,9,   -999.0,  -999.00,9,  -999.00,  -999.00,9,  20.7693,2
  49NZ20031209,  I3I4,   593,  1,     33,  12015,2,20031215,2124,-24.6632,  40.9987, 3637,    149.6,  18.9844,  35.5224,2,  35.5251,2,    162.6,1,    170.2,2,     6.06,2,     6.66,2,     0.02,2,     0.56,2,    2.177,2,    1.238,2,    0.154,4,   2078.8,2,   2323.9,2,   7.9354,6,    25.00,   -999.0,9,   -999.0,  -999.00,9,  -999.00,  -999.00,9,  18.9849,2
  49NZ20031209,  I3I4,   593,  1,     32,  12020,2,20031215,2124,-24.6632,  40.9987, 3637,    199.9,  17.6379,  35.6350,2,  35.6354,2,    185.8,1,    194.5,2,     4.65,2,     4.69,2,     0.01,2,     0.45,2,    2.403,2,    1.347,2,    0.196,4,   2081.6,2,   2328.8,2,   7.9445,2,    25.00,   -999.0,9,   -999.0,  -999.00,9,  -999.00,  -999.00,9,  17.6393,2
  49NZ20031209,  I3I4,   593,  1,     31,  12019,2,20031215,2124,-24.6632,  40.9987, 3637,    251.1,  15.9356,  35.5535,2,  35.5556,2,    191.4,1,    199.7,2,     4.52,2,     6.16,2,     0.01,2,     0.55,2,    2.645,6,    1.454,6,    0.093,4,   2094.4,2,   2326.1,2,   7.9139,2,    25.00,   -999.0,9,   -999.0,  -999.00,9,  -999.00,  -999.00,9,  15.9398,2
  49NZ20031209,  I3I4,   593,  1,     30,  12018,2,20031215,2124,-24.6632,  40.9987, 3637,    301.1,  14.7438,  35.4461,2,  35.4464,2,    197.4,1,    205.2,2,     4.51,2,     7.34,2,     0.01,2,     0.63,2,    2.734,2,    1.473,2,    0.066,4,   2104.2,2,   2322.3,2,   7.8923,2,    25.00,   -999.0,9,   -999.0,  -999.00,9,  -999.00,  -999.00,9,  14.7424,2
  49NZ20031209,  I3I4,   593,  1,     29,  12017,2,20031215,2124,-24.6632,  40.9987, 3637,    399.6,  13.1457,  35.2609,2,  35.2615,2,    208.3,1,    217.3,2,     4.50,2,     9.26,2,     0.01,2,     0.76,2,    2.953,2,    1.556,2,    0.057,4,   2108.9,2,   2311.9,2,   7.8677,2,    25.00,   -999.0,9,   -999.0,  -999.00,9,  -999.00,  -999.00,9,  13.1469,2
  49NZ20031209,  I3I4,   593,  1,     28,  12016,2,20031215,2124,-24.6632,  40.9987, 3637,    500.2,  11.8899,  35.0813,2,  35.0790,2,    213.9,1,    223.0,2,     4.55,2,    11.46,2,     0.00,2,     0.88,2,    3.153,2,    1.604,2,    0.087,4,   2113.5,2,   2306.9,2,   7.8436,2,    25.00,   -999.0,9,   -999.0,  -999.00,9,  -999.00,  -999.00,9,  11.8904,2
  49NZ20031209,  I3I4,   593,  1,     27,  12012,2,20031215,2124,-24.6632,  40.9987, 3637,    599.5,  10.2083,  34.8416,2,  34.8403,2,    209.2,1,    218.2,2,     7.00,2,    15.73,2,     0.00,2,     1.16,2,    2.850,2,    1.409,2,    0.081,4,   2125.8,2,   2297.3,2,   7.7982,2,    25.00,   -999.0,9,   -999.0,  -999.00,9,  -999.00,  -999.00,9,  10.2073,2
  49NZ20031209,  I3I4,   593,  1,     26,  12014,2,20031215,2124,-24.6632,  40.9987, 3637,    700.3,   8.6363,  34.6659,2,  34.6628,2,    196.7,1,    204.2,2,    13.24,2,    20.84,2,     0.00,2,     1.49,2,    2.195,2,    1.060,2,    0.037,4,   2147.9,6,   2290.9,2,   7.7448,2,    25.00,   -999.0,9,   -999.0,  -999.00,9,  -999.00,  -999.00,9,   8.6346,2
  49NZ20031209,  I3I4,   593,  1,     25,  12013,2,20031215,2124,-24.6632,  40.9987, 3637,    800.9,   7.1270,  34.5397,2,  34.5400,2,    187.6,1,    195.4,2,    21.10,2,    25.16,2,     0.00,2,     1.78,2,    1.718,2,    0.829,2,    0.051,4,   2168.8,2,   2293.0,6,   7.6937,2,    25.00,   -999.0,9,   -999.0,  -999.00,9,  -999.00,  -999.00,9,   7.1284,2
  49NZ20031209,  I3I4,   593,  1,     24,  12048,2,20031215,2124,-24.6632,  40.9987, 3637,    898.7,   5.7946,  34.4768,2,  34.4774,2,    179.0,1,    186.2,2,    31.98,2,    28.76,2,     0.00,2,     2.02,2,    1.234,2,    0.585,2,    0.039,4,   2190.9,2,   2299.9,2,   7.6536,2,    25.00,   -999.0,9,   -999.0,  -999.00,9,  -999.00,  -999.00,9,   5.7929,2
  49NZ20031209,  I3I4,   593,  1,     23,  12047,2,20031215,2124,-24.6632,  40.9987, 3637,   1000.9,   5.0750,  34.4992,2,  34.4995,2,    163.6,1,    170.3,2,    44.77,2,    31.15,2,     0.00,2,     2.21,2,    0.755,6,    0.353,6,    0.000,4,   2214.0,2,   2312.4,2,   7.6198,2,    25.00,   -999.0,9,   -999.0,  -999.00,9,  -999.00,  -999.00,9,   5.0755,2
  49NZ20031209,  I3I4,   593,  1,     22,  12046,2,20031215,2124,-24.6632,  40.9987, 3637,   1200.2,   4.2630,  34.6036,2,  34.6019,2,    144.1,1,    149.9,2,    64.75,2,    33.40,2,     0.00,2,     2.39,2,    0.303,2,    0.142,2,    0.000,4,   2247.5,2,   2332.7,2,   7.5855,2,    25.00,   -999.0,9,   -999.0,  -999.00,9,  -999.00,  -999.00,9,   4.2622,2
  49NZ20031209,  I3I4,   593,  1,     21,  12045,2,20031215,2124,-24.6632,  40.9987, 3637,   1401.8,   3.5914,  34.6539,2,  34.6534,2,    146.4,1,    152.2,2,    74.52,2,    33.45,2,     0.00,2,     2.39,2,    0.155,2,    0.075,2,    0.000,4,   2257.8,2,   2343.0,2,   7.5860,2,    25.00,   -999.0,9,   -999.0,  -999.00,9,  -999.00,  -999.00,9,   3.5914,2
  49NZ20031209,  I3I4,   593,  1,     20,  12044,2,20031215,2124,-24.6632,  40.9987, 3637,   1602.1,   3.1364,  34.7063,2,  34.7058,2,    152.3,1,    158.4,2,    81.11,2,    32.83,2,     0.00,2,     2.34,2,    0.060,2,    0.023,2,    0.000,4,   2261.3,2,   2351.8,2,   7.5933,2,    25.00,   -999.0,9,   -999.0,  -999.00,9,  -999.00,  -999.00,9,   3.1371,2
  49NZ20031209,  I3I4,   593,  1,     19,  12043,2,20031215,2124,-24.6632,  40.9987, 3637,   1800.1,   2.8550,  34.7344,2,  34.7340,2,    161.0,1,    167.4,2,    82.27,2,    31.88,2,     0.00,2,     2.27,2,    0.024,2,    0.004,2,    0.000,4,   2258.5,2,   2352.3,2,   7.6063,2,    25.00,   -999.0,9,   -999.0,  -999.00,9,  -999.00,  -999.00,9,   2.8549,2
  49NZ20031209,  I3I4,   593,  1,     18,  12042,2,20031215,2124,-24.6632,  40.9987, 3637,   2000.1,   2.6433,  34.7525,2,  34.7524,2,    171.7,1,    178.9,2,    79.90,2,    30.80,2,     0.00,2,     2.18,2,    0.007,2,   -0.003,2,    0.000,4,   2250.8,2,   2357.5,2,   7.6213,6,    25.00,   -999.0,9,   -999.0,  -999.00,9,  -999.00,  -999.00,9,   2.6434,2
  49NZ20031209,  I3I4,   593,  1,     17,  12041,2,20031215,2124,-24.6632,  40.9987, 3637,   3498.2,   1.4503,  34.7626,2,  34.7626,2,    209.7,1,    216.3,2,    91.85,2,    29.10,2,     0.00,2,     2.03,2,    0.014,2,    0.002,2,   -0.001,4,   2241.3,2,   2350.9,2,   7.6519,2,    25.00,   -999.0,9,   -999.0,  -999.00,9,  -999.00,  -999.00,9,   1.4501,2
  49NZ20031209,  I3I4,   593,  1,     16,  12040,2,20031215,2124,-24.6632,  40.9987, 3637,   2399.6,   2.3821,  34.7864,2,  34.7869,2,    190.4,1,    198.2,2,    74.04,2,    28.70,2,     0.00,2,     2.01,2,    0.003,2,    0.002,2,    0.000,4,   2237.0,6,   2346.1,2,   7.6476,2,    25.00,   -999.0,9,   -999.0,  -999.00,9,  -999.00,  -999.00,9,   2.3823,2
  49NZ20031209,  I3I4,   593,  1,     15,  12039,2,20031215,2124,-24.6632,  40.9987, 3637,   2599.1,   2.2733,  34.7979,2,  34.7982,2,    198.8,1,    207.0,2,    71.27,2,    27.80,2,     0.00,2,     1.95,2,    0.014,2,   -0.001,2,    0.000,4,   2230.9,2,   2344.2,6,   7.6608,2,    25.00,   -999.0,9,   -999.0,  -999.00,9,  -999.00,  -999.00,9,   2.2734,2
  49NZ20031209,  I3I4,   593,  1,     14,  12038,2,20031215,2124,-24.6632,  40.9987, 3637,   2799.8,   2.1401,  34.7985,2,  34.7980,2,    202.6,1,    210.8,2,    73.14,2,    27.71,2,     0.00,2,     1.94,2,   -0.002,2,    0.000,2,    0.000,4,   2229.9,2,   2340.6,2,   7.6619,6,    25.00,   -999.0,9,   -999.0,  -999.00,9,  -999.00,  -999.00,9,   2.1402,2
  49NZ20031209,  I3I4,   593,  1,     13,  12037,2,20031215,2124,-24.6632,  40.9987, 3637,   3000.6,   1.9854,  34.7952,2,  34.7958,2,    205.9,1,    213.9,2,    76.03,2,    27.73,2,     0.00,2,     1.94,2,    0.002,2,    0.000,2,    0.000,4,   2230.8,2,   2345.2,2,   7.6631,2,    25.00,   -999.0,9,   -999.0,  -999.00,9,  -999.00,  -999.00,9,   1.9854,2
  49NZ20031209,  I3I4,   593,  1,     12,  12036,2,20031215,2124,-24.6632,  40.9987, 3637,   3251.1,   1.7394,  34.7818,2,  34.7822,2,    207.9,1,    215.5,2,    82.96,2,    28.24,2,     0.00,2,     1.96,2,    0.007,2,    0.001,2,   -0.001,4,   2234.6,2,   2350.6,2,   7.6650,2,    25.00,   -999.0,9,   -999.0,  -999.00,9,  -999.00,  -999.00,9,   1.7394,2
  49NZ20031209,  I3I4,   593,  1,     11,  12035,2,20031215,2124,-24.6632,  40.9987, 3637,   3499.2,   1.4496,  34.7625,2,  34.7626,2,    209.7,1,    216.3,2,    91.87,2,    29.17,2,     0.00,2,     2.03,2,    0.013,2,    0.014,2,   -0.001,4,   2242.2,2,   2354.3,2,   7.6535,2,    25.00,   -999.0,9,   -999.0,  -999.00,9,  -999.00,  -999.00,9,   1.4493,2
  49NZ20031209,  I3I4,   593,  1,     10,  12034,2,20031215,2124,-24.6632,  40.9987, 3637,   3668.5,   1.2877,  34.7509,2,  34.7507,2,    211.1,1,    216.9,2,    97.09,2,    29.62,2,     0.00,2,     2.07,2,    0.024,2,    0.013,2,   -0.001,4,   2244.6,2,   2356.6,2,   7.6483,2,    25.00,   -999.0,9,   -999.0,  -999.00,9,  -999.00,  -999.00,9,   1.2877,2
  49NZ20031209,  I3I4,   593,  1,      9,  12033,9,20031215,2124,-24.6632,  40.9987, 3637,   2901.6,   2.0526,  34.7967,2,-999.0000,9,    204.3,1,   -999.0,9,  -999.00,9,  -999.00,9,  -999.00,9,  -999.00,9, -999.000,9, -999.000,9, -999.000,9,   -999.0,9,   -999.0,9,-999.0000,9,  -999.00,   -999.0,9,   -999.0,  -999.00,9,  -999.00,  -999.00,9,   2.0528,2
  49NZ20031209,  I3I4,   593,  1,      8,  12032,9,20031215,2124,-24.6632,  40.9987, 3637,   3100.7,   1.9169,  34.7921,2,-999.0000,9,    206.8,1,   -999.0,9,  -999.00,9,  -999.00,9,  -999.00,9,  -999.00,9, -999.000,9, -999.000,9, -999.000,9,   -999.0,9,   -999.0,9,-999.0000,9,  -999.00,   -999.0,9,   -999.0,  -999.00,9,  -999.00,  -999.00,9,   1.9177,2
  49NZ20031209,  I3I4,   593,  1,      7,  12031,9,20031215,2124,-24.6632,  40.9987, 3637,   3351.7,   1.6275,  34.7746,2,-999.0000,9,    208.7,1,   -999.0,9,  -999.00,9,  -999.00,9,  -999.00,9,  -999.00,9, -999.000,9, -999.000,9, -999.000,9,   -999.0,9,   -999.0,9,-999.0000,9,  -999.00,   -999.0,9,   -999.0,  -999.00,9,  -999.00,  -999.00,9,   1.6276,2
  49NZ20031209,  I3I4,   593,  1,      6,  12030,9,20031215,2124,-24.6632,  40.9987, 3637,   1000.8,   5.0754,  34.4989,2,-999.0000,9,    163.9,1,   -999.0,9,  -999.00,9,  -999.00,9,  -999.00,9,  -999.00,9, -999.000,9, -999.000,9, -999.000,9,   -999.0,9,   -999.0,9,-999.0000,9,  -999.00,   -999.0,9,   -999.0,  -999.00,9,  -999.00,  -999.00,9,   5.0744,2
  49NZ20031209,  I3I4,   593,  1,      5,  12029,9,20031215,2124,-24.6632,  40.9987, 3637,   1001.0,   5.0747,  34.4988,2,-999.0000,9,    163.8,1,   -999.0,9,  -999.00,9,  -999.00,9,  -999.00,9,  -999.00,9, -999.000,9, -999.000,9, -999.000,9,   -999.0,9,   -999.0,9,-999.0000,9,  -999.00,   -999.0,9,   -999.0,  -999.00,9,  -999.00,  -999.00,9,   5.0745,2
  49NZ20031209,  I3I4,   593,  1,      4,  12028,9,20031215,2124,-24.6632,  40.9987, 3637,   1001.3,   5.0763,  34.4993,2,-999.0000,9,    163.6,1,   -999.0,9,  -999.00,9,  -999.00,9,  -999.00,9,  -999.00,9, -999.000,9, -999.000,9, -999.000,9,   -999.0,9,   -999.0,9,-999.0000,9,  -999.00,   -999.0,9,   -999.0,  -999.00,9,  -999.00,  -999.00,9,   5.0775,2
  49NZ20031209,  I3I4,   593,  1,      3,  12027,9,20031215,2124,-24.6632,  40.9987, 3637,   1000.4,   5.0781,  34.4994,2,-999.0000,9,    163.6,1,   -999.0,9,  -999.00,9,  -999.00,9,  -999.00,9,  -999.00,9, -999.000,9, -999.000,9, -999.000,9,   -999.0,9,   -999.0,9,-999.0000,9,  -999.00,   -999.0,9,   -999.0,  -999.00,9,  -999.00,  -999.00,9,   5.0783,2
  49NZ20031209,  I3I4,   593,  1,      2,  12026,9,20031215,2124,-24.6632,  40.9987, 3637,     10.1,  27.8811,  35.1510,2,-999.0000,9,    191.8,1,   -999.0,9,  -999.00,9,  -999.00,9,  -999.00,9,  -999.00,9, -999.000,9, -999.000,9, -999.000,9,   -999.0,9,   -999.0,9,-999.0000,9,  -999.00,   -999.0,9,   -999.0,  -999.00,9,  -999.00,  -999.00,9,  27.8781,2
  49NZ20031209,  I3I4,   593,  1,      1,  12025,2,20031215,2124,-24.6632,  40.9987, 3637,   2199.1,   2.4933,  34.7719,2,  34.7716,2,    180.9,1,    188.6,2,    77.64,2,    29.70,2,     0.00,2,     2.10,2,    0.009,2,   -0.002,2,    0.000,4,   2246.2,2,   2348.4,2,   7.6412,2,    25.00,   -999.0,9,   -999.0,  -999.00,9,  -999.00,  -999.00,9,   2.4934,2