BOTTLE,20141204PRINUNIVRMK
EXPOCODE,SECT_ID,STNNBR,CASTNO,SAMPNO,BTLNBR,BTLNBR_FLAG_W,DATE,TIME,LATITUDE,LONGITUDE,DEPTH,CTDPRS,CTDTMP,CTDSAL,CTDSAL_FLAG_W,SALNTY,SALNTY_FLAG_W,CTDOXY,CTDOXY_FLAG_W,OXYGEN,OXYGEN_FLAG_W,SILCAT,SILCAT_FLAG_W,NITRAT,NITRAT_FLAG_W,NITRIT,NITRIT_FLAG_W,PHSPHT,PHSPHT_FLAG_W,CFC-11,CFC-11_FLAG_W,CFC-12,CFC-12_FLAG_W,CFC113,CFC113_FLAG_W,TCARBN,TCARBN_FLAG_W,ALKALI,ALKALI_FLAG_W,PH_TOT,PH_TOT_FLAG_W,PH_TMP,DELC14,DELC14_FLAG_W,C14ERR,DELC13,DELC13_FLAG_W,CS-137,CS137ER,CS-137_FLAG_W,SBE35,SBE35_FLAG_W
,,,,,,,,,,,METERS,DBAR,ITS-90,PSS-78,,PSS-78,,UMOL/KG,,UMOL/KG,,UMOL/KG,,UMOL/KG,,UMOL/KG,,UMOL/KG,,PMOL/KG,,PMOL/KG,,PMOL/KG,,UMOL/KG,,UMOL/KG,,,,DEG C,/MILLE,,/MILLE,/MILLE,,DM/.1MG,DM/.1MG,,ITS-90,
  49NZ20031209,  I3I4,   523,  1,     36,  12024,2,20031229,1902,-20.0015,  65.9805, 2473,      8.9,  26.5839,  35.0483,2,  35.0483,2,    196.1,1,    204.7,2,     1.71,2,     0.03,2,     0.00,2,     0.11,2,    1.656,2,    1.061,2,    0.420,4,   1972.7,2,   2294.1,2,   8.0846,2,    25.00,   -999.0,9,   -999.0,  -999.00,9,  -999.00,  -999.00,9,  26.5812,2
  49NZ20031209,  I3I4,   523,  1,     35,  12023,2,20031229,1902,-20.0015,  65.9805, 2473,     49.5,  24.7031,  35.1374,2,  35.1377,2,    211.4,1,    219.3,2,     1.93,2,     0.00,2,     0.01,2,     0.09,2,    1.911,2,    1.125,2, -999.000,5,   1981.5,6,   2301.2,2,   8.0789,2,    25.00,   -999.0,9,   -999.0,  -999.00,9,  -999.00,  -999.00,9,  24.7269,2
  49NZ20031209,  I3I4,   523,  1,     34,  12022,2,20031229,1902,-20.0015,  65.9805, 2473,     98.6,  21.8930,  35.3940,2,  35.3941,2,    213.8,1,    223.4,2,     2.02,2,     0.01,2,     0.00,2,     0.11,2,    2.031,2,    1.222,2, -999.000,5,   2003.2,2,   2313.4,6,   8.0658,2,    25.00,   -999.0,9,   -999.0,  -999.00,9,  -999.00,  -999.00,9,  21.8901,2
  49NZ20031209,  I3I4,   523,  1,     33,  12015,2,20031229,1902,-20.0015,  65.9805, 2473,    149.6,  20.5078,  35.6270,2,  35.6263,2,    192.9,1,    201.1,2,     2.42,2,     0.97,2,     0.19,2,     0.22,2,    2.107,2,    1.254,2,    0.385,4,   2047.9,2,   2329.5,2,   8.0118,6,    25.00,   -999.0,9,   -999.0,  -999.00,9,  -999.00,  -999.00,9,  20.5072,2
  49NZ20031209,  I3I4,   523,  1,     32,  12020,2,20031229,1902,-20.0015,  65.9805, 2473,    200.5,  19.0990,  35.6712,2,  35.6957,3,    175.9,1,    185.0,2,     4.01,2,     4.06,2,     0.01,2,     0.39,2,    2.160,6,    1.264,6,    0.100,4,   2079.6,2,   2337.1,2,   7.9624,2,    25.00,   -999.0,9,   -999.0,  -999.00,9,  -999.00,  -999.00,9,  19.0966,2
  49NZ20031209,  I3I4,   523,  1,     31,  12019,2,20031229,1902,-20.0015,  65.9805, 2473,    250.6,  16.9820,  35.6074,2,  35.6081,2,    175.0,1,    181.9,2,     5.90,2,     6.57,2,     0.01,2,     0.56,2,    2.304,2,    1.311,2,    0.043,4,   2104.0,2,   2330.5,3,   7.9136,2,    25.00,   -999.0,9,   -999.0,  -999.00,9,  -999.00,  -999.00,9,  16.9814,2
  49NZ20031209,  I3I4,   523,  1,     30,  12018,2,20031229,1902,-20.0015,  65.9805, 2473,    299.8,  15.9117,  35.5811,2,  35.5811,2,    187.5,1,    194.5,2,     4.95,2,     6.22,2,     0.01,2,     0.55,2,    2.480,2,    1.391,2,    0.034,4,   2106.6,2,   2345.9,2,   7.9075,2,    25.00,   -999.0,9,   -999.0,  -999.00,9,  -999.00,  -999.00,9,  15.9068,2
  49NZ20031209,  I3I4,   523,  1,     29,  12021,2,20031229,1902,-20.0015,  65.9805, 2473,    400.1,  12.9049,  35.2448,2,  35.2432,2,    206.7,1,    214.4,2,     4.60,2,     9.45,2,     0.01,2,     0.75,2,    2.893,2,    1.551,2,    0.062,4,   2118.2,2,   2307.8,4,   7.8595,2,    25.00,   -999.0,9,   -999.0,  -999.00,9,  -999.00,  -999.00,9,  12.9025,2
  49NZ20031209,  I3I4,   523,  1,     28,  12016,2,20031229,1902,-20.0015,  65.9805, 2473,    500.1,  10.8780,  34.9434,2,  34.9454,2,    218.2,1,    225.8,2,     4.60,2,    12.96,2,     0.00,2,     0.96,2,    3.126,2,    1.602,2,    0.084,4,   2122.8,2,   2300.7,2,   7.8222,2,    25.00,   -999.0,9,   -999.0,  -999.00,9,  -999.00,  -999.00,9,  10.8869,2
  49NZ20031209,  I3I4,   523,  1,     27,  12012,2,20031229,1902,-20.0015,  65.9805, 2473,    599.0,   9.6792,  34.7640,2,  34.7632,2,    218.6,1,    226.5,2,     5.68,2,    16.07,2,     0.01,2,     1.15,2,    3.073,2,    1.547,2,    0.104,4,   2130.0,2,   2293.5,2,   7.7929,2,    25.00,   -999.0,9,   -999.0,  -999.00,9,  -999.00,  -999.00,9,   9.6962,2
  49NZ20031209,  I3I4,   523,  1,     26,  12014,2,20031229,1902,-20.0015,  65.9805, 2473,    698.6,   8.0462,  34.5885,2,  34.5869,2,    192.6,1,    199.3,2,    14.82,2,    22.82,2,     0.00,2,     1.58,2,    1.820,2,    0.950,2,    0.039,4,   2158.6,6,   2292.1,2,   7.7201,2,    25.00,   -999.0,9,   -999.0,  -999.00,9,  -999.00,  -999.00,9,   8.0486,2
  49NZ20031209,  I3I4,   523,  1,     25,  12013,2,20031229,1902,-20.0015,  65.9805, 2473,    799.7,   6.9152,  34.5447,2,  34.5448,2,    171.6,1,    174.3,2,    29.06,2,    27.53,2,     0.00,2,     1.92,2,    0.959,2,    0.531,2,    0.023,4,   2191.4,2,   2301.8,6,   7.6627,2,    25.00,   -999.0,9,   -999.0,  -999.00,9,  -999.00,  -999.00,9,   6.9189,2
  49NZ20031209,  I3I4,   523,  1,     24,  12048,2,20031229,1902,-20.0015,  65.9805, 2473,    899.5,   5.7603,  34.5355,2,  34.5356,2,    147.3,1,    151.7,2,    46.65,2,    31.53,2,     0.00,2,     2.21,2,    0.404,2,    0.216,2,    0.015,4,   2227.5,2,   2315.1,2,   7.6104,6,    25.00,   -999.0,9,   -999.0,  -999.00,9,  -999.00,  -999.00,9,   5.7602,2
  49NZ20031209,  I3I4,   523,  1,     23,  12047,2,20031229,1902,-20.0015,  65.9805, 2473,   1000.8,   5.1742,  34.6435,2,  34.6444,2,    113.0,1,    115.6,2,    72.75,2,    34.65,2,     0.00,2,     2.47,2,    0.094,6,    0.052,6,    0.029,4,   2269.9,2,   2341.6,2,   7.5634,2,    25.00,   -999.0,9,   -999.0,  -999.00,9,  -999.00,  -999.00,9,   5.1741,2
  49NZ20031209,  I3I4,   523,  1,     22,  12046,2,20031229,1902,-20.0015,  65.9805, 2473,   1198.7,   4.3716,  34.6673,2,  34.6671,2,    117.1,1,    119.9,2,    83.92,2,    35.20,2,     0.00,2,     2.51,2,    0.012,2,    0.018,2,    0.000,4,   2282.4,2,   2357.6,2,   7.5600,2,    25.00,   -999.0,9,   -999.0,  -999.00,9,  -999.00,  -999.00,9,   4.3719,2
  49NZ20031209,  I3I4,   523,  1,     21,  12045,2,20031229,1902,-20.0015,  65.9805, 2473,   1399.6,   3.7046,  34.6865,2,  34.6845,2,    126.6,1,    130.1,2,    91.05,2,    35.01,2,     0.00,2,     2.49,2,    0.005,2,    0.005,2,    0.000,4,   2286.8,2,   2360.0,2,   7.5672,2,    25.00,   -999.0,9,   -999.0,  -999.00,9,  -999.00,  -999.00,9,   3.7046,2
  49NZ20031209,  I3I4,   523,  1,     20,  12044,2,20031229,1902,-20.0015,  65.9805, 2473,   1601.1,   3.0542,  34.6936,2,  34.6929,2,    141.8,1,    146.1,2,    94.95,2,    34.35,2,     0.01,2,     2.42,2,    0.000,2,   -0.001,2,    0.000,4,   2282.4,2,   2362.1,2,   7.5792,2,    25.00,   -999.0,9,   -999.0,  -999.00,9,  -999.00,  -999.00,9,   3.0544,2
  49NZ20031209,  I3I4,   523,  1,     19,  12043,2,20031229,1902,-20.0015,  65.9805, 2473,   1800.8,   2.5222,  34.7113,2,  34.7105,2,    153.4,1,    157.5,2,   101.78,2,    33.80,2,     0.00,2,     2.38,2,   -0.001,2,    0.001,2,    0.000,4,   2284.0,2,   2373.3,2,   7.5922,2,    25.00,   -999.0,9,   -999.0,  -999.00,9,  -999.00,  -999.00,9,   2.5222,2
  49NZ20031209,  I3I4,   523,  1,     18,  12042,2,20031229,1902,-20.0015,  65.9805, 2473,   1999.6,   2.1731,  34.7179,2,  34.7177,2,    162.1,1,    166.5,2,   106.72,2,    33.39,2,     0.00,2,     2.34,2,    0.001,2,    0.001,2,    0.000,4,   2285.0,2,   2375.2,2,   7.6031,2,    25.00,   -999.0,9,   -999.0,  -999.00,9,  -999.00,  -999.00,9,   2.1731,2
  49NZ20031209,  I3I4,   523,  1,     17,  12041,2,20031229,1902,-20.0015,  65.9805, 2473,   2200.5,   2.0316,  34.7202,2,  34.7207,2,    165.9,1,    170.1,2,   109.48,2,    33.28,2,     0.00,2,     2.33,2,    0.005,2,    0.003,2,    0.000,4,   2287.3,2,   2378.7,2,   7.6071,2,    25.00,   -999.0,9,   -999.0,  -999.00,9,  -999.00,  -999.00,9,   2.0320,2
  49NZ20031209,  I3I4,   523,  1,     16,  12040,2,20031229,1902,-20.0015,  65.9805, 2473,   2000.0,   2.1730,  34.7178,2,  34.7176,2,    162.1,1,    166.6,2,   106.80,2,    33.40,2,     0.00,2,     2.34,2,   -0.001,2,   -0.002,2,    0.000,4,   2284.2,2,   2377.5,2,   7.6048,2,    25.00,   -999.0,9,   -999.0,  -999.00,9,  -999.00,  -999.00,9,   2.1729,2
  49NZ20031209,  I3I4,   523,  1,     15,  12039,2,20031229,1902,-20.0015,  65.9805, 2473,   2379.4,   1.9971,  34.7209,2,  34.7213,2,    167.4,1,    171.2,2,   110.20,2,    33.25,2,     0.00,2,     2.32,2,   -0.004,2,   -0.002,2,    0.000,4,   2285.3,2,   2380.9,2,   7.6091,2,    25.00,   -999.0,9,   -999.0,  -999.00,9,  -999.00,  -999.00,9,   1.9969,2
  49NZ20031209,  I3I4,   523,  1,     14,  12038,9,20031229,1902,-20.0015,  65.9805, 2473,   2100.3,   2.0922,  34.7193,2,-999.0000,9,    164.1,1,   -999.0,9,  -999.00,9,  -999.00,9,  -999.00,9,  -999.00,9, -999.000,9, -999.000,9, -999.000,9,   -999.0,9,   -999.0,9,-999.0000,9,  -999.00,   -999.0,9,   -999.0,  -999.00,9,  -999.00,  -999.00,9,   2.0921,2
  49NZ20031209,  I3I4,   523,  1,     13,  12037,9,20031229,1902,-20.0015,  65.9805, 2473,   1001.3,   5.1788,  34.6457,2,-999.0000,9,    112.6,1,   -999.0,9,  -999.00,9,  -999.00,9,  -999.00,9,  -999.00,9, -999.000,9, -999.000,9, -999.000,9,   -999.0,9,   -999.0,9,-999.0000,9,  -999.00,   -999.0,9,   -999.0,  -999.00,9,  -999.00,  -999.00,9,   5.1786,2
  49NZ20031209,  I3I4,   523,  1,     12,  12036,9,20031229,1902,-20.0015,  65.9805, 2473,   1000.9,   5.1766,  34.6451,2,-999.0000,9,    112.8,1,   -999.0,9,  -999.00,9,  -999.00,9,  -999.00,9,  -999.00,9, -999.000,9, -999.000,9, -999.000,9,   -999.0,9,   -999.0,9,-999.0000,9,  -999.00,   -999.0,9,   -999.0,  -999.00,9,  -999.00,  -999.00,9,   5.1768,2
  49NZ20031209,  I3I4,   523,  1,     11,  12035,9,20031229,1902,-20.0015,  65.9805, 2473,   1000.4,   5.1743,  34.6438,2,-999.0000,9,    112.7,1,   -999.0,9,  -999.00,9,  -999.00,9,  -999.00,9,  -999.00,9, -999.000,9, -999.000,9, -999.000,9,   -999.0,9,   -999.0,9,-999.0000,9,  -999.00,   -999.0,9,   -999.0,  -999.00,9,  -999.00,  -999.00,9,   5.1752,2
  49NZ20031209,  I3I4,   523,  1,     10,  12034,9,20031229,1902,-20.0015,  65.9805, 2473,   1001.2,   5.1773,  34.6452,2,-999.0000,9,    112.8,1,   -999.0,9,  -999.00,9,  -999.00,9,  -999.00,9,  -999.00,9, -999.000,9, -999.000,9, -999.000,9,   -999.0,9,   -999.0,9,-999.0000,9,  -999.00,   -999.0,9,   -999.0,  -999.00,9,  -999.00,  -999.00,9,   5.1768,2
  49NZ20031209,  I3I4,   523,  1,      9,  12033,9,20031229,1902,-20.0015,  65.9805, 2473,   1000.8,   5.1767,  34.6447,2,-999.0000,9,    112.8,1,   -999.0,9,  -999.00,9,  -999.00,9,  -999.00,9,  -999.00,9, -999.000,9, -999.000,9, -999.000,9,   -999.0,9,   -999.0,9,-999.0000,9,  -999.00,   -999.0,9,   -999.0,  -999.00,9,  -999.00,  -999.00,9,   5.1778,2
  49NZ20031209,  I3I4,   523,  1,      8,  12032,9,20031229,1902,-20.0015,  65.9805, 2473,   1001.2,   5.1769,  34.6447,2,-999.0000,9,    113.0,1,   -999.0,9,  -999.00,9,  -999.00,9,  -999.00,9,  -999.00,9, -999.000,9, -999.000,9, -999.000,9,   -999.0,9,   -999.0,9,-999.0000,9,  -999.00,   -999.0,9,   -999.0,  -999.00,9,  -999.00,  -999.00,9,   5.1773,2
  49NZ20031209,  I3I4,   523,  1,      7,  12031,9,20031229,1902,-20.0015,  65.9805, 2473,   1001.0,   5.1758,  34.6443,2,-999.0000,9,    112.9,1,   -999.0,9,  -999.00,9,  -999.00,9,  -999.00,9,  -999.00,9, -999.000,9, -999.000,9, -999.000,9,   -999.0,9,   -999.0,9,-999.0000,9,  -999.00,   -999.0,9,   -999.0,  -999.00,9,  -999.00,  -999.00,9,   5.1762,2
  49NZ20031209,  I3I4,   523,  1,      6,  12030,9,20031229,1902,-20.0015,  65.9805, 2473,   1001.0,   5.1765,  34.6446,2,-999.0000,9,    112.9,1,   -999.0,9,  -999.00,9,  -999.00,9,  -999.00,9,  -999.00,9, -999.000,9, -999.000,9, -999.000,9,   -999.0,9,   -999.0,9,-999.0000,9,  -999.00,   -999.0,9,   -999.0,  -999.00,9,  -999.00,  -999.00,9,   5.1769,2
  49NZ20031209,  I3I4,   523,  1,      5,  12029,9,20031229,1902,-20.0015,  65.9805, 2473,   1000.8,   5.1759,  34.6441,2,-999.0000,9,    113.0,1,   -999.0,9,  -999.00,9,  -999.00,9,  -999.00,9,  -999.00,9, -999.000,9, -999.000,9, -999.000,9,   -999.0,9,   -999.0,9,-999.0000,9,  -999.00,   -999.0,9,   -999.0,  -999.00,9,  -999.00,  -999.00,9,   5.1767,2
  49NZ20031209,  I3I4,   523,  1,      4,  12028,9,20031229,1902,-20.0015,  65.9805, 2473,   1000.8,   5.1747,  34.6438,2,-999.0000,9,    113.0,1,   -999.0,9,  -999.00,9,  -999.00,9,  -999.00,9,  -999.00,9, -999.000,9, -999.000,9, -999.000,9,   -999.0,9,   -999.0,9,-999.0000,9,  -999.00,   -999.0,9,   -999.0,  -999.00,9,  -999.00,  -999.00,9,   5.1748,2
  49NZ20031209,  I3I4,   523,  1,      3,  12027,9,20031229,1902,-20.0015,  65.9805, 2473,   1000.7,   5.1758,  34.6441,2,-999.0000,9,    113.0,1,   -999.0,9,  -999.00,9,  -999.00,9,  -999.00,9,  -999.00,9, -999.000,9, -999.000,9, -999.000,9,   -999.0,9,   -999.0,9,-999.0000,9,  -999.00,   -999.0,9,   -999.0,  -999.00,9,  -999.00,  -999.00,9,   5.1764,2
  49NZ20031209,  I3I4,   523,  1,      2,  12026,9,20031229,1902,-20.0015,  65.9805, 2473,   1000.5,   5.1746,  34.6437,2,-999.0000,9,    113.1,1,   -999.0,9,  -999.00,9,  -999.00,9,  -999.00,9,  -999.00,9, -999.000,9, -999.000,9, -999.000,9,   -999.0,9,   -999.0,9,-999.0000,9,  -999.00,   -999.0,9,   -999.0,  -999.00,9,  -999.00,  -999.00,9,   5.1751,2
  49NZ20031209,  I3I4,   523,  1,      1,  12025,9,20031229,1902,-20.0015,  65.9805, 2473,      9.1,  26.5850,  35.0484,2,-999.0000,9,    195.9,1,   -999.0,9,  -999.00,9,  -999.00,9,  -999.00,9,  -999.00,9, -999.000,9, -999.000,9, -999.000,9,   -999.0,9,   -999.0,9,-999.0000,9,  -999.00,   -999.0,9,   -999.0,  -999.00,9,  -999.00,  -999.00,9,  26.5834,2