BOTTLE,20141204PRINUNIVRMK
EXPOCODE,SECT_ID,STNNBR,CASTNO,SAMPNO,BTLNBR,BTLNBR_FLAG_W,DATE,TIME,LATITUDE,LONGITUDE,DEPTH,CTDPRS,CTDTMP,CTDSAL,CTDSAL_FLAG_W,SALNTY,SALNTY_FLAG_W,CTDOXY,CTDOXY_FLAG_W,OXYGEN,OXYGEN_FLAG_W,SILCAT,SILCAT_FLAG_W,NITRAT,NITRAT_FLAG_W,NITRIT,NITRIT_FLAG_W,PHSPHT,PHSPHT_FLAG_W,CFC-11,CFC-11_FLAG_W,CFC-12,CFC-12_FLAG_W,CFC113,CFC113_FLAG_W,TCARBN,TCARBN_FLAG_W,ALKALI,ALKALI_FLAG_W,PH_TOT,PH_TOT_FLAG_W,PH_TMP,DELC14,DELC14_FLAG_W,C14ERR,DELC13,DELC13_FLAG_W,CS-137,CS137ER,CS-137_FLAG_W,SBE35,SBE35_FLAG_W
,,,,,,,,,,,METERS,DBAR,ITS-90,PSS-78,,PSS-78,,UMOL/KG,,UMOL/KG,,UMOL/KG,,UMOL/KG,,UMOL/KG,,UMOL/KG,,PMOL/KG,,PMOL/KG,,PMOL/KG,,UMOL/KG,,UMOL/KG,,,,DEG C,/MILLE,,/MILLE,/MILLE,,DM/.1MG,DM/.1MG,,ITS-90,
  49NZ20031209,  I3I4,   508,  1,     36,  12024,2,20040102,1653,-19.9872,  73.6638, 4278,     10.2,  26.0816,  35.1040,2,  35.1175,2,    197.8,1,    206.7,2,     1.97,2,     0.02,2,     0.01,2,     0.10,2, -999.000,9, -999.000,9, -999.000,9,   -999.0,9,   -999.0,9,-999.0000,9,  -999.00,   -999.0,9,   -999.0,  -999.00,9,  -999.00,  -999.00,9,  26.0717,2
  49NZ20031209,  I3I4,   508,  1,     35,  12023,2,20040102,1653,-19.9872,  73.6638, 4278,     50.3,  23.1763,  35.2946,2,  35.2872,2,    215.1,1,    224.4,2,     2.04,2,     0.00,2,     0.00,2,     0.10,2, -999.000,9, -999.000,9, -999.000,9,   -999.0,9,   -999.0,9,-999.0000,9,  -999.00,   -999.0,9,   -999.0,  -999.00,9,  -999.00,  -999.00,9,  23.1797,2
  49NZ20031209,  I3I4,   508,  1,     34,  12022,2,20040102,1653,-19.9872,  73.6638, 4278,     98.5,  21.4382,  35.4534,2,  35.4565,2,    209.6,1,    218.7,2,     2.09,2,    -0.02,2,     0.01,2,     0.11,2, -999.000,9, -999.000,9, -999.000,9,   -999.0,9,   -999.0,9,-999.0000,9,  -999.00,   -999.0,9,   -999.0,  -999.00,9,  -999.00,  -999.00,9,  21.4376,2
  49NZ20031209,  I3I4,   508,  1,     33,  12015,2,20040102,1653,-19.9872,  73.6638, 4278,    151.1,  20.4127,  35.6367,2,  35.6364,2,    202.8,1,    211.7,2,     2.23,2,     0.51,2,     0.08,2,     0.16,2, -999.000,9, -999.000,9, -999.000,9,   -999.0,9,   -999.0,9,-999.0000,9,  -999.00,   -999.0,9,   -999.0,  -999.00,9,  -999.00,  -999.00,9,  20.4123,2
  49NZ20031209,  I3I4,   508,  1,     32,  12020,2,20040102,1653,-19.9872,  73.6638, 4278,    201.3,  19.1523,  35.7765,2,  35.7786,2,    190.1,1,    198.1,2,     2.79,2,     2.37,2,     0.03,2,     0.27,2, -999.000,9, -999.000,9, -999.000,9,   -999.0,9,   -999.0,9,-999.0000,9,  -999.00,   -999.0,9,   -999.0,  -999.00,9,  -999.00,  -999.00,9,  19.1507,2
  49NZ20031209,  I3I4,   508,  1,     31,  12019,2,20040102,1653,-19.9872,  73.6638, 4278,    250.9,  17.1924,  35.7832,2,  35.7823,2,    198.1,1,    206.2,2,     2.27,2,     2.80,2,     0.01,2,     0.33,2, -999.000,9, -999.000,9, -999.000,9,   -999.0,9,   -999.0,9,-999.0000,9,  -999.00,   -999.0,9,   -999.0,  -999.00,9,  -999.00,  -999.00,9,  17.1874,2
  49NZ20031209,  I3I4,   508,  1,     30,  12018,2,20040102,1653,-19.9872,  73.6638, 4278,    300.4,  15.5121,  35.6138,2,  35.6110,2,    207.3,1,    215.4,2,     2.04,2,     3.95,2,     0.01,2,     0.42,2, -999.000,9, -999.000,9, -999.000,9,   -999.0,9,   -999.0,9,-999.0000,9,  -999.00,   -999.0,9,   -999.0,  -999.00,9,  -999.00,  -999.00,9,  15.5146,2
  49NZ20031209,  I3I4,   508,  1,     29,  12021,2,20040102,1653,-19.9872,  73.6638, 4278,    400.6,  12.8814,  35.2468,2,  35.2379,2,    219.0,1,    227.8,2,     2.64,2,     8.29,2,     0.01,2,     0.68,2, -999.000,9, -999.000,9, -999.000,9,   -999.0,9,   -999.0,9,-999.0000,9,  -999.00,   -999.0,9,   -999.0,  -999.00,9,  -999.00,  -999.00,9,  12.8810,2
  49NZ20031209,  I3I4,   508,  1,     28,  12016,2,20040102,1653,-19.9872,  73.6638, 4278,    499.4,  11.3925,  35.0171,2,  35.0092,2,    225.8,1,    234.6,2,     3.19,2,    11.15,2,     0.01,2,     0.84,2, -999.000,9, -999.000,9, -999.000,9,   -999.0,9,   -999.0,9,-999.0000,9,  -999.00,   -999.0,9,   -999.0,  -999.00,9,  -999.00,  -999.00,9,  11.3920,2
  49NZ20031209,  I3I4,   508,  1,     27,  12012,2,20040102,1653,-19.9872,  73.6638, 4278,    600.7,  10.1840,  34.8301,2,  34.8268,2,    224.8,1,    233.4,2,     4.08,2,    14.16,2,     0.01,2,     1.02,2, -999.000,9, -999.000,9, -999.000,9,   -999.0,9,   -999.0,9,-999.0000,9,  -999.00,   -999.0,9,   -999.0,  -999.00,9,  -999.00,  -999.00,9,  10.1843,2
  49NZ20031209,  I3I4,   508,  1,     26,  12014,2,20040102,1653,-19.9872,  73.6638, 4278,    700.6,   8.9961,  34.6627,2,  34.6553,2,    217.4,1,    224.9,2,     7.09,2,    18.33,2,     0.00,2,     1.29,2, -999.000,9, -999.000,9, -999.000,9,   -999.0,9,   -999.0,9,-999.0000,9,  -999.00,   -999.0,9,   -999.0,  -999.00,9,  -999.00,  -999.00,9,   8.9962,2
  49NZ20031209,  I3I4,   508,  1,     25,  12013,2,20040102,1653,-19.9872,  73.6638, 4278,    800.0,   7.0142,  34.5025,2,  34.5015,2,    185.6,1,    192.8,2,    19.76,2,    25.73,2,     0.00,2,     1.78,2, -999.000,9, -999.000,9, -999.000,9,   -999.0,9,   -999.0,9,-999.0000,9,  -999.00,   -999.0,9,   -999.0,  -999.00,9,  -999.00,  -999.00,9,   7.0205,2
  49NZ20031209,  I3I4,   508,  1,     24,  12048,2,20040102,1653,-19.9872,  73.6638, 4278,    900.3,   5.4982,  34.4535,2,  34.4562,2,    166.2,1,    171.9,2,    37.73,2,    30.62,2,     0.01,2,     2.13,2, -999.000,9, -999.000,9, -999.000,9,   -999.0,9,   -999.0,9,-999.0000,9,  -999.00,   -999.0,9,   -999.0,  -999.00,9,  -999.00,  -999.00,9,   5.4988,2
  49NZ20031209,  I3I4,   508,  1,     23,  12047,2,20040102,1653,-19.9872,  73.6638, 4278,   1011.1,   4.9410,  34.5490,2,  34.5490,2,    130.3,1,    134.7,2,    62.98,2,    34.02,2,     0.00,2,     2.42,2, -999.000,9, -999.000,9, -999.000,9,   -999.0,9,   -999.0,9,-999.0000,9,  -999.00,   -999.0,9,   -999.0,  -999.00,9,  -999.00,  -999.00,9,   4.9431,2
  49NZ20031209,  I3I4,   508,  1,     22,  12046,2,20040102,1653,-19.9872,  73.6638, 4278,   1201.4,   4.5172,  34.6591,2,  34.6598,2,    109.0,1,    112.1,2,    85.31,2,    35.68,2,     0.01,2,     2.57,2, -999.000,9, -999.000,9, -999.000,9,   -999.0,9,   -999.0,9,-999.0000,9,  -999.00,   -999.0,9,   -999.0,  -999.00,9,  -999.00,  -999.00,9,   4.5170,2
  49NZ20031209,  I3I4,   508,  1,     21,  12045,2,20040102,1653,-19.9872,  73.6638, 4278,   1401.1,   4.0289,  34.6981,2,  34.6985,2,    112.4,1,    116.0,2,    94.28,2,    35.64,2,     0.01,2,     2.58,2, -999.000,9, -999.000,9, -999.000,9,   -999.0,9,   -999.0,9,-999.0000,9,  -999.00,   -999.0,9,   -999.0,  -999.00,9,  -999.00,  -999.00,9,   4.0290,2
  49NZ20031209,  I3I4,   508,  1,     20,  12044,2,20040102,1653,-19.9872,  73.6638, 4278,   1600.8,   3.5672,  34.7113,2,  34.7109,2,    120.7,1,    124.8,2,    99.06,2,    35.36,2,     0.00,2,     2.55,2, -999.000,9, -999.000,9, -999.000,9,   -999.0,9,   -999.0,9,-999.0000,9,  -999.00,   -999.0,9,   -999.0,  -999.00,9,  -999.00,  -999.00,9,   3.5685,2
  49NZ20031209,  I3I4,   508,  1,     19,  12043,2,20040102,1653,-19.9872,  73.6638, 4278,   1800.7,   2.9639,  34.7038,2,  34.7035,2,    140.3,1,    145.6,2,    98.67,2,    34.33,2,     0.00,2,     2.44,2, -999.000,9, -999.000,9, -999.000,9,   -999.0,9,   -999.0,9,-999.0000,9,  -999.00,   -999.0,9,   -999.0,  -999.00,9,  -999.00,  -999.00,9,   2.9639,2
  49NZ20031209,  I3I4,   508,  1,     18,  12042,2,20040102,1653,-19.9872,  73.6638, 4278,   2000.6,   2.4454,  34.7120,2,  34.7116,2,    154.8,1,    161.0,2,   101.36,2,    33.52,2,     0.00,2,     2.36,2, -999.000,9, -999.000,9, -999.000,9,   -999.0,9,   -999.0,9,-999.0000,9,  -999.00,   -999.0,9,   -999.0,  -999.00,9,  -999.00,  -999.00,9,   2.4457,2
  49NZ20031209,  I3I4,   508,  1,     17,  12041,2,20040102,1653,-19.9872,  73.6638, 4278,   2200.2,   2.1108,  34.7208,2,  34.7206,2,    163.7,1,    170.6,2,   105.14,2,    33.00,2,     0.00,2,     2.31,2, -999.000,9, -999.000,9, -999.000,9,   -999.0,9,   -999.0,9,-999.0000,9,  -999.00,   -999.0,9,   -999.0,  -999.00,9,  -999.00,  -999.00,9,   2.1107,2
  49NZ20031209,  I3I4,   508,  1,     16,  12040,2,20040102,1653,-19.9872,  73.6638, 4278,   2399.9,   1.8729,  34.7246,2,  34.7247,2,    171.6,1,    178.9,2,   107.19,2,    32.56,2,     0.00,2,     2.28,2, -999.000,9, -999.000,9, -999.000,9,   -999.0,9,   -999.0,9,-999.0000,9,  -999.00,   -999.0,9,   -999.0,  -999.00,9,  -999.00,  -999.00,9,   1.8727,2
  49NZ20031209,  I3I4,   508,  1,     15,  12039,2,20040102,1653,-19.9872,  73.6638, 4278,   2600.3,   1.7268,  34.7268,2,  34.7268,2,    175.5,1,    183.2,2,   109.44,2,    32.34,2,     0.01,2,     2.25,2, -999.000,9, -999.000,9, -999.000,9,   -999.0,9,   -999.0,9,-999.0000,9,  -999.00,   -999.0,9,   -999.0,  -999.00,9,  -999.00,  -999.00,9,   1.7268,2
  49NZ20031209,  I3I4,   508,  1,     14,  12038,2,20040102,1653,-19.9872,  73.6638, 4278,   2800.3,   1.5834,  34.7269,2,  34.7278,2,    176.9,1,    184.8,2,   114.57,2,    32.53,2,     0.00,2,     2.26,2, -999.000,9, -999.000,9, -999.000,9,   -999.0,9,   -999.0,9,-999.0000,9,  -999.00,   -999.0,9,   -999.0,  -999.00,9,  -999.00,  -999.00,9,   1.5832,2
  49NZ20031209,  I3I4,   508,  1,     13,  12037,2,20040102,1653,-19.9872,  73.6638, 4278,   3000.1,   1.4832,  34.7260,2,  34.7263,2,    178.7,1,    186.3,2,   117.76,2,    32.61,2,     0.00,2,     2.26,2, -999.000,9, -999.000,9, -999.000,9,   -999.0,9,   -999.0,9,-999.0000,9,  -999.00,   -999.0,9,   -999.0,  -999.00,9,  -999.00,  -999.00,9,   1.4831,2
  49NZ20031209,  I3I4,   508,  1,     12,  12036,2,20040102,1653,-19.9872,  73.6638, 4278,   3250.5,   1.4332,  34.7248,2,  34.7249,2,    179.2,1,    186.3,2,   120.87,2,    32.72,2,     0.00,2,     2.27,2, -999.000,9, -999.000,9, -999.000,9,   -999.0,9,   -999.0,9,-999.0000,9,  -999.00,   -999.0,9,   -999.0,  -999.00,9,  -999.00,  -999.00,9,   1.4332,2
  49NZ20031209,  I3I4,   508,  1,     11,  12035,2,20040102,1653,-19.9872,  73.6638, 4278,   3500.4,   1.4107,  34.7232,2,  34.7235,2,    178.9,1,    185.6,2,   123.42,2,    32.92,2,     0.00,2,     2.28,2, -999.000,9, -999.000,9, -999.000,9,   -999.0,9,   -999.0,9,-999.0000,9,  -999.00,   -999.0,9,   -999.0,  -999.00,9,  -999.00,  -999.00,9,   1.4105,2
  49NZ20031209,  I3I4,   508,  1,     10,  12034,2,20040102,1653,-19.9872,  73.6638, 4278,   3749.1,   1.3958,  34.7216,2,  34.7217,2,    178.3,1,    184.3,2,   126.37,2,    33.09,2,     0.00,2,     2.29,2, -999.000,9, -999.000,9, -999.000,9,   -999.0,9,   -999.0,9,-999.0000,9,  -999.00,   -999.0,9,   -999.0,  -999.00,9,  -999.00,  -999.00,9,   1.3956,2
  49NZ20031209,  I3I4,   508,  1,      9,  12033,2,20040102,1653,-19.9872,  73.6638, 4278,   4001.1,   1.4036,  34.7207,2,  34.7209,2,    178.5,1,    183.6,2,   127.98,2,    33.21,2,     0.00,2,     2.31,2, -999.000,9, -999.000,9, -999.000,9,   -999.0,9,   -999.0,9,-999.0000,9,  -999.00,   -999.0,9,   -999.0,  -999.00,9,  -999.00,  -999.00,9,   1.4034,2
  49NZ20031209,  I3I4,   508,  1,      8,  12032,2,20040102,1653,-19.9872,  73.6638, 4278,   4252.1,   1.4204,  34.7203,2,  34.7206,2,    179.4,1,    183.2,2,   128.74,2,    33.29,2,     0.00,2,     2.31,2, -999.000,9, -999.000,9, -999.000,9,   -999.0,9,   -999.0,9,-999.0000,9,  -999.00,   -999.0,9,   -999.0,  -999.00,9,  -999.00,  -999.00,9,   1.4202,2
  49NZ20031209,  I3I4,   508,  1,      7,  12031,2,20040102,1653,-19.9872,  73.6638, 4278,   4301.2,   1.4245,  34.7202,2,  34.7203,2,    179.8,1,    183.3,2,   128.89,2,    33.27,2,     0.00,2,     2.31,2, -999.000,9, -999.000,9, -999.000,9,   -999.0,9,   -999.0,9,-999.0000,9,  -999.00,   -999.0,9,   -999.0,  -999.00,9,  -999.00,  -999.00,9,   1.4244,2
  49NZ20031209,  I3I4,   508,  1,      6,  12030,9,20040102,1653,-19.9872,  73.6638, 4278,   1010.4,   4.9425,  34.5488,2,-999.0000,9,    130.4,1,   -999.0,9,  -999.00,9,  -999.00,9,  -999.00,9,  -999.00,9, -999.000,9, -999.000,9, -999.000,9,   -999.0,9,   -999.0,9,-999.0000,9,  -999.00,   -999.0,9,   -999.0,  -999.00,9,  -999.00,  -999.00,9,   4.9432,2
  49NZ20031209,  I3I4,   508,  1,      5,  12029,9,20040102,1653,-19.9872,  73.6638, 4278,   1010.0,   4.9382,  34.5486,2,-999.0000,9,    130.4,1,   -999.0,9,  -999.00,9,  -999.00,9,  -999.00,9,  -999.00,9, -999.000,9, -999.000,9, -999.000,9,   -999.0,9,   -999.0,9,-999.0000,9,  -999.00,   -999.0,9,   -999.0,  -999.00,9,  -999.00,  -999.00,9,   4.9386,2
  49NZ20031209,  I3I4,   508,  1,      4,  12028,9,20040102,1653,-19.9872,  73.6638, 4278,   1010.0,   4.9418,  34.5488,2,-999.0000,9,    130.2,1,   -999.0,9,  -999.00,9,  -999.00,9,  -999.00,9,  -999.00,9, -999.000,9, -999.000,9, -999.000,9,   -999.0,9,   -999.0,9,-999.0000,9,  -999.00,   -999.0,9,   -999.0,  -999.00,9,  -999.00,  -999.00,9,   4.9434,2
  49NZ20031209,  I3I4,   508,  1,      3,  12027,9,20040102,1653,-19.9872,  73.6638, 4278,   1009.8,   4.9500,  34.5490,2,-999.0000,9,    130.2,1,   -999.0,9,  -999.00,9,  -999.00,9,  -999.00,9,  -999.00,9, -999.000,9, -999.000,9, -999.000,9,   -999.0,9,   -999.0,9,-999.0000,9,  -999.00,   -999.0,9,   -999.0,  -999.00,9,  -999.00,  -999.00,9,   4.9507,2
  49NZ20031209,  I3I4,   508,  1,      2,  12026,9,20040102,1653,-19.9872,  73.6638, 4278,   1008.6,   4.9472,  34.5489,2,-999.0000,9,    130.1,1,   -999.0,9,  -999.00,9,  -999.00,9,  -999.00,9,  -999.00,9, -999.000,9, -999.000,9, -999.000,9,   -999.0,9,   -999.0,9,-999.0000,9,  -999.00,   -999.0,9,   -999.0,  -999.00,9,  -999.00,  -999.00,9,   4.9482,2
  49NZ20031209,  I3I4,   508,  1,      1,  12025,9,20040102,1653,-19.9872,  73.6638, 4278,     10.2,  26.0594,  35.1156,2,-999.0000,9,    197.5,1,   -999.0,9,  -999.00,9,  -999.00,9,  -999.00,9,  -999.00,9, -999.000,9, -999.000,9, -999.000,9,   -999.0,9,   -999.0,9,-999.0000,9,  -999.00,   -999.0,9,   -999.0,  -999.00,9,  -999.00,  -999.00,9,  26.0508,2