BOTTLE,20141204PRINUNIVRMK
EXPOCODE,SECT_ID,STNNBR,CASTNO,SAMPNO,BTLNBR,BTLNBR_FLAG_W,DATE,TIME,LATITUDE,LONGITUDE,DEPTH,CTDPRS,CTDTMP,CTDSAL,CTDSAL_FLAG_W,SALNTY,SALNTY_FLAG_W,CTDOXY,CTDOXY_FLAG_W,OXYGEN,OXYGEN_FLAG_W,SILCAT,SILCAT_FLAG_W,NITRAT,NITRAT_FLAG_W,NITRIT,NITRIT_FLAG_W,PHSPHT,PHSPHT_FLAG_W,CFC-11,CFC-11_FLAG_W,CFC-12,CFC-12_FLAG_W,CFC113,CFC113_FLAG_W,TCARBN,TCARBN_FLAG_W,ALKALI,ALKALI_FLAG_W,PH_TOT,PH_TOT_FLAG_W,PH_TMP,DELC14,DELC14_FLAG_W,C14ERR,DELC13,DELC13_FLAG_W,CS-137,CS137ER,CS-137_FLAG_W,SBE35,SBE35_FLAG_W
,,,,,,,,,,,METERS,DBAR,ITS-90,PSS-78,,PSS-78,,UMOL/KG,,UMOL/KG,,UMOL/KG,,UMOL/KG,,UMOL/KG,,UMOL/KG,,PMOL/KG,,PMOL/KG,,PMOL/KG,,UMOL/KG,,UMOL/KG,,,,DEG C,/MILLE,,/MILLE,/MILLE,,DM/.1MG,DM/.1MG,,ITS-90,
  49NZ20031209,  I3I4,   514,  1,     36,  12024,2,20031231,1143,-19.9902,  70.7437, 3540,      8.8,  26.6312,  34.9397,2,  34.9397,2,    196.4,1,    205.0,2,     1.80,2,     0.01,2,     0.01,2,     0.11,2, -999.000,9, -999.000,9, -999.000,9,   -999.0,9,   -999.0,9,-999.0000,9,  -999.00,   -999.0,9,   -999.0,  -999.00,9,  -999.00,  -999.00,9,  26.6317,2
  49NZ20031209,  I3I4,   514,  1,     35,  12023,2,20031231,1143,-19.9902,  70.7437, 3540,     49.9,  25.5150,  35.0082,2,  35.0090,2,    201.7,1,    210.6,2,     1.86,2,    -0.02,2,     0.01,2,     0.10,2, -999.000,9, -999.000,9, -999.000,9,   -999.0,9,   -999.0,9,-999.0000,9,  -999.00,   -999.0,9,   -999.0,  -999.00,9,  -999.00,  -999.00,9,  25.5132,2
  49NZ20031209,  I3I4,   514,  1,     34,  12022,2,20031231,1143,-19.9902,  70.7437, 3540,     99.8,  23.0607,  35.1047,2,  35.1008,2,    208.1,1,    217.3,2,     2.07,2,    -0.02,2,     0.01,2,     0.13,2, -999.000,9, -999.000,9, -999.000,9,   -999.0,9,   -999.0,9,-999.0000,9,  -999.00,   -999.0,9,   -999.0,  -999.00,9,  -999.00,  -999.00,9,  23.0601,2
  49NZ20031209,  I3I4,   514,  1,     33,  12015,2,20031231,1143,-19.9902,  70.7437, 3540,    152.2,  21.3645,  35.2886,2,  35.2903,2,    176.3,1,    184.4,2,     3.80,2,     2.83,2,     0.15,2,     0.34,2, -999.000,9, -999.000,9, -999.000,9,   -999.0,9,   -999.0,9,-999.0000,9,  -999.00,   -999.0,9,   -999.0,  -999.00,9,  -999.00,  -999.00,9,  21.3700,2
  49NZ20031209,  I3I4,   514,  1,     32,  12020,2,20031231,1143,-19.9902,  70.7437, 3540,    199.9,  20.0929,  35.5771,2,  35.5761,2,    174.7,1,    181.7,2,     4.00,2,     3.71,2,     0.03,2,     0.37,2, -999.000,9, -999.000,9, -999.000,9,   -999.0,9,   -999.0,9,-999.0000,9,  -999.00,   -999.0,9,   -999.0,  -999.00,9,  -999.00,  -999.00,9,  20.0889,2
  49NZ20031209,  I3I4,   514,  1,     31,  12019,2,20031231,1143,-19.9902,  70.7437, 3540,    249.3,  18.5213,  35.7754,2,  35.7755,2,    183.6,1,    190.9,2,     3.46,2,     3.53,2,     0.02,2,     0.36,2, -999.000,9, -999.000,9, -999.000,9,   -999.0,9,   -999.0,9,-999.0000,9,  -999.00,   -999.0,9,   -999.0,  -999.00,9,  -999.00,  -999.00,9,  18.5172,2
  49NZ20031209,  I3I4,   514,  1,     30,  12018,2,20031231,1143,-19.9902,  70.7437, 3540,    301.0,  16.9656,  35.7596,2,  35.7581,2,    197.1,1,    204.9,2,     2.51,2,     3.21,2,     0.01,2,     0.36,2, -999.000,9, -999.000,9, -999.000,9,   -999.0,9,   -999.0,9,-999.0000,9,  -999.00,   -999.0,9,   -999.0,  -999.00,9,  -999.00,  -999.00,9,  16.9661,2
  49NZ20031209,  I3I4,   514,  1,     29,  12021,2,20031231,1143,-19.9902,  70.7437, 3540,    399.8,  13.4712,  35.3362,2,  35.3329,2,    212.6,1,    220.6,2,     2.77,2,     7.51,2,     0.01,2,     0.63,2, -999.000,9, -999.000,9, -999.000,9,   -999.0,9,   -999.0,9,-999.0000,9,  -999.00,   -999.0,9,   -999.0,  -999.00,9,  -999.00,  -999.00,9,  13.4714,2
  49NZ20031209,  I3I4,   514,  1,     28,  12016,2,20031231,1143,-19.9902,  70.7437, 3540,    500.6,  11.4397,  35.0282,2,  35.0250,2,    222.4,1,    230.7,2,     3.41,2,    11.16,2,     0.01,2,     0.84,2, -999.000,9, -999.000,9, -999.000,9,   -999.0,9,   -999.0,9,-999.0000,9,  -999.00,   -999.0,9,   -999.0,  -999.00,9,  -999.00,  -999.00,9,  11.4445,2
  49NZ20031209,  I3I4,   514,  1,     27,  12012,2,20031231,1143,-19.9902,  70.7437, 3540,    600.1,  10.0681,  34.8163,2,  34.8141,2,    223.3,1,    231.7,2,     4.36,2,    14.56,2,     0.01,2,     1.06,2, -999.000,9, -999.000,9, -999.000,9,   -999.0,9,   -999.0,9,-999.0000,9,  -999.00,   -999.0,9,   -999.0,  -999.00,9,  -999.00,  -999.00,9,  10.0686,2
  49NZ20031209,  I3I4,   514,  1,     26,  12014,2,20031231,1143,-19.9902,  70.7437, 3540,    699.0,   8.8089,  34.6403,2,  34.6389,2,    216.3,1,    224.3,2,     7.06,2,    18.75,2,     0.01,2,     1.31,2, -999.000,9, -999.000,9, -999.000,9,   -999.0,9,   -999.0,9,-999.0000,9,  -999.00,   -999.0,9,   -999.0,  -999.00,9,  -999.00,  -999.00,9,   8.8083,2
  49NZ20031209,  I3I4,   514,  1,     25,  12013,2,20031231,1143,-19.9902,  70.7437, 3540,    800.2,   6.9920,  34.5073,2,  34.5054,2,    182.8,1,    189.0,2,    21.24,2,    26.29,2,     0.01,2,     1.79,2, -999.000,9, -999.000,9, -999.000,9,   -999.0,9,   -999.0,9,-999.0000,9,  -999.00,   -999.0,9,   -999.0,  -999.00,9,  -999.00,  -999.00,9,   6.9900,2
  49NZ20031209,  I3I4,   514,  1,     24,  12048,2,20031231,1143,-19.9902,  70.7437, 3540,    900.4,   5.6885,  34.5358,2,  34.5361,2,    137.2,1,    141.3,2,    50.31,2,    32.52,2,     0.01,2,     2.26,2, -999.000,9, -999.000,9, -999.000,9,   -999.0,9,   -999.0,9,-999.0000,9,  -999.00,   -999.0,9,   -999.0,  -999.00,9,  -999.00,  -999.00,9,   5.6886,2
  49NZ20031209,  I3I4,   514,  1,     23,  12047,2,20031231,1143,-19.9902,  70.7437, 3540,   1000.2,   5.1137,  34.5761,2,  34.5769,2,    121.8,1,    125.3,2,    65.58,2,    34.49,2,     0.01,2,     2.43,2, -999.000,9, -999.000,9, -999.000,9,   -999.0,9,   -999.0,9,-999.0000,9,  -999.00,   -999.0,9,   -999.0,  -999.00,9,  -999.00,  -999.00,9,   5.1144,2
  49NZ20031209,  I3I4,   514,  1,     22,  12046,2,20031231,1143,-19.9902,  70.7437, 3540,   1200.7,   4.5112,  34.6593,2,  34.6587,2,    109.4,1,    112.6,2,    84.40,2,    35.68,2,     0.00,2,     2.54,2, -999.000,9, -999.000,9, -999.000,9,   -999.0,9,   -999.0,9,-999.0000,9,  -999.00,   -999.0,9,   -999.0,  -999.00,9,  -999.00,  -999.00,9,   4.5132,2
  49NZ20031209,  I3I4,   514,  1,     21,  12045,2,20031231,1143,-19.9902,  70.7437, 3540,   1401.0,   4.0366,  34.6898,2,  34.6900,2,    113.5,1,    116.8,2,    92.51,2,    35.69,2,     0.01,2,     2.53,2, -999.000,9, -999.000,9, -999.000,9,   -999.0,9,   -999.0,9,-999.0000,9,  -999.00,   -999.0,9,   -999.0,  -999.00,9,  -999.00,  -999.00,9,   4.0371,2
  49NZ20031209,  I3I4,   514,  1,     20,  12044,2,20031231,1143,-19.9902,  70.7437, 3540,   1599.4,   3.5655,  34.7117,2,  34.7118,2,    120.1,1,    123.8,2,    98.93,2,    35.45,2,     0.01,2,     2.51,2, -999.000,9, -999.000,9, -999.000,9,   -999.0,9,   -999.0,9,-999.0000,9,  -999.00,   -999.0,9,   -999.0,  -999.00,9,  -999.00,  -999.00,9,   3.5658,2
  49NZ20031209,  I3I4,   514,  1,     19,  12043,2,20031231,1143,-19.9902,  70.7437, 3540,   1799.9,   3.1394,  34.7226,2,  34.7223,2,    128.9,1,    132.8,2,   103.77,2,    35.08,2,     0.01,2,     2.48,2, -999.000,9, -999.000,9, -999.000,9,   -999.0,9,   -999.0,9,-999.0000,9,  -999.00,   -999.0,9,   -999.0,  -999.00,9,  -999.00,  -999.00,9,   3.1396,2
  49NZ20031209,  I3I4,   514,  1,     18,  12042,2,20031231,1143,-19.9902,  70.7437, 3540,   2000.0,   2.6770,  34.7229,2,  34.7226,2,    143.2,1,    148.1,2,   105.81,2,    34.35,2,     0.01,2,     2.41,2, -999.000,9, -999.000,9, -999.000,9,   -999.0,9,   -999.0,9,-999.0000,9,  -999.00,   -999.0,9,   -999.0,  -999.00,9,  -999.00,  -999.00,9,   2.6774,2
  49NZ20031209,  I3I4,   514,  1,     17,  12041,2,20031231,1143,-19.9902,  70.7437, 3540,   2200.0,   2.3245,  34.7220,2,  34.7216,2,    155.3,1,    160.8,2,   106.38,2,    33.65,2,     0.01,2,     2.35,2, -999.000,9, -999.000,9, -999.000,9,   -999.0,9,   -999.0,9,-999.0000,9,  -999.00,   -999.0,9,   -999.0,  -999.00,9,  -999.00,  -999.00,9,   2.3246,2
  49NZ20031209,  I3I4,   514,  1,     16,  12040,2,20031231,1143,-19.9902,  70.7437, 3540,   2399.0,   1.9949,  34.7219,2,  34.7218,2,    169.8,1,    176.2,2,   104.32,2,    32.67,2,     0.01,2,     2.26,2, -999.000,9, -999.000,9, -999.000,9,   -999.0,9,   -999.0,9,-999.0000,9,  -999.00,   -999.0,9,   -999.0,  -999.00,9,  -999.00,  -999.00,9,   1.9950,2
  49NZ20031209,  I3I4,   514,  1,     15,  12039,2,20031231,1143,-19.9902,  70.7437, 3540,   2599.3,   1.7887,  34.7259,2,  34.7258,2,    175.2,1,    181.8,2,   107.69,2,    32.47,2,     0.01,2,     2.24,2, -999.000,9, -999.000,9, -999.000,9,   -999.0,9,   -999.0,9,-999.0000,9,  -999.00,   -999.0,9,   -999.0,  -999.00,9,  -999.00,  -999.00,9,   1.7888,2
  49NZ20031209,  I3I4,   514,  1,     14,  12038,2,20031231,1143,-19.9902,  70.7437, 3540,   2799.3,   1.6793,  34.7271,2,  34.7270,2,    177.9,1,    184.3,2,   110.32,2,    32.41,2,     0.01,2,     2.23,2, -999.000,9, -999.000,9, -999.000,9,   -999.0,9,   -999.0,9,-999.0000,9,  -999.00,   -999.0,9,   -999.0,  -999.00,9,  -999.00,  -999.00,9,   1.6791,2
  49NZ20031209,  I3I4,   514,  1,     13,  12037,2,20031231,1143,-19.9902,  70.7437, 3540,   3000.8,   1.5623,  34.7271,2,  34.7273,2,    180.1,1,    186.2,2,   113.90,2,    32.47,2,     0.01,2,     2.22,2, -999.000,9, -999.000,9, -999.000,9,   -999.0,9,   -999.0,9,-999.0000,9,  -999.00,   -999.0,9,   -999.0,  -999.00,9,  -999.00,  -999.00,9,   1.5623,2
  49NZ20031209,  I3I4,   514,  1,     12,  12036,2,20031231,1143,-19.9902,  70.7437, 3540,   3249.9,   1.4948,  34.7257,2,  34.7257,2,    180.5,1,    186.2,2,   117.80,2,    32.60,2,     0.01,2,     2.25,2, -999.000,9, -999.000,9, -999.000,9,   -999.0,9,   -999.0,9,-999.0000,9,  -999.00,   -999.0,9,   -999.0,  -999.00,9,  -999.00,  -999.00,9,   1.4947,2
  49NZ20031209,  I3I4,   514,  1,     11,  12035,2,20031231,1143,-19.9902,  70.7437, 3540,   3493.4,   1.4630,  34.7243,2,  34.7246,2,    180.4,1,    185.3,2,   121.06,2,    32.76,2,     0.01,2,     2.26,2, -999.000,9, -999.000,9, -999.000,9,   -999.0,9,   -999.0,9,-999.0000,9,  -999.00,   -999.0,9,   -999.0,  -999.00,9,  -999.00,  -999.00,9,   1.4626,2
  49NZ20031209,  I3I4,   514,  1,     10,  12034,2,20031231,1143,-19.9902,  70.7437, 3540,   3666.0,   1.4645,  34.7238,2,  34.7238,2,    181.0,1,    185.0,2,   122.24,2,    32.94,2,     0.00,2,     2.27,2, -999.000,9, -999.000,9, -999.000,9,   -999.0,9,   -999.0,9,-999.0000,9,  -999.00,   -999.0,9,   -999.0,  -999.00,9,  -999.00,  -999.00,9,   1.4646,2
  49NZ20031209,  I3I4,   514,  1,      9,  12033,9,20031231,1143,-19.9902,  70.7437, 3540,   3301.8,   1.4808,  34.7252,2,-999.0000,9,    180.4,1,   -999.0,9,  -999.00,9,  -999.00,9,  -999.00,9,  -999.00,9, -999.000,9, -999.000,9, -999.000,9,   -999.0,9,   -999.0,9,-999.0000,9,  -999.00,   -999.0,9,   -999.0,  -999.00,9,  -999.00,  -999.00,9,   1.4808,2
  49NZ20031209,  I3I4,   514,  1,      8,  12032,9,20031231,1143,-19.9902,  70.7437, 3540,   3100.9,   1.5298,  34.7266,2,-999.0000,9,    180.3,1,   -999.0,9,  -999.00,9,  -999.00,9,  -999.00,9,  -999.00,9, -999.000,9, -999.000,9, -999.000,9,   -999.0,9,   -999.0,9,-999.0000,9,  -999.00,   -999.0,9,   -999.0,  -999.00,9,  -999.00,  -999.00,9,   1.5299,2
  49NZ20031209,  I3I4,   514,  1,      7,  12031,9,20031231,1143,-19.9902,  70.7437, 3540,   2900.7,   1.6047,  34.7274,2,-999.0000,9,    179.3,1,   -999.0,9,  -999.00,9,  -999.00,9,  -999.00,9,  -999.00,9, -999.000,9, -999.000,9, -999.000,9,   -999.0,9,   -999.0,9,-999.0000,9,  -999.00,   -999.0,9,   -999.0,  -999.00,9,  -999.00,  -999.00,9,   1.6049,2
  49NZ20031209,  I3I4,   514,  1,      6,  12030,9,20031231,1143,-19.9902,  70.7437, 3540,   2699.4,   1.7179,  34.7268,2,-999.0000,9,    177.0,1,   -999.0,9,  -999.00,9,  -999.00,9,  -999.00,9,  -999.00,9, -999.000,9, -999.000,9, -999.000,9,   -999.0,9,   -999.0,9,-999.0000,9,  -999.00,   -999.0,9,   -999.0,  -999.00,9,  -999.00,  -999.00,9,   1.7179,2
  49NZ20031209,  I3I4,   514,  1,      5,  12029,9,20031231,1143,-19.9902,  70.7437, 3540,   2500.4,   1.8777,  34.7247,2,-999.0000,9,    173.2,1,   -999.0,9,  -999.00,9,  -999.00,9,  -999.00,9,  -999.00,9, -999.000,9, -999.000,9, -999.000,9,   -999.0,9,   -999.0,9,-999.0000,9,  -999.00,   -999.0,9,   -999.0,  -999.00,9,  -999.00,  -999.00,9,   1.8778,2
  49NZ20031209,  I3I4,   514,  1,      4,  12028,9,20031231,1143,-19.9902,  70.7437, 3540,   2299.5,   2.1706,  34.7187,2,-999.0000,9,    164.0,1,   -999.0,9,  -999.00,9,  -999.00,9,  -999.00,9,  -999.00,9, -999.000,9, -999.000,9, -999.000,9,   -999.0,9,   -999.0,9,-999.0000,9,  -999.00,   -999.0,9,   -999.0,  -999.00,9,  -999.00,  -999.00,9,   2.1708,2
  49NZ20031209,  I3I4,   514,  1,      3,  12027,9,20031231,1143,-19.9902,  70.7437, 3540,   2100.3,   2.4913,  34.7193,2,-999.0000,9,    151.1,1,   -999.0,9,  -999.00,9,  -999.00,9,  -999.00,9,  -999.00,9, -999.000,9, -999.000,9, -999.000,9,   -999.0,9,   -999.0,9,-999.0000,9,  -999.00,   -999.0,9,   -999.0,  -999.00,9,  -999.00,  -999.00,9,   2.4913,2
  49NZ20031209,  I3I4,   514,  1,      2,  12026,9,20031231,1143,-19.9902,  70.7437, 3540,      8.9,  26.6230,  34.9394,2,-999.0000,9,    196.2,1,   -999.0,9,  -999.00,9,  -999.00,9,  -999.00,9,  -999.00,9, -999.000,9, -999.000,9, -999.000,9,   -999.0,9,   -999.0,9,-999.0000,9,  -999.00,   -999.0,9,   -999.0,  -999.00,9,  -999.00,  -999.00,9,  26.6214,2
  49NZ20031209,  I3I4,   514,  1,      1,  12025,9,20031231,1143,-19.9902,  70.7437, 3540,      8.9,  26.6315,  34.9395,2,-999.0000,9,    196.4,1,   -999.0,9,  -999.00,9,  -999.00,9,  -999.00,9,  -999.00,9, -999.000,9, -999.000,9, -999.000,9,   -999.0,9,   -999.0,9,-999.0000,9,  -999.00,   -999.0,9,   -999.0,  -999.00,9,  -999.00,  -999.00,9,  26.6301,2