BOTTLE,20141204PRINUNIVRMK
EXPOCODE,SECT_ID,STNNBR,CASTNO,SAMPNO,BTLNBR,BTLNBR_FLAG_W,DATE,TIME,LATITUDE,LONGITUDE,DEPTH,CTDPRS,CTDTMP,CTDSAL,CTDSAL_FLAG_W,SALNTY,SALNTY_FLAG_W,CTDOXY,CTDOXY_FLAG_W,OXYGEN,OXYGEN_FLAG_W,SILCAT,SILCAT_FLAG_W,NITRAT,NITRAT_FLAG_W,NITRIT,NITRIT_FLAG_W,PHSPHT,PHSPHT_FLAG_W,CFC-11,CFC-11_FLAG_W,CFC-12,CFC-12_FLAG_W,CFC113,CFC113_FLAG_W,TCARBN,TCARBN_FLAG_W,ALKALI,ALKALI_FLAG_W,PH_TOT,PH_TOT_FLAG_W,PH_TMP,DELC14,DELC14_FLAG_W,C14ERR,DELC13,DELC13_FLAG_W,CS-137,CS137ER,CS-137_FLAG_W,SBE35,SBE35_FLAG_W
,,,,,,,,,,,METERS,DBAR,ITS-90,PSS-78,,PSS-78,,UMOL/KG,,UMOL/KG,,UMOL/KG,,UMOL/KG,,UMOL/KG,,UMOL/KG,,PMOL/KG,,PMOL/KG,,PMOL/KG,,UMOL/KG,,UMOL/KG,,,,DEG C,/MILLE,,/MILLE,/MILLE,,DM/.1MG,DM/.1MG,,ITS-90,
  49NZ20031209,  I3I4,   528,  1,     36,  12024,2,20031228,2042,-20.3637,  63.3797, 2917,      9.6,  26.7877,  34.9923,2,  34.9954,2,    195.5,1,    204.3,2,     1.80,2,     0.03,2,     0.00,2,     0.13,2, -999.000,9, -999.000,9, -999.000,9,   -999.0,9,   -999.0,9,-999.0000,9,  -999.00,   -999.0,9,   -999.0,  -999.00,9,  -999.00,  -999.00,9,  26.7871,2
  49NZ20031209,  I3I4,   528,  1,     35,  12023,2,20031228,2042,-20.3637,  63.3797, 2917,     50.0,  25.0071,  34.9881,2,  34.9907,2,    208.6,1,    217.5,2,     2.10,2,    -0.02,2,     0.00,2,     0.11,2, -999.000,9, -999.000,9, -999.000,9,   -999.0,9,   -999.0,9,-999.0000,9,  -999.00,   -999.0,9,   -999.0,  -999.00,9,  -999.00,  -999.00,9,  25.0040,2
  49NZ20031209,  I3I4,   528,  1,     34,  12022,2,20031228,2042,-20.3637,  63.3797, 2917,     98.8,  22.8572,  35.1551,2,  35.1532,2,    209.4,1,    218.4,2,     2.34,2,     0.01,2,     0.00,2,     0.13,2, -999.000,9, -999.000,9, -999.000,9,   -999.0,9,   -999.0,9,-999.0000,9,  -999.00,   -999.0,9,   -999.0,  -999.00,9,  -999.00,  -999.00,9,  22.8779,2
  49NZ20031209,  I3I4,   528,  1,     33,  12015,2,20031228,2042,-20.3637,  63.3797, 2917,    148.8,  21.2981,  35.3107,2,  35.3153,2,    177.3,1,    184.6,2,     4.24,2,     3.30,2,     0.16,2,     0.35,2, -999.000,9, -999.000,9, -999.000,9,   -999.0,9,   -999.0,9,-999.0000,9,  -999.00,   -999.0,9,   -999.0,  -999.00,9,  -999.00,  -999.00,9,  21.2972,2
  49NZ20031209,  I3I4,   528,  1,     32,  12020,2,20031228,2042,-20.3637,  63.3797, 2917,    198.8,  19.9485,  35.6388,2,  35.6418,2,    179.7,1,    186.8,2,     3.86,2,     3.33,2,     0.03,2,     0.35,2, -999.000,9, -999.000,9, -999.000,9,   -999.0,9,   -999.0,9,-999.0000,9,  -999.00,   -999.0,9,   -999.0,  -999.00,9,  -999.00,  -999.00,9,  19.9478,2
  49NZ20031209,  I3I4,   528,  1,     31,  12019,2,20031228,2042,-20.3637,  63.3797, 2917,    249.0,  18.5837,  35.7524,2,  35.7527,2,    186.6,1,    194.1,2,     3.50,2,     3.32,2,     0.01,2,     0.35,2, -999.000,9, -999.000,9, -999.000,9,   -999.0,9,   -999.0,9,-999.0000,9,  -999.00,   -999.0,9,   -999.0,  -999.00,9,  -999.00,  -999.00,9,  18.5847,2
  49NZ20031209,  I3I4,   528,  1,     30,  12018,2,20031228,2042,-20.3637,  63.3797, 2917,    299.8,  17.4984,  35.7574,2,  35.7561,2,    197.6,1,    205.5,2,     2.75,2,     2.90,2,     0.01,2,     0.35,2, -999.000,9, -999.000,9, -999.000,9,   -999.0,9,   -999.0,9,-999.0000,9,  -999.00,   -999.0,9,   -999.0,  -999.00,9,  -999.00,  -999.00,9,  17.4970,2
  49NZ20031209,  I3I4,   528,  1,     29,  12021,2,20031228,2042,-20.3637,  63.3797, 2917,    400.8,  14.2571,  35.4323,2,  35.4320,2,    203.8,1,    211.4,2,     3.69,2,     7.00,2,     0.01,2,     0.61,2, -999.000,9, -999.000,9, -999.000,9,   -999.0,9,   -999.0,9,-999.0000,9,  -999.00,   -999.0,9,   -999.0,  -999.00,9,  -999.00,  -999.00,9,  14.2597,2
  49NZ20031209,  I3I4,   528,  1,     28,  12016,2,20031228,2042,-20.3637,  63.3797, 2917,    499.4,  11.7377,  35.0740,2,  35.0732,2,    214.4,1,    222.1,2,     4.52,2,    11.34,2,     0.00,2,     0.86,2, -999.000,9, -999.000,9, -999.000,9,   -999.0,9,   -999.0,9,-999.0000,9,  -999.00,   -999.0,9,   -999.0,  -999.00,9,  -999.00,  -999.00,9,  11.7381,2
  49NZ20031209,  I3I4,   528,  1,     27,  12012,2,20031228,2042,-20.3637,  63.3797, 2917,    600.0,  10.2198,  34.8421,2,  34.8422,2,    216.4,1,    224.0,2,     5.76,2,    14.94,2,     0.01,2,     1.08,2, -999.000,9, -999.000,9, -999.000,9,   -999.0,9,   -999.0,9,-999.0000,9,  -999.00,   -999.0,9,   -999.0,  -999.00,9,  -999.00,  -999.00,9,  10.2202,2
  49NZ20031209,  I3I4,   528,  1,     26,  12014,2,20031228,2042,-20.3637,  63.3797, 2917,    700.0,   8.9489,  34.6623,2,  34.6609,2,    214.8,1,    222.7,2,     7.56,2,    18.63,2,     0.01,2,     1.30,2, -999.000,9, -999.000,9, -999.000,9,   -999.0,9,   -999.0,9,-999.0000,9,  -999.00,   -999.0,9,   -999.0,  -999.00,9,  -999.00,  -999.00,9,   8.9491,2
  49NZ20031209,  I3I4,   528,  1,     25,  12013,2,20031228,2042,-20.3637,  63.3797, 2917,    799.4,   7.5444,  34.5455,2,  34.5448,2,    187.9,1,    194.4,2,    17.71,2,    24.62,2,     0.00,2,     1.70,2, -999.000,9, -999.000,9, -999.000,9,   -999.0,9,   -999.0,9,-999.0000,9,  -999.00,   -999.0,9,   -999.0,  -999.00,9,  -999.00,  -999.00,9,   7.5447,2
  49NZ20031209,  I3I4,   528,  1,     24,  12048,2,20031228,2042,-20.3637,  63.3797, 2917,    902.0,   6.1875,  34.5069,2,  34.5088,2,    158.9,1,    163.8,2,    36.38,2,    30.08,2,     0.00,2,     2.09,2, -999.000,9, -999.000,9, -999.000,9,   -999.0,9,   -999.0,9,-999.0000,9,  -999.00,   -999.0,9,   -999.0,  -999.00,9,  -999.00,  -999.00,9,   6.1886,2
  49NZ20031209,  I3I4,   528,  1,     23,  12047,2,20031228,2042,-20.3637,  63.3797, 2917,    999.8,   5.3370,  34.5443,2,  34.5463,2,    134.8,1,    138.5,2,    56.53,2,    33.47,2,     0.00,2,     2.36,2, -999.000,9, -999.000,9, -999.000,9,   -999.0,9,   -999.0,9,-999.0000,9,  -999.00,   -999.0,9,   -999.0,  -999.00,9,  -999.00,  -999.00,9,   5.3368,2
  49NZ20031209,  I3I4,   528,  1,     22,  12046,2,20031228,2042,-20.3637,  63.3797, 2917,   1201.0,   4.2642,  34.6163,2,  34.6163,2,    123.5,1,    127.0,2,    78.82,2,    35.29,2,     0.00,2,     2.50,2, -999.000,9, -999.000,9, -999.000,9,   -999.0,9,   -999.0,9,-999.0000,9,  -999.00,   -999.0,9,   -999.0,  -999.00,9,  -999.00,  -999.00,9,   4.2636,2
  49NZ20031209,  I3I4,   528,  1,     21,  12045,2,20031228,2042,-20.3637,  63.3797, 2917,   1400.8,   3.6589,  34.6621,2,  34.6615,2,    129.6,1,    133.3,2,    88.11,2,    35.12,2,     0.00,2,     2.49,2, -999.000,9, -999.000,9, -999.000,9,   -999.0,9,   -999.0,9,-999.0000,9,  -999.00,   -999.0,9,   -999.0,  -999.00,9,  -999.00,  -999.00,9,   3.6592,2
  49NZ20031209,  I3I4,   528,  1,     20,  12044,2,20031228,2042,-20.3637,  63.3797, 2917,   1600.4,   3.0920,  34.6789,2,  34.6801,2,    142.7,1,    147.2,2,    92.15,2,    34.49,2,    -0.01,2,     2.43,2, -999.000,9, -999.000,9, -999.000,9,   -999.0,9,   -999.0,9,-999.0000,9,  -999.00,   -999.0,9,   -999.0,  -999.00,9,  -999.00,  -999.00,9,   3.0921,2
  49NZ20031209,  I3I4,   528,  1,     19,  12043,2,20031228,2042,-20.3637,  63.3797, 2917,   1800.2,   2.6052,  34.6985,2,  34.6987,2,    154.3,1,    159.4,2,    97.21,2,    33.75,2,     0.00,2,     2.37,2, -999.000,9, -999.000,9, -999.000,9,   -999.0,9,   -999.0,9,-999.0000,9,  -999.00,   -999.0,9,   -999.0,  -999.00,9,  -999.00,  -999.00,9,   2.6053,2
  49NZ20031209,  I3I4,   528,  1,     18,  12042,2,20031228,2042,-20.3637,  63.3797, 2917,   1999.3,   2.3011,  34.7156,2,  34.7156,2,    159.2,1,    164.4,2,   104.51,2,    33.57,2,     0.00,2,     2.35,2, -999.000,9, -999.000,9, -999.000,9,   -999.0,9,   -999.0,9,-999.0000,9,  -999.00,   -999.0,9,   -999.0,  -999.00,9,  -999.00,  -999.00,9,   2.3011,2
  49NZ20031209,  I3I4,   528,  1,     17,  12041,2,20031228,2042,-20.3637,  63.3797, 2917,   2199.7,   2.1200,  34.7223,2,  34.7226,2,    161.7,1,    166.8,2,   109.61,2,    33.59,2,     0.00,2,     2.35,2, -999.000,9, -999.000,9, -999.000,9,   -999.0,9,   -999.0,9,-999.0000,9,  -999.00,   -999.0,9,   -999.0,  -999.00,9,  -999.00,  -999.00,9,   2.1200,2
  49NZ20031209,  I3I4,   528,  1,     16,  12040,2,20031228,2042,-20.3637,  63.3797, 2917,   2399.2,   2.0033,  34.7252,2,  34.7249,2,    164.0,1,    168.8,2,   112.72,2,    33.61,2,    -0.01,2,     2.34,2, -999.000,9, -999.000,9, -999.000,9,   -999.0,9,   -999.0,9,-999.0000,9,  -999.00,   -999.0,9,   -999.0,  -999.00,9,  -999.00,  -999.00,9,   2.0032,2
  49NZ20031209,  I3I4,   528,  1,     15,  12039,2,20031228,2042,-20.3637,  63.3797, 2917,   2600.2,   1.8239,  34.7248,2,  34.7251,2,    168.5,1,    173.2,2,   115.81,2,    33.48,2,    -0.01,2,     2.33,2, -999.000,9, -999.000,9, -999.000,9,   -999.0,9,   -999.0,9,-999.0000,9,  -999.00,   -999.0,9,   -999.0,  -999.00,9,  -999.00,  -999.00,9,   1.8242,2
  49NZ20031209,  I3I4,   528,  1,     14,  12038,2,20031228,2042,-20.3637,  63.3797, 2917,   2801.8,   1.7707,  34.7245,2,  34.7246,2,    170.6,1,    175.1,2,   117.49,2,    33.43,2,    -0.01,2,     2.33,2, -999.000,9, -999.000,9, -999.000,9,   -999.0,9,   -999.0,9,-999.0000,9,  -999.00,   -999.0,9,   -999.0,  -999.00,9,  -999.00,  -999.00,9,   1.7706,2
  49NZ20031209,  I3I4,   528,  1,     13,  12037,4,20031228,2042,-20.3637,  63.3797, 2917,   2942.1,   1.7521,  34.7243,2,  34.6859,4,    171.8,1,    151.8,4,    93.54,4,    34.19,4,     0.00,4,     2.40,4, -999.000,9, -999.000,9, -999.000,9,   -999.0,9,   -999.0,9,-999.0000,9,  -999.00,   -999.0,9,   -999.0,  -999.00,9,  -999.00,  -999.00,9,   1.7519,2
  49NZ20031209,  I3I4,   528,  1,     12,  12036,9,20031228,2042,-20.3637,  63.3797, 2917,   2899.1,   1.7541,  34.7244,2,-999.0000,9,    171.4,1,   -999.0,9,  -999.00,9,  -999.00,9,  -999.00,9,  -999.00,9, -999.000,9, -999.000,9, -999.000,9,   -999.0,9,   -999.0,9,-999.0000,9,  -999.00,   -999.0,9,   -999.0,  -999.00,9,  -999.00,  -999.00,9,   1.7539,2
  49NZ20031209,  I3I4,   528,  1,     11,  12035,9,20031228,2042,-20.3637,  63.3797, 2917,   2700.3,   1.7948,  34.7246,2,-999.0000,9,    169.7,1,   -999.0,9,  -999.00,9,  -999.00,9,  -999.00,9,  -999.00,9, -999.000,9, -999.000,9, -999.000,9,   -999.0,9,   -999.0,9,-999.0000,9,  -999.00,   -999.0,9,   -999.0,  -999.00,9,  -999.00,  -999.00,9,   1.7948,2
  49NZ20031209,  I3I4,   528,  1,     10,  12034,9,20031228,2042,-20.3637,  63.3797, 2917,   2501.4,   1.9210,  34.7254,2,-999.0000,9,    166.0,1,   -999.0,9,  -999.00,9,  -999.00,9,  -999.00,9,  -999.00,9, -999.000,9, -999.000,9, -999.000,9,   -999.0,9,   -999.0,9,-999.0000,9,  -999.00,   -999.0,9,   -999.0,  -999.00,9,  -999.00,  -999.00,9,   1.9211,2
  49NZ20031209,  I3I4,   528,  1,      9,  12033,9,20031228,2042,-20.3637,  63.3797, 2917,   2299.5,   2.0602,  34.7237,2,-999.0000,9,    162.9,1,   -999.0,9,  -999.00,9,  -999.00,9,  -999.00,9,  -999.00,9, -999.000,9, -999.000,9, -999.000,9,   -999.0,9,   -999.0,9,-999.0000,9,  -999.00,   -999.0,9,   -999.0,  -999.00,9,  -999.00,  -999.00,9,   2.0602,2
  49NZ20031209,  I3I4,   528,  1,      8,  12032,9,20031228,2042,-20.3637,  63.3797, 2917,   2097.9,   2.1794,  34.7206,2,-999.0000,9,    160.8,1,   -999.0,9,  -999.00,9,  -999.00,9,  -999.00,9,  -999.00,9, -999.000,9, -999.000,9, -999.000,9,   -999.0,9,   -999.0,9,-999.0000,9,  -999.00,   -999.0,9,   -999.0,  -999.00,9,  -999.00,  -999.00,9,   2.1793,2
  49NZ20031209,  I3I4,   528,  1,      7,  12031,9,20031228,2042,-20.3637,  63.3797, 2917,   1001.8,   5.3408,  34.5444,2,-999.0000,9,    135.0,1,   -999.0,9,  -999.00,9,  -999.00,9,  -999.00,9,  -999.00,9, -999.000,9, -999.000,9, -999.000,9,   -999.0,9,   -999.0,9,-999.0000,9,  -999.00,   -999.0,9,   -999.0,  -999.00,9,  -999.00,  -999.00,9,   5.3398,2
  49NZ20031209,  I3I4,   528,  1,      6,  12030,9,20031228,2042,-20.3637,  63.3797, 2917,   1001.7,   5.3393,  34.5446,2,-999.0000,9,    135.0,1,   -999.0,9,  -999.00,9,  -999.00,9,  -999.00,9,  -999.00,9, -999.000,9, -999.000,9, -999.000,9,   -999.0,9,   -999.0,9,-999.0000,9,  -999.00,   -999.0,9,   -999.0,  -999.00,9,  -999.00,  -999.00,9,   5.3399,2
  49NZ20031209,  I3I4,   528,  1,      5,  12029,9,20031228,2042,-20.3637,  63.3797, 2917,   1001.7,   5.3391,  34.5445,2,-999.0000,9,    134.9,1,   -999.0,9,  -999.00,9,  -999.00,9,  -999.00,9,  -999.00,9, -999.000,9, -999.000,9, -999.000,9,   -999.0,9,   -999.0,9,-999.0000,9,  -999.00,   -999.0,9,   -999.0,  -999.00,9,  -999.00,  -999.00,9,   5.3391,2
  49NZ20031209,  I3I4,   528,  1,      4,  12028,9,20031228,2042,-20.3637,  63.3797, 2917,   1001.3,   5.3389,  34.5446,2,-999.0000,9,    135.0,1,   -999.0,9,  -999.00,9,  -999.00,9,  -999.00,9,  -999.00,9, -999.000,9, -999.000,9, -999.000,9,   -999.0,9,   -999.0,9,-999.0000,9,  -999.00,   -999.0,9,   -999.0,  -999.00,9,  -999.00,  -999.00,9,   5.3394,2
  49NZ20031209,  I3I4,   528,  1,      3,  12027,9,20031228,2042,-20.3637,  63.3797, 2917,   1001.4,   5.3380,  34.5446,2,-999.0000,9,    135.0,1,   -999.0,9,  -999.00,9,  -999.00,9,  -999.00,9,  -999.00,9, -999.000,9, -999.000,9, -999.000,9,   -999.0,9,   -999.0,9,-999.0000,9,  -999.00,   -999.0,9,   -999.0,  -999.00,9,  -999.00,  -999.00,9,   5.3390,2
  49NZ20031209,  I3I4,   528,  1,      2,  12026,9,20031228,2042,-20.3637,  63.3797, 2917,   1000.3,   5.3400,  34.5440,2,-999.0000,9,    134.9,1,   -999.0,9,  -999.00,9,  -999.00,9,  -999.00,9,  -999.00,9, -999.000,9, -999.000,9, -999.000,9,   -999.0,9,   -999.0,9,-999.0000,9,  -999.00,   -999.0,9,   -999.0,  -999.00,9,  -999.00,  -999.00,9,   5.3393,2
  49NZ20031209,  I3I4,   528,  1,      1,  12025,9,20031228,2042,-20.3637,  63.3797, 2917,      9.6,  26.7878,  34.9927,2,-999.0000,9,    195.7,1,   -999.0,9,  -999.00,9,  -999.00,9,  -999.00,9,  -999.00,9, -999.000,9, -999.000,9, -999.000,9,   -999.0,9,   -999.0,9,-999.0000,9,  -999.00,   -999.0,9,   -999.0,  -999.00,9,  -999.00,  -999.00,9,  26.7863,2