BOTTLE,20141204PRINUNIVRMK
EXPOCODE,SECT_ID,STNNBR,CASTNO,SAMPNO,BTLNBR,BTLNBR_FLAG_W,DATE,TIME,LATITUDE,LONGITUDE,DEPTH,CTDPRS,CTDTMP,CTDSAL,CTDSAL_FLAG_W,SALNTY,SALNTY_FLAG_W,CTDOXY,CTDOXY_FLAG_W,OXYGEN,OXYGEN_FLAG_W,SILCAT,SILCAT_FLAG_W,NITRAT,NITRAT_FLAG_W,NITRIT,NITRIT_FLAG_W,PHSPHT,PHSPHT_FLAG_W,CFC-11,CFC-11_FLAG_W,CFC-12,CFC-12_FLAG_W,CFC113,CFC113_FLAG_W,TCARBN,TCARBN_FLAG_W,ALKALI,ALKALI_FLAG_W,PH_TOT,PH_TOT_FLAG_W,PH_TMP,DELC14,DELC14_FLAG_W,C14ERR,DELC13,DELC13_FLAG_W,CS-137,CS137ER,CS-137_FLAG_W,SBE35,SBE35_FLAG_W
,,,,,,,,,,,METERS,DBAR,ITS-90,PSS-78,,PSS-78,,UMOL/KG,,UMOL/KG,,UMOL/KG,,UMOL/KG,,UMOL/KG,,UMOL/KG,,PMOL/KG,,PMOL/KG,,PMOL/KG,,UMOL/KG,,UMOL/KG,,,,DEG C,/MILLE,,/MILLE,/MILLE,,DM/.1MG,DM/.1MG,,ITS-90,
  49NZ20031209,  I3I4,   490,  1,     36,  12024,2,20040107,1218,-19.9902,  85.9380, 4442,      9.7,  26.5938,  34.5507,2,  34.5499,2,    195.5,1,    204.3,2,     1.78,2,    -0.03,2,     0.00,2,     0.10,2, -999.000,9, -999.000,9, -999.000,9,   -999.0,9,   -999.0,9,-999.0000,9,  -999.00,   -999.0,9,   -999.0,  -999.00,9,  -999.00,  -999.00,9,  26.5904,2
  49NZ20031209,  I3I4,   490,  1,     35,  12023,2,20040107,1218,-19.9902,  85.9380, 4442,     50.0,  25.0903,  35.2220,2,  35.2241,2,    203.9,1,    213.0,2,     1.92,2,    -0.06,2,     0.00,2,     0.11,2, -999.000,9, -999.000,9, -999.000,9,   -999.0,9,   -999.0,9,-999.0000,9,  -999.00,   -999.0,9,   -999.0,  -999.00,9,  -999.00,  -999.00,9,  25.0821,2
  49NZ20031209,  I3I4,   490,  1,     34,  12022,2,20040107,1218,-19.9902,  85.9380, 4442,     99.5,  21.5999,  35.3028,2,  35.3106,2,    199.2,1,    209.5,2,     3.43,2,     1.21,2,     0.03,2,     0.21,2, -999.000,9, -999.000,9, -999.000,9,   -999.0,9,   -999.0,9,-999.0000,9,  -999.00,   -999.0,9,   -999.0,  -999.00,9,  -999.00,  -999.00,9,  21.5967,2
  49NZ20031209,  I3I4,   490,  1,     33,  12015,2,20040107,1218,-19.9902,  85.9380, 4442,    148.3,  20.9140,  35.5211,2,  35.5230,2,    201.0,1,    209.5,2,     2.22,2,     0.16,2,     0.11,2,     0.17,2, -999.000,9, -999.000,9, -999.000,9,   -999.0,9,   -999.0,9,-999.0000,9,  -999.00,   -999.0,9,   -999.0,  -999.00,9,  -999.00,  -999.00,9,  20.9150,2
  49NZ20031209,  I3I4,   490,  1,     32,  12020,2,20040107,1218,-19.9902,  85.9380, 4442,    201.4,  19.3815,  35.6612,2,  35.6698,2,    178.1,1,    186.2,2,     3.77,2,     3.50,2,     0.01,2,     0.37,2, -999.000,9, -999.000,9, -999.000,9,   -999.0,9,   -999.0,9,-999.0000,9,  -999.00,   -999.0,9,   -999.0,  -999.00,9,  -999.00,  -999.00,9,  19.3812,2
  49NZ20031209,  I3I4,   490,  1,     31,  12019,2,20040107,1218,-19.9902,  85.9380, 4442,    250.4,  17.9716,  35.7845,2,  35.7817,2,    188.8,1,    196.5,2,     3.13,2,     3.35,2,     0.01,2,     0.36,2, -999.000,9, -999.000,9, -999.000,9,   -999.0,9,   -999.0,9,-999.0000,9,  -999.00,   -999.0,9,   -999.0,  -999.00,9,  -999.00,  -999.00,9,  17.9725,2
  49NZ20031209,  I3I4,   490,  1,     30,  12018,2,20040107,1218,-19.9902,  85.9380, 4442,    301.5,  16.1101,  35.6831,2,  35.6805,2,    203.1,1,    211.3,2,     2.20,2,     3.56,2,     0.01,2,     0.40,2, -999.000,9, -999.000,9, -999.000,9,   -999.0,9,   -999.0,9,-999.0000,9,  -999.00,   -999.0,9,   -999.0,  -999.00,9,  -999.00,  -999.00,9,  16.1102,2
  49NZ20031209,  I3I4,   490,  1,     29,  12017,2,20040107,1218,-19.9902,  85.9380, 4442,    400.0,  12.7830,  35.2365,2,  35.2282,2,    216.5,1,    225.4,2,     2.70,2,     8.44,2,     0.00,2,     0.72,2, -999.000,9, -999.000,9, -999.000,9,   -999.0,9,   -999.0,9,-999.0000,9,  -999.00,   -999.0,9,   -999.0,  -999.00,9,  -999.00,  -999.00,9,  12.7798,2
  49NZ20031209,  I3I4,   490,  1,     28,  12016,2,20040107,1218,-19.9902,  85.9380, 4442,    499.8,  10.6475,  34.9069,2,  34.8984,2,    224.6,1,    233.1,2,     3.71,2,    12.88,2,    -0.01,2,     0.96,2, -999.000,9, -999.000,9, -999.000,9,   -999.0,9,   -999.0,9,-999.0000,9,  -999.00,   -999.0,9,   -999.0,  -999.00,9,  -999.00,  -999.00,9,  10.6478,2
  49NZ20031209,  I3I4,   490,  1,     27,  12012,2,20040107,1218,-19.9902,  85.9380, 4442,    599.2,   9.2998,  34.7035,2,  34.6978,2,    221.6,1,    230.2,2,     5.64,2,    16.99,2,    -0.01,2,     1.22,2, -999.000,9, -999.000,9, -999.000,9,   -999.0,9,   -999.0,9,-999.0000,9,  -999.00,   -999.0,9,   -999.0,  -999.00,9,  -999.00,  -999.00,9,   9.3007,2
  49NZ20031209,  I3I4,   490,  1,     26,  12014,2,20040107,1218,-19.9902,  85.9380, 4442,    700.6,   7.9946,  34.5639,2,  34.5620,2,    200.5,1,    208.0,2,    12.67,2,    22.30,2,     0.00,2,     1.56,2, -999.000,9, -999.000,9, -999.000,9,   -999.0,9,   -999.0,9,-999.0000,9,  -999.00,   -999.0,9,   -999.0,  -999.00,9,  -999.00,  -999.00,9,   7.9955,2
  49NZ20031209,  I3I4,   490,  1,     25,  12013,2,20040107,1218,-19.9902,  85.9380, 4442,    801.5,   6.2736,  34.4857,2,  34.4854,2,    166.4,1,    172.2,2,    31.87,2,    29.11,2,    -0.01,2,     2.03,2, -999.000,9, -999.000,9, -999.000,9,   -999.0,9,   -999.0,9,-999.0000,9,  -999.00,   -999.0,9,   -999.0,  -999.00,9,  -999.00,  -999.00,9,   6.2774,2
  49NZ20031209,  I3I4,   490,  1,     24,  12048,2,20040107,1218,-19.9902,  85.9380, 4442,    900.7,   5.3842,  34.5398,2,  34.5398,2,    130.1,1,    134.3,2,    57.25,2,    33.59,2,    -0.01,2,     2.39,2, -999.000,9, -999.000,9, -999.000,9,   -999.0,9,   -999.0,9,-999.0000,9,  -999.00,   -999.0,9,   -999.0,  -999.00,9,  -999.00,  -999.00,9,   5.3842,2
  49NZ20031209,  I3I4,   490,  1,     23,  12047,2,20040107,1218,-19.9902,  85.9380, 4442,   1001.9,   4.9086,  34.5793,2,  34.5788,2,    117.0,1,    121.0,2,    71.01,2,    35.15,2,    -0.01,2,     2.51,2, -999.000,9, -999.000,9, -999.000,9,   -999.0,9,   -999.0,9,-999.0000,9,  -999.00,   -999.0,9,   -999.0,  -999.00,9,  -999.00,  -999.00,9,   4.9087,2
  49NZ20031209,  I3I4,   490,  1,     22,  12046,2,20040107,1218,-19.9902,  85.9380, 4442,   1200.3,   4.2837,  34.6345,2,  34.6350,2,    113.5,1,    117.1,2,    84.76,2,    35.91,2,    -0.01,2,     2.57,2, -999.000,9, -999.000,9, -999.000,9,   -999.0,9,   -999.0,9,-999.0000,9,  -999.00,   -999.0,9,   -999.0,  -999.00,9,  -999.00,  -999.00,9,   4.2841,2
  49NZ20031209,  I3I4,   490,  1,     21,  12045,2,20040107,1218,-19.9902,  85.9380, 4442,   1400.4,   3.6268,  34.6638,2,  34.6644,2,    122.4,1,    126.7,2,    92.35,2,    35.59,2,    -0.01,2,     2.54,2, -999.000,9, -999.000,9, -999.000,9,   -999.0,9,   -999.0,9,-999.0000,9,  -999.00,   -999.0,9,   -999.0,  -999.00,9,  -999.00,  -999.00,9,   3.6269,2
  49NZ20031209,  I3I4,   490,  1,     20,  12044,2,20040107,1218,-19.9902,  85.9380, 4442,   1601.1,   3.2670,  34.7047,2,  34.7050,2,    127.5,1,    132.2,2,    99.60,2,    35.25,2,    -0.01,2,     2.52,2, -999.000,9, -999.000,9, -999.000,9,   -999.0,9,   -999.0,9,-999.0000,9,  -999.00,   -999.0,9,   -999.0,  -999.00,9,  -999.00,  -999.00,9,   3.2665,2
  49NZ20031209,  I3I4,   490,  1,     19,  12043,2,20040107,1218,-19.9902,  85.9380, 4442,   1801.3,   2.8999,  34.7194,2,  34.7196,2,    134.7,1,    140.1,2,   104.59,2,    34.79,2,    -0.01,2,     2.48,2, -999.000,9, -999.000,9, -999.000,9,   -999.0,9,   -999.0,9,-999.0000,9,  -999.00,   -999.0,9,   -999.0,  -999.00,9,  -999.00,  -999.00,9,   2.8999,2
  49NZ20031209,  I3I4,   490,  1,     18,  12042,2,20040107,1218,-19.9902,  85.9380, 4442,   2001.9,   2.5426,  34.7241,2,  34.7239,2,    144.3,1,    150.3,2,   107.80,2,    34.38,2,    -0.01,2,     2.44,2, -999.000,9, -999.000,9, -999.000,9,   -999.0,9,   -999.0,9,-999.0000,9,  -999.00,   -999.0,9,   -999.0,  -999.00,9,  -999.00,  -999.00,9,   2.5427,2
  49NZ20031209,  I3I4,   490,  1,     17,  12041,2,20040107,1218,-19.9902,  85.9380, 4442,   2201.3,   2.2798,  34.7255,2,  34.7256,2,    152.8,1,    159.4,2,   109.26,2,    33.95,2,    -0.01,2,     2.39,2, -999.000,9, -999.000,9, -999.000,9,   -999.0,9,   -999.0,9,-999.0000,9,  -999.00,   -999.0,9,   -999.0,  -999.00,9,  -999.00,  -999.00,9,   2.2797,2
  49NZ20031209,  I3I4,   490,  1,     16,  12040,2,20040107,1218,-19.9902,  85.9380, 4442,   2400.6,   2.0641,  34.7259,2,  34.7263,2,    160.4,1,    167.5,2,   110.46,2,    33.39,2,    -0.01,2,     2.35,2, -999.000,9, -999.000,9, -999.000,9,   -999.0,9,   -999.0,9,-999.0000,9,  -999.00,   -999.0,9,   -999.0,  -999.00,9,  -999.00,  -999.00,9,   2.0643,2
  49NZ20031209,  I3I4,   490,  1,     15,  12039,2,20040107,1218,-19.9902,  85.9380, 4442,   2599.7,   1.8757,  34.7270,2,  34.7270,2,    166.0,1,    173.6,2,   112.37,2,    33.16,2,    -0.01,2,     2.32,2, -999.000,9, -999.000,9, -999.000,9,   -999.0,9,   -999.0,9,-999.0000,9,  -999.00,   -999.0,9,   -999.0,  -999.00,9,  -999.00,  -999.00,9,   1.8756,2
  49NZ20031209,  I3I4,   490,  1,     14,  12038,2,20040107,1218,-19.9902,  85.9380, 4442,   2800.2,   1.7389,  34.7276,2,  34.7261,3,    169.3,1,    177.2,2,   114.90,2,    33.05,2,    -0.01,2,     2.30,2, -999.000,9, -999.000,9, -999.000,9,   -999.0,9,   -999.0,9,-999.0000,9,  -999.00,   -999.0,9,   -999.0,  -999.00,9,  -999.00,  -999.00,9,   1.7391,2
  49NZ20031209,  I3I4,   490,  1,     13,  12037,2,20040107,1218,-19.9902,  85.9380, 4442,   3000.6,   1.6298,  34.7271,2,  34.7271,2,    170.5,1,    178.3,2,   118.63,2,    33.13,2,    -0.01,2,     2.31,2, -999.000,9, -999.000,9, -999.000,9,   -999.0,9,   -999.0,9,-999.0000,9,  -999.00,   -999.0,9,   -999.0,  -999.00,9,  -999.00,  -999.00,9,   1.6299,2
  49NZ20031209,  I3I4,   490,  1,     12,  12036,2,20040107,1218,-19.9902,  85.9380, 4442,   3249.7,   1.5216,  34.7251,2,  34.7247,2,    170.8,1,    178.1,2,   123.50,2,    33.34,2,     0.00,2,     2.33,2, -999.000,9, -999.000,9, -999.000,9,   -999.0,9,   -999.0,9,-999.0000,9,  -999.00,   -999.0,9,   -999.0,  -999.00,9,  -999.00,  -999.00,9,   1.5217,2
  49NZ20031209,  I3I4,   490,  1,     11,  12035,2,20040107,1218,-19.9902,  85.9380, 4442,   3500.7,   1.4452,  34.7228,2,  34.7226,2,    171.8,1,    178.7,2,   127.14,2,    33.45,2,    -0.01,2,     2.33,2, -999.000,9, -999.000,9, -999.000,9,   -999.0,9,   -999.0,9,-999.0000,9,  -999.00,   -999.0,9,   -999.0,  -999.00,9,  -999.00,  -999.00,9,   1.4452,2
  49NZ20031209,  I3I4,   490,  1,     10,  12034,2,20040107,1218,-19.9902,  85.9380, 4442,   3749.3,   1.3989,  34.7215,2,  34.7215,2,    175.5,1,    182.2,2,   126.73,2,    33.37,2,    -0.01,2,     2.32,2, -999.000,9, -999.000,9, -999.000,9,   -999.0,9,   -999.0,9,-999.0000,9,  -999.00,   -999.0,9,   -999.0,  -999.00,9,  -999.00,  -999.00,9,   1.3988,2
  49NZ20031209,  I3I4,   490,  1,      9,  12033,2,20040107,1218,-19.9902,  85.9380, 4442,   4000.4,   1.3717,  34.7203,2,  34.7201,2,    178.4,1,    184.5,2,   127.16,2,    33.29,2,    -0.01,2,     2.31,2, -999.000,9, -999.000,9, -999.000,9,   -999.0,9,   -999.0,9,-999.0000,9,  -999.00,   -999.0,9,   -999.0,  -999.00,9,  -999.00,  -999.00,9,   1.3717,2
  49NZ20031209,  I3I4,   490,  1,      8,  12032,2,20040107,1218,-19.9902,  85.9380, 4442,   4249.2,   1.3633,  34.7188,2,  34.7190,2,    178.7,1,    183.8,2,   129.59,2,    33.41,2,    -0.01,2,     2.32,2, -999.000,9, -999.000,9, -999.000,9,   -999.0,9,   -999.0,9,-999.0000,9,  -999.00,   -999.0,9,   -999.0,  -999.00,9,  -999.00,  -999.00,9,   1.3632,2
  49NZ20031209,  I3I4,   490,  1,      7,  12031,2,20040107,1218,-19.9902,  85.9380, 4442,   4476.8,   1.3678,  34.7178,2,  34.7179,2,    180.3,1,    184.0,2,   130.13,2,    33.55,2,    -0.01,2,     2.32,2, -999.000,9, -999.000,9, -999.000,9,   -999.0,9,   -999.0,9,-999.0000,9,  -999.00,   -999.0,9,   -999.0,  -999.00,9,  -999.00,  -999.00,9,   1.3677,2
  49NZ20031209,  I3I4,   490,  1,      6,  12030,9,20040107,1218,-19.9902,  85.9380, 4442,   1001.8,   4.9103,  34.5793,2,-999.0000,9,    116.9,1,   -999.0,9,  -999.00,9,  -999.00,9,  -999.00,9,  -999.00,9, -999.000,9, -999.000,9, -999.000,9,   -999.0,9,   -999.0,9,-999.0000,9,  -999.00,   -999.0,9,   -999.0,  -999.00,9,  -999.00,  -999.00,9,   4.9099,2
  49NZ20031209,  I3I4,   490,  1,      5,  12029,9,20040107,1218,-19.9902,  85.9380, 4442,   1001.2,   4.9125,  34.5793,2,-999.0000,9,    116.9,1,   -999.0,9,  -999.00,9,  -999.00,9,  -999.00,9,  -999.00,9, -999.000,9, -999.000,9, -999.000,9,   -999.0,9,   -999.0,9,-999.0000,9,  -999.00,   -999.0,9,   -999.0,  -999.00,9,  -999.00,  -999.00,9,   4.9128,2
  49NZ20031209,  I3I4,   490,  1,      4,  12028,9,20040107,1218,-19.9902,  85.9380, 4442,   1001.4,   4.9120,  34.5793,2,-999.0000,9,    116.9,1,   -999.0,9,  -999.00,9,  -999.00,9,  -999.00,9,  -999.00,9, -999.000,9, -999.000,9, -999.000,9,   -999.0,9,   -999.0,9,-999.0000,9,  -999.00,   -999.0,9,   -999.0,  -999.00,9,  -999.00,  -999.00,9,   4.9120,2
  49NZ20031209,  I3I4,   490,  1,      3,  12027,9,20040107,1218,-19.9902,  85.9380, 4442,   1001.8,   4.9122,  34.5794,2,-999.0000,9,    116.9,1,   -999.0,9,  -999.00,9,  -999.00,9,  -999.00,9,  -999.00,9, -999.000,9, -999.000,9, -999.000,9,   -999.0,9,   -999.0,9,-999.0000,9,  -999.00,   -999.0,9,   -999.0,  -999.00,9,  -999.00,  -999.00,9,   4.9130,2
  49NZ20031209,  I3I4,   490,  1,      2,  12026,9,20040107,1218,-19.9902,  85.9380, 4442,   1001.5,   4.9140,  34.5792,2,-999.0000,9,    116.7,1,   -999.0,9,  -999.00,9,  -999.00,9,  -999.00,9,  -999.00,9, -999.000,9, -999.000,9, -999.000,9,   -999.0,9,   -999.0,9,-999.0000,9,  -999.00,   -999.0,9,   -999.0,  -999.00,9,  -999.00,  -999.00,9,   4.9156,2
  49NZ20031209,  I3I4,   490,  1,      1,  12025,9,20040107,1218,-19.9902,  85.9380, 4442,      9.8,  26.5719,  34.5488,2,-999.0000,9,    195.5,1,   -999.0,9,  -999.00,9,  -999.00,9,  -999.00,9,  -999.00,9, -999.000,9, -999.000,9, -999.000,9,   -999.0,9,   -999.0,9,-999.0000,9,  -999.00,   -999.0,9,   -999.0,  -999.00,9,  -999.00,  -999.00,9,  26.5602,2