BOTTLE,20141204PRINUNIVRMK
EXPOCODE,SECT_ID,STNNBR,CASTNO,SAMPNO,BTLNBR,BTLNBR_FLAG_W,DATE,TIME,LATITUDE,LONGITUDE,DEPTH,CTDPRS,CTDTMP,CTDSAL,CTDSAL_FLAG_W,SALNTY,SALNTY_FLAG_W,CTDOXY,CTDOXY_FLAG_W,OXYGEN,OXYGEN_FLAG_W,SILCAT,SILCAT_FLAG_W,NITRAT,NITRAT_FLAG_W,NITRIT,NITRIT_FLAG_W,PHSPHT,PHSPHT_FLAG_W,CFC-11,CFC-11_FLAG_W,CFC-12,CFC-12_FLAG_W,CFC113,CFC113_FLAG_W,TCARBN,TCARBN_FLAG_W,ALKALI,ALKALI_FLAG_W,PH_TOT,PH_TOT_FLAG_W,PH_TMP,DELC14,DELC14_FLAG_W,C14ERR,DELC13,DELC13_FLAG_W,CS-137,CS137ER,CS-137_FLAG_W,SBE35,SBE35_FLAG_W
,,,,,,,,,,,METERS,DBAR,ITS-90,PSS-78,,PSS-78,,UMOL/KG,,UMOL/KG,,UMOL/KG,,UMOL/KG,,UMOL/KG,,UMOL/KG,,PMOL/KG,,PMOL/KG,,PMOL/KG,,UMOL/KG,,UMOL/KG,,,,DEG C,/MILLE,,/MILLE,/MILLE,,DM/.1MG,DM/.1MG,,ITS-90,
  49NZ20031209,  I3I4,  1008,  1,     36,  12024,2,20040105,0252,-19.9958,  79.9975, 4867,      9.8,  26.1984,  35.0112,2,  35.0149,2,    196.2,1,    204.8,2,     1.81,2,     0.02,2,     0.00,2,     0.10,2,    1.708,2,    1.063,2,    0.277,4,   1964.6,2,   2290.2,2,   8.0614,4,    25.00,     51.4,2,      3.5,     1.09,2,  -999.00,  -999.00,9,  26.1958,2
  49NZ20031209,  I3I4,  1008,  1,     35,  12023,2,20040105,0252,-19.9958,  79.9975, 4867,     49.9,  23.3731,  35.2251,2,  35.2252,2,    213.1,1,    222.7,2,     1.97,2,     0.02,2,     0.00,2,     0.09,2,    2.007,2,    1.200,2, -999.000,5,   1983.3,6,   2301.9,2,   8.0744,2,    25.00,     64.6,2,      3.7,     1.07,2,  -999.00,  -999.00,9,  23.3623,2
  49NZ20031209,  I3I4,  1008,  1,     34,  12022,2,20040105,0252,-19.9958,  79.9975, 4867,    101.2,  21.7072,  35.3799,2,  35.3760,2,    204.1,1,    213.0,2,     2.27,2,     0.01,2,     0.00,2,     0.13,2,    2.014,2,    1.231,2, -999.000,5,   2006.9,2,   2313.7,6,   8.0481,2,    25.00,     58.9,2,      3.5,     0.97,2,  -999.00,  -999.00,9,  21.7043,2
  49NZ20031209,  I3I4,  1008,  1,     33,  12015,2,20040105,0252,-19.9958,  79.9975, 4867,    150.5,  20.5399,  35.5834,2,  35.5842,2,    190.5,1,    198.5,2,     2.66,2,     1.50,2,     0.12,2,     0.24,2,    2.110,2,    1.268,2,    0.331,4,   2040.7,2,   2325.8,2,   8.0077,6,    25.00,     65.4,2,      3.6,     0.83,2,  -999.00,  -999.00,9,  20.5396,2
  49NZ20031209,  I3I4,  1008,  1,     32,  12020,2,20040105,0252,-19.9958,  79.9975, 4867,    200.3,  19.4527,  35.7555,2,  35.7552,2,    192.3,1,    200.2,2,     2.56,2,     1.96,2,     0.02,2,     0.26,2,    2.204,2,    1.315,2,    0.246,4,   2059.1,2,   2338.1,2,   7.9907,2,    25.00,     61.6,6,      2.5,     0.85,6,  -999.00,  -999.00,9,  19.4513,2
  49NZ20031209,  I3I4,  1008,  1,     31,  12019,2,20040105,0252,-19.9958,  79.9975, 4867,    250.2,  18.0970,  35.8104,2,  35.8077,2,    195.4,1,    203.7,2,     2.48,2,     2.47,2,     0.01,2,     0.31,2,    2.407,6,    1.388,2,    0.177,4,   2078.3,2,   2344.8,2,   7.9635,2,    25.00,     75.2,2,      5.4,     0.95,2,  -999.00,  -999.00,9,  18.0948,2
  49NZ20031209,  I3I4,  1008,  1,     30,  12018,2,20040105,0252,-19.9958,  79.9975, 4867,    300.1,  15.8007,  35.6373,2,  35.6410,2,    199.8,1,    207.8,2,     2.85,2,     4.47,2,     0.00,2,     0.44,2,    2.629,2,    1.481,2,    0.079,4,   2096.7,2,   2337.2,2,   7.9216,2,    25.00,     68.6,2,      3.6,     1.04,2,  -999.00,  -999.00,9,  15.8078,2
  49NZ20031209,  I3I4,  1008,  1,     29,  12021,2,20040105,0252,-19.9958,  79.9975, 4867,    401.2,  12.7131,  35.2282,2,  35.2263,2,    218.2,1,    226.3,2,     2.61,2,     8.35,2,     0.00,2,     0.69,2,    3.100,2,    1.716,2,    0.087,4,   2107.4,2,   2315.5,2,   7.8683,2,    25.00,     60.0,2,      3.8,     1.18,2,  -999.00,  -999.00,9,  12.7118,2
  49NZ20031209,  I3I4,  1008,  1,     28,  12016,2,20040105,0252,-19.9958,  79.9975, 4867,    500.4,  10.5061,  34.8872,2,  34.8851,2,    224.4,1,    233.4,2,     3.71,2,    13.09,2,     0.00,2,     0.97,2,    3.339,2,    1.746,2,    0.123,4,   2115.8,2,   2294.7,2,   7.8181,2,    25.00,     62.4,2,      3.7,     1.24,2,  -999.00,  -999.00,9,  10.5058,2
  49NZ20031209,  I3I4,  1008,  1,     27,  12012,2,20040105,0252,-19.9958,  79.9975, 4867,    598.6,   9.3477,  34.7101,2,  34.7081,2,    223.1,1,    232.0,2,     5.20,2,    16.61,2,    -0.01,2,     1.18,2,    3.261,2,    1.667,2,    0.143,4,   2122.7,2,   2287.0,2,   7.7844,2,    25.00,     51.9,2,      3.6,     1.24,2,  -999.00,  -999.00,9,   9.3495,2
  49NZ20031209,  I3I4,  1008,  1,     26,  12014,2,20040105,0252,-19.9958,  79.9975, 4867,    700.5,   7.9842,  34.5622,2,  34.5591,2,    202.1,1,    209.5,2,    12.10,2,    22.27,2,     0.00,2,     1.54,2,    2.243,2,    1.123,2,    0.064,4,   2146.4,6,   2288.2,2,   7.7260,2,    25.00,     -0.3,2,      3.6,     1.12,2,  -999.00,  -999.00,9,   7.9847,2
  49NZ20031209,  I3I4,  1008,  1,     25,  12013,2,20040105,0252,-19.9958,  79.9975, 4867,    800.4,   6.2770,  34.4881,2,  34.4884,2,    165.3,1,    171.1,2,    32.18,2,    29.25,2,     0.00,2,     2.03,2,    0.765,2,    0.419,2,    0.036,4,   2194.3,2,   2300.2,6,   7.6399,2,    25.00,    -71.2,2,      3.4,     0.86,2,  -999.00,  -999.00,9,   6.2769,2
  49NZ20031209,  I3I4,  1008,  1,     24,  12048,2,20040105,0252,-19.9958,  79.9975, 4867,    899.6,   5.2876,  34.5124,2,  34.5118,2,    139.8,1,    144.9,2,    52.67,2,    33.01,2,     0.00,2,     2.33,2,    0.236,2,    0.134,2,    0.017,4,   2231.5,2,   2318.3,2,   7.5893,6,    25.00,   -120.1,2,      3.3,     0.62,2,  -999.00,  -999.00,9,   5.2881,2
  49NZ20031209,  I3I4,  1008,  1,     23,  12047,2,20040105,0252,-19.9958,  79.9975, 4867,   1002.0,   4.7309,  34.5635,2,  34.5639,2,    123.0,1,    127.4,2,    69.55,2,    34.89,2,     0.00,2,     2.48,2,    0.043,6,    0.032,6,    0.000,4,   2257.3,2,   2335.4,2,   7.5628,2,    25.00,   -144.7,2,      3.0,     0.43,2,  -999.00,  -999.00,9,   4.7311,2
  49NZ20031209,  I3I4,  1008,  1,     22,  12046,2,20040105,0252,-19.9958,  79.9975, 4867,   1201.1,   4.0660,  34.6493,2,  34.6500,2,    117.2,1,    121.4,2,    86.55,2,    35.56,2,    -0.01,2,     2.55,2,    0.008,2,    0.005,2,    0.000,4,   2280.7,2,   2352.9,2,   7.5552,2,    25.00,   -168.0,2,      3.2,     0.31,2,  -999.00,  -999.00,9,   4.0659,2
  49NZ20031209,  I3I4,  1008,  1,     21,  12045,2,20040105,0252,-19.9958,  79.9975, 4867,   1402.0,   3.6975,  34.6999,2,  34.6990,2,    118.5,1,    122.8,2,    95.64,2,    35.41,2,     0.00,2,     2.55,2,    0.007,2,    0.004,2,    0.000,4,   2286.0,2,   2365.0,2,   7.5561,2,    25.00,   -176.1,6,      2.2,     0.26,6,  -999.00,  -999.00,9,   3.6974,2
  49NZ20031209,  I3I4,  1008,  1,     20,  12044,2,20040105,0252,-19.9958,  79.9975, 4867,   1601.2,   3.2488,  34.7133,2,  34.7133,2,    126.9,1,    131.6,2,   100.91,2,    35.19,2,     0.00,2,     2.52,2,   -0.001,2,    0.003,2,    0.000,4,   2289.7,2,   2372.5,2,   7.5638,2,    25.00,   -176.3,2,      3.1,     0.27,2,  -999.00,  -999.00,9,   3.2486,2
  49NZ20031209,  I3I4,  1008,  1,     19,  12043,2,20040105,0252,-19.9958,  79.9975, 4867,   1800.2,   2.8739,  34.7217,2,  34.7214,2,    135.8,1,    141.3,2,   104.64,2,    34.72,2,     0.00,2,     2.48,2,    0.004,2,   -0.001,2,    0.000,4,   2289.3,2,   2373.6,2,   7.5758,2,    25.00,   -179.8,2,      3.0,     0.28,2,  -999.00,  -999.00,9,   2.8739,2
  49NZ20031209,  I3I4,  1008,  1,     18,  12042,2,20040105,0252,-19.9958,  79.9975, 4867,   2001.3,   2.5306,  34.7259,2,  34.7259,2,    144.7,1,    150.8,2,   108.19,2,    34.28,2,     0.00,2,     2.43,2,    0.004,2,    0.003,2,    0.000,4,   2287.4,2,   2376.6,2,   7.5864,2,    25.00,   -186.9,2,      3.2,     0.34,2,  -999.00,  -999.00,9,   2.5306,2
  49NZ20031209,  I3I4,  1008,  1,     17,  12041,2,20040105,0252,-19.9958,  79.9975, 4867,   2201.0,   2.2138,  34.7231,2,  34.7235,2,    157.0,1,    164.2,2,   107.51,2,    33.50,2,     0.00,2,     2.36,2,   -0.001,2,    0.001,2,    0.000,4,   2279.2,2,   2375.5,2,   7.5977,2,    25.00,   -185.7,2,      3.2,     0.35,2,  -999.00,  -999.00,9,   2.2134,2
  49NZ20031209,  I3I4,  1008,  1,     16,  12040,2,20040105,0252,-19.9958,  79.9975, 4867,   2402.0,   1.9911,  34.7247,2,  34.7247,2,    164.7,1,    172.5,2,   108.74,2,    33.04,2,     0.00,2,     2.32,2,    0.001,2,    0.000,2,    0.000,4,   2276.6,6,   2375.1,2,   7.6060,2,    25.00,   -180.2,2,      2.9,     0.40,2,  -999.00,  -999.00,9,   1.9909,2
  49NZ20031209,  I3I4,  1008,  1,     15,  12039,2,20040105,0252,-19.9958,  79.9975, 4867,   2601.2,   1.8162,  34.7260,2,  34.7263,2,    170.6,1,    178.9,2,   109.97,2,    32.72,2,     0.00,2,     2.28,2,   -0.001,2,   -0.002,2,    0.000,4,   2276.7,2,   2375.3,6,   7.6133,2,    25.00,   -177.9,2,      3.2,     0.43,2,  -999.00,  -999.00,9,   1.8159,2
  49NZ20031209,  I3I4,  1008,  1,     14,  12038,2,20040105,0252,-19.9958,  79.9975, 4867,   2800.9,   1.6948,  34.7274,2,  34.7273,2,    173.9,1,    182.5,2,   112.01,2,    32.62,2,     0.00,2,     2.27,2,    0.000,2,    0.001,2,    0.000,4,   2276.5,2,   2377.3,2,   7.6169,6,    25.00,   -179.3,2,      3.1,     0.43,2,  -999.00,  -999.00,9,   1.6947,2
  49NZ20031209,  I3I4,  1008,  1,     13,  12037,2,20040105,0252,-19.9958,  79.9975, 4867,   3002.1,   1.5902,  34.7281,2,  34.7281,2,    176.1,1,    184.8,2,   114.55,2,    32.57,2,     0.00,2,     2.27,2,    0.000,2,    0.000,2,    0.000,4,   2277.0,2,   2377.9,2,   7.6200,2,    25.00,   -183.3,2,      3.0,     0.44,2,  -999.00,  -999.00,9,   1.5904,2
  49NZ20031209,  I3I4,  1008,  1,     12,  12036,2,20040105,0252,-19.9958,  79.9975, 4867,   3250.4,   1.4744,  34.7264,2,  34.7268,2,    177.1,1,    185.6,2,   118.80,2,    32.69,2,     0.00,2,     2.27,2,    0.000,2,    0.001,2,    0.000,4,   2281.0,2,   2380.9,2,   7.6226,2,    25.00,   -186.2,2,      2.9,     0.40,2,  -999.00,  -999.00,9,   1.4744,2
  49NZ20031209,  I3I4,  1008,  1,     11,  12035,2,20040105,0252,-19.9958,  79.9975, 4867,   3500.0,   1.4005,  34.7239,2,  34.7239,2,    177.6,1,    185.9,2,   122.56,2,    32.87,2,     0.00,2,     2.29,2,   -0.003,2,   -0.001,2,    0.000,4,   2285.1,2,   2388.9,2,   7.6249,2,    25.00,   -185.6,2,      3.1,     0.38,2,  -999.00,  -999.00,9,   1.4005,2
  49NZ20031209,  I3I4,  1008,  1,     10,  12034,2,20040105,0252,-19.9958,  79.9975, 4867,   3750.7,   1.3718,  34.7215,2,  34.7214,2,    177.0,1,    184.8,2,   125.97,2,    33.11,2,     0.00,2,     2.30,2,    0.000,2,    0.000,2,    0.000,4,   2287.8,2,   2393.6,2,   7.6262,2,    25.00,   -187.0,2,      3.0,     0.38,2,  -999.00,  -999.00,9,   1.3717,2
  49NZ20031209,  I3I4,  1008,  1,      9,  12033,2,20040105,0252,-19.9958,  79.9975, 4867,   4000.9,   1.3606,  34.7199,2,  34.7202,2,    177.0,1,    184.2,2,   128.32,2,    33.28,2,    -0.01,2,     2.31,2,    0.000,2,   -0.002,2,    0.000,4,   2293.1,2,   2396.7,2,   7.6261,2,    25.00,   -192.2,2,      2.9,     0.36,3,  -999.00,  -999.00,9,   1.3605,2
  49NZ20031209,  I3I4,  1008,  1,      8,  12032,2,20040105,0252,-19.9958,  79.9975, 4867,   4250.2,   1.3619,  34.7190,2,  34.7191,2,    177.3,1,    183.7,2,   129.83,2,    33.42,2,     0.00,2,     2.32,2,   -0.002,2,    0.000,2,    0.000,4,   2293.6,6,   2396.7,2,   7.6261,2,    25.00,   -188.4,2,      2.9,     0.39,2,  -999.00,  -999.00,9,   1.3619,2
  49NZ20031209,  I3I4,  1008,  1,      7,  12031,2,20040105,0252,-19.9958,  79.9975, 4867,   4501.3,   1.3743,  34.7183,2,  34.7181,2,    178.3,1,    183.9,2,   130.15,2,    33.37,2,     0.00,2,     2.32,2,   -0.003,2,   -0.001,2,    0.000,4,   2295.4,2,   2396.5,2,   7.6263,2,    25.00,   -191.4,2,      2.9,     0.39,2,  -999.00,  -999.00,9,   1.3742,2
  49NZ20031209,  I3I4,  1008,  1,      6,  12030,2,20040105,0252,-19.9958,  79.9975, 4867,   4751.1,   1.3958,  34.7182,2,  34.7182,2,    179.5,1,    184.0,2,   130.61,2,    33.42,2,    -0.01,2,     2.32,2,    0.005,2,    0.002,2,    0.000,4,   2294.2,2,   2399.3,2,   7.6274,6,    25.00,   -191.3,2,      2.9,     0.36,3,  -999.00,  -999.00,9,   1.3957,2
  49NZ20031209,  I3I4,  1008,  1,      5,  12029,2,20040105,0252,-19.9958,  79.9975, 4867,   4928.3,   1.4175,  34.7183,2,  34.7184,2,    180.9,1,    183.9,2,   130.39,2,    33.43,2,     0.00,2,     2.32,2,   -0.003,2,   -0.001,2,    0.000,4,   2291.2,2,   2399.7,2,   7.6240,2,    25.00,   -185.5,2,      2.9,     0.37,2,  -999.00,  -999.00,9,   1.4175,2
  49NZ20031209,  I3I4,  1008,  1,      4,  12028,2,20040105,0252,-19.9958,  79.9975, 4867,   4750.2,   1.3958,  34.7180,2,  34.7180,2,    179.6,1,    184.0,2,   130.40,2,    33.46,2,     0.00,2,     2.31,2,   -0.001,2,   -0.002,2,    0.000,4,   2294.9,2,   2400.5,2,   7.6265,2,    25.00,   -186.7,2,      3.1,     0.37,2,  -999.00,  -999.00,9,   1.3957,2
  49NZ20031209,  I3I4,  1008,  1,      3,  12027,9,20040105,0252,-19.9958,  79.9975, 4867,      5.3,  26.2350,  35.0096,2,-999.0000,9,    195.9,1,   -999.0,9,  -999.00,9,  -999.00,9,  -999.00,9,  -999.00,9, -999.000,9, -999.000,9, -999.000,9,   -999.0,9,   -999.0,9,-999.0000,9,  -999.00,   -999.0,9,   -999.0,  -999.00,9,  -999.00,  -999.00,9,  26.2322,2
  49NZ20031209,  I3I4,  1008,  1,      2,  12026,9,20040105,0252,-19.9958,  79.9975, 4867,      5.4,  26.2506,  35.0101,2,-999.0000,9,    196.0,1,   -999.0,9,  -999.00,9,  -999.00,9,  -999.00,9,  -999.00,9, -999.000,9, -999.000,9, -999.000,9,   -999.0,9,   -999.0,9,-999.0000,9,  -999.00,   -999.0,9,   -999.0,  -999.00,9,  -999.00,  -999.00,9,  26.2466,2
  49NZ20031209,  I3I4,  1008,  1,      1,  12025,9,20040105,0252,-19.9958,  79.9975, 4867,    121.3,  21.3194,  35.4339,2,-999.0000,9,    206.7,1,   -999.0,9,  -999.00,9,  -999.00,9,  -999.00,9,  -999.00,9, -999.000,9, -999.000,9, -999.000,9,   -999.0,9,   -999.0,9,-999.0000,9,  -999.00,   -999.0,9,   -999.0,  -999.00,9,  -999.00,  -999.00,9,  21.3186,2