BOTTLE,20141204PRINUNIVRMK
EXPOCODE,SECT_ID,STNNBR,CASTNO,SAMPNO,BTLNBR,BTLNBR_FLAG_W,DATE,TIME,LATITUDE,LONGITUDE,DEPTH,CTDPRS,CTDTMP,CTDSAL,CTDSAL_FLAG_W,SALNTY,SALNTY_FLAG_W,CTDOXY,CTDOXY_FLAG_W,OXYGEN,OXYGEN_FLAG_W,SILCAT,SILCAT_FLAG_W,NITRAT,NITRAT_FLAG_W,NITRIT,NITRIT_FLAG_W,PHSPHT,PHSPHT_FLAG_W,CFC-11,CFC-11_FLAG_W,CFC-12,CFC-12_FLAG_W,CFC113,CFC113_FLAG_W,TCARBN,TCARBN_FLAG_W,ALKALI,ALKALI_FLAG_W,PH_TOT,PH_TOT_FLAG_W,PH_TMP,DELC14,DELC14_FLAG_W,C14ERR,DELC13,DELC13_FLAG_W,CS-137,CS137ER,CS-137_FLAG_W,SBE35,SBE35_FLAG_W
,,,,,,,,,,,METERS,DBAR,ITS-90,PSS-78,,PSS-78,,UMOL/KG,,UMOL/KG,,UMOL/KG,,UMOL/KG,,UMOL/KG,,UMOL/KG,,PMOL/KG,,PMOL/KG,,PMOL/KG,,UMOL/KG,,UMOL/KG,,,,DEG C,/MILLE,,/MILLE,/MILLE,,DM/.1MG,DM/.1MG,,ITS-90,
  49NZ20031209,  I3I4,   454,  1,     36,  12024,2,20040119,0523,-21.1435, 110.1613, 5068,      8.7,  25.0244,  35.1307,2,  35.1322,2,    199.0,1,    209.7,2,     2.52,2,    -0.04,2,     0.00,2,     0.08,2, -999.000,9, -999.000,9, -999.000,9,   -999.0,9,   -999.0,9,-999.0000,9,  -999.00,   -999.0,9,   -999.0,  -999.00,9,  -999.00,  -999.00,9,  25.0224,2
  49NZ20031209,  I3I4,   454,  1,     35,  12023,2,20040119,0523,-21.1435, 110.1613, 5068,     49.2,  23.7674,  35.1015,2,  35.0976,2,    200.6,1,    211.5,2,     3.10,2,    -0.04,2,     0.00,2,     0.10,2, -999.000,9, -999.000,9, -999.000,9,   -999.0,9,   -999.0,9,-999.0000,9,  -999.00,   -999.0,9,   -999.0,  -999.00,9,  -999.00,  -999.00,9,  23.7711,2
  49NZ20031209,  I3I4,   454,  1,     34,  12022,2,20040119,0523,-21.1435, 110.1613, 5068,     99.8,  21.5576,  35.2472,2,  35.2480,2,    190.2,1,    199.6,2,     3.50,2,     0.40,2,     0.28,2,     0.20,2, -999.000,9, -999.000,9, -999.000,9,   -999.0,9,   -999.0,9,-999.0000,9,  -999.00,   -999.0,9,   -999.0,  -999.00,9,     1.53,     0.17,2,  21.5580,2
  49NZ20031209,  I3I4,   454,  1,     33,  12015,2,20040119,0523,-21.1435, 110.1613, 5068,    149.2,  19.9816,  35.4538,2,  35.4513,2,    173.1,1,    181.4,2,     5.15,2,     4.37,2,     0.02,2,     0.39,2, -999.000,9, -999.000,9, -999.000,9,   -999.0,9,   -999.0,9,-999.0000,9,  -999.00,   -999.0,9,   -999.0,  -999.00,9,  -999.00,  -999.00,9,  19.9799,2
  49NZ20031209,  I3I4,   454,  1,     32,  12020,2,20040119,0523,-21.1435, 110.1613, 5068,    199.8,  17.6345,  35.3350,2,  35.3533,2,    150.9,1,    160.2,2,    10.46,2,     9.20,2,     0.01,2,     0.71,2, -999.000,9, -999.000,9, -999.000,9,   -999.0,9,   -999.0,9,-999.0000,9,  -999.00,   -999.0,9,   -999.0,  -999.00,9,     1.54,     0.18,2,  17.6356,2
  49NZ20031209,  I3I4,   454,  1,     31,  12019,2,20040119,0523,-21.1435, 110.1613, 5068,    251.5,  15.1188,  35.2578,2,  35.2540,2,    155.3,1,    161.7,2,    14.22,2,    12.10,2,     0.01,2,     0.93,2, -999.000,9, -999.000,9, -999.000,9,   -999.0,9,   -999.0,9,-999.0000,9,  -999.00,   -999.0,9,   -999.0,  -999.00,9,  -999.00,  -999.00,9,  15.1231,2
  49NZ20031209,  I3I4,   454,  1,     30,  12018,2,20040119,0523,-21.1435, 110.1613, 5068,    300.3,  13.6173,  35.2113,2,  35.2088,2,    174.6,1,    182.8,2,    11.80,2,    11.69,2,     0.01,2,     0.90,2, -999.000,9, -999.000,9, -999.000,9,   -999.0,9,   -999.0,9,-999.0000,9,  -999.00,   -999.0,9,   -999.0,  -999.00,9,  -999.00,  -999.00,9,  13.6180,2
  49NZ20031209,  I3I4,   454,  1,     29,  12017,2,20040119,0523,-21.1435, 110.1613, 5068,    400.9,  10.6108,  34.8726,2,  34.8694,2,    205.4,1,    215.9,2,     9.06,2,    14.46,2,     0.00,2,     1.06,2, -999.000,9, -999.000,9, -999.000,9,   -999.0,9,   -999.0,9,-999.0000,9,  -999.00,   -999.0,9,   -999.0,  -999.00,9,     1.09,     0.19,2,  10.6110,2
  49NZ20031209,  I3I4,   454,  1,     28,  12016,2,20040119,0523,-21.1435, 110.1613, 5068,    499.5,   8.8054,  34.6484,2,  34.6488,2,    196.4,1,    205.8,2,    14.14,2,    20.44,2,     0.00,2,     1.43,2, -999.000,9, -999.000,9, -999.000,9,   -999.0,9,   -999.0,9,-999.0000,9,  -999.00,   -999.0,9,   -999.0,  -999.00,9,  -999.00,  -999.00,9,   8.8054,2
  49NZ20031209,  I3I4,   454,  1,     27,  12012,2,20040119,0523,-21.1435, 110.1613, 5068,    600.5,   7.4615,  34.5643,2,  34.5643,2,    161.8,1,    169.3,2,    29.04,2,    26.79,2,     0.00,2,     1.86,2, -999.000,9, -999.000,9, -999.000,9,   -999.0,9,   -999.0,9,-999.0000,9,  -999.00,   -999.0,9,   -999.0,  -999.00,9,  -999.00,  -999.00,1,   7.4623,2
  49NZ20031209,  I3I4,   454,  1,     26,  12014,2,20040119,0523,-21.1435, 110.1613, 5068,    701.0,   6.4423,  34.6073,2,  34.6078,2,    102.9,1,    106.4,2,    61.94,2,    33.81,2,     0.00,2,     2.39,2, -999.000,9, -999.000,9, -999.000,9,   -999.0,9,   -999.0,9,-999.0000,9,  -999.00,   -999.0,9,   -999.0,  -999.00,9,  -999.00,  -999.00,9,   6.4425,2
  49NZ20031209,  I3I4,   454,  1,     25,  12013,2,20040119,0523,-21.1435, 110.1613, 5068,    800.0,   5.8071,  34.6088,2,  34.6093,2,     98.4,1,    102.3,2,    71.02,2,    35.19,2,     0.00,2,     2.51,2, -999.000,9, -999.000,9, -999.000,9,   -999.0,9,   -999.0,9,-999.0000,9,  -999.00,   -999.0,9,   -999.0,  -999.00,9,     0.00,     0.00,2,   5.8067,2
  49NZ20031209,  I3I4,   454,  1,     24,  12048,2,20040119,0523,-21.1435, 110.1613, 5068,    899.7,   5.3209,  34.6100,2,  34.6080,2,     98.4,1,    102.9,2,    77.95,2,    35.81,2,     0.00,2,     2.55,2, -999.000,9, -999.000,9, -999.000,9,   -999.0,9,   -999.0,9,-999.0000,9,  -999.00,   -999.0,9,   -999.0,  -999.00,9,  -999.00,  -999.00,9,   5.3220,2
  49NZ20031209,  I3I4,   454,  1,     23,  12047,2,20040119,0523,-21.1435, 110.1613, 5068,   1000.9,   4.9366,  34.6166,2,  34.6161,2,     98.5,1,    102.5,2,    84.79,2,    36.15,2,     0.00,2,     2.59,2, -999.000,9, -999.000,9, -999.000,9,   -999.0,9,   -999.0,9,-999.0000,9,  -999.00,   -999.0,9,   -999.0,  -999.00,9,  -999.00,  -999.00,5,   4.9368,2
  49NZ20031209,  I3I4,   454,  1,     22,  12046,2,20040119,0523,-21.1435, 110.1613, 5068,   1199.5,   4.3312,  34.6335,2,  34.6340,2,    102.2,1,    106.3,2,    94.14,2,    36.39,2,     0.01,2,     2.61,2, -999.000,9, -999.000,9, -999.000,9,   -999.0,9,   -999.0,9,-999.0000,9,  -999.00,   -999.0,9,   -999.0,  -999.00,9,  -999.00,  -999.00,5,   4.3314,2
  49NZ20031209,  I3I4,   454,  1,     21,  12045,2,20040119,0523,-21.1435, 110.1613, 5068,   1401.7,   3.7039,  34.6479,2,  34.6479,2,    115.0,1,    120.0,2,    96.07,2,    36.04,2,     0.00,2,     2.57,2, -999.000,9, -999.000,9, -999.000,9,   -999.0,9,   -999.0,9,-999.0000,9,  -999.00,   -999.0,9,   -999.0,  -999.00,9,  -999.00,  -999.00,9,   3.7040,2
  49NZ20031209,  I3I4,   454,  1,     20,  12044,2,20040119,0523,-21.1435, 110.1613, 5068,   1600.8,   3.1399,  34.6756,2,  34.6760,2,    125.6,1,    131.7,2,   101.93,2,    35.51,2,     0.00,2,     2.52,2, -999.000,9, -999.000,9, -999.000,9,   -999.0,9,   -999.0,9,-999.0000,9,  -999.00,   -999.0,9,   -999.0,  -999.00,9,  -999.00,  -999.00,9,   3.1399,2
  49NZ20031209,  I3I4,   454,  1,     19,  12043,2,20040119,0523,-21.1435, 110.1613, 5068,   1801.0,   2.7419,  34.7006,2,  34.7008,2,    134.0,1,    140.7,2,   107.15,2,    35.02,2,     0.01,2,     2.48,2, -999.000,9, -999.000,9, -999.000,9,   -999.0,9,   -999.0,9,-999.0000,9,  -999.00,   -999.0,9,   -999.0,  -999.00,9,  -999.00,  -999.00,9,   2.7421,2
  49NZ20031209,  I3I4,   454,  1,     18,  12042,2,20040119,0523,-21.1435, 110.1613, 5068,   2001.4,   2.4090,  34.7184,2,  34.7188,2,    138.2,1,    145.5,2,   115.64,2,    34.89,2,     0.00,2,     2.47,2, -999.000,9, -999.000,9, -999.000,9,   -999.0,9,   -999.0,9,-999.0000,9,  -999.00,   -999.0,9,   -999.0,  -999.00,9,  -999.00,  -999.00,9,   2.4090,2
  49NZ20031209,  I3I4,   454,  1,     17,  12041,2,20040119,0523,-21.1435, 110.1613, 5068,   2202.6,   2.1969,  34.7246,2,  34.7243,2,    142.6,1,    150.0,2,   119.68,2,    34.76,2,     0.00,2,     2.45,2, -999.000,9, -999.000,9, -999.000,9,   -999.0,9,   -999.0,9,-999.0000,9,  -999.00,   -999.0,9,   -999.0,  -999.00,9,  -999.00,  -999.00,9,   2.1969,2
  49NZ20031209,  I3I4,   454,  1,     16,  12040,2,20040119,0523,-21.1435, 110.1613, 5068,   2400.7,   2.0327,  34.7264,2,  34.7264,2,    146.6,1,    154.4,2,   122.56,2,    34.56,2,     0.00,2,     2.44,2, -999.000,9, -999.000,9, -999.000,9,   -999.0,9,   -999.0,9,-999.0000,9,  -999.00,   -999.0,9,   -999.0,  -999.00,9,  -999.00,  -999.00,1,   2.0327,2
  49NZ20031209,  I3I4,   454,  1,     15,  12039,2,20040119,0523,-21.1435, 110.1613, 5068,   2602.2,   1.8899,  34.7264,2,  34.7260,2,    152.1,1,    160.5,2,   123.22,2,    34.31,2,     0.00,2,     2.41,2, -999.000,9, -999.000,9, -999.000,9,   -999.0,9,   -999.0,9,-999.0000,9,  -999.00,   -999.0,9,   -999.0,  -999.00,9,  -999.00,  -999.00,9,   1.8900,2
  49NZ20031209,  I3I4,   454,  1,     14,  12038,2,20040119,0523,-21.1435, 110.1613, 5068,   2800.4,   1.7526,  34.7255,2,  34.7260,2,    158.2,1,    166.9,2,   122.88,2,    33.98,2,    -0.01,2,     2.38,2, -999.000,9, -999.000,9, -999.000,9,   -999.0,9,   -999.0,9,-999.0000,9,  -999.00,   -999.0,9,   -999.0,  -999.00,9,  -999.00,  -999.00,9,   1.7526,2
  49NZ20031209,  I3I4,   454,  1,     13,  12037,2,20040119,0523,-21.1435, 110.1613, 5068,   3001.3,   1.6304,  34.7242,2,  34.7242,2,    163.3,1,    172.7,2,   123.16,2,    33.69,2,     0.00,2,     2.35,2, -999.000,9, -999.000,9, -999.000,9,   -999.0,9,   -999.0,9,-999.0000,9,  -999.00,   -999.0,9,   -999.0,  -999.00,9,  -999.00,  -999.00,1,   1.6303,2
  49NZ20031209,  I3I4,   454,  1,     12,  12036,2,20040119,0523,-21.1435, 110.1613, 5068,   3250.6,   1.4692,  34.7221,2,  34.7221,2,    170.0,1,    179.7,2,   123.33,2,    33.39,2,     0.00,2,     2.31,2, -999.000,9, -999.000,9, -999.000,9,   -999.0,9,   -999.0,9,-999.0000,9,  -999.00,   -999.0,9,   -999.0,  -999.00,9,  -999.00,  -999.00,9,   1.4691,2
  49NZ20031209,  I3I4,   454,  1,     11,  12035,2,20040119,0523,-21.1435, 110.1613, 5068,   3498.8,   1.3439,  34.7191,2,  34.7191,2,    174.5,1,    184.4,2,   125.08,2,    33.22,2,     0.01,2,     2.30,2, -999.000,9, -999.000,9, -999.000,9,   -999.0,9,   -999.0,9,-999.0000,9,  -999.00,   -999.0,9,   -999.0,  -999.00,9,  -999.00,  -999.00,1,   1.3435,2
  49NZ20031209,  I3I4,   454,  1,     10,  12034,2,20040119,0523,-21.1435, 110.1613, 5068,   3751.6,   1.2551,  34.7168,2,  34.7164,2,    177.9,1,    187.6,2,   126.71,2,    33.22,2,     0.00,2,     2.29,2, -999.000,9, -999.000,9, -999.000,9,   -999.0,9,   -999.0,9,-999.0000,9,  -999.00,   -999.0,9,   -999.0,  -999.00,9,  -999.00,  -999.00,9,   1.2549,2
  49NZ20031209,  I3I4,   454,  1,      9,  12033,2,20040119,0523,-21.1435, 110.1613, 5068,   3998.9,   1.2075,  34.7151,2,  34.7149,2,    180.4,1,    189.6,2,   127.79,2,    33.16,2,     0.00,2,     2.29,2, -999.000,9, -999.000,9, -999.000,9,   -999.0,9,   -999.0,9,-999.0000,9,  -999.00,   -999.0,9,   -999.0,  -999.00,9,  -999.00,  -999.00,1,   1.2074,2
  49NZ20031209,  I3I4,   454,  1,      8,  12032,2,20040119,0523,-21.1435, 110.1613, 5068,   4251.1,   1.1863,  34.7141,2,  34.7142,2,    182.2,1,    191.1,2,   128.02,2,    33.10,2,     0.00,2,     2.29,2, -999.000,9, -999.000,9, -999.000,9,   -999.0,9,   -999.0,9,-999.0000,9,  -999.00,   -999.0,9,   -999.0,  -999.00,9,  -999.00,  -999.00,9,   1.1863,2
  49NZ20031209,  I3I4,   454,  1,      7,  12031,2,20040119,0523,-21.1435, 110.1613, 5068,   4499.1,   1.1835,  34.7134,2,  34.7131,2,    184.1,1,    192.3,2,   128.48,2,    33.11,2,     0.00,2,     2.28,2, -999.000,9, -999.000,9, -999.000,9,   -999.0,9,   -999.0,9,-999.0000,9,  -999.00,   -999.0,9,   -999.0,  -999.00,9,  -999.00,  -999.00,1,   1.1835,2
  49NZ20031209,  I3I4,   454,  1,      6,  12030,2,20040119,0523,-21.1435, 110.1613, 5068,   4748.8,   1.1965,  34.7129,2,  34.7124,3,    185.7,1,    192.9,2,   128.28,2,    33.07,2,     0.01,2,     2.28,2, -999.000,9, -999.000,9, -999.000,9,   -999.0,9,   -999.0,9,-999.0000,9,  -999.00,   -999.0,9,   -999.0,  -999.00,9,  -999.00,  -999.00,9,   1.1965,2
  49NZ20031209,  I3I4,   454,  1,      5,  12029,2,20040119,0523,-21.1435, 110.1613, 5068,   4999.2,   1.2156,  34.7126,2,  34.7131,2,    187.4,1,    193.4,2,   128.69,2,    33.07,2,     0.01,2,     2.28,2, -999.000,9, -999.000,9, -999.000,9,   -999.0,9,   -999.0,9,-999.0000,9,  -999.00,   -999.0,9,   -999.0,  -999.00,9,  -999.00,  -999.00,1,   1.2155,2
  49NZ20031209,  I3I4,   454,  1,      4,  12028,2,20040119,0523,-21.1435, 110.1613, 5068,   5131.6,   1.2183,  34.7125,2,  34.7127,2,    189.5,1,    194.5,2,   128.23,2,    33.04,2,     0.00,2,     2.27,2, -999.000,9, -999.000,9, -999.000,9,   -999.0,9,   -999.0,9,-999.0000,9,  -999.00,   -999.0,9,   -999.0,  -999.00,9,  -999.00,  -999.00,1,   1.2185,2
  49NZ20031209,  I3I4,   454,  1,      3,  12027,2,20040119,0523,-21.1435, 110.1613, 5068,     89.5,  21.8945,  35.2235,2,-999.0000,9,    195.4,1,   -999.0,9,  -999.00,9,  -999.00,9,  -999.00,9,  -999.00,9, -999.000,9, -999.000,9, -999.000,9,   -999.0,9,   -999.0,9,-999.0000,9,  -999.00,   -999.0,9,   -999.0,  -999.00,9,  -999.00,  -999.00,9,  21.8986,2
  49NZ20031209,  I3I4,   454,  1,      2,  12026,2,20040119,0523,-21.1435, 110.1613, 5068,    600.5,   7.4601,  34.5644,2,-999.0000,9,    161.9,1,   -999.0,9,  -999.00,9,  -999.00,9,  -999.00,9,  -999.00,9, -999.000,9, -999.000,9, -999.000,9,   -999.0,9,   -999.0,9,-999.0000,9,  -999.00,   -999.0,9,   -999.0,  -999.00,9,  -999.00,  -999.00,9,   7.4602,2
  49NZ20031209,  I3I4,   454,  1,      1,  12025,2,20040119,0523,-21.1435, 110.1613, 5068,   5133.8,   1.2187,  34.7123,2,-999.0000,9,    189.6,1,   -999.0,9,  -999.00,9,  -999.00,9,  -999.00,9,  -999.00,9, -999.000,9, -999.000,9, -999.000,9,   -999.0,9,   -999.0,9,-999.0000,9,  -999.00,   -999.0,9,   -999.0,  -999.00,9,  -999.00,  -999.00,9,   1.2186,2