BOTTLE,20141204PRINUNIVRMK
EXPOCODE,SECT_ID,STNNBR,CASTNO,SAMPNO,BTLNBR,BTLNBR_FLAG_W,DATE,TIME,LATITUDE,LONGITUDE,DEPTH,CTDPRS,CTDTMP,CTDSAL,CTDSAL_FLAG_W,SALNTY,SALNTY_FLAG_W,CTDOXY,CTDOXY_FLAG_W,OXYGEN,OXYGEN_FLAG_W,SILCAT,SILCAT_FLAG_W,NITRAT,NITRAT_FLAG_W,NITRIT,NITRIT_FLAG_W,PHSPHT,PHSPHT_FLAG_W,CFC-11,CFC-11_FLAG_W,CFC-12,CFC-12_FLAG_W,CFC113,CFC113_FLAG_W,TCARBN,TCARBN_FLAG_W,ALKALI,ALKALI_FLAG_W,PH_TOT,PH_TOT_FLAG_W,PH_TMP,DELC14,DELC14_FLAG_W,C14ERR,DELC13,DELC13_FLAG_W,CS-137,CS137ER,CS-137_FLAG_W,SBE35,SBE35_FLAG_W
,,,,,,,,,,,METERS,DBAR,ITS-90,PSS-78,,PSS-78,,UMOL/KG,,UMOL/KG,,UMOL/KG,,UMOL/KG,,UMOL/KG,,UMOL/KG,,PMOL/KG,,PMOL/KG,,PMOL/KG,,UMOL/KG,,UMOL/KG,,,,DEG C,/MILLE,,/MILLE,/MILLE,,DM/.1MG,DM/.1MG,,ITS-90,
  49NZ20031209,  I3I4,   509,  1,     36,  12024,2,20040102,1144,-19.9868,  73.2000, 4570,      9.7,  26.1587,  35.0292,2,  35.0318,2,    198.0,1,    206.8,2,     1.94,2,    -0.02,2,     0.00,2,     0.10,2,    1.790,2,    1.052,2,    0.378,4,   1970.7,2,   2295.2,2,   8.0819,2,    25.00,   -999.0,9,   -999.0,  -999.00,9,  -999.00,  -999.00,9,  26.1551,2
  49NZ20031209,  I3I4,   509,  1,     35,  12023,2,20040102,1144,-19.9868,  73.2000, 4570,     49.5,  25.2973,  34.9946,2,  35.0008,2,    203.4,1,    213.7,2,     1.94,2,    -0.03,2,     0.00,2,     0.09,2,    1.890,2,    1.071,2, -999.000,5,   1970.4,6,   2291.7,2,   8.0821,2,    25.00,   -999.0,9,   -999.0,  -999.00,9,  -999.00,  -999.00,9,  25.2809,2
  49NZ20031209,  I3I4,   509,  1,     34,  12022,2,20040102,1144,-19.9868,  73.2000, 4570,    100.0,  22.0376,  35.2930,2,  35.3014,2,    206.9,1,    214.4,2,     2.21,2,     0.07,2,     0.02,2,     0.12,2,    2.049,2,    1.164,2, -999.000,5,   1999.7,2,   2308.7,6,   8.0583,2,    25.00,   -999.0,9,   -999.0,  -999.00,9,  -999.00,  -999.00,9,  22.0411,2
  49NZ20031209,  I3I4,   509,  1,     33,  12015,2,20040102,1144,-19.9868,  73.2000, 4570,    149.0,  20.9001,  35.5091,2,  35.5169,2,    183.1,1,    191.4,2,     3.22,2,     2.26,2,     0.13,2,     0.30,2,    2.089,2,    1.182,2,    0.293,4,   2040.5,2,   2321.0,2,   8.0039,6,    25.00,   -999.0,9,   -999.0,  -999.00,9,  -999.00,  -999.00,9,  20.8994,2
  49NZ20031209,  I3I4,   509,  1,     32,  12020,2,20040102,1144,-19.9868,  73.2000, 4570,    199.7,  19.3704,  35.6786,2,  35.6890,2,    175.6,1,    183.2,2,     4.15,2,     4.07,2,     0.01,2,     0.38,2,    2.198,2,    1.208,2,    0.153,4,   2073.3,2,   2337.9,2,   7.9631,2,    25.00,   -999.0,9,   -999.0,  -999.00,9,  -999.00,  -999.00,9,  19.3688,2
  49NZ20031209,  I3I4,   509,  1,     31,  12019,2,20040102,1144,-19.9868,  73.2000, 4570,    249.8,  17.6477,  35.7914,2,  35.7916,2,    193.0,1,    201.2,2,     2.72,2,     3.08,2,     0.01,2,     0.34,2,    2.442,6,    1.346,6,    0.049,4,   2088.5,2,   2345.5,2,   7.9524,2,    25.00,   -999.0,9,   -999.0,  -999.00,9,  -999.00,  -999.00,9,  17.6414,2
  49NZ20031209,  I3I4,   509,  1,     30,  12018,2,20040102,1144,-19.9868,  73.2000, 4570,    298.8,  15.9288,  35.6565,2,  35.6497,2,    204.3,1,    212.8,2,     2.19,2,     3.79,2,     0.01,2,     0.40,2,    2.684,2,    1.493,2,    0.073,4,   2095.6,2,   2335.3,2,   7.9267,2,    25.00,   -999.0,9,   -999.0,  -999.00,9,  -999.00,  -999.00,9,  15.9302,2
  49NZ20031209,  I3I4,   509,  1,     29,  12021,2,20040102,1144,-19.9868,  73.2000, 4570,    400.0,  13.1512,  35.2815,2,  35.2761,2,    220.8,1,    229.5,2,     2.43,2,     7.63,2,     0.00,2,     0.63,2,    3.102,2,    1.682,2,    0.127,4,   2104.5,2,   2311.3,2,   7.8777,2,    25.00,   -999.0,9,   -999.0,  -999.00,9,  -999.00,  -999.00,9,  13.1519,2
  49NZ20031209,  I3I4,   509,  1,     28,  12016,2,20040102,1144,-19.9868,  73.2000, 4570,    499.4,  11.7695,  35.0724,2,  35.0616,2,    226.2,1,    234.4,2,     3.09,2,    10.61,2,     0.00,2,     0.80,2,    3.256,2,    1.749,2,    0.135,4,   2111.4,2,   2302.4,2,   7.8479,2,    25.00,   -999.0,9,   -999.0,  -999.00,9,  -999.00,  -999.00,9,  11.7682,2
  49NZ20031209,  I3I4,   509,  1,     27,  12012,2,20040102,1144,-19.9868,  73.2000, 4570,    599.6,  10.3894,  34.8618,2,  34.8615,2,    225.4,1,    234.2,2,     5.83,4,    17.49,4,     0.00,4,     1.23,4,    3.414,2,    1.772,2,    0.100,4,   2129.0,4,   2290.6,2,   7.7809,4,    25.00,   -999.0,9,   -999.0,  -999.00,9,  -999.00,  -999.00,9,  10.3898,2
  49NZ20031209,  I3I4,   509,  1,     26,  12014,2,20040102,1144,-19.9868,  73.2000, 4570,    699.2,   9.2176,  34.6900,2,  34.6858,2,    220.7,1,    229.0,2,     5.81,4,    17.50,4,     0.00,4,     1.23,4,    3.169,2,    1.599,2,    0.077,4,   2128.5,6,   2291.9,2,   7.7799,4,    25.00,   -999.0,9,   -999.0,  -999.00,9,  -999.00,  -999.00,9,   9.2178,2
  49NZ20031209,  I3I4,   509,  1,     25,  12013,2,20040102,1144,-19.9868,  73.2000, 4570,    801.1,   7.2589,  34.5164,2,  34.5150,2,    187.7,1,    195.1,2,    17.98,2,    25.34,2,     0.00,2,     1.73,2,    1.542,2,    0.765,2,    0.045,4,   2167.6,2,   2291.8,6,   7.6946,2,    25.00,   -999.0,9,   -999.0,  -999.00,9,  -999.00,  -999.00,9,   7.2590,2
  49NZ20031209,  I3I4,   509,  1,     24,  12048,2,20040102,1144,-19.9868,  73.2000, 4570,    899.0,   5.9267,  34.4995,2,  34.4975,2,    154.6,1,    160.4,2,    39.84,2,    31.03,2,     0.00,2,     2.15,2,    0.492,2,    0.243,2,    0.017,4,   2210.7,2,   2307.5,2,   7.6211,2,    25.00,   -999.0,9,   -999.0,  -999.00,9,  -999.00,  -999.00,9,   5.9270,2
  49NZ20031209,  I3I4,   509,  1,     23,  12047,2,20040102,1144,-19.9868,  73.2000, 4570,    999.9,   5.1038,  34.5515,2,  34.5534,2,    130.5,1,    134.5,2,    61.01,2,    34.09,2,    -0.01,2,     2.40,2,    0.145,6,    0.078,6,    0.000,4,   2247.4,2,   2329.0,2,   7.5805,2,    25.00,   -999.0,9,   -999.0,  -999.00,9,  -999.00,  -999.00,9,   5.1039,2
  49NZ20031209,  I3I4,   509,  1,     22,  12046,2,20040102,1144,-19.9868,  73.2000, 4570,   1200.3,   4.5297,  34.6609,2,  34.6620,2,    108.7,1,    111.8,2,    84.99,2,    35.97,2,     0.00,2,     2.56,2,    0.009,2,    0.006,2,    0.000,4,   2283.4,2,   2357.0,2,   7.5524,2,    25.00,   -999.0,9,   -999.0,  -999.00,9,  -999.00,  -999.00,9,   4.5299,2
  49NZ20031209,  I3I4,   509,  1,     21,  12045,2,20040102,1144,-19.9868,  73.2000, 4570,   1401.1,   3.9966,  34.6918,2,  34.6918,2,    115.2,1,    118.7,2,    92.36,2,    35.77,2,     0.00,2,     2.54,2,    0.002,2,    0.004,2,    0.000,4,   2288.8,2,   2366.1,2,   7.5564,2,    25.00,   -999.0,9,   -999.0,  -999.00,9,  -999.00,  -999.00,9,   3.9966,2
  49NZ20031209,  I3I4,   509,  1,     20,  12044,2,20040102,1144,-19.9868,  73.2000, 4570,   1600.1,   3.3937,  34.6973,2,  34.6975,2,    127.2,1,    131.6,2,    96.75,2,    35.31,2,     0.00,2,     2.51,2,    0.004,2,    0.001,2,    0.000,4,   2289.6,2,   2365.9,2,   7.5668,2,    25.00,   -999.0,9,   -999.0,  -999.00,9,  -999.00,  -999.00,9,   3.3938,2
  49NZ20031209,  I3I4,   509,  1,     19,  12043,2,20040102,1144,-19.9868,  73.2000, 4570,   1799.9,   2.8737,  34.7027,2,  34.7036,2,    142.9,1,    148.4,2,    98.16,2,    34.46,2,    -0.01,2,     2.42,2,   -0.003,2,   -0.001,2,    0.000,4,   2281.5,2,   2368.3,2,   7.5846,2,    25.00,   -999.0,9,   -999.0,  -999.00,9,  -999.00,  -999.00,9,   2.8736,2
  49NZ20031209,  I3I4,   509,  1,     18,  12042,2,20040102,1144,-19.9868,  73.2000, 4570,   2000.7,   2.4007,  34.7108,2,  34.7110,2,    157.0,1,    163.5,2,    99.63,2,    33.63,2,     0.00,2,     2.33,2,    0.002,2,    0.001,2,    0.000,4,   2278.9,2,   2366.9,2,   7.6009,2,    25.00,   -999.0,9,   -999.0,  -999.00,9,  -999.00,  -999.00,9,   2.4013,2
  49NZ20031209,  I3I4,   509,  1,     17,  12041,2,20040102,1144,-19.9868,  73.2000, 4570,   2200.8,   2.0794,  34.7212,2,  34.7206,2,    164.9,1,    172.2,2,   104.16,2,    33.20,2,     0.00,2,     2.30,2,    0.000,2,   -0.002,2,    0.000,4,   2277.0,2,   2369.7,2,   7.6059,4,    25.00,   -999.0,9,   -999.0,  -999.00,9,  -999.00,  -999.00,9,   2.0795,2
  49NZ20031209,  I3I4,   509,  1,     16,  12040,2,20040102,1144,-19.9868,  73.2000, 4570,   2399.6,   1.8420,  34.7257,2,  34.7256,2,    172.3,1,    180.2,2,   106.56,2,    32.79,2,     0.00,2,     2.26,2,    0.003,2,    0.000,2,    0.000,4,   2275.6,6,   2372.4,2,   7.6119,4,    25.00,   -999.0,9,   -999.0,  -999.00,9,  -999.00,  -999.00,9,   1.8420,2
  49NZ20031209,  I3I4,   509,  1,     15,  12039,2,20040102,1144,-19.9868,  73.2000, 4570,   2599.6,   1.6793,  34.7275,2,  34.7274,2,    176.3,1,    184.4,2,   109.39,2,    32.58,2,    -0.01,2,     2.24,2,    0.003,2,    0.001,2,    0.000,4,   2274.9,2,   2374.3,6,   7.6213,4,    25.00,   -999.0,9,   -999.0,  -999.00,9,  -999.00,  -999.00,9,   1.6793,2
  49NZ20031209,  I3I4,   509,  1,     14,  12038,2,20040102,1144,-19.9868,  73.2000, 4570,   2801.9,   1.5707,  34.7271,2,  34.7271,2,    177.0,1,    185.2,2,   113.91,2,    32.81,2,     0.00,2,     2.26,2,    0.002,2,    0.002,2,    0.000,4,   2280.8,2,   2378.1,2,   7.6246,2,    25.00,   -999.0,9,   -999.0,  -999.00,9,  -999.00,  -999.00,9,   1.5704,2
  49NZ20031209,  I3I4,   509,  1,     13,  12037,2,20040102,1144,-19.9868,  73.2000, 4570,   3001.0,   1.4886,  34.7264,2,  34.7260,2,    178.2,1,    186.4,2,   116.99,2,    32.84,2,    -0.01,2,     2.26,2,   -0.004,2,   -0.002,2,    0.000,4,   2282.0,2,   2383.3,2,   7.6266,2,    25.00,   -999.0,9,   -999.0,  -999.00,9,  -999.00,  -999.00,9,   1.4885,2
  49NZ20031209,  I3I4,   509,  1,     12,  12036,2,20040102,1144,-19.9868,  73.2000, 4570,   3248.4,   1.4213,  34.7245,2,  34.7244,2,    178.1,1,    185.8,2,   121.23,2,    33.00,2,     0.00,2,     2.27,2,    0.003,2,   -0.001,2,    0.000,4,   2288.9,2,   2388.9,2,   7.6290,4,    25.00,   -999.0,9,   -999.0,  -999.00,9,  -999.00,  -999.00,9,   1.4212,2
  49NZ20031209,  I3I4,   509,  1,     11,  12035,2,20040102,1144,-19.9868,  73.2000, 4570,   3500.8,   1.4004,  34.7229,2,  34.7238,2,    177.8,1,    185.0,2,   123.91,2,    33.20,2,    -0.01,2,     2.29,2,   -0.005,2,   -0.002,2,    0.000,4,   2290.4,2,   2391.6,2,   7.6282,4,    25.00,   -999.0,9,   -999.0,  -999.00,9,  -999.00,  -999.00,9,   1.4003,2
  49NZ20031209,  I3I4,   509,  1,     10,  12034,2,20040102,1144,-19.9868,  73.2000, 4570,   3750.2,   1.3949,  34.7217,2,  34.7217,2,    177.3,1,    184.0,2,   126.11,2,    33.42,2,     0.00,2,     2.30,2,    0.000,2,    0.000,2,    0.000,4,   2294.4,2,   2395.4,2,   7.6296,2,    25.00,   -999.0,9,   -999.0,  -999.00,9,  -999.00,  -999.00,9,   1.3947,2
  49NZ20031209,  I3I4,   509,  1,      9,  12033,2,20040102,1144,-19.9868,  73.2000, 4570,   4500.2,   1.4429,  34.7203,2,  34.7203,2,    178.9,1,    182.8,2,   128.80,2,    33.61,2,     0.00,2,     2.31,2,   -0.002,2,    0.003,2,    0.000,4,   2297.5,2,   2397.8,2,   7.6309,4,    25.00,   -999.0,9,   -999.0,  -999.00,9,  -999.00,  -999.00,9,   1.4428,2
  49NZ20031209,  I3I4,   509,  1,      8,  12032,2,20040102,1144,-19.9868,  73.2000, 4570,   4250.7,   1.4169,  34.7204,2,  34.7201,2,    177.8,1,    183.0,2,   128.65,2,    33.59,2,     0.00,2,     2.31,2,    0.004,2,    0.002,2,    0.000,4,   2297.9,6,   2399.7,2,   7.6320,4,    25.00,   -999.0,9,   -999.0,  -999.00,9,  -999.00,  -999.00,9,   1.4168,2
  49NZ20031209,  I3I4,   509,  1,      7,  12031,2,20040102,1144,-19.9868,  73.2000, 4570,   4499.6,   1.4427,  34.7204,2,  34.7204,2,    178.9,1,    182.9,2,   128.88,2,    33.60,2,     0.00,2,     2.32,2,   -0.001,2,   -0.001,2,    0.000,4,   2297.6,2,   2402.6,2,   7.6288,2,    25.00,   -999.0,9,   -999.0,  -999.00,9,  -999.00,  -999.00,9,   1.4427,2
  49NZ20031209,  I3I4,   509,  1,      6,  12030,2,20040102,1144,-19.9868,  73.2000, 4570,   4604.3,   1.4547,  34.7205,2,  34.7211,2,    179.9,1,    183.0,2,   128.94,2,    33.60,2,     0.00,2,     2.31,2,   -0.002,2,    0.000,2,    0.000,4,   2297.1,2,   2401.0,2,   7.6305,2,    25.00,   -999.0,9,   -999.0,  -999.00,9,  -999.00,  -999.00,9,   1.4548,2
  49NZ20031209,  I3I4,   509,  1,      5,  12029,9,20040102,1144,-19.9868,  73.2000, 4570,   1000.5,   5.1057,  34.5515,2,-999.0000,9,    130.5,1,   -999.0,9,  -999.00,9,  -999.00,9,  -999.00,9,  -999.00,9, -999.000,9, -999.000,9, -999.000,9,   -999.0,9,   -999.0,9,-999.0000,9,  -999.00,   -999.0,9,   -999.0,  -999.00,9,  -999.00,  -999.00,9,   5.1058,2
  49NZ20031209,  I3I4,   509,  1,      4,  12028,9,20040102,1144,-19.9868,  73.2000, 4570,   1000.5,   5.1050,  34.5515,2,-999.0000,9,    130.5,1,   -999.0,9,  -999.00,9,  -999.00,9,  -999.00,9,  -999.00,9, -999.000,9, -999.000,9, -999.000,9,   -999.0,9,   -999.0,9,-999.0000,9,  -999.00,   -999.0,9,   -999.0,  -999.00,9,  -999.00,  -999.00,9,   5.1054,2
  49NZ20031209,  I3I4,   509,  1,      3,  12027,9,20040102,1144,-19.9868,  73.2000, 4570,   1000.0,   5.1065,  34.5517,2,-999.0000,9,    130.5,1,   -999.0,9,  -999.00,9,  -999.00,9,  -999.00,9,  -999.00,9, -999.000,9, -999.000,9, -999.000,9,   -999.0,9,   -999.0,9,-999.0000,9,  -999.00,   -999.0,9,   -999.0,  -999.00,9,  -999.00,  -999.00,9,   5.1069,2
  49NZ20031209,  I3I4,   509,  1,      2,  12026,9,20040102,1144,-19.9868,  73.2000, 4570,      9.6,  26.1485,  35.0289,2,-999.0000,9,    197.7,1,   -999.0,9,  -999.00,9,  -999.00,9,  -999.00,9,  -999.00,9, -999.000,9, -999.000,9, -999.000,9,   -999.0,9,   -999.0,9,-999.0000,9,  -999.00,   -999.0,9,   -999.0,  -999.00,9,  -999.00,  -999.00,9,  26.1454,2
  49NZ20031209,  I3I4,   509,  1,      1,  12025,2,20040102,1144,-19.9868,  73.2000, 4570,   4000.3,   1.4000,  34.7210,2,  34.7206,2,    177.2,1,    183.4,2,   127.96,2,    33.54,2,     0.00,2,     2.31,2,    0.007,4,    0.001,4,    0.000,4,   2296.6,2,   2399.4,2,   7.6333,4,    25.00,   -999.0,9,   -999.0,  -999.00,9,  -999.00,  -999.00,9,   1.3999,2