BOTTLE,20141204PRINUNIVRMK
EXPOCODE,SECT_ID,STNNBR,CASTNO,SAMPNO,BTLNBR,BTLNBR_FLAG_W,DATE,TIME,LATITUDE,LONGITUDE,DEPTH,CTDPRS,CTDTMP,CTDSAL,CTDSAL_FLAG_W,SALNTY,SALNTY_FLAG_W,CTDOXY,CTDOXY_FLAG_W,OXYGEN,OXYGEN_FLAG_W,SILCAT,SILCAT_FLAG_W,NITRAT,NITRAT_FLAG_W,NITRIT,NITRIT_FLAG_W,PHSPHT,PHSPHT_FLAG_W,CFC-11,CFC-11_FLAG_W,CFC-12,CFC-12_FLAG_W,CFC113,CFC113_FLAG_W,TCARBN,TCARBN_FLAG_W,ALKALI,ALKALI_FLAG_W,PH_TOT,PH_TOT_FLAG_W,PH_TMP,DELC14,DELC14_FLAG_W,C14ERR,DELC13,DELC13_FLAG_W,CS-137,CS137ER,CS-137_FLAG_W,SBE35,SBE35_FLAG_W
,,,,,,,,,,,METERS,DBAR,ITS-90,PSS-78,,PSS-78,,UMOL/KG,,UMOL/KG,,UMOL/KG,,UMOL/KG,,UMOL/KG,,UMOL/KG,,PMOL/KG,,PMOL/KG,,PMOL/KG,,UMOL/KG,,UMOL/KG,,,,DEG C,/MILLE,,/MILLE,/MILLE,,DM/.1MG,DM/.1MG,,ITS-90,
  49NZ20031209,  I3I4,   464,  1,     36,  12024,2,20040116,0405,-19.9973, 102.2427, 6052,     10.0,  25.1349,  35.0280,2,  35.0280,2,    199.3,1,    209.8,2,     2.32,2,    -0.04,2,     0.01,2,     0.11,2,    1.726,2,    1.084,2, -999.000,5,   1972.9,2,   2296.3,2,   8.0804,2,    25.00,   -999.0,9,   -999.0,  -999.00,9,  -999.00,  -999.00,9,  25.1276,2
  49NZ20031209,  I3I4,   464,  1,     35,  12023,2,20040116,0405,-19.9973, 102.2427, 6052,     49.8,  23.6180,  34.9965,2,  34.9988,2,    206.6,1,    217.5,2,     2.60,2,    -0.05,2,     0.00,2,     0.12,2,    1.873,2,    1.153,2, -999.000,5,   1976.7,6,   2293.2,2,   8.0669,2,    25.00,   -999.0,9,   -999.0,  -999.00,9,  -999.00,  -999.00,9,  23.6179,2
  49NZ20031209,  I3I4,   464,  1,     34,  12022,2,20040116,0405,-19.9973, 102.2427, 6052,     99.1,  21.5894,  35.2630,2,  35.2620,2,    193.7,1,    203.7,2,     3.32,2,     0.67,2,     0.13,2,     0.20,2,    1.946,2,    1.198,2, -999.000,5,   2016.1,2,   2309.8,6,   8.0256,2,    25.00,   -999.0,9,   -999.0,  -999.00,9,  -999.00,  -999.00,9,  21.5879,2
  49NZ20031209,  I3I4,   464,  1,     33,  12015,2,20040116,0405,-19.9973, 102.2427, 6052,    150.2,  20.4928,  35.5212,2,  35.5299,2,    202.1,1,    214.2,2,     2.59,2,     0.30,2,     0.10,2,     0.17,2,    2.076,2,    1.281,2, -999.000,5,   2026.3,2,   2327.2,2,   8.0353,2,    25.00,   -999.0,9,   -999.0,  -999.00,9,  -999.00,  -999.00,9,  20.4946,2
  49NZ20031209,  I3I4,   464,  1,     32,  12020,2,20040116,0405,-19.9973, 102.2427, 6052,    202.1,  19.0921,  35.6345,2,  35.6331,2,    178.9,1,    187.9,2,     4.26,2,     3.81,2,     0.02,2,     0.39,2,    2.116,2,    1.288,2,    0.267,4,   2068.2,2,   2330.3,2,   7.9629,2,    25.00,   -999.0,9,   -999.0,  -999.00,9,  -999.00,  -999.00,9,  19.0890,2
  49NZ20031209,  I3I4,   464,  1,     31,  12019,2,20040116,0405,-19.9973, 102.2427, 6052,    251.5,  16.7735,  35.5846,2,  35.5813,2,    173.7,1,    181.9,2,     6.74,2,     6.62,2,     0.00,2,     0.58,2,    2.231,6,    1.308,6,    0.071,4,   2099.9,2,   2334.8,2,   7.9213,2,    25.00,   -999.0,9,   -999.0,  -999.00,9,  -999.00,  -999.00,9,  16.7754,2
  49NZ20031209,  I3I4,   464,  1,     30,  12018,2,20040116,0405,-19.9973, 102.2427, 6052,    302.8,  14.6010,  35.4580,2,  35.4639,2,    203.6,1,    212.7,2,     3.54,2,     5.71,2,     0.01,2,     0.53,2,    2.648,2,    1.506,2,    0.122,4,   2098.3,2,   2329.8,2,   7.9120,2,    25.00,   -999.0,9,   -999.0,  -999.00,9,  -999.00,  -999.00,9,  14.5892,2
  49NZ20031209,  I3I4,   464,  1,     29,  12017,2,20040116,0405,-19.9973, 102.2427, 6052,    399.6,  11.0312,  34.9553,2,  34.9471,2,    210.4,1,    220.5,2,     5.93,2,    12.88,2,     0.01,2,     0.97,2,    3.022,2,    1.705,2,    0.119,4,   2122.2,2,   2300.0,2,   7.8224,2,    25.00,   -999.0,9,   -999.0,  -999.00,9,  -999.00,  -999.00,9,  11.0320,2
  49NZ20031209,  I3I4,   464,  1,     28,  12016,2,20040116,0405,-19.9973, 102.2427, 6052,    501.5,   9.1367,  34.6849,2,  34.6823,2,    212.9,1,    224.5,2,     7.32,2,    17.85,2,     0.00,2,     1.26,2,    3.079,2,    1.605,2,    0.156,4,   2132.3,2,   2290.1,2,   7.7722,2,    25.00,   -999.0,9,   -999.0,  -999.00,9,  -999.00,  -999.00,9,   9.1378,2
  49NZ20031209,  I3I4,   464,  1,     27,  12012,2,20040116,0405,-19.9973, 102.2427, 6052,    600.6,   7.8694,  34.5734,2,  34.5732,2,    181.1,1,    191.0,2,    18.02,2,    23.96,2,     0.00,2,     1.66,2,    1.861,2,    0.977,2,    0.072,4,   2162.8,2,   2291.2,2,   7.7027,2,    25.00,   -999.0,9,   -999.0,  -999.00,9,  -999.00,  -999.00,9,   7.8696,2
  49NZ20031209,  I3I4,   464,  1,     26,  12014,2,20040116,0405,-19.9973, 102.2427, 6052,    700.3,   6.5259,  34.5620,2,  34.5621,2,    130.2,1,    136.2,2,    45.29,2,    31.54,2,     0.00,2,     2.20,2,    0.406,2,    0.249,2,    0.021,4,   2220.9,6,   2315.1,2,   7.5997,2,    25.00,   -999.0,9,   -999.0,  -999.00,9,  -999.00,  -999.00,9,   6.5243,2
  49NZ20031209,  I3I4,   464,  1,     25,  12013,2,20040116,0405,-19.9973, 102.2427, 6052,    801.9,   5.8945,  34.6115,2,  34.6120,2,    101.2,1,    105.1,2,    66.98,2,    34.98,2,     0.00,2,     2.49,2,    0.084,2,    0.052,2,    0.000,4,   2261.4,2,   2335.6,6,   7.5486,2,    25.00,   -999.0,9,   -999.0,  -999.00,9,  -999.00,  -999.00,9,   5.8949,2
  49NZ20031209,  I3I4,   464,  1,     24,  12048,2,20040116,0405,-19.9973, 102.2427, 6052,    899.3,   5.5428,  34.6410,2,  34.6408,2,     91.9,1,     95.2,2,    78.05,2,    35.99,2,     0.00,2,     2.57,2,    0.026,2,    0.016,2,    0.000,4,   2277.6,2,   2347.8,2,   7.5343,2,    25.00,   -999.0,9,   -999.0,  -999.00,9,  -999.00,  -999.00,9,   5.5433,2
  49NZ20031209,  I3I4,   464,  1,     23,  12047,2,20040116,0405,-19.9973, 102.2427, 6052,    998.8,   5.1525,  34.6446,2,  34.6447,2,     92.2,1,     95.8,2,    84.91,2,    36.33,2,     0.00,2,     2.61,2,    0.010,6,    0.008,6,    0.000,4,   2284.4,2,   2354.9,2,   7.5318,2,    25.00,   -999.0,9,   -999.0,  -999.00,9,  -999.00,  -999.00,9,   5.1528,2
  49NZ20031209,  I3I4,   464,  1,     22,  12046,2,20040116,0405,-19.9973, 102.2427, 6052,   1199.5,   4.4639,  34.6503,2,  34.6504,2,     99.5,1,    103.7,2,    92.72,2,    36.44,2,     0.01,2,     2.62,2,    0.004,2,    0.001,2,    0.000,4,   2291.8,2,   2361.2,2,   7.5343,2,    25.00,   -999.0,9,   -999.0,  -999.00,9,  -999.00,  -999.00,9,   4.4640,2
  49NZ20031209,  I3I4,   464,  1,     21,  12045,2,20040116,0405,-19.9973, 102.2427, 6052,   1399.1,   3.7953,  34.6586,2,  34.6582,2,    112.8,1,    118.3,2,    95.22,2,    36.07,2,     0.01,2,     2.58,2,    0.001,2,    0.003,2,    0.000,4,   2291.5,2,   2365.2,2,   7.5450,2,    25.00,   -999.0,9,   -999.0,  -999.00,9,  -999.00,  -999.00,9,   3.7953,2
  49NZ20031209,  I3I4,   464,  1,     20,  12044,2,20040116,0405,-19.9973, 102.2427, 6052,   1600.1,   3.2903,  34.6788,2,  34.6785,2,    122.2,1,    128.4,2,   100.04,2,    35.64,2,     0.00,2,     2.54,2,    0.000,2,    0.000,2,    0.000,4,   2290.4,2,   2369.9,2,   7.5536,2,    25.00,   -999.0,9,   -999.0,  -999.00,9,  -999.00,  -999.00,9,   3.2906,2
  49NZ20031209,  I3I4,   464,  1,     19,  12043,2,20040116,0405,-19.9973, 102.2427, 6052,   1800.3,   2.8922,  34.7000,2,  34.6999,2,    131.1,1,    138.0,2,   104.19,2,    35.19,2,     0.00,2,     2.49,2,    0.002,2,    0.002,2,    0.000,4,   2292.1,2,   2373.6,2,   7.5652,2,    25.00,   -999.0,9,   -999.0,  -999.00,9,  -999.00,  -999.00,9,   2.8925,2
  49NZ20031209,  I3I4,   464,  1,     18,  12042,2,20040116,0405,-19.9973, 102.2427, 6052,   1997.7,   2.5097,  34.7172,2,  34.7176,2,    138.3,1,    161.7,4,   110.71,2,    34.85,2,     0.00,2,     2.46,2,    0.001,2,   -0.001,2,    0.000,4,   2294.3,2,   2379.5,2,   7.5761,6,    25.00,   -999.0,9,   -999.0,  -999.00,9,  -999.00,  -999.00,9,   2.5093,2
  49NZ20031209,  I3I4,   464,  1,     17,  12041,2,20040116,0405,-19.9973, 102.2427, 6052,   2199.2,   2.2374,  34.7246,2,  34.7254,2,    144.7,1,    153.4,2,   114.76,2,    34.39,2,     0.01,2,     2.43,2,   -0.002,2,   -0.001,2,    0.000,4,   2295.8,2,   2385.4,2,   7.5834,2,    25.00,   -999.0,9,   -999.0,  -999.00,9,  -999.00,  -999.00,9,   2.2370,2
  49NZ20031209,  I3I4,   464,  1,     16,  12040,2,20040116,0405,-19.9973, 102.2427, 6052,   2399.9,   2.0454,  34.7270,2,  34.7267,2,    149.5,1,   -999.0,5,   117.68,2,    34.29,2,     0.00,2,     2.41,2,   -0.003,2,   -0.002,2,    0.000,4,   2295.2,6,   2387.2,2,   7.5897,2,    25.00,   -999.0,9,   -999.0,  -999.00,9,  -999.00,  -999.00,9,   2.0455,2
  49NZ20031209,  I3I4,   464,  1,     15,  12039,2,20040116,0405,-19.9973, 102.2427, 6052,   2598.7,   1.8983,  34.7269,2,  34.7267,2,    153.6,1,    163.5,2,   119.69,2,    34.11,2,     0.00,2,     2.38,2,    0.000,2,    0.002,2,    0.000,4,   2294.0,2,   2392.4,6,   7.5964,2,    25.00,   -999.0,9,   -999.0,  -999.00,9,  -999.00,  -999.00,9,   1.8984,2
  49NZ20031209,  I3I4,   464,  1,     14,  12038,2,20040116,0405,-19.9973, 102.2427, 6052,   2800.0,   1.7441,  34.7262,2,  34.7262,2,    159.7,1,    170.3,2,   119.93,2,    33.77,2,     0.00,2,     2.34,2,   -0.002,2,    0.000,2,    0.000,4,   2291.7,2,   2386.9,2,   7.6032,6,    25.00,   -999.0,9,   -999.0,  -999.00,9,  -999.00,  -999.00,9,   1.7441,2
  49NZ20031209,  I3I4,   464,  1,     13,  12037,2,20040116,0405,-19.9973, 102.2427, 6052,   3001.1,   1.6179,  34.7247,2,  34.7251,2,    163.5,1,    174.7,2,   121.43,2,    33.61,2,     0.00,2,     2.33,2,   -0.006,2,   -0.002,2,    0.000,4,   2290.4,2,   2391.3,2,   7.6071,2,    25.00,   -999.0,9,   -999.0,  -999.00,9,  -999.00,  -999.00,9,   1.6178,2
  49NZ20031209,  I3I4,   464,  1,     12,  12036,2,20040116,0405,-19.9973, 102.2427, 6052,   3250.4,   1.4826,  34.7224,2,  34.7228,2,    167.4,1,    178.8,2,   123.50,2,    33.43,2,     0.00,2,     2.31,2,    0.001,2,   -0.001,2,    0.000,4,   2291.4,2,   2390.9,2,   7.6122,2,    25.00,   -999.0,9,   -999.0,  -999.00,9,  -999.00,  -999.00,9,   1.4828,2
  49NZ20031209,  I3I4,   464,  1,     11,  12035,2,20040116,0405,-19.9973, 102.2427, 6052,   3500.5,   1.3624,  34.7195,2,  34.7200,2,    171.1,1,    182.8,2,   125.47,2,    33.45,2,     0.00,2,     2.31,2,    0.003,2,    0.002,2,    0.000,4,   2289.8,2,   2393.8,2,   7.6168,2,    25.00,   -999.0,9,   -999.0,  -999.00,9,  -999.00,  -999.00,9,   1.3624,2
  49NZ20031209,  I3I4,   464,  1,     10,  12034,2,20040116,0405,-19.9973, 102.2427, 6052,   3750.3,   1.2819,  34.7172,2,  34.7173,2,    174.2,1,    186.4,2,   126.57,2,    33.38,2,     0.00,2,     2.30,2,    0.000,2,    0.000,2,    0.000,4,   2287.4,2,   2397.2,2,   7.6202,2,    25.00,   -999.0,9,   -999.0,  -999.00,9,  -999.00,  -999.00,9,   1.2818,2
  49NZ20031209,  I3I4,   464,  1,      9,  12033,2,20040116,0405,-19.9973, 102.2427, 6052,   4000.3,   1.2381,  34.7158,2,  34.7152,2,    176.9,1,    188.9,2,   126.63,2,    33.22,2,     0.00,2,     2.29,2,   -0.001,2,   -0.001,2,    0.000,4,   2286.5,2,   2393.3,2,   7.6213,2,    25.00,   -999.0,9,   -999.0,  -999.00,9,  -999.00,  -999.00,9,   1.2381,2
  49NZ20031209,  I3I4,   464,  1,      8,  12032,2,20040116,0405,-19.9973, 102.2427, 6052,   4250.9,   1.2073,  34.7149,2,  34.7155,3,    179.9,1,    191.9,2,   126.23,2,    33.12,2,     0.00,2,     2.28,2,    0.002,2,    0.001,2,    0.000,4,   2284.9,6,   2390.0,2,   7.6255,2,    25.00,   -999.0,9,   -999.0,  -999.00,9,  -999.00,  -999.00,9,   1.2074,2
  49NZ20031209,  I3I4,   464,  1,      7,  12031,2,20040116,0405,-19.9973, 102.2427, 6052,   4500.9,   1.1879,  34.7139,2,  34.7135,2,    182.5,1,    194.1,2,   125.91,2,    32.93,2,     0.00,2,     2.27,2,    0.002,2,   -0.001,2,    0.000,4,   2282.6,2,   2389.2,6,   7.6268,2,    25.00,   -999.0,9,   -999.0,  -999.00,9,  -999.00,  -999.00,9,   1.1879,2
  49NZ20031209,  I3I4,   464,  1,      6,  12030,2,20040116,0405,-19.9973, 102.2427, 6052,   4751.0,   1.1719,  34.7131,2,  34.7130,2,    185.6,1,   -999.0,5,   125.03,2,    32.84,2,     0.01,2,     2.26,2,    0.000,2,    0.001,2,    0.000,4,   2279.7,2,   2385.0,2,   7.6273,6,    25.00,   -999.0,9,   -999.0,  -999.00,9,  -999.00,  -999.00,9,   1.1719,2
  49NZ20031209,  I3I4,   464,  1,      5,  12029,2,20040116,0405,-19.9973, 102.2427, 6052,   4999.9,   1.1519,  34.7120,2,  34.7119,2,    188.3,1,    199.4,2,   124.46,2,    32.76,2,    -0.01,2,     2.25,2,   -0.002,2,    0.000,2,    0.000,4,   2275.6,2,   2381.8,2,   7.6283,2,    25.00,   -999.0,9,   -999.0,  -999.00,9,  -999.00,  -999.00,9,   1.1519,2
  49NZ20031209,  I3I4,   464,  1,      4,  12028,2,20040116,0405,-19.9973, 102.2427, 6052,   5249.9,   1.1595,  34.7114,2,  34.7117,2,    190.7,1,    200.7,2,   124.07,2,    32.65,2,     0.00,2,     2.25,2,    0.003,2,    0.002,2,    0.000,4,   2274.1,2,   2381.9,2,   7.6270,2,    25.00,   -999.0,9,   -999.0,  -999.00,9,  -999.00,  -999.00,9,   1.1596,2
  49NZ20031209,  I3I4,   464,  1,      3,  12027,2,20040116,0405,-19.9973, 102.2427, 6052,   5499.6,   1.1802,  34.7111,2,  34.7106,3,    192.4,1,    201.5,2,   123.67,2,    32.67,2,     0.00,2,     2.24,2,    0.002,2,    0.001,2,    0.000,4,   2274.5,2,   2378.8,2,   7.6275,2,    25.00,   -999.0,9,   -999.0,  -999.00,9,  -999.00,  -999.00,9,   1.1802,2
  49NZ20031209,  I3I4,   464,  1,      2,  12026,2,20040116,0405,-19.9973, 102.2427, 6052,   5749.5,   1.2038,  34.7108,2,  34.7108,2,    194.4,1,    202.3,2,   123.37,2,    32.59,2,     0.00,2,     2.24,2,    0.003,2,    0.002,2,    0.000,4,   2271.1,2,   2377.7,2,   7.6267,2,    25.00,   -999.0,9,   -999.0,  -999.00,9,  -999.00,  -999.00,9,   1.2039,2
  49NZ20031209,  I3I4,   464,  1,      1,  12025,2,20040116,0405,-19.9973, 102.2427, 6052,   6143.0,   1.2380,  34.7103,2,  34.7105,2,    198.6,1,    203.7,2,   122.59,2,    32.54,2,     0.00,2,     2.23,2,    0.009,2,    0.006,2,    0.000,4,   2268.4,2,   2373.6,2,   7.6303,3,    25.00,   -999.0,9,   -999.0,  -999.00,9,  -999.00,  -999.00,9,   1.2382,2