BOTTLE,20141204PRINUNIVRMK
EXPOCODE,SECT_ID,STNNBR,CASTNO,SAMPNO,BTLNBR,BTLNBR_FLAG_W,DATE,TIME,LATITUDE,LONGITUDE,DEPTH,CTDPRS,CTDTMP,CTDSAL,CTDSAL_FLAG_W,SALNTY,SALNTY_FLAG_W,CTDOXY,CTDOXY_FLAG_W,OXYGEN,OXYGEN_FLAG_W,SILCAT,SILCAT_FLAG_W,NITRAT,NITRAT_FLAG_W,NITRIT,NITRIT_FLAG_W,PHSPHT,PHSPHT_FLAG_W,CFC-11,CFC-11_FLAG_W,CFC-12,CFC-12_FLAG_W,CFC113,CFC113_FLAG_W,TCARBN,TCARBN_FLAG_W,ALKALI,ALKALI_FLAG_W,PH_TOT,PH_TOT_FLAG_W,PH_TMP,DELC14,DELC14_FLAG_W,C14ERR,DELC13,DELC13_FLAG_W,CS-137,CS137ER,CS-137_FLAG_W,SBE35,SBE35_FLAG_W
,,,,,,,,,,,METERS,DBAR,ITS-90,PSS-78,,PSS-78,,UMOL/KG,,UMOL/KG,,UMOL/KG,,UMOL/KG,,UMOL/KG,,UMOL/KG,,PMOL/KG,,PMOL/KG,,PMOL/KG,,UMOL/KG,,UMOL/KG,,,,DEG C,/MILLE,,/MILLE,/MILLE,,DM/.1MG,DM/.1MG,,ITS-90,
  49NZ20031209,  I3I4,   500,  1,     35,  12023,2,20040104,1931,-19.9920,  79.0812, 4833,     49.8,  25.3922,  35.2904,2,  35.2892,2,    200.1,1,    209.9,2,     2.11,2,    -0.03,2,     0.01,2,     0.10,2, -999.000,9, -999.000,9, -999.000,9,   -999.0,9,   -999.0,9,-999.0000,9,  -999.00,   -999.0,9,   -999.0,  -999.00,9,  -999.00,  -999.00,9,  25.3843,2
  49NZ20031209,  I3I4,   500,  1,     34,  12022,2,20040104,1931,-19.9920,  79.0812, 4833,    101.3,  22.1000,  35.2827,2,  35.2816,2,    212.5,1,    221.9,2,     2.25,2,    -0.04,2,     0.01,2,     0.11,2, -999.000,9, -999.000,9, -999.000,9,   -999.0,9,   -999.0,9,-999.0000,9,  -999.00,   -999.0,9,   -999.0,  -999.00,9,  -999.00,  -999.00,9,  22.0959,2
  49NZ20031209,  I3I4,   500,  1,     33,  12015,2,20040104,1931,-19.9920,  79.0812, 4833,    152.7,  20.9524,  35.5234,2,  35.5176,2,    198.1,1,    206.6,2,     2.42,2,     0.29,2,     0.11,2,     0.18,2, -999.000,9, -999.000,9, -999.000,9,   -999.0,9,   -999.0,9,-999.0000,9,  -999.00,   -999.0,9,   -999.0,  -999.00,9,  -999.00,  -999.00,9,  20.9550,2
  49NZ20031209,  I3I4,   500,  1,     32,  12020,2,20040104,1931,-19.9920,  79.0812, 4833,    203.1,  19.7409,  35.7157,2,  35.7120,2,    193.7,1,    201.6,2,     2.23,2,     1.59,2,     0.05,2,     0.25,2, -999.000,9, -999.000,9, -999.000,9,   -999.0,9,   -999.0,9,-999.0000,9,  -999.00,   -999.0,9,   -999.0,  -999.00,9,  -999.00,  -999.00,9,  19.7378,2
  49NZ20031209,  I3I4,   500,  1,     31,  12019,2,20040104,1931,-19.9920,  79.0812, 4833,    249.5,  18.4203,  35.8083,2,  35.8089,2,    195.3,1,    203.3,2,     2.12,2,     2.26,2,     0.02,2,     0.30,2, -999.000,9, -999.000,9, -999.000,9,   -999.0,9,   -999.0,9,-999.0000,9,  -999.00,   -999.0,9,   -999.0,  -999.00,9,  -999.00,  -999.00,9,  18.4262,2
  49NZ20031209,  I3I4,   500,  1,     30,  12018,2,20040104,1931,-19.9920,  79.0812, 4833,    303.0,  16.5159,  35.7266,2,  35.7266,2,    204.8,1,    212.2,2,     1.75,2,     2.85,2,     0.01,2,     0.37,2, -999.000,9, -999.000,9, -999.000,9,   -999.0,9,   -999.0,9,-999.0000,9,  -999.00,   -999.0,9,   -999.0,  -999.00,9,  -999.00,  -999.00,9,  16.5118,2
  49NZ20031209,  I3I4,   500,  1,     29,  12017,2,20040104,1931,-19.9920,  79.0812, 4833,    402.9,  13.1290,  35.2917,2,  35.3001,2,    217.9,1,    226.0,2,     2.12,2,     7.38,2,     0.01,2,     0.64,2, -999.000,9, -999.000,9, -999.000,9,   -999.0,9,   -999.0,9,-999.0000,9,  -999.00,   -999.0,9,   -999.0,  -999.00,9,  -999.00,  -999.00,9,  13.1406,2
  49NZ20031209,  I3I4,   500,  1,     28,  12016,2,20040104,1931,-19.9920,  79.0812, 4833,    499.2,  11.0269,  34.9646,2,  34.9603,2,    221.6,1,    230.2,2,     3.54,2,    12.04,2,     0.01,2,     0.92,2, -999.000,9, -999.000,9, -999.000,9,   -999.0,9,   -999.0,9,-999.0000,9,  -999.00,   -999.0,9,   -999.0,  -999.00,9,  -999.00,  -999.00,9,  11.0261,2
  49NZ20031209,  I3I4,   500,  1,     27,  12012,2,20040104,1931,-19.9920,  79.0812, 4833,    600.0,   9.4054,  34.7158,2,  34.7144,2,    223.5,1,    232.4,2,     4.95,2,    16.38,2,     0.01,2,     1.18,2, -999.000,9, -999.000,9, -999.000,9,   -999.0,9,   -999.0,9,-999.0000,9,  -999.00,   -999.0,9,   -999.0,  -999.00,9,  -999.00,  -999.00,9,   9.4061,2
  49NZ20031209,  I3I4,   500,  1,     26,  12014,2,20040104,1931,-19.9920,  79.0812, 4833,    702.8,   7.9752,  34.5604,2,  34.5609,2,    202.0,1,    209.7,2,    11.81,2,    22.18,2,     0.01,2,     1.55,2, -999.000,9, -999.000,9, -999.000,9,   -999.0,9,   -999.0,9,-999.0000,9,  -999.00,   -999.0,9,   -999.0,  -999.00,9,  -999.00,  -999.00,9,   7.9725,2
  49NZ20031209,  I3I4,   500,  1,     25,  12013,2,20040104,1931,-19.9920,  79.0812, 4833,    800.6,   6.2465,  34.4752,2,  34.4777,2,    170.9,1,    176.2,2,    30.15,2,    28.96,2,     0.01,2,     2.02,2, -999.000,9, -999.000,9, -999.000,9,   -999.0,9,   -999.0,9,-999.0000,9,  -999.00,   -999.0,9,   -999.0,  -999.00,9,  -999.00,  -999.00,9,   6.2468,2
  49NZ20031209,  I3I4,   500,  1,     24,  12048,2,20040104,1931,-19.9920,  79.0812, 4833,    902.3,   5.1888,  34.5134,2,  34.5135,2,    138.4,1,    143.5,2,    54.59,2,    33.31,2,     0.01,2,     2.35,2, -999.000,9, -999.000,9, -999.000,9,   -999.0,9,   -999.0,9,-999.0000,9,  -999.00,   -999.0,9,   -999.0,  -999.00,9,  -999.00,  -999.00,9,   5.1893,2
  49NZ20031209,  I3I4,   500,  1,     23,  12047,2,20040104,1931,-19.9920,  79.0812, 4833,   1001.7,   4.6353,  34.5560,2,  34.5549,2,    125.3,1,    129.8,2,    69.10,2,    34.95,2,     0.01,2,     2.48,2, -999.000,9, -999.000,9, -999.000,9,   -999.0,9,   -999.0,9,-999.0000,9,  -999.00,   -999.0,9,   -999.0,  -999.00,9,  -999.00,  -999.00,9,   4.6342,2
  49NZ20031209,  I3I4,   500,  1,     22,  12046,2,20040104,1931,-19.9920,  79.0812, 4833,   1201.1,   3.9671,  34.6109,2,  34.6111,2,    123.4,1,    127.9,2,    82.44,2,    35.56,2,     0.00,2,     2.52,2, -999.000,9, -999.000,9, -999.000,9,   -999.0,9,   -999.0,9,-999.0000,9,  -999.00,   -999.0,9,   -999.0,  -999.00,9,  -999.00,  -999.00,9,   3.9677,2
  49NZ20031209,  I3I4,   500,  1,     21,  12045,2,20040104,1931,-19.9920,  79.0812, 4833,   1400.4,   3.6445,  34.6818,2,  34.6818,2,    122.3,1,    126.7,2,    93.55,2,    35.48,2,     0.01,2,     2.53,2, -999.000,9, -999.000,9, -999.000,9,   -999.0,9,   -999.0,9,-999.0000,9,  -999.00,   -999.0,9,   -999.0,  -999.00,9,  -999.00,  -999.00,9,   3.6446,2
  49NZ20031209,  I3I4,   500,  1,     20,  12044,2,20040104,1931,-19.9920,  79.0812, 4833,   1600.0,   3.1760,  34.7119,2,  34.7124,2,    129.5,1,    134.4,2,   101.29,2,    35.08,2,     0.01,2,     2.50,2, -999.000,9, -999.000,9, -999.000,9,   -999.0,9,   -999.0,9,-999.0000,9,  -999.00,   -999.0,9,   -999.0,  -999.00,9,  -999.00,  -999.00,9,   3.1759,2
  49NZ20031209,  I3I4,   500,  1,     19,  12043,2,20040104,1931,-19.9920,  79.0812, 4833,   1799.7,   2.7963,  34.7209,2,  34.7210,2,    138.4,1,    144.3,2,   105.33,2,    34.61,2,     0.01,2,     2.46,2, -999.000,9, -999.000,9, -999.000,9,   -999.0,9,   -999.0,9,-999.0000,9,  -999.00,   -999.0,9,   -999.0,  -999.00,9,  -999.00,  -999.00,9,   2.7959,2
  49NZ20031209,  I3I4,   500,  1,     18,  12042,2,20040104,1931,-19.9920,  79.0812, 4833,   2000.1,   2.4484,  34.7236,2,  34.7236,2,    148.5,1,    155.1,2,   107.70,2,    34.11,2,     0.01,2,     2.41,2, -999.000,9, -999.000,9, -999.000,9,   -999.0,9,   -999.0,9,-999.0000,9,  -999.00,   -999.0,9,   -999.0,  -999.00,9,  -999.00,  -999.00,9,   2.4486,2
  49NZ20031209,  I3I4,   500,  1,     17,  12041,2,20040104,1931,-19.9920,  79.0812, 4833,   2201.2,   2.1848,  34.7242,2,  34.7241,2,    157.2,1,    164.4,2,   108.84,2,    33.58,2,     0.01,2,     2.36,2, -999.000,9, -999.000,9, -999.000,9,   -999.0,9,   -999.0,9,-999.0000,9,  -999.00,   -999.0,9,   -999.0,  -999.00,9,  -999.00,  -999.00,9,   2.1847,2
  49NZ20031209,  I3I4,   500,  1,     16,  12040,2,20040104,1931,-19.9920,  79.0812, 4833,   2400.7,   1.9469,  34.7250,2,  34.7249,2,    166.0,1,    174.0,2,   108.75,2,    33.02,2,     0.01,2,     2.31,2, -999.000,9, -999.000,9, -999.000,9,   -999.0,9,   -999.0,9,-999.0000,9,  -999.00,   -999.0,9,   -999.0,  -999.00,9,  -999.00,  -999.00,9,   1.9468,2
  49NZ20031209,  I3I4,   500,  1,     15,  12039,2,20040104,1931,-19.9920,  79.0812, 4833,   2600.0,   1.7916,  34.7266,2,  34.7262,2,    171.1,1,    179.5,2,   110.14,2,    32.79,2,     0.01,2,     2.29,2, -999.000,9, -999.000,9, -999.000,9,   -999.0,9,   -999.0,9,-999.0000,9,  -999.00,   -999.0,9,   -999.0,  -999.00,9,  -999.00,  -999.00,9,   1.7914,2
  49NZ20031209,  I3I4,   500,  1,     14,  12038,2,20040104,1931,-19.9920,  79.0812, 4833,   2800.1,   1.6798,  34.7273,2,  34.7273,2,    174.0,1,    182.6,2,   112.38,2,    32.65,2,     0.01,2,     2.28,2, -999.000,9, -999.000,9, -999.000,9,   -999.0,9,   -999.0,9,-999.0000,9,  -999.00,   -999.0,9,   -999.0,  -999.00,9,  -999.00,  -999.00,9,   1.6796,2
  49NZ20031209,  I3I4,   500,  1,     13,  12037,2,20040104,1931,-19.9920,  79.0812, 4833,   3000.9,   1.5783,  34.7279,2,  34.7282,2,    176.1,1,    184.8,2,   114.83,2,    32.68,2,     0.01,2,     2.28,2, -999.000,9, -999.000,9, -999.000,9,   -999.0,9,   -999.0,9,-999.0000,9,  -999.00,   -999.0,9,   -999.0,  -999.00,9,  -999.00,  -999.00,9,   1.5782,2
  49NZ20031209,  I3I4,   500,  1,     12,  12036,2,20040104,1931,-19.9920,  79.0812, 4833,   3250.5,   1.4699,  34.7265,2,  34.7268,2,    177.2,1,    185.8,2,   118.98,2,    32.73,2,     0.00,2,     2.27,2, -999.000,9, -999.000,9, -999.000,9,   -999.0,9,   -999.0,9,-999.0000,9,  -999.00,   -999.0,9,   -999.0,  -999.00,9,  -999.00,  -999.00,9,   1.4697,2
  49NZ20031209,  I3I4,   500,  1,     11,  12035,2,20040104,1931,-19.9920,  79.0812, 4833,   3499.7,   1.4005,  34.7238,2,  34.7236,2,    177.8,1,    186.2,2,   122.40,2,    32.97,2,     0.01,2,     2.29,2, -999.000,9, -999.000,9, -999.000,9,   -999.0,9,   -999.0,9,-999.0000,9,  -999.00,   -999.0,9,   -999.0,  -999.00,9,  -999.00,  -999.00,9,   1.4005,2
  49NZ20031209,  I3I4,   500,  1,     10,  12034,2,20040104,1931,-19.9920,  79.0812, 4833,   3750.2,   1.3728,  34.7217,2,  34.7219,2,    178.4,1,    186.3,2,   124.78,2,    33.09,2,     0.01,2,     2.29,2, -999.000,9, -999.000,9, -999.000,9,   -999.0,9,   -999.0,9,-999.0000,9,  -999.00,   -999.0,9,   -999.0,  -999.00,9,  -999.00,  -999.00,9,   1.3726,2
  49NZ20031209,  I3I4,   500,  1,      9,  12033,2,20040104,1931,-19.9920,  79.0812, 4833,   3998.8,   1.3657,  34.7200,2,  34.7200,2,    177.8,1,    185.0,2,   127.54,2,    33.32,2,     0.01,2,     2.31,2, -999.000,9, -999.000,9, -999.000,9,   -999.0,9,   -999.0,9,-999.0000,9,  -999.00,   -999.0,9,   -999.0,  -999.00,9,  -999.00,  -999.00,9,   1.3657,2
  49NZ20031209,  I3I4,   500,  1,      8,  12032,2,20040104,1931,-19.9920,  79.0812, 4833,   4249.7,   1.3673,  34.7186,2,  34.7185,2,    177.6,1,    184.1,2,   129.45,2,    33.40,2,     0.01,2,     2.31,2, -999.000,9, -999.000,9, -999.000,9,   -999.0,9,   -999.0,9,-999.0000,9,  -999.00,   -999.0,9,   -999.0,  -999.00,9,  -999.00,  -999.00,9,   1.3674,2
  49NZ20031209,  I3I4,   500,  1,      7,  12031,2,20040104,1931,-19.9920,  79.0812, 4833,   4499.8,   1.3819,  34.7179,2,  34.7185,2,    178.3,1,    183.8,2,   130.38,2,    33.50,2,     0.01,2,     2.32,2, -999.000,9, -999.000,9, -999.000,9,   -999.0,9,   -999.0,9,-999.0000,9,  -999.00,   -999.0,9,   -999.0,  -999.00,9,  -999.00,  -999.00,9,   1.3819,2
  49NZ20031209,  I3I4,   500,  1,      6,  12030,2,20040104,1931,-19.9920,  79.0812, 4833,   4748.5,   1.3992,  34.7173,2,  34.7173,2,    179.5,1,    184.0,2,   130.74,2,    33.54,2,     0.01,2,     2.32,2, -999.000,9, -999.000,9, -999.000,9,   -999.0,9,   -999.0,9,-999.0000,9,  -999.00,   -999.0,9,   -999.0,  -999.00,9,  -999.00,  -999.00,9,   1.3992,2
  49NZ20031209,  I3I4,   500,  1,      5,  12029,2,20040104,1931,-19.9920,  79.0812, 4833,   4927.9,   1.4206,  34.7171,2,  34.7173,2,    180.9,1,    184.1,2,   130.87,2,    33.52,2,     0.01,2,     2.32,2, -999.000,9, -999.000,9, -999.000,9,   -999.0,9,   -999.0,9,-999.0000,9,  -999.00,   -999.0,9,   -999.0,  -999.00,9,  -999.00,  -999.00,9,   1.4207,2
  49NZ20031209,  I3I4,   500,  1,      4,  12028,2,20040104,1931,-19.9920,  79.0812, 4833,      9.6,  25.4129,  35.2914,2,  35.2925,2,    199.8,1,    208.8,2,     2.09,2,    -0.02,2,     0.01,2,     0.11,2, -999.000,9, -999.000,9, -999.000,9,   -999.0,9,   -999.0,9,-999.0000,9,  -999.00,   -999.0,9,   -999.0,  -999.00,9,  -999.00,  -999.00,9,  25.4108,2
  49NZ20031209,  I3I4,   500,  1,      3,  12027,9,20040104,1931,-19.9920,  79.0812, 4833,   1002.1,   4.6360,  34.5559,2,-999.0000,9,    125.4,1,   -999.0,9,  -999.00,9,  -999.00,9,  -999.00,9,  -999.00,9, -999.000,9, -999.000,9, -999.000,9,   -999.0,9,   -999.0,9,-999.0000,9,  -999.00,   -999.0,9,   -999.0,  -999.00,9,  -999.00,  -999.00,9,   4.6355,2
  49NZ20031209,  I3I4,   500,  1,      2,  12026,9,20040104,1931,-19.9920,  79.0812, 4833,   1002.6,   4.6323,  34.5565,2,-999.0000,9,    125.5,1,   -999.0,9,  -999.00,9,  -999.00,9,  -999.00,9,  -999.00,9, -999.000,9, -999.000,9, -999.000,9,   -999.0,9,   -999.0,9,-999.0000,9,  -999.00,   -999.0,9,   -999.0,  -999.00,9,  -999.00,  -999.00,9,   4.6334,2
  49NZ20031209,  I3I4,   500,  1,      1,  12025,9,20040104,1931,-19.9920,  79.0812, 4833,   1001.4,   4.6410,  34.5555,2,-999.0000,9,    125.5,1,   -999.0,9,  -999.00,9,  -999.00,9,  -999.00,9,  -999.00,9, -999.000,9, -999.000,9, -999.000,9,   -999.0,9,   -999.0,9,-999.0000,9,  -999.00,   -999.0,9,   -999.0,  -999.00,9,  -999.00,  -999.00,9,   4.6422,2