BOTTLE,20141204PRINUNIVRMK
EXPOCODE,SECT_ID,STNNBR,CASTNO,SAMPNO,BTLNBR,BTLNBR_FLAG_W,DATE,TIME,LATITUDE,LONGITUDE,DEPTH,CTDPRS,CTDTMP,CTDSAL,CTDSAL_FLAG_W,SALNTY,SALNTY_FLAG_W,CTDOXY,CTDOXY_FLAG_W,OXYGEN,OXYGEN_FLAG_W,SILCAT,SILCAT_FLAG_W,NITRAT,NITRAT_FLAG_W,NITRIT,NITRIT_FLAG_W,PHSPHT,PHSPHT_FLAG_W,CFC-11,CFC-11_FLAG_W,CFC-12,CFC-12_FLAG_W,CFC113,CFC113_FLAG_W,TCARBN,TCARBN_FLAG_W,ALKALI,ALKALI_FLAG_W,PH_TOT,PH_TOT_FLAG_W,PH_TMP,DELC14,DELC14_FLAG_W,C14ERR,DELC13,DELC13_FLAG_W,CS-137,CS137ER,CS-137_FLAG_W,SBE35,SBE35_FLAG_W
,,,,,,,,,,,METERS,DBAR,ITS-90,PSS-78,,PSS-78,,UMOL/KG,,UMOL/KG,,UMOL/KG,,UMOL/KG,,UMOL/KG,,UMOL/KG,,PMOL/KG,,PMOL/KG,,PMOL/KG,,UMOL/KG,,UMOL/KG,,,,DEG C,/MILLE,,/MILLE,/MILLE,,DM/.1MG,DM/.1MG,,ITS-90,
  49NZ20031209,  I3I4,   556,  1,     36,  12024,2,20031221,0826,-19.9953,  50.6005, 4759,     10.7,  27.6815,  34.9240,2,  34.9243,2,    192.5,1,    201.6,2,     2.06,2,     0.03,2,     0.00,2,     0.12,2, -999.000,9, -999.000,9, -999.000,9,   -999.0,9,   -999.0,9,-999.0000,9,  -999.00,   -999.0,9,   -999.0,  -999.00,9,  -999.00,  -999.00,9,  27.6778,2
  49NZ20031209,  I3I4,   556,  1,     35,  12023,2,20031221,0826,-19.9953,  50.6005, 4759,     49.9,  26.0123,  34.9949,2,  34.9914,2,    205.6,1,    215.1,2,     2.05,2,     0.01,2,     0.01,2,     0.09,2, -999.000,9, -999.000,9, -999.000,9,   -999.0,9,   -999.0,9,-999.0000,9,  -999.00,   -999.0,9,   -999.0,  -999.00,9,  -999.00,  -999.00,9,  26.0090,2
  49NZ20031209,  I3I4,   556,  1,     34,  12022,2,20031221,0826,-19.9953,  50.6005, 4759,    101.0,  23.2073,  35.0331,2,  35.0372,2,    194.8,1,    203.4,2,     2.53,2,     0.23,2,     0.11,2,     0.18,2, -999.000,9, -999.000,9, -999.000,9,   -999.0,9,   -999.0,9,-999.0000,9,  -999.00,   -999.0,9,   -999.0,  -999.00,9,  -999.00,  -999.00,9,  23.2057,2
  49NZ20031209,  I3I4,   556,  1,     33,  12015,2,20031221,0826,-19.9953,  50.6005, 4759,    149.0,  22.0405,  35.1884,2,  35.1881,2,    171.2,1,    179.3,2,     3.92,2,     3.41,2,     0.04,2,     0.36,2, -999.000,9, -999.000,9, -999.000,9,   -999.0,9,   -999.0,9,-999.0000,9,  -999.00,   -999.0,9,   -999.0,  -999.00,9,  -999.00,  -999.00,9,  22.0483,2
  49NZ20031209,  I3I4,   556,  1,     32,  12020,2,20031221,0826,-19.9953,  50.6005, 4759,    200.6,  19.8791,  35.4647,2,  35.4554,2,    158.1,1,    165.8,2,     6.04,2,     6.25,2,     0.01,2,     0.52,2, -999.000,9, -999.000,9, -999.000,9,   -999.0,9,   -999.0,9,-999.0000,9,  -999.00,   -999.0,9,   -999.0,  -999.00,9,  -999.00,  -999.00,9,  19.9057,2
  49NZ20031209,  I3I4,   556,  1,     31,  12019,2,20031221,0826,-19.9953,  50.6005, 4759,    248.9,  18.1310,  35.5529,2,  35.5571,2,    161.7,1,    168.6,2,     7.09,2,     7.26,2,     0.01,2,     0.60,2, -999.000,9, -999.000,9, -999.000,9,   -999.0,9,   -999.0,9,-999.0000,9,  -999.00,   -999.0,9,   -999.0,  -999.00,9,  -999.00,  -999.00,9,  18.1358,2
  49NZ20031209,  I3I4,   556,  1,     30,  12018,2,20031221,0826,-19.9953,  50.6005, 4759,    300.5,  16.1344,  35.4881,2,  35.4911,2,    166.2,1,    175.2,2,     8.21,2,     8.68,2,     0.01,2,     0.70,2, -999.000,9, -999.000,9, -999.000,9,   -999.0,9,   -999.0,9,-999.0000,9,  -999.00,   -999.0,9,   -999.0,  -999.00,9,  -999.00,  -999.00,9,  16.1359,2
  49NZ20031209,  I3I4,   556,  1,     29,  12017,2,20031221,0826,-19.9953,  50.6005, 4759,    400.7,  13.8249,  35.3357,2,  35.3332,2,    195.2,1,    202.6,2,     5.93,2,     9.20,2,     0.01,2,     0.73,2, -999.000,9, -999.000,9, -999.000,9,   -999.0,9,   -999.0,9,-999.0000,9,  -999.00,   -999.0,9,   -999.0,  -999.00,9,  -999.00,  -999.00,9,  13.8249,2
  49NZ20031209,  I3I4,   556,  1,     28,  12016,2,20031221,0826,-19.9953,  50.6005, 4759,    500.7,  12.2839,  35.1370,2,  35.1370,2,    205.7,1,    213.4,2,     5.72,2,    11.28,2,     0.00,2,     0.86,2, -999.000,9, -999.000,9, -999.000,9,   -999.0,9,   -999.0,9,-999.0000,9,  -999.00,   -999.0,9,   -999.0,  -999.00,9,  -999.00,  -999.00,9,  12.2845,2
  49NZ20031209,  I3I4,   556,  1,     27,  12012,2,20031221,0826,-19.9953,  50.6005, 4759,    600.0,  10.6692,  34.9035,2,  34.9012,2,    215.1,1,    224.1,2,     5.34,2,    14.03,2,    -0.01,2,     1.03,2, -999.000,9, -999.000,9, -999.000,9,   -999.0,9,   -999.0,9,-999.0000,9,  -999.00,   -999.0,9,   -999.0,  -999.00,9,  -999.00,  -999.00,9,  10.6741,2
  49NZ20031209,  I3I4,   556,  1,     26,  12014,2,20031221,0826,-19.9953,  50.6005, 4759,    700.7,   9.1305,  34.7024,2,  34.6989,2,    204.7,1,    212.1,2,     9.86,2,    19.02,2,    -0.01,2,     1.35,2, -999.000,9, -999.000,9, -999.000,9,   -999.0,9,   -999.0,9,-999.0000,9,  -999.00,   -999.0,9,   -999.0,  -999.00,9,  -999.00,  -999.00,9,   9.1276,2
  49NZ20031209,  I3I4,   556,  1,     25,  12013,2,20031221,0826,-19.9953,  50.6005, 4759,    799.0,   7.7351,  34.5917,2,  34.5942,2,    178.6,1,    186.1,2,    21.01,2,    24.60,2,    -0.01,2,     1.73,2, -999.000,9, -999.000,9, -999.000,9,   -999.0,9,   -999.0,9,-999.0000,9,  -999.00,   -999.0,9,   -999.0,  -999.00,9,  -999.00,  -999.00,9,   7.7158,2
  49NZ20031209,  I3I4,   556,  1,     24,  12048,2,20031221,0826,-19.9953,  50.6005, 4759,    900.7,   6.3081,  34.5642,2,  34.5629,2,    148.0,1,    153.8,2,    41.67,2,    30.33,2,    -0.01,2,     2.14,2, -999.000,9, -999.000,9, -999.000,9,   -999.0,9,   -999.0,9,-999.0000,9,  -999.00,   -999.0,9,   -999.0,  -999.00,9,  -999.00,  -999.00,9,   6.2761,2
  49NZ20031209,  I3I4,   556,  1,     23,  12047,2,20031221,0826,-19.9953,  50.6005, 4759,   1000.3,   5.4669,  34.5893,2,  34.5922,2,    130.7,1,    134.9,2,    58.41,2,    33.12,2,    -0.01,2,     2.35,2, -999.000,9, -999.000,9, -999.000,9,   -999.0,9,   -999.0,9,-999.0000,9,  -999.00,   -999.0,9,   -999.0,  -999.00,9,  -999.00,  -999.00,9,   5.4676,2
  49NZ20031209,  I3I4,   556,  1,     22,  12046,2,20031221,0826,-19.9953,  50.6005, 4759,   1200.6,   4.3774,  34.6026,2,  34.6047,2,    131.9,1,    136.9,2,    71.85,2,    34.38,2,    -0.01,2,     2.44,2, -999.000,9, -999.000,9, -999.000,9,   -999.0,9,   -999.0,9,-999.0000,9,  -999.00,   -999.0,9,   -999.0,  -999.00,9,  -999.00,  -999.00,9,   4.3779,2
  49NZ20031209,  I3I4,   556,  1,     21,  12045,2,20031221,0826,-19.9953,  50.6005, 4759,   1400.1,   3.4988,  34.6354,2,  34.6351,2,    141.9,1,    147.4,2,    80.81,2,    34.25,2,    -0.01,2,     2.42,2, -999.000,9, -999.000,9, -999.000,9,   -999.0,9,   -999.0,9,-999.0000,9,  -999.00,   -999.0,9,   -999.0,  -999.00,9,  -999.00,  -999.00,9,   3.4987,2
  49NZ20031209,  I3I4,   556,  1,     20,  12044,2,20031221,0826,-19.9953,  50.6005, 4759,   1601.8,   2.9474,  34.6611,2,  34.6616,2,    152.7,1,    159.2,2,    85.59,2,    33.65,2,    -0.01,2,     2.36,2, -999.000,9, -999.000,9, -999.000,9,   -999.0,9,   -999.0,9,-999.0000,9,  -999.00,   -999.0,9,   -999.0,  -999.00,9,  -999.00,  -999.00,9,   2.9476,2
  49NZ20031209,  I3I4,   556,  1,     19,  12043,2,20031221,0826,-19.9953,  50.6005, 4759,   1799.5,   2.6846,  34.7023,2,  34.7023,2,    151.5,1,    158.6,2,    96.73,2,    33.68,2,    -0.01,2,     2.37,2, -999.000,9, -999.000,9, -999.000,9,   -999.0,9,   -999.0,9,-999.0000,9,  -999.00,   -999.0,9,   -999.0,  -999.00,9,  -999.00,  -999.00,9,   2.6849,2
  49NZ20031209,  I3I4,   556,  1,     18,  12042,2,20031221,0826,-19.9953,  50.6005, 4759,   1999.9,   2.4509,  34.7168,2,  34.7168,2,    156.1,1,    163.3,2,   100.47,2,    33.37,2,    -0.01,2,     2.35,2, -999.000,9, -999.000,9, -999.000,9,   -999.0,9,   -999.0,9,-999.0000,9,  -999.00,   -999.0,9,   -999.0,  -999.00,9,  -999.00,  -999.00,9,   2.4510,2
  49NZ20031209,  I3I4,   556,  1,     17,  12041,2,20031221,0826,-19.9953,  50.6005, 4759,   2200.7,   2.2927,  34.7315,2,  34.7311,2,    152.5,1,    159.6,2,   110.57,2,    33.86,2,    -0.01,2,     2.39,2, -999.000,9, -999.000,9, -999.000,9,   -999.0,9,   -999.0,9,-999.0000,9,  -999.00,   -999.0,9,   -999.0,  -999.00,9,  -999.00,  -999.00,9,   2.2927,2
  49NZ20031209,  I3I4,   556,  1,     16,  12040,2,20031221,0826,-19.9953,  50.6005, 4759,   2400.3,   2.1654,  34.7384,2,  34.7385,2,    150.9,1,    157.8,2,   117.17,2,    34.21,2,    -0.01,2,     2.42,2, -999.000,9, -999.000,9, -999.000,9,   -999.0,9,   -999.0,9,-999.0000,9,  -999.00,   -999.0,9,   -999.0,  -999.00,9,  -999.00,  -999.00,9,   2.1656,2
  49NZ20031209,  I3I4,   556,  1,     15,  12039,2,20031221,0826,-19.9953,  50.6005, 4759,   2600.2,   2.0742,  34.7401,2,  34.7402,2,    151.2,1,    158.3,2,   120.64,2,    34.32,2,     0.00,2,     2.42,2, -999.000,9, -999.000,9, -999.000,9,   -999.0,9,   -999.0,9,-999.0000,9,  -999.00,   -999.0,9,   -999.0,  -999.00,9,  -999.00,  -999.00,9,   2.0742,2
  49NZ20031209,  I3I4,   556,  1,     14,  12038,2,20031221,0826,-19.9953,  50.6005, 4759,   2800.3,   1.9800,  34.7396,2,  34.7393,2,    153.3,1,    160.3,2,   122.72,2,    34.31,2,    -0.01,2,     2.42,2, -999.000,9, -999.000,9, -999.000,9,   -999.0,9,   -999.0,9,-999.0000,9,  -999.00,   -999.0,9,   -999.0,  -999.00,9,  -999.00,  -999.00,9,   1.9798,2
  49NZ20031209,  I3I4,   556,  1,     13,  12037,2,20031221,0826,-19.9953,  50.6005, 4759,   2999.7,   1.8799,  34.7386,2,  34.7383,2,    155.0,1,    161.8,2,   125.51,2,    34.32,2,    -0.01,2,     2.42,2, -999.000,9, -999.000,9, -999.000,9,   -999.0,9,   -999.0,9,-999.0000,9,  -999.00,   -999.0,9,   -999.0,  -999.00,9,  -999.00,  -999.00,9,   1.8798,2
  49NZ20031209,  I3I4,   556,  1,     12,  12036,2,20031221,0826,-19.9953,  50.6005, 4759,   3251.2,   1.7603,  34.7350,2,  34.7350,2,    159.7,1,    166.3,2,   125.96,2,    34.08,2,     0.00,2,     2.39,2, -999.000,9, -999.000,9, -999.000,9,   -999.0,9,   -999.0,9,-999.0000,9,  -999.00,   -999.0,9,   -999.0,  -999.00,9,  -999.00,  -999.00,9,   1.7600,2
  49NZ20031209,  I3I4,   556,  1,     11,  12035,2,20031221,0826,-19.9953,  50.6005, 4759,   3498.9,   1.5788,  34.7290,2,  34.7289,2,    167.9,1,    174.8,2,   126.00,2,    33.75,2,     0.00,2,     2.36,2, -999.000,9, -999.000,9, -999.000,9,   -999.0,9,   -999.0,9,-999.0000,9,  -999.00,   -999.0,9,   -999.0,  -999.00,9,  -999.00,  -999.00,9,   1.5790,2
  49NZ20031209,  I3I4,   556,  1,     10,  12034,2,20031221,0826,-19.9953,  50.6005, 4759,   3752.4,   1.3374,  34.7210,2,  34.7203,2,    180.4,1,    188.0,2,   123.99,2,    33.15,2,    -0.01,2,     2.31,2, -999.000,9, -999.000,9, -999.000,9,   -999.0,9,   -999.0,9,-999.0000,9,  -999.00,   -999.0,9,   -999.0,  -999.00,9,  -999.00,  -999.00,9,   1.3374,2
  49NZ20031209,  I3I4,   556,  1,      9,  12033,2,20031221,0826,-19.9953,  50.6005, 4759,   4000.7,   1.1414,  34.7141,2,  34.7169,3,    190.6,1,    198.4,2,   122.34,2,    32.63,2,    -0.01,2,     2.26,2, -999.000,9, -999.000,9, -999.000,9,   -999.0,9,   -999.0,9,-999.0000,9,  -999.00,   -999.0,9,   -999.0,  -999.00,9,  -999.00,  -999.00,9,   1.1414,2
  49NZ20031209,  I3I4,   556,  1,      8,  12032,2,20031221,0826,-19.9953,  50.6005, 4759,   4250.1,   1.0118,  34.7090,2,  34.7090,2,    197.4,1,    204.8,2,   122.17,2,    32.44,2,    -0.01,2,     2.25,2, -999.000,9, -999.000,9, -999.000,9,   -999.0,9,   -999.0,9,-999.0000,9,  -999.00,   -999.0,9,   -999.0,  -999.00,9,  -999.00,  -999.00,9,   1.0118,2
  49NZ20031209,  I3I4,   556,  1,      7,  12031,2,20031221,0826,-19.9953,  50.6005, 4759,   4500.4,   0.9708,  34.7062,2,  34.7066,2,    200.4,1,    207.2,2,   122.71,2,    32.31,2,     0.00,2,     2.24,2, -999.000,9, -999.000,9, -999.000,9,   -999.0,9,   -999.0,9,-999.0000,9,  -999.00,   -999.0,9,   -999.0,  -999.00,9,  -999.00,  -999.00,9,   0.9707,2
  49NZ20031209,  I3I4,   556,  1,      6,  12030,2,20031221,0826,-19.9953,  50.6005, 4759,   4823.1,   0.9618,  34.7039,2,  34.7042,2,    203.8,1,    208.6,2,   123.20,2,    32.30,2,     0.00,2,     2.25,2, -999.000,9, -999.000,9, -999.000,9,   -999.0,9,   -999.0,9,-999.0000,9,  -999.00,   -999.0,9,   -999.0,  -999.00,9,  -999.00,  -999.00,9,   0.9617,2
  49NZ20031209,  I3I4,   556,  1,      5,  12029,9,20031221,0826,-19.9953,  50.6005, 4759,   1000.5,   5.4666,  34.5893,2,-999.0000,9,    130.9,1,   -999.0,9,  -999.00,9,  -999.00,9,  -999.00,9,  -999.00,9, -999.000,9, -999.000,9, -999.000,9,   -999.0,9,   -999.0,9,-999.0000,9,  -999.00,   -999.0,9,   -999.0,  -999.00,9,  -999.00,  -999.00,9,   5.4670,2
  49NZ20031209,  I3I4,   556,  1,      4,  12028,9,20031221,0826,-19.9953,  50.6005, 4759,      5.6,  27.7428,  34.9240,2,-999.0000,9,    192.4,1,   -999.0,9,  -999.00,9,  -999.00,9,  -999.00,9,  -999.00,9, -999.000,9, -999.000,9, -999.000,9,   -999.0,9,   -999.0,9,-999.0000,9,  -999.00,   -999.0,9,   -999.0,  -999.00,9,  -999.00,  -999.00,9,  27.7431,2
  49NZ20031209,  I3I4,   556,  1,      3,  12027,2,20031221,0826,-19.9953,  50.6005, 4759,      5.5,  27.7586,  34.9238,2,-999.0000,9,    192.4,1,   -999.0,9,  -999.00,9,  -999.00,9,  -999.00,9,  -999.00,9, -999.000,9, -999.000,9, -999.000,9,   -999.0,9,   -999.0,9,-999.0000,9,  -999.00,   -999.0,9,   -999.0,  -999.00,9,  -999.00,  -999.00,9,  27.7566,2
  49NZ20031209,  I3I4,   556,  1,      2,  12026,2,20031221,0826,-19.9953,  50.6005, 4759,      5.6,  27.7140,  34.9240,2,-999.0000,9,    192.5,1,   -999.0,9,  -999.00,9,  -999.00,9,  -999.00,9,  -999.00,9, -999.000,9, -999.000,9, -999.000,9,   -999.0,9,   -999.0,9,-999.0000,9,  -999.00,   -999.0,9,   -999.0,  -999.00,9,  -999.00,  -999.00,9,  27.7123,2
  49NZ20031209,  I3I4,   556,  1,      1,  12025,2,20031221,0826,-19.9953,  50.6005, 4759,    100.8,  23.2155,  35.0326,2,-999.0000,9,    194.8,1,   -999.0,9,  -999.00,9,  -999.00,9,  -999.00,9,  -999.00,9, -999.000,9, -999.000,9, -999.000,9,   -999.0,9,   -999.0,9,-999.0000,9,  -999.00,   -999.0,9,   -999.0,  -999.00,9,  -999.00,  -999.00,9,  23.2175,2